BEGIN:VCALENDAR
VERSION:2.0
PRODID:-//Gateway Association - ECPv6.15.20//NONSGML v1.0//EN
CALSCALE:GREGORIAN
METHOD:PUBLISH
X-ORIGINAL-URL:https://gatewayassociation.ca
X-WR-CALDESC:Events for Gateway Association
REFRESH-INTERVAL;VALUE=DURATION:PT1H
X-Robots-Tag:noindex
X-PUBLISHED-TTL:PT1H
BEGIN:VTIMEZONE
TZID:America/Denver
BEGIN:DAYLIGHT
TZOFFSETFROM:-0700
TZOFFSETTO:-0600
TZNAME:MDT
DTSTART:20220313T090000
END:DAYLIGHT
BEGIN:STANDARD
TZOFFSETFROM:-0600
TZOFFSETTO:-0700
TZNAME:MST
DTSTART:20221106T080000
END:STANDARD
BEGIN:DAYLIGHT
TZOFFSETFROM:-0700
TZOFFSETTO:-0600
TZNAME:MDT
DTSTART:20230312T090000
END:DAYLIGHT
BEGIN:STANDARD
TZOFFSETFROM:-0600
TZOFFSETTO:-0700
TZNAME:MST
DTSTART:20231105T080000
END:STANDARD
BEGIN:DAYLIGHT
TZOFFSETFROM:-0700
TZOFFSETTO:-0600
TZNAME:MDT
DTSTART:20240310T090000
END:DAYLIGHT
BEGIN:STANDARD
TZOFFSETFROM:-0600
TZOFFSETTO:-0700
TZNAME:MST
DTSTART:20241103T080000
END:STANDARD
END:VTIMEZONE
BEGIN:VEVENT
DTSTART;TZID=America/Denver:20230907T130000
DTEND;TZID=America/Denver:20230907T140000
DTSTAMP:20260421T193715
CREATED:20230816T185627Z
LAST-MODIFIED:20230816T185627Z
UID:251248-1694091600-1694095200@gatewayassociation.ca
SUMMARY:Growth Mindset; Resiliency in Job Search
DESCRIPTION:Growth Mindset: Resiliency in Job Search \nJob search can be a long and daunting process for many. This workshop will introduce folks to the concept of having a “Growth Mindset” and help individuals create a positive/persistent mindset along with tips on how to stay motivated throughout this process. \nOnline or In-Person: ONLINE \nTo register\, please connect with us at Get-Work@GatewayAssociation.ca
URL:https://gatewayassociation.ca/calendar/growth-mindset-resiliency-in-job-search-9/
CATEGORIES:ERC
END:VEVENT
END:VCALENDAR