BEGIN:VCALENDAR
VERSION:2.0
PRODID:-//Gateway Association - ECPv6.15.20//NONSGML v1.0//EN
CALSCALE:GREGORIAN
METHOD:PUBLISH
X-ORIGINAL-URL:https://gatewayassociation.ca
X-WR-CALDESC:Events for Gateway Association
REFRESH-INTERVAL;VALUE=DURATION:PT1H
X-Robots-Tag:noindex
X-PUBLISHED-TTL:PT1H
BEGIN:VTIMEZONE
TZID:America/Denver
BEGIN:DAYLIGHT
TZOFFSETFROM:-0700
TZOFFSETTO:-0600
TZNAME:MDT
DTSTART:20220313T090000
END:DAYLIGHT
BEGIN:STANDARD
TZOFFSETFROM:-0600
TZOFFSETTO:-0700
TZNAME:MST
DTSTART:20221106T080000
END:STANDARD
BEGIN:DAYLIGHT
TZOFFSETFROM:-0700
TZOFFSETTO:-0600
TZNAME:MDT
DTSTART:20230312T090000
END:DAYLIGHT
BEGIN:STANDARD
TZOFFSETFROM:-0600
TZOFFSETTO:-0700
TZNAME:MST
DTSTART:20231105T080000
END:STANDARD
BEGIN:DAYLIGHT
TZOFFSETFROM:-0700
TZOFFSETTO:-0600
TZNAME:MDT
DTSTART:20240310T090000
END:DAYLIGHT
BEGIN:STANDARD
TZOFFSETFROM:-0600
TZOFFSETTO:-0700
TZNAME:MST
DTSTART:20241103T080000
END:STANDARD
END:VTIMEZONE
BEGIN:VEVENT
DTSTART;TZID=America/Denver:20231018T150000
DTEND;TZID=America/Denver:20231018T180000
DTSTAMP:20260421T172712
CREATED:20231010T170727Z
LAST-MODIFIED:20231010T170727Z
UID:251558-1697641200-1697652000@gatewayassociation.ca
SUMMARY:Cheers to Inclusion YYC
DESCRIPTION:What is Cheers to Inclusion? \nCheers to Inclusion is a MentorAbility DEAM initiative that originated in Halifax as a way for businesses\, employers\, and service providers to casually gather\, connect about inclusion practices in the workplace and show their support for DEAM. And because the craft brewing industry has notoriously been a very inclusive community\, it made sense to start these events in an inclusive space within the industry! \nProgressive Alternative Society of Calgary and Gateway Association have had the pleasure of collaborating with inclusive breweries and are excited to be joining forces this year with Village Brewery to give you the 2023 DEAM Cheers to Inclusion event in Calgary! \nWho is Cheers to Inclusion for? \nCheers to Inclusion is for employers at any point in their inclusion journey\, service providers who\, self-advocates and community members who want want to connect about creating more accessible and inclusive workforces and communities for persons experiencing disability! \n\nThe Details: \nWednesday October 18th\, 2023 \n@ Village Brewery \n5000 12A St SE\, Calgary \n3-6pm + \n\nDrop in or stay for the whole event! \nREGISTER HERE \nSee you there!
URL:https://gatewayassociation.ca/calendar/cheers-to-inclusion-yyc/
CATEGORIES:ERC,MentorAbility Alberta
END:VEVENT
END:VCALENDAR