BEGIN:VCALENDAR
VERSION:2.0
PRODID:-//Gateway Association - ECPv6.15.20//NONSGML v1.0//EN
CALSCALE:GREGORIAN
METHOD:PUBLISH
X-WR-CALNAME:Gateway Association
X-ORIGINAL-URL:https://gatewayassociation.ca
X-WR-CALDESC:Events for Gateway Association
REFRESH-INTERVAL;VALUE=DURATION:PT1H
X-Robots-Tag:noindex
X-PUBLISHED-TTL:PT1H
BEGIN:VTIMEZONE
TZID:America/Denver
BEGIN:DAYLIGHT
TZOFFSETFROM:-0700
TZOFFSETTO:-0600
TZNAME:MDT
DTSTART:20230312T090000
END:DAYLIGHT
BEGIN:STANDARD
TZOFFSETFROM:-0600
TZOFFSETTO:-0700
TZNAME:MST
DTSTART:20231105T080000
END:STANDARD
BEGIN:DAYLIGHT
TZOFFSETFROM:-0700
TZOFFSETTO:-0600
TZNAME:MDT
DTSTART:20240310T090000
END:DAYLIGHT
BEGIN:STANDARD
TZOFFSETFROM:-0600
TZOFFSETTO:-0700
TZNAME:MST
DTSTART:20241103T080000
END:STANDARD
BEGIN:DAYLIGHT
TZOFFSETFROM:-0700
TZOFFSETTO:-0600
TZNAME:MDT
DTSTART:20250309T090000
END:DAYLIGHT
BEGIN:STANDARD
TZOFFSETFROM:-0600
TZOFFSETTO:-0700
TZNAME:MST
DTSTART:20251102T080000
END:STANDARD
END:VTIMEZONE
BEGIN:VEVENT
DTSTART;TZID=America/Denver:20240215T100000
DTEND;TZID=America/Denver:20240215T120000
DTSTAMP:20260421T074656
CREATED:20231212T203528Z
LAST-MODIFIED:20231212T203528Z
UID:251893-1707991200-1707998400@gatewayassociation.ca
SUMMARY: Interview Roundtable: Learning and Laughing Together 
DESCRIPTION: Interview Roundtable: Learning and Laughing Together \nJoin us for a dynamic and interactive workshop designed to help you ace your next job interview. In our Interview Roundtable\, you’ll have the opportunity to connect with fellow job seekers and share your experiences and insights. Our experienced facilitators will guide you through real-life interview scenarios and help you develop the skills and confidence you need to succeed. \n This workshop is for registered participants only. To register\, please connect with us at Get-Work@GatewayAssociation.ca
URL:https://gatewayassociation.ca/calendar/interview-roundtable-learning-and-laughing-together-3/
CATEGORIES:ERC
END:VEVENT
BEGIN:VEVENT
DTSTART;TZID=America/Denver:20240215T130000
DTEND;TZID=America/Denver:20240215T140000
DTSTAMP:20260421T074656
CREATED:20231212T203619Z
LAST-MODIFIED:20231212T203619Z
UID:251895-1708002000-1708005600@gatewayassociation.ca
SUMMARY:Networking 102
DESCRIPTION:Networking 102 \nThis workshop will teach participants how to network online! We will go over  how to connect with people on LinkedIn\, sending cold emails\, using social media to connect with others and more! \n  \n This workshop is for registered participants only. To register\, please connect with us at Get-Work@GatewayAssociation.ca
URL:https://gatewayassociation.ca/calendar/networking-102/
CATEGORIES:ERC
END:VEVENT
END:VCALENDAR