BEGIN:VCALENDAR
VERSION:2.0
PRODID:-//Gateway Association - ECPv6.15.20//NONSGML v1.0//EN
CALSCALE:GREGORIAN
METHOD:PUBLISH
X-WR-CALNAME:Gateway Association
X-ORIGINAL-URL:https://gatewayassociation.ca
X-WR-CALDESC:Events for Gateway Association
REFRESH-INTERVAL;VALUE=DURATION:PT1H
X-Robots-Tag:noindex
X-PUBLISHED-TTL:PT1H
BEGIN:VTIMEZONE
TZID:America/Denver
BEGIN:DAYLIGHT
TZOFFSETFROM:-0700
TZOFFSETTO:-0600
TZNAME:MDT
DTSTART:20230312T090000
END:DAYLIGHT
BEGIN:STANDARD
TZOFFSETFROM:-0600
TZOFFSETTO:-0700
TZNAME:MST
DTSTART:20231105T080000
END:STANDARD
BEGIN:DAYLIGHT
TZOFFSETFROM:-0700
TZOFFSETTO:-0600
TZNAME:MDT
DTSTART:20240310T090000
END:DAYLIGHT
BEGIN:STANDARD
TZOFFSETFROM:-0600
TZOFFSETTO:-0700
TZNAME:MST
DTSTART:20241103T080000
END:STANDARD
BEGIN:DAYLIGHT
TZOFFSETFROM:-0700
TZOFFSETTO:-0600
TZNAME:MDT
DTSTART:20250309T090000
END:DAYLIGHT
BEGIN:STANDARD
TZOFFSETFROM:-0600
TZOFFSETTO:-0700
TZNAME:MST
DTSTART:20251102T080000
END:STANDARD
END:VTIMEZONE
BEGIN:VEVENT
DTSTART;TZID=America/Denver:20241023T100000
DTEND;TZID=America/Denver:20241023T120000
DTSTAMP:20260421T042208
CREATED:20240909T143313Z
LAST-MODIFIED:20240909T143324Z
UID:253361-1729677600-1729684800@gatewayassociation.ca
SUMMARY:Interview Roundtable: Learning and Laughing Together - Practice
DESCRIPTION:Interview Roundtable: Learning and Laughing Together – Practice\nJoin us for a dynamic and interactive workshop designed to help you ace your next job interview. In our Interview Roundtable\, you’ll have the opportunity to connect with fellow job seekers and share your experiences and insights. Our experienced facilitators will guide you through real-life interview scenarios and help you develop the skills and confidence you need to succeed.   \nOnline or In-Person: IN-PERSON – YYC \nTo register or learn more about this session\, please connect with us at get-work@gatewayassociation.ca
URL:https://gatewayassociation.ca/calendar/253361/
CATEGORIES:ERC
END:VEVENT
BEGIN:VEVENT
DTSTART;TZID=America/Denver:20241023T100000
DTEND;TZID=America/Denver:20241023T150000
DTSTAMP:20260421T042208
CREATED:20240906T212008Z
LAST-MODIFIED:20240906T212008Z
UID:253351-1729677600-1729695600@gatewayassociation.ca
SUMMARY:Calgary Drop In Wednesdays
DESCRIPTION:Drop In Wednesday CERC\nFor job seekers\, each Wednesday drop in any time between 10am and 3pm to connect with ERC team members to work on resumes\, interview skills\, job search and meet other job seekers!
URL:https://gatewayassociation.ca/calendar/calgary-drop-in-wednesdays-4/
CATEGORIES:ERC
END:VEVENT
BEGIN:VEVENT
DTSTART;TZID=America/Denver:20241023T140000
DTEND;TZID=America/Denver:20241023T150000
DTSTAMP:20260421T042208
CREATED:20240909T145120Z
LAST-MODIFIED:20240909T192655Z
UID:253364-1729692000-1729695600@gatewayassociation.ca
SUMMARY:MentorAbility Industry Information Session: Careers in Cybersecurity
DESCRIPTION:MentorAbility Alberta is offering ongoing FREE interactive Industry Information Sessions! These information sessions give participants the opportunity to learn more about prospective industries\, recruitment requirements and qualifications\, and the next steps they may need to take to achieve their employment goals. \nAre you interested in working in the growing cybersecurity sector? In this session\, Ian Gabriel from Canada’s Communications Securities Establishment is going to talk all about the cybersecurity industry – what it takes to get started\, skills that are valued in the industry\, how to stand out as a candidate\, and more! \nThis event is offered to all MentorAbility participants – so if you are a job seeker who experiences disability-related barriers to employment or a supportive employment service provider who wants to learn more about the industry\, this event is for you! \n  \nIf we can offer any accommodations during the event to make your participation easier or answer any questions you have about the event ahead of time\, please contact jamie@gatewayassociation.ca after you register to discuss. \nRegister HERE \n 
URL:https://gatewayassociation.ca/calendar/mentorability-industry-information-session-careers-in-cybersecurity/
CATEGORIES:ERC,MentorAbility Alberta
END:VEVENT
END:VCALENDAR