BEGIN:VCALENDAR
VERSION:2.0
PRODID:-//Gateway Association - ECPv6.15.20//NONSGML v1.0//EN
CALSCALE:GREGORIAN
METHOD:PUBLISH
X-WR-CALNAME:Gateway Association
X-ORIGINAL-URL:https://gatewayassociation.ca
X-WR-CALDESC:Events for Gateway Association
REFRESH-INTERVAL;VALUE=DURATION:PT1H
X-Robots-Tag:noindex
X-PUBLISHED-TTL:PT1H
BEGIN:VTIMEZONE
TZID:America/Denver
BEGIN:DAYLIGHT
TZOFFSETFROM:-0700
TZOFFSETTO:-0600
TZNAME:MDT
DTSTART:20230312T090000
END:DAYLIGHT
BEGIN:STANDARD
TZOFFSETFROM:-0600
TZOFFSETTO:-0700
TZNAME:MST
DTSTART:20231105T080000
END:STANDARD
BEGIN:DAYLIGHT
TZOFFSETFROM:-0700
TZOFFSETTO:-0600
TZNAME:MDT
DTSTART:20240310T090000
END:DAYLIGHT
BEGIN:STANDARD
TZOFFSETFROM:-0600
TZOFFSETTO:-0700
TZNAME:MST
DTSTART:20241103T080000
END:STANDARD
BEGIN:DAYLIGHT
TZOFFSETFROM:-0700
TZOFFSETTO:-0600
TZNAME:MDT
DTSTART:20250309T090000
END:DAYLIGHT
BEGIN:STANDARD
TZOFFSETFROM:-0600
TZOFFSETTO:-0700
TZNAME:MST
DTSTART:20251102T080000
END:STANDARD
END:VTIMEZONE
BEGIN:VEVENT
DTSTART;TZID=America/Denver:20241024T130000
DTEND;TZID=America/Denver:20241024T140000
DTSTAMP:20260421T024258
CREATED:20240912T154706Z
LAST-MODIFIED:20240912T154706Z
UID:253458-1729774800-1729778400@gatewayassociation.ca
SUMMARY:How to Read a Job Posting
DESCRIPTION:How to Read a Job Posting\nDescription: Join this workshop to understand various elements of a job posting\, identify red flags\, and find the right match. This workshop intends to help people save their time by targeting jobs that fits their expectations. \nOnline or In-Person: ONLINE \nTo learn more or to register\, please connect with us at Get-Work@GatewayAssociation.ca
URL:https://gatewayassociation.ca/calendar/how-to-read-a-job-posting-11/
CATEGORIES:ERC
END:VEVENT
END:VCALENDAR