BEGIN:VCALENDAR
VERSION:2.0
PRODID:-//Gateway Association - ECPv6.15.20//NONSGML v1.0//EN
CALSCALE:GREGORIAN
METHOD:PUBLISH
X-WR-CALNAME:Gateway Association
X-ORIGINAL-URL:https://gatewayassociation.ca
X-WR-CALDESC:Events for Gateway Association
REFRESH-INTERVAL;VALUE=DURATION:PT1H
X-Robots-Tag:noindex
X-PUBLISHED-TTL:PT1H
BEGIN:VTIMEZONE
TZID:America/Denver
BEGIN:DAYLIGHT
TZOFFSETFROM:-0700
TZOFFSETTO:-0600
TZNAME:MDT
DTSTART:20240310T090000
END:DAYLIGHT
BEGIN:STANDARD
TZOFFSETFROM:-0600
TZOFFSETTO:-0700
TZNAME:MST
DTSTART:20241103T080000
END:STANDARD
BEGIN:DAYLIGHT
TZOFFSETFROM:-0700
TZOFFSETTO:-0600
TZNAME:MDT
DTSTART:20250309T090000
END:DAYLIGHT
BEGIN:STANDARD
TZOFFSETFROM:-0600
TZOFFSETTO:-0700
TZNAME:MST
DTSTART:20251102T080000
END:STANDARD
BEGIN:DAYLIGHT
TZOFFSETFROM:-0700
TZOFFSETTO:-0600
TZNAME:MDT
DTSTART:20260308T090000
END:DAYLIGHT
BEGIN:STANDARD
TZOFFSETFROM:-0600
TZOFFSETTO:-0700
TZNAME:MST
DTSTART:20261101T080000
END:STANDARD
END:VTIMEZONE
BEGIN:VEVENT
DTSTART;TZID=America/Denver:20250410T130000
DTEND;TZID=America/Denver:20250410T140000
DTSTAMP:20260420T044248
CREATED:20250325T161035Z
LAST-MODIFIED:20250325T161259Z
UID:254721-1744290000-1744293600@gatewayassociation.ca
SUMMARY:Workplace Communication 102 - Conflict Resolution 
DESCRIPTION:Workplace Communication 102 – Conflict Resolution \nWorkplace Communication is made up of many essential skills\, including how to deal with conflict.  Conflict can be difficult to navigate and hard to understand.  In this workshop\, we will talk about conflict in the workplace and learn strategies to resolve conflict.  \nTo learn more or to register\, connect with us at Get-Work@gatewayassociation.ca
URL:https://gatewayassociation.ca/calendar/workplace-communication-102-conflict-resolution-6/
CATEGORIES:ERC
END:VEVENT
END:VCALENDAR