BEGIN:VCALENDAR
VERSION:2.0
PRODID:-//Gateway Association - ECPv6.15.20//NONSGML v1.0//EN
CALSCALE:GREGORIAN
METHOD:PUBLISH
X-ORIGINAL-URL:https://gatewayassociation.ca
X-WR-CALDESC:Events for Gateway Association
REFRESH-INTERVAL;VALUE=DURATION:PT1H
X-Robots-Tag:noindex
X-PUBLISHED-TTL:PT1H
BEGIN:VTIMEZONE
TZID:America/Denver
BEGIN:DAYLIGHT
TZOFFSETFROM:-0700
TZOFFSETTO:-0600
TZNAME:MDT
DTSTART:20240310T090000
END:DAYLIGHT
BEGIN:STANDARD
TZOFFSETFROM:-0600
TZOFFSETTO:-0700
TZNAME:MST
DTSTART:20241103T080000
END:STANDARD
BEGIN:DAYLIGHT
TZOFFSETFROM:-0700
TZOFFSETTO:-0600
TZNAME:MDT
DTSTART:20250309T090000
END:DAYLIGHT
BEGIN:STANDARD
TZOFFSETFROM:-0600
TZOFFSETTO:-0700
TZNAME:MST
DTSTART:20251102T080000
END:STANDARD
BEGIN:DAYLIGHT
TZOFFSETFROM:-0700
TZOFFSETTO:-0600
TZNAME:MDT
DTSTART:20260308T090000
END:DAYLIGHT
BEGIN:STANDARD
TZOFFSETFROM:-0600
TZOFFSETTO:-0700
TZNAME:MST
DTSTART:20261101T080000
END:STANDARD
END:VTIMEZONE
BEGIN:VEVENT
DTSTART;TZID=America/Denver:20250430T100000
DTEND;TZID=America/Denver:20250430T150000
DTSTAMP:20260419T111753
CREATED:20250411T043037Z
LAST-MODIFIED:20250411T043037Z
UID:254911-1746007200-1746025200@gatewayassociation.ca
SUMMARY:Calgary Drop-In Wednesdays
DESCRIPTION:Calgary Drop-In Wednesdays\nFor registered participants –  Join us every Wednesday from 10 AM to 3 PM for our open drop-in sessions. Whether you’re exploring career options\, updating your resume\, practicing for interviews\, or navigating the job search process\, our friendly team is ready to support you. \nNo appointment needed—just drop in! Let’s work together to take the next step in your employment journey.\n Where: Gateway Association Calgary Office\nWhen: Wednesdays\, 10 AM – 3 PM
URL:https://gatewayassociation.ca/calendar/calgary-drop-in-wednesdays-15/
CATEGORIES:ERC
END:VEVENT
BEGIN:VEVENT
DTSTART;TZID=America/Denver:20250430T130000
DTEND;TZID=America/Denver:20250430T150000
DTSTAMP:20260419T111753
CREATED:20250325T154443Z
LAST-MODIFIED:20250325T154443Z
UID:254719-1746018000-1746025200@gatewayassociation.ca
SUMMARY:Edmonton Drop In Wednesdays
DESCRIPTION:For registered participants –  Join us every Wednesday from 1PM to 3 PM for our open drop-in sessions. Whether you’re exploring career options\, updating your resume\, practicing for interviews\, or navigating the job search process\, our friendly team is ready to support you. \nNo appointment needed—just drop in! Let’s work together to take the next step in your employment journey.\n Where: Edmonton Gateway Office\n When: Wednesdays\, 1 PM – 3 PM
URL:https://gatewayassociation.ca/calendar/edmonton-drop-in-wednesdays-5/
CATEGORIES:ERC
END:VEVENT
END:VCALENDAR