BEGIN:VCALENDAR
VERSION:2.0
PRODID:-//Gateway Association - ECPv6.15.20//NONSGML v1.0//EN
CALSCALE:GREGORIAN
METHOD:PUBLISH
X-ORIGINAL-URL:https://gatewayassociation.ca
X-WR-CALDESC:Events for Gateway Association
REFRESH-INTERVAL;VALUE=DURATION:PT1H
X-Robots-Tag:noindex
X-PUBLISHED-TTL:PT1H
BEGIN:VTIMEZONE
TZID:America/Denver
BEGIN:DAYLIGHT
TZOFFSETFROM:-0700
TZOFFSETTO:-0600
TZNAME:MDT
DTSTART:20240310T090000
END:DAYLIGHT
BEGIN:STANDARD
TZOFFSETFROM:-0600
TZOFFSETTO:-0700
TZNAME:MST
DTSTART:20241103T080000
END:STANDARD
BEGIN:DAYLIGHT
TZOFFSETFROM:-0700
TZOFFSETTO:-0600
TZNAME:MDT
DTSTART:20250309T090000
END:DAYLIGHT
BEGIN:STANDARD
TZOFFSETFROM:-0600
TZOFFSETTO:-0700
TZNAME:MST
DTSTART:20251102T080000
END:STANDARD
BEGIN:DAYLIGHT
TZOFFSETFROM:-0700
TZOFFSETTO:-0600
TZNAME:MDT
DTSTART:20260308T090000
END:DAYLIGHT
BEGIN:STANDARD
TZOFFSETFROM:-0600
TZOFFSETTO:-0700
TZNAME:MST
DTSTART:20261101T080000
END:STANDARD
END:VTIMEZONE
BEGIN:VEVENT
DTSTART;TZID=America/Denver:20250527T130000
DTEND;TZID=America/Denver:20250527T140000
DTSTAMP:20260421T065327
CREATED:20250411T042636Z
LAST-MODIFIED:20250411T042636Z
UID:254905-1748350800-1748354400@gatewayassociation.ca
SUMMARY:ATS Friendly Resumes
DESCRIPTION:ATS Friendly Resumes\n\n\n\n\nWe will discuss ATS-friendly resume formats and designs\, including what to include and what to avoid\, to help our participants successfully navigate the first step of the complex job application process.\n\n\n\n\nTo learn more and to register please connect with us at Get-Work@GatewayAssociation.ca
URL:https://gatewayassociation.ca/calendar/ats-friendly-resumes/
CATEGORIES:ERC
END:VEVENT
END:VCALENDAR