BEGIN:VCALENDAR
VERSION:2.0
PRODID:-//Gateway Association - ECPv6.15.20//NONSGML v1.0//EN
CALSCALE:GREGORIAN
METHOD:PUBLISH
X-WR-CALNAME:Gateway Association
X-ORIGINAL-URL:https://gatewayassociation.ca
X-WR-CALDESC:Events for Gateway Association
REFRESH-INTERVAL;VALUE=DURATION:PT1H
X-Robots-Tag:noindex
X-PUBLISHED-TTL:PT1H
BEGIN:VTIMEZONE
TZID:America/Denver
BEGIN:DAYLIGHT
TZOFFSETFROM:-0700
TZOFFSETTO:-0600
TZNAME:MDT
DTSTART:20250309T090000
END:DAYLIGHT
BEGIN:STANDARD
TZOFFSETFROM:-0600
TZOFFSETTO:-0700
TZNAME:MST
DTSTART:20251102T080000
END:STANDARD
BEGIN:DAYLIGHT
TZOFFSETFROM:-0700
TZOFFSETTO:-0600
TZNAME:MDT
DTSTART:20260308T090000
END:DAYLIGHT
BEGIN:STANDARD
TZOFFSETFROM:-0600
TZOFFSETTO:-0700
TZNAME:MST
DTSTART:20261101T080000
END:STANDARD
BEGIN:DAYLIGHT
TZOFFSETFROM:-0700
TZOFFSETTO:-0600
TZNAME:MDT
DTSTART:20270314T090000
END:DAYLIGHT
BEGIN:STANDARD
TZOFFSETFROM:-0600
TZOFFSETTO:-0700
TZNAME:MST
DTSTART:20271107T080000
END:STANDARD
END:VTIMEZONE
BEGIN:VEVENT
DTSTART;TZID=America/Denver:20260618T130000
DTEND;TZID=America/Denver:20260618T140000
DTSTAMP:20260420T154205
CREATED:20251210T160656Z
LAST-MODIFIED:20251210T160656Z
UID:255533-1781787600-1781791200@gatewayassociation.ca
SUMMARY:Labor Market Trends
DESCRIPTION:Labor Market Trends\nAn in-depth discussion on what jobs are in demand and how you can plan for career stability. \nOnline – Zoom \n** Please note that these sessions are for registered participants only. To find out more info or to apply\, please connect with us at Get-Work@GatewayAssociation.ca
URL:https://gatewayassociation.ca/calendar/labor-market-trends-5/
CATEGORIES:ERC
END:VEVENT
BEGIN:VEVENT
DTSTART;TZID=America/Denver:20260624T130000
DTEND;TZID=America/Denver:20260624T140000
DTSTAMP:20260420T154205
CREATED:20251210T160753Z
LAST-MODIFIED:20251210T160753Z
UID:255535-1782306000-1782309600@gatewayassociation.ca
SUMMARY:Body Language 101
DESCRIPTION:Body Language 101\nLearn how to use and read non-verbal cues to communicate confidence\, connection\, and credibility. \nOnline – Zoom \n** Please note that these sessions are for registered participants only. To find out more info or to apply\, please connect with us at Get-Work@GatewayAssociation.ca
URL:https://gatewayassociation.ca/calendar/body-language-101-3/
CATEGORIES:ERC
END:VEVENT
BEGIN:VEVENT
DTSTART;TZID=America/Denver:20260625T130000
DTEND;TZID=America/Denver:20260625T140000
DTSTAMP:20260420T154205
CREATED:20251210T160850Z
LAST-MODIFIED:20251210T160850Z
UID:255537-1782392400-1782396000@gatewayassociation.ca
SUMMARY:How to Read a Job Posting
DESCRIPTION:How to Read a Job Posting\nJoin this workshop to understand various elements of a job posting\, identify red flags\, and find the right match. This workshop intends to help people save their time by targeting jobs that fits their expectations. \nOnline – Zoom \n** Please note that these sessions are for registered participants only. To find out more info or to apply\, please connect with us at Get-Work@GatewayAssociation.ca
URL:https://gatewayassociation.ca/calendar/how-to-read-a-job-posting-23/
CATEGORIES:ERC
END:VEVENT
END:VCALENDAR