BEGIN:VCALENDAR
VERSION:2.0
PRODID:-//Gateway Association - ECPv6.15.20//NONSGML v1.0//EN
CALSCALE:GREGORIAN
METHOD:PUBLISH
X-ORIGINAL-URL:https://gatewayassociation.ca
X-WR-CALDESC:Events for Gateway Association
REFRESH-INTERVAL;VALUE=DURATION:PT1H
X-Robots-Tag:noindex
X-PUBLISHED-TTL:PT1H
BEGIN:VTIMEZONE
TZID:America/Denver
BEGIN:DAYLIGHT
TZOFFSETFROM:-0700
TZOFFSETTO:-0600
TZNAME:MDT
DTSTART:20230312T090000
END:DAYLIGHT
BEGIN:STANDARD
TZOFFSETFROM:-0600
TZOFFSETTO:-0700
TZNAME:MST
DTSTART:20231105T080000
END:STANDARD
BEGIN:DAYLIGHT
TZOFFSETFROM:-0700
TZOFFSETTO:-0600
TZNAME:MDT
DTSTART:20240310T090000
END:DAYLIGHT
BEGIN:STANDARD
TZOFFSETFROM:-0600
TZOFFSETTO:-0700
TZNAME:MST
DTSTART:20241103T080000
END:STANDARD
BEGIN:DAYLIGHT
TZOFFSETFROM:-0700
TZOFFSETTO:-0600
TZNAME:MDT
DTSTART:20250309T090000
END:DAYLIGHT
BEGIN:STANDARD
TZOFFSETFROM:-0600
TZOFFSETTO:-0700
TZNAME:MST
DTSTART:20251102T080000
END:STANDARD
END:VTIMEZONE
BEGIN:VEVENT
DTSTART;TZID=America/Denver:20240207T100000
DTEND;TZID=America/Denver:20240207T150000
DTSTAMP:20260421T135005
CREATED:20231220T152308Z
LAST-MODIFIED:20231220T152308Z
UID:251991-1707300000-1707318000@gatewayassociation.ca
SUMMARY:DROP IN WEDNESDAYS  at the Calgary Employment Resource Centre
DESCRIPTION:DROP IN WEDNESDAYS \nat the Calgary Employment Resource Centre \nFor job seekers\, each Wednesday drop in any time between 10am and 3pm to connect with ERC team members to work on resumes\, interview skills\, job search and meet other job seekers! \n1206 20 AVE SE \nCalgary\, AB
URL:https://gatewayassociation.ca/calendar/drop-in-wednesdays-at-the-calgary-employment-resource-centre-7/
CATEGORIES:ERC
END:VEVENT
BEGIN:VEVENT
DTSTART;TZID=America/Denver:20240208T130000
DTEND;TZID=America/Denver:20240208T140000
DTSTAMP:20260421T135005
CREATED:20231212T203312Z
LAST-MODIFIED:20231212T203312Z
UID:251889-1707397200-1707400800@gatewayassociation.ca
SUMMARY:Finding Your Purpose
DESCRIPTION:Finding Your Purpose \nAre you wondering what your purpose is? Stuck and not sure where to go? Then we have a workshop for you! Come join us for self exploration and learning. We will talk about what people need in life to grow and how we can access those resources. As well\, we will explore a personality test and leave the workshop with a deeper understanding of who we are and where we would like to go! \n  \n This workshop is for registered participants only. To register\, please connect with us at Get-Work@GatewayAssociation.ca
URL:https://gatewayassociation.ca/calendar/finding-your-purpose-5/
CATEGORIES:ERC
END:VEVENT
BEGIN:VEVENT
DTSTART;TZID=America/Denver:20240208T140000
DTEND;TZID=America/Denver:20240208T150000
DTSTAMP:20260421T135005
CREATED:20240117T221624Z
LAST-MODIFIED:20240123T224230Z
UID:252046-1707400800-1707404400@gatewayassociation.ca
SUMMARY:MentorAbility Industry Information Session; Careers in Banking with CIBC
DESCRIPTION:Have you ever wondered what it might be like to work at one of Canada’s biggest financial institutions?\nJoin us for a FREE interactive MentorAbility Industry Information Session hosted by CIBC! Learn about how to start your banking career from Community General Managers and Finance Professionals as they share their stories working at CIBC with a panel discussion. This event is offered to all MentorAbility participants – so if you are a job seeker who experiences disability-related barriers to employment or a supportive employment service provider who wants to learn more about working at CIBC\, this event is for you! \nRegister HERE \nIf you require any accommodations for this session\, please contact us prior to the session and we will assist with accommodation provisions as best we can.\njamie@gatewayassociation.ca
URL:https://gatewayassociation.ca/calendar/mentorability-industry-information-session-careers-in-banking-with-cibc/
CATEGORIES:ERC,MentorAbility Alberta
END:VEVENT
BEGIN:VEVENT
DTSTART;TZID=America/Denver:20240213T130000
DTEND;TZID=America/Denver:20240213T140000
DTSTAMP:20260421T135005
CREATED:20231212T203426Z
LAST-MODIFIED:20231212T203426Z
UID:251891-1707829200-1707832800@gatewayassociation.ca
SUMMARY:Interview Prep 102: Common Interview Questions
DESCRIPTION:Interview Prep 102: Common Interview Questions \nLearn tips about how to effectively answer some of the most common interview questions! \n  \n This workshop is for registered participants only. To register\, please connect with us at Get-Work@GatewayAssociation.ca
URL:https://gatewayassociation.ca/calendar/interview-prep-102-common-interview-questions-2/
CATEGORIES:ERC
END:VEVENT
BEGIN:VEVENT
DTSTART;TZID=America/Denver:20240214T100000
DTEND;TZID=America/Denver:20240214T150000
DTSTAMP:20260421T135005
CREATED:20231220T152355Z
LAST-MODIFIED:20231220T152355Z
UID:251994-1707904800-1707922800@gatewayassociation.ca
SUMMARY:DROP IN WEDNESDAYS  at the Calgary Employment Resource Centre
DESCRIPTION:DROP IN WEDNESDAYS \nat the Calgary Employment Resource Centre \nFor job seekers\, each Wednesday drop in any time between 10am and 3pm to connect with ERC team members to work on resumes\, interview skills\, job search and meet other job seekers! \n1206 20 AVE SE \nCalgary\, AB
URL:https://gatewayassociation.ca/calendar/drop-in-wednesdays-at-the-calgary-employment-resource-centre-8/
CATEGORIES:ERC
END:VEVENT
BEGIN:VEVENT
DTSTART;TZID=America/Denver:20240215T100000
DTEND;TZID=America/Denver:20240215T120000
DTSTAMP:20260421T135005
CREATED:20231212T203528Z
LAST-MODIFIED:20231212T203528Z
UID:251893-1707991200-1707998400@gatewayassociation.ca
SUMMARY: Interview Roundtable: Learning and Laughing Together 
DESCRIPTION: Interview Roundtable: Learning and Laughing Together \nJoin us for a dynamic and interactive workshop designed to help you ace your next job interview. In our Interview Roundtable\, you’ll have the opportunity to connect with fellow job seekers and share your experiences and insights. Our experienced facilitators will guide you through real-life interview scenarios and help you develop the skills and confidence you need to succeed. \n This workshop is for registered participants only. To register\, please connect with us at Get-Work@GatewayAssociation.ca
URL:https://gatewayassociation.ca/calendar/interview-roundtable-learning-and-laughing-together-3/
CATEGORIES:ERC
END:VEVENT
BEGIN:VEVENT
DTSTART;TZID=America/Denver:20240215T130000
DTEND;TZID=America/Denver:20240215T140000
DTSTAMP:20260421T135005
CREATED:20231212T203619Z
LAST-MODIFIED:20231212T203619Z
UID:251895-1708002000-1708005600@gatewayassociation.ca
SUMMARY:Networking 102
DESCRIPTION:Networking 102 \nThis workshop will teach participants how to network online! We will go over  how to connect with people on LinkedIn\, sending cold emails\, using social media to connect with others and more! \n  \n This workshop is for registered participants only. To register\, please connect with us at Get-Work@GatewayAssociation.ca
URL:https://gatewayassociation.ca/calendar/networking-102/
CATEGORIES:ERC
END:VEVENT
BEGIN:VEVENT
DTSTART;TZID=America/Denver:20240221T100000
DTEND;TZID=America/Denver:20240221T150000
DTSTAMP:20260421T135005
CREATED:20231220T152439Z
LAST-MODIFIED:20231220T152439Z
UID:251996-1708509600-1708527600@gatewayassociation.ca
SUMMARY:DROP IN WEDNESDAYS  at the Calgary Employment Resource Centre
DESCRIPTION:DROP IN WEDNESDAYS \nat the Calgary Employment Resource Centre \nFor job seekers\, each Wednesday drop in any time between 10am and 3pm to connect with ERC team members to work on resumes\, interview skills\, job search and meet other job seekers! \n1206 20 AVE SE \nCalgary\, AB
URL:https://gatewayassociation.ca/calendar/drop-in-wednesdays-at-the-calgary-employment-resource-centre-9/
CATEGORIES:ERC
END:VEVENT
BEGIN:VEVENT
DTSTART;TZID=America/Denver:20240221T130000
DTEND;TZID=America/Denver:20240221T140000
DTSTAMP:20260421T135005
CREATED:20231212T203713Z
LAST-MODIFIED:20231212T203713Z
UID:251897-1708520400-1708524000@gatewayassociation.ca
SUMMARY:How to Read a Job Posting
DESCRIPTION:How to Read a Job Posting \nJoin this workshop to understand various elements of a job posting\, identify red flags\, and find the right match. This workshop intends to help people save their time by targeting jobs that fits their expectations. \n This workshop is for registered participants only. To register\, please connect with us at Get-Work@GatewayAssociation.ca
URL:https://gatewayassociation.ca/calendar/how-to-read-a-job-posting-8/
CATEGORIES:ERC
END:VEVENT
BEGIN:VEVENT
DTSTART;TZID=America/Denver:20240222T130000
DTEND;TZID=America/Denver:20240222T140000
DTSTAMP:20260421T135005
CREATED:20231212T203755Z
LAST-MODIFIED:20231212T203755Z
UID:251899-1708606800-1708610400@gatewayassociation.ca
SUMMARY:Workplace Expectations
DESCRIPTION:Workplace Expectations \nYou’ve got the job\, now you must keep it! Talking about the everyday behaviors that are appropriate in the workplace: \n\nshowing up on time\nhow long is too long for socializing with coworkers\nbreaks – what does this mean\nmotivation and engagement\n\n \n This workshop is for registered participants only. To register\, please connect with us at Get-Work@GatewayAssociation.ca
URL:https://gatewayassociation.ca/calendar/workplace-expectations-12/
CATEGORIES:ERC
END:VEVENT
BEGIN:VEVENT
DTSTART;TZID=America/Denver:20240227T130000
DTEND;TZID=America/Denver:20240227T140000
DTSTAMP:20260421T135005
CREATED:20231212T203905Z
LAST-MODIFIED:20231212T203905Z
UID:251901-1709038800-1709042400@gatewayassociation.ca
SUMMARY: Workplace Communication 102 - Conflict Resolution
DESCRIPTION: Workplace Communication 102 – Conflict Resolution \nWorkplace Communication is made up of many essential skills\, including how to deal with conflict.  Conflict can be difficult to navigate and hard to understand.  In this workshop\, we will talk about conflict in the workplace and learn strategies to resolve conflict. \n  \nThis workshop is for registered participants only. To register\, please connect with us at Get-Work@GatewayAssociation.ca
URL:https://gatewayassociation.ca/calendar/workplace-communication-102-conflict-resolution/
CATEGORIES:ERC
END:VEVENT
BEGIN:VEVENT
DTSTART;TZID=America/Denver:20240228T100000
DTEND;TZID=America/Denver:20240228T150000
DTSTAMP:20260421T135005
CREATED:20231220T152514Z
LAST-MODIFIED:20231220T152514Z
UID:251998-1709114400-1709132400@gatewayassociation.ca
SUMMARY:DROP IN WEDNESDAYS  at the Calgary Employment Resource Centre
DESCRIPTION:DROP IN WEDNESDAYS \nat the Calgary Employment Resource Centre \nFor job seekers\, each Wednesday drop in any time between 10am and 3pm to connect with ERC team members to work on resumes\, interview skills\, job search and meet other job seekers! \n1206 20 AVE SE \nCalgary\, AB
URL:https://gatewayassociation.ca/calendar/drop-in-wednesdays-at-the-calgary-employment-resource-centre-10/
CATEGORIES:ERC
END:VEVENT
BEGIN:VEVENT
DTSTART;TZID=America/Denver:20240228T180000
DTEND;TZID=America/Denver:20240228T190000
DTSTAMP:20260421T135005
CREATED:20231220T155223Z
LAST-MODIFIED:20231220T162841Z
UID:252011-1709143200-1709146800@gatewayassociation.ca
SUMMARY:Employment Resource Centre Information Session
DESCRIPTION:Employment Resource Centre Information Session \nJoin Gateway Association for a virtual Employment Resource Centre information session. \nThis session is for job seekers with disability or mental health-based barriers to learn about how Gateway Association can support you with achieving your employment goals! \nL earn about individualized supports and group workshops that will help you with: \n\nCareer development and action plans\nResume building\nInterview skills\nWorkplace communication\nOnboarding and training\nJob search and finding the right job for you\nKeeping your job!\nA ND much more!\n\nRegister HERE \nFor additional accommodations or questions\, please connect with us at Get-Work@GatewayAssociation.ca
URL:https://gatewayassociation.ca/calendar/employment-resource-centre-information-session-2/
CATEGORIES:ERC
END:VEVENT
BEGIN:VEVENT
DTSTART;TZID=America/Denver:20240305T130000
DTEND;TZID=America/Denver:20240305T140000
DTSTAMP:20260421T135005
CREATED:20231212T204053Z
LAST-MODIFIED:20231212T204053Z
UID:251903-1709643600-1709647200@gatewayassociation.ca
SUMMARY:Finding Your Purpose
DESCRIPTION:Finding Your Purpose \n Are you wondering what your purpose is? Stuck and not sure where to go? Then we have a workshop for you! Come join us for self exploration and learning. We will talk about what people need in life to grow and how we can access those resources. As well\, we will explore a personality test and leave the workshop with a deeper understanding of who we are and where we would like to go! \n  \n This workshop is for registered participants only. To register\, please connect with us at Get-Work@GatewayAssociation.ca
URL:https://gatewayassociation.ca/calendar/finding-your-purpose-6/
CATEGORIES:ERC
END:VEVENT
BEGIN:VEVENT
DTSTART;TZID=America/Denver:20240306T100000
DTEND;TZID=America/Denver:20240306T150000
DTSTAMP:20260421T135005
CREATED:20231220T152559Z
LAST-MODIFIED:20231220T152559Z
UID:252000-1709719200-1709737200@gatewayassociation.ca
SUMMARY:DROP IN WEDNESDAYS  at the Calgary Employment Resource Centre
DESCRIPTION:DROP IN WEDNESDAYS \nat the Calgary Employment Resource Centre \nFor job seekers\, each Wednesday drop in any time between 10am and 3pm to connect with ERC team members to work on resumes\, interview skills\, job search and meet other job seekers! \n1206 20 AVE SE \nCalgary\, AB
URL:https://gatewayassociation.ca/calendar/drop-in-wednesdays-at-the-calgary-employment-resource-centre-11/
CATEGORIES:ERC
END:VEVENT
BEGIN:VEVENT
DTSTART;TZID=America/Denver:20240307T130000
DTEND;TZID=America/Denver:20240307T140000
DTSTAMP:20260421T135005
CREATED:20231212T204151Z
LAST-MODIFIED:20231212T204151Z
UID:251905-1709816400-1709820000@gatewayassociation.ca
SUMMARY:Growth Mindset: Resiliency in Job Search
DESCRIPTION: Growth Mindset: Resiliency in Job Search \nJob search can be a long and daunting process for many. This workshop will introduce folks to the concept of having a “Growth Mindset” and help individuals create a positive/persistent mindset along with tips on how to stay motivated throughout this process. \n This workshop is for registered participants only. To register\, please connect with us at Get-Work@GatewayAssociation.ca
URL:https://gatewayassociation.ca/calendar/growth-mindset-resiliency-in-job-search-13/
CATEGORIES:ERC
END:VEVENT
BEGIN:VEVENT
DTSTART;TZID=America/Denver:20240313T100000
DTEND;TZID=America/Denver:20240313T150000
DTSTAMP:20260421T135005
CREATED:20231220T152636Z
LAST-MODIFIED:20231220T152636Z
UID:252002-1710324000-1710342000@gatewayassociation.ca
SUMMARY:DROP IN WEDNESDAYS  at the Calgary Employment Resource Centre
DESCRIPTION:DROP IN WEDNESDAYS \nat the Calgary Employment Resource Centre \nFor job seekers\, each Wednesday drop in any time between 10am and 3pm to connect with ERC team members to work on resumes\, interview skills\, job search and meet other job seekers! \n1206 20 AVE SE \nCalgary\, AB
URL:https://gatewayassociation.ca/calendar/drop-in-wednesdays-at-the-calgary-employment-resource-centre-12/
CATEGORIES:ERC
END:VEVENT
BEGIN:VEVENT
DTSTART;TZID=America/Denver:20240314T100000
DTEND;TZID=America/Denver:20240314T120000
DTSTAMP:20260421T135005
CREATED:20231212T204315Z
LAST-MODIFIED:20231212T204315Z
UID:251907-1710410400-1710417600@gatewayassociation.ca
SUMMARY:Interview Roundtable: Learning and Laughing Together
DESCRIPTION:Interview Roundtable: Learning and Laughing Together \nJoin us for a dynamic and interactive workshop designed to help you ace your next job interview. In our Interview Roundtable\, you’ll have the opportunity to connect with fellow job seekers and share your experiences and insights. Our experienced facilitators will guide you through real-life interview scenarios and help you develop the skills and confidence you need to succeed. \n  \nSpots are limited. To register\, please e-mail Get-Work@GatewayAssociation.ca
URL:https://gatewayassociation.ca/calendar/interview-roundtable-learning-and-laughing-together-4/
CATEGORIES:ERC
END:VEVENT
BEGIN:VEVENT
DTSTART;TZID=America/Denver:20240314T130000
DTEND;TZID=America/Denver:20240314T140000
DTSTAMP:20260421T135005
CREATED:20231212T204416Z
LAST-MODIFIED:20231212T204416Z
UID:251909-1710421200-1710424800@gatewayassociation.ca
SUMMARY:Interview Prep: Before\, During & After
DESCRIPTION:Interview Prep: Before\, During & After \nIn this workshop\, you will learn about how to get ready for a job interview\, how to “shine’ in the interview and what to do after the interview to stand out and increase your chances of getting called back! \n  \n This workshop is for registered participants only. To register\, please connect with us at Get-Work@GatewayAssociation.ca
URL:https://gatewayassociation.ca/calendar/interview-prep-before-during-after-2/
CATEGORIES:ERC
END:VEVENT
BEGIN:VEVENT
DTSTART;TZID=America/Denver:20240319T130000
DTEND;TZID=America/Denver:20240319T140000
DTSTAMP:20260421T135005
CREATED:20231212T204600Z
LAST-MODIFIED:20231212T204600Z
UID:251911-1710853200-1710856800@gatewayassociation.ca
SUMMARY: Workplace Expectations
DESCRIPTION: Workplace Expectations \nYou’ve got the job\, now you must keep it! Talking about the everyday behaviors that are appropriate in the workplace: \n\nshowing up on time\nhow long is too long for socializing with coworkers\nbreaks – what does this mean\nmotivation and engagement\n\n \n This workshop is for registered participants only. To register\, please connect with us at Get-Work@GatewayAssociation.ca
URL:https://gatewayassociation.ca/calendar/workplace-expectations-13/
CATEGORIES:ERC
END:VEVENT
BEGIN:VEVENT
DTSTART;TZID=America/Denver:20240320T100000
DTEND;TZID=America/Denver:20240320T150000
DTSTAMP:20260421T135005
CREATED:20231220T152706Z
LAST-MODIFIED:20231220T152706Z
UID:252004-1710928800-1710946800@gatewayassociation.ca
SUMMARY:DROP IN WEDNESDAYS  at the Calgary Employment Resource Centre
DESCRIPTION:DROP IN WEDNESDAYS \nat the Calgary Employment Resource Centre \nFor job seekers\, each Wednesday drop in any time between 10am and 3pm to connect with ERC team members to work on resumes\, interview skills\, job search and meet other job seekers! \n1206 20 AVE SE \nCalgary\, AB
URL:https://gatewayassociation.ca/calendar/drop-in-wednesdays-at-the-calgary-employment-resource-centre-13/
CATEGORIES:ERC
END:VEVENT
BEGIN:VEVENT
DTSTART;TZID=America/Denver:20240321T130000
DTEND;TZID=America/Denver:20240321T140000
DTSTAMP:20260421T135005
CREATED:20231212T204710Z
LAST-MODIFIED:20231212T204710Z
UID:251913-1711026000-1711029600@gatewayassociation.ca
SUMMARY:Workplace Communication 101 - Positive Communication and Constructive Feedback
DESCRIPTION:Workplace Communication 101 – Positive Communication and Constructive Feedback \nWorkplace Communication is made up of many essential skills\, such as\, what is okay to talk about at work with your coworkers? How to give and receive positive and constructive feedback? In this workshop\, we will talk about ways to help you to feel confident and comfortable with workplace communication. \n This workshop is for registered participants only. To register\, please connect with us at Get-Work@GatewayAssociation.ca
URL:https://gatewayassociation.ca/calendar/workplace-communication-101-positive-communication-and-constructive-feedback-3/
CATEGORIES:ERC
END:VEVENT
BEGIN:VEVENT
DTSTART;TZID=America/Denver:20240326T130000
DTEND;TZID=America/Denver:20240326T140000
DTSTAMP:20260421T135005
CREATED:20231212T204855Z
LAST-MODIFIED:20231212T204855Z
UID:251915-1711458000-1711461600@gatewayassociation.ca
SUMMARY:Networking 101
DESCRIPTION:Networking 101 \nIn this workshop participants will be learning how to network in-person! You will develop skills such as greeting others\, making connections with people you want to connect with\, how to stay connected after you meet them\, etc. The skills you learn will be useful for connecting with people at conferences\, workshops\, events\, and casual meetings. \n This workshop is for registered participants only. To register\, please connect with us at Get-Work@GatewayAssociation.ca
URL:https://gatewayassociation.ca/calendar/networking-101-3/
CATEGORIES:ERC
END:VEVENT
BEGIN:VEVENT
DTSTART;TZID=America/Denver:20240327T100000
DTEND;TZID=America/Denver:20240327T150000
DTSTAMP:20260421T135005
CREATED:20231220T152823Z
LAST-MODIFIED:20231220T152823Z
UID:252006-1711533600-1711551600@gatewayassociation.ca
SUMMARY:DROP IN WEDNESDAYS  at the Calgary Employment Resource Centre
DESCRIPTION:DROP IN WEDNESDAYS \nat the Calgary Employment Resource Centre \nFor job seekers\, each Wednesday drop in any time between 10am and 3pm to connect with ERC team members to work on resumes\, interview skills\, job search and meet other job seekers! \n1206 20 AVE SE \nCalgary\, AB
URL:https://gatewayassociation.ca/calendar/drop-in-wednesdays-at-the-calgary-employment-resource-centre-14/
CATEGORIES:ERC
END:VEVENT
BEGIN:VEVENT
DTSTART;TZID=America/Denver:20240327T130000
DTEND;TZID=America/Denver:20240327T140000
DTSTAMP:20260421T135005
CREATED:20231212T204945Z
LAST-MODIFIED:20231212T205017Z
UID:251917-1711544400-1711548000@gatewayassociation.ca
SUMMARY: How to Read a Job Posting
DESCRIPTION: How to Read a Job Posting \n Join this workshop to understand various elements of a job posting\, identify red flags\, and find the right match. This workshop intends to help people save their time by targeting jobs that fits their expectations. \n This workshop is for registered participants only. To register\, please connect with us at Get-Work@GatewayAssociation.ca
URL:https://gatewayassociation.ca/calendar/251917/
CATEGORIES:ERC
END:VEVENT
BEGIN:VEVENT
DTSTART;TZID=America/Denver:20240327T180000
DTEND;TZID=America/Denver:20240327T190000
DTSTAMP:20260421T135005
CREATED:20231220T155806Z
LAST-MODIFIED:20231220T163007Z
UID:252013-1711562400-1711566000@gatewayassociation.ca
SUMMARY:Employment Resource Centre Information Session
DESCRIPTION:Employment Resource Centre Information Session \nJoin Gateway Association for a virtual Employment Resource Centre information session. \nThis session is for job seekers with disability or mental health-based barriers to learn about how Gateway Association can support you with achieving your employment goals! \nL earn about individualized supports and group workshops that will help you with: \n\nCareer development and action plans\nResume building\nInterview skills\nWorkplace communication\nOnboarding and training\nJob search and finding the right job for you\nKeeping your job!\nA ND much more!\n\nRegister HERE \nFor additional accommodations or questions\, please connect with us at Get-Work@GatewayAssociation.ca
URL:https://gatewayassociation.ca/calendar/employment-resource-centre-information-session-3/
CATEGORIES:ERC
END:VEVENT
BEGIN:VEVENT
DTSTART;TZID=America/Denver:20240402T130000
DTEND;TZID=America/Denver:20240402T140000
DTSTAMP:20260421T135005
CREATED:20231212T205126Z
LAST-MODIFIED:20231212T205126Z
UID:251920-1712062800-1712066400@gatewayassociation.ca
SUMMARY:Growth Mindset: Resiliency in Job Search
DESCRIPTION:Growth Mindset: Resiliency in Job Search \nJob search can be a long and daunting process for many. This workshop will introduce folks to the concept of having a “Growth Mindset” and help individuals create a positive/persistent mindset along with tips on how to stay motivated throughout this process. \nThis workshop is for registered participants only. To register\, please connect with us at Get-Work@GatewayAssociation.ca
URL:https://gatewayassociation.ca/calendar/growth-mindset-resiliency-in-job-search-14/
CATEGORIES:ERC
END:VEVENT
BEGIN:VEVENT
DTSTART;TZID=America/Denver:20240403T100000
DTEND;TZID=America/Denver:20240403T150000
DTSTAMP:20260421T135005
CREATED:20231220T155930Z
LAST-MODIFIED:20231220T155930Z
UID:252015-1712138400-1712156400@gatewayassociation.ca
SUMMARY:DROP IN WEDNESDAYS  at the Calgary Employment Resource Centre
DESCRIPTION:DROP IN WEDNESDAYS \nat the Calgary Employment Resource Centre \nFor job seekers\, each Wednesday drop in any time between 10am and 3pm to connect with ERC team members to work on resumes\, interview skills\, job search and meet other job seekers! \n1206 20 AVE SE \nCalgary\, AB
URL:https://gatewayassociation.ca/calendar/drop-in-wednesdays-at-the-calgary-employment-resource-centre-15/
CATEGORIES:ERC
END:VEVENT
BEGIN:VEVENT
DTSTART;TZID=America/Denver:20240405T080000
DTEND;TZID=America/Denver:20240405T170000
DTSTAMP:20260421T135005
CREATED:20240405T173750Z
LAST-MODIFIED:20240405T173750Z
UID:252297-1712304000-1712336400@gatewayassociation.ca
SUMMARY:The 11th Annual Mayors Luncheon; Equitable Employment Summit
DESCRIPTION:This 11th Annual Mayors Luncheon Summit is an esteemed event that is not just a gathering but a powerful platform to accelerate progress\, forge meaningful connections\, and cultivate leadership in the realm of inclusive employment. It serves as a unique opportunity for attendees to engage with and learn from other employers and leaders dedicated to inclusive hiring practices. \nThe inception of the Mayor’s Luncheon traces back to a legacy project that followed the hosting of the 2012 Special Olympics Winter Games by St. Albert\, marking the beginning of what would become a cornerstone event for advocacy and inclusion. Over the past seven years\, the luncheon has seen remarkable growth\, evolving into a must-attend event that now welcomes over 200 guests annually. Its success is a testament to the collective effort and commitment of communities across Alberta to embrace and advocate for diversity and inclusion in the workplace. \nMayors from across Alberta\, and even some from beyond\, make it a point to attend every year\, underscoring the event’s significance and reach. Notably\, the Capital Region’s mayors\, especially Mayor Cathy Heron of St. Albert\, have shown exceptional dedication to this cause. Their ongoing support and leadership have been instrumental in enhancing the luncheon year after year\, ensuring it remains a vibrant\, impactful\, and enriching experience for all involved. \nThis year\, as we prepare to host another Mayor’s Luncheon\, we are filled with anticipation and excitement for the opportunity to continue building on this legacy. We look forward to welcoming new and returning guests\, sharing insights\, celebrating achievements in inclusive employment\, and setting the stage for future advancements. Together\, we are making strides towards a more inclusive society\, one where every individual\, regardless of disability\, has the opportunity to contribute\, participate\, and lead. \n  \nLearn more and register HERE
URL:https://gatewayassociation.ca/calendar/the-11th-annual-mayors-luncheon-equitable-employment-summit/
LOCATION:Edmonton Rivery Valley Park\, 98 Avenue Northwest 9704\, Edmonton Alberta\, Edmonton\, Alberta\, T6c 4p6\, Canada
CATEGORIES:ERC,FRC,MentorAbility Alberta
END:VEVENT
BEGIN:VEVENT
DTSTART;TZID=America/Denver:20240409T130000
DTEND;TZID=America/Denver:20240409T140000
DTSTAMP:20260421T135005
CREATED:20231212T205456Z
LAST-MODIFIED:20231212T205456Z
UID:251922-1712667600-1712671200@gatewayassociation.ca
SUMMARY:Finding Your Purpose
DESCRIPTION:Finding Your Purpose \n Are you wondering what your purpose is? Stuck and not sure where to go? Then we have a workshop for you! Come join us for self exploration and learning. We will talk about what people need in life to grow and how we can access those resources. As well\, we will explore a personality test and leave the workshop with a deeper understanding of who we are and where we would like to go! \nThis workshop is for registered participants only. To register\, please connect with us at Get-Work@GatewayAssociation.ca
URL:https://gatewayassociation.ca/calendar/finding-your-purpose-7/
CATEGORIES:ERC
END:VEVENT
END:VCALENDAR