BEGIN:VCALENDAR
VERSION:2.0
PRODID:-//Gateway Association - ECPv6.15.20//NONSGML v1.0//EN
CALSCALE:GREGORIAN
METHOD:PUBLISH
X-WR-CALNAME:Gateway Association
X-ORIGINAL-URL:https://gatewayassociation.ca
X-WR-CALDESC:Events for Gateway Association
REFRESH-INTERVAL;VALUE=DURATION:PT1H
X-Robots-Tag:noindex
X-PUBLISHED-TTL:PT1H
BEGIN:VTIMEZONE
TZID:America/Denver
BEGIN:DAYLIGHT
TZOFFSETFROM:-0700
TZOFFSETTO:-0600
TZNAME:MDT
DTSTART:20240310T090000
END:DAYLIGHT
BEGIN:STANDARD
TZOFFSETFROM:-0600
TZOFFSETTO:-0700
TZNAME:MST
DTSTART:20241103T080000
END:STANDARD
BEGIN:DAYLIGHT
TZOFFSETFROM:-0700
TZOFFSETTO:-0600
TZNAME:MDT
DTSTART:20250309T090000
END:DAYLIGHT
BEGIN:STANDARD
TZOFFSETFROM:-0600
TZOFFSETTO:-0700
TZNAME:MST
DTSTART:20251102T080000
END:STANDARD
BEGIN:DAYLIGHT
TZOFFSETFROM:-0700
TZOFFSETTO:-0600
TZNAME:MDT
DTSTART:20260308T090000
END:DAYLIGHT
BEGIN:STANDARD
TZOFFSETFROM:-0600
TZOFFSETTO:-0700
TZNAME:MST
DTSTART:20261101T080000
END:STANDARD
END:VTIMEZONE
BEGIN:VEVENT
DTSTART;TZID=America/Denver:20250903T100000
DTEND;TZID=America/Denver:20250903T150000
DTSTAMP:20260420T000044
CREATED:20250731T185317Z
LAST-MODIFIED:20250731T185317Z
UID:255234-1756893600-1756911600@gatewayassociation.ca
SUMMARY:Calgary Drop-In Wednesdays
DESCRIPTION:Calgary Drop-In Wednesdays\nFor registered participants –  Join us every Wednesday from 10 AM to 3 PM for our open drop-in sessions. Whether you’re exploring career options\, updating your resume\, practicing for interviews\, or navigating the job search process\, our friendly team is ready to support you. \nNo appointment needed—just drop in! Let’s work together to take the next step in your employment journey.\n\nWhere: Gateway Association Calgary Office\nWhen: Wednesdays\, 10 AM – 3 PM
URL:https://gatewayassociation.ca/calendar/calgary-drop-in-wednesdays-32/
CATEGORIES:ERC
END:VEVENT
BEGIN:VEVENT
DTSTART;TZID=America/Denver:20250903T130000
DTEND;TZID=America/Denver:20250903T150000
DTSTAMP:20260420T000044
CREATED:20250805T193415Z
LAST-MODIFIED:20250805T193415Z
UID:255253-1756904400-1756911600@gatewayassociation.ca
SUMMARY:Edmonton Drop-In Wednesdays
DESCRIPTION:Edmonton Drop-In Wednesdays\nFor registered participants –  Join us every Wednesday from 10 AM to 3 PM for our open drop-in sessions. Whether you’re exploring career options\, updating your resume\, practicing for interviews\, or navigating the job search process\, our friendly team is ready to support you. \nNo appointment needed—just drop in! Let’s work together to take the next step in your employment journey.\nWhere: Gateway Association Edmonton Office\nWhen: Wednesdays\, 1 – 3 PM
URL:https://gatewayassociation.ca/calendar/edmonton-drop-in-wednesdays-14/
CATEGORIES:ERC
END:VEVENT
BEGIN:VEVENT
DTSTART;TZID=America/Denver:20250904T130000
DTEND;TZID=America/Denver:20250904T140000
DTSTAMP:20260420T000044
CREATED:20250805T203309Z
LAST-MODIFIED:20250805T203339Z
UID:255282-1756990800-1756994400@gatewayassociation.ca
SUMMARY:Overcoming Interview and Workplace Anxiety
DESCRIPTION:Overcoming Interview and Workplace Anxiety\nThis workshop helps job seekers manage anxiety during interviews and in the workplace through practical strategies and confidence-building techniques. Participants will gain tools to reduce stress and communicate more effectively in professional settings. \nOnline – Zoom \nTo learn more or to register\, please connect with us at Get-Work@GatewayAssociation.ca
URL:https://gatewayassociation.ca/calendar/255282/
CATEGORIES:ERC
END:VEVENT
BEGIN:VEVENT
DTSTART;TZID=America/Denver:20250909T130000
DTEND;TZID=America/Denver:20250909T140000
DTSTAMP:20260420T000044
CREATED:20250805T203456Z
LAST-MODIFIED:20250805T203456Z
UID:255285-1757422800-1757426400@gatewayassociation.ca
SUMMARY:Interview Prep 102
DESCRIPTION:Interview Prep 102\nLearn tips about how to effectively answer some of the most common interview questions! \nOnline – Zoom \nTo learn more or to register\, please connect with us at Get-Work@GatewayAssciation.ca
URL:https://gatewayassociation.ca/calendar/interview-prep-102-2/
CATEGORIES:ERC
END:VEVENT
BEGIN:VEVENT
DTSTART;TZID=America/Denver:20250910T100000
DTEND;TZID=America/Denver:20250910T150000
DTSTAMP:20260420T000044
CREATED:20250731T192431Z
LAST-MODIFIED:20250731T192431Z
UID:255236-1757498400-1757516400@gatewayassociation.ca
SUMMARY:Calgary Drop-In Wednesdays
DESCRIPTION:Calgary Drop-In Wednesdays\nFor registered participants –  Join us every Wednesday from 10 AM to 3 PM for our open drop-in sessions. Whether you’re exploring career options\, updating your resume\, practicing for interviews\, or navigating the job search process\, our friendly team is ready to support you. \nNo appointment needed—just drop in! Let’s work together to take the next step in your employment journey.\n\nWhere: Gateway Association Calgary Office\nWhen: Wednesdays\, 10 AM – 3 PM
URL:https://gatewayassociation.ca/calendar/calgary-drop-in-wednesdays-33/
CATEGORIES:ERC
END:VEVENT
BEGIN:VEVENT
DTSTART;TZID=America/Denver:20250910T130000
DTEND;TZID=America/Denver:20250910T150000
DTSTAMP:20260420T000044
CREATED:20250805T193458Z
LAST-MODIFIED:20250805T193458Z
UID:255255-1757509200-1757516400@gatewayassociation.ca
SUMMARY:Edmonton Drop-In Wednesdays
DESCRIPTION:Edmonton Drop-In Wednesdays\nFor registered participants –  Join us every Wednesday from 10 AM to 3 PM for our open drop-in sessions. Whether you’re exploring career options\, updating your resume\, practicing for interviews\, or navigating the job search process\, our friendly team is ready to support you. \nNo appointment needed—just drop in! Let’s work together to take the next step in your employment journey.\nWhere: Gateway Association Edmonton Office\nWhen: Wednesdays\, 1 – 3 PM
URL:https://gatewayassociation.ca/calendar/edmonton-drop-in-wednesdays-15/
CATEGORIES:ERC
END:VEVENT
BEGIN:VEVENT
DTSTART;TZID=America/Denver:20250911T133000
DTEND;TZID=America/Denver:20250911T150000
DTSTAMP:20260420T000044
CREATED:20250805T204044Z
LAST-MODIFIED:20250805T204044Z
UID:255287-1757597400-1757602800@gatewayassociation.ca
SUMMARY:An Introduction to Neurodiversity-Friendly Mindfulness Workshop
DESCRIPTION:An Introduction to Neurodiversity-Friendly Mindfulness Workshop:\nPresented by: Krista Van Iderstine\, Occupational Therapist\, ADHD Coach & Mindfulness Teacher \nThis 90 minute interactive workshop offers an introduction to learning about why neurodiversity-friendly adaptations are needed in mindfulness practices. There will be opportunities to try out the various adaptive tools and supports throughout the workshop\, including a short guided neurodiversity-friendly mindfulness meditation. The workshop will end with some information and tips for taking some next steps with exploring mindfulness in ways that work for you. \nParticipants in the workshop will learn: \n1. What is neurodiversity-friendly mindfulness?\n2. Why neurodivergent adaptations are needed\n3. How to adapt mindfulness for neurodivergent needs\n4. Next steps for exploring mindfulness in ways that work for you. \nDisclaimer: \nPlease note mindfulness activities\, such as mindfulness meditation\, can help us to observe ourselves in intentional ways.  This can include noticing unpleasant thoughts\, strong emotions\, or uncomfortable body sensations.  For some people with pre-existing trauma (such as those diagnosed with PTSD)\, practicing mindfulness meditation may trigger PTSD-related symptoms like emotional overwhelm.  The short mindfulness activities (including a short mindfulness meditation) that will be explored during this workshop will be taught in a trauma-sensitive manner\, although with this group format there will be limited opportunities for 1:1 support from the presenter.  Participants will be advised to stop any of the mindfulness activities if they end up feeling uncomfortable during the workshop\, and participants will be able to choose to not participate in any of the activities at any time during the workshop.  If you have any concerns about the information above\, please email the workshop organizer(s) and/or connect with the mental health professional(s) you are working with about the advisability of exploring mindfulness meditation in a workshop group format. \n  \nTo learn more or to register\, please connect with us at Get-Work@GatewayAssociation.ca
URL:https://gatewayassociation.ca/calendar/an-introduction-to-neurodiversity-friendly-mindfulness-workshop/
CATEGORIES:ERC
END:VEVENT
BEGIN:VEVENT
DTSTART;TZID=America/Denver:20250917T100000
DTEND;TZID=America/Denver:20250917T150000
DTSTAMP:20260420T000044
CREATED:20250731T192534Z
LAST-MODIFIED:20250731T192534Z
UID:255239-1758103200-1758121200@gatewayassociation.ca
SUMMARY:Calgary Drop-In Wednesdays
DESCRIPTION:Calgary Drop-In Wednesdays\nFor registered participants –  Join us every Wednesday from 10 AM to 3 PM for our open drop-in sessions. Whether you’re exploring career options\, updating your resume\, practicing for interviews\, or navigating the job search process\, our friendly team is ready to support you. \nNo appointment needed—just drop in! Let’s work together to take the next step in your employment journey.\n\nWhere: Gateway Association Calgary Office\nWhen: Wednesdays\, 10 AM – 3 PM
URL:https://gatewayassociation.ca/calendar/calgary-drop-in-wednesdays-34/
CATEGORIES:ERC
END:VEVENT
BEGIN:VEVENT
DTSTART;TZID=America/Denver:20250917T130000
DTEND;TZID=America/Denver:20250917T150000
DTSTAMP:20260420T000044
CREATED:20250805T193539Z
LAST-MODIFIED:20250805T193539Z
UID:255257-1758114000-1758121200@gatewayassociation.ca
SUMMARY:Edmonton Drop-In Wednesdays
DESCRIPTION:Edmonton Drop-In Wednesdays\nFor registered participants –  Join us every Wednesday from 10 AM to 3 PM for our open drop-in sessions. Whether you’re exploring career options\, updating your resume\, practicing for interviews\, or navigating the job search process\, our friendly team is ready to support you. \nNo appointment needed—just drop in! Let’s work together to take the next step in your employment journey.\nWhere: Gateway Association Edmonton Office\nWhen: Wednesdays\, 1 – 3 PM
URL:https://gatewayassociation.ca/calendar/edmonton-drop-in-wednesdays-16/
CATEGORIES:ERC
END:VEVENT
BEGIN:VEVENT
DTSTART;TZID=America/Denver:20250918T130000
DTEND;TZID=America/Denver:20250918T140000
DTSTAMP:20260420T000044
CREATED:20250805T204137Z
LAST-MODIFIED:20250805T204137Z
UID:255289-1758200400-1758204000@gatewayassociation.ca
SUMMARY:Labor Market Trends
DESCRIPTION:Labor Market Trends\nAn in-depth discussion on what jobs are in demand and how you can plan for career stability \nOnline – Zoom \nFor more information or to register\, please connect with us at Get-Work@GatewayAssociation.ca
URL:https://gatewayassociation.ca/calendar/labor-market-trends/
CATEGORIES:ERC
END:VEVENT
BEGIN:VEVENT
DTSTART;TZID=America/Denver:20250923T130000
DTEND;TZID=America/Denver:20250923T140000
DTSTAMP:20260420T000044
CREATED:20250805T204257Z
LAST-MODIFIED:20250805T204257Z
UID:255291-1758632400-1758636000@gatewayassociation.ca
SUMMARY:Networking - Using Our Connections
DESCRIPTION:Networking – Using Our Connections\nIn this workshop\, participants will be learning how to network online and in person. \nOnline – Zoom \nTo learn more or to register\, please connect with us at Get-Work@GatewayAssociation.ca
URL:https://gatewayassociation.ca/calendar/networking-using-our-connections-8/
CATEGORIES:ERC
END:VEVENT
BEGIN:VEVENT
DTSTART;TZID=America/Denver:20250924T100000
DTEND;TZID=America/Denver:20250924T150000
DTSTAMP:20260420T000044
CREATED:20250731T192609Z
LAST-MODIFIED:20250731T192609Z
UID:255241-1758708000-1758726000@gatewayassociation.ca
SUMMARY:Calgary Drop-In Wednesdays
DESCRIPTION:Calgary Drop-In Wednesdays\nFor registered participants –  Join us every Wednesday from 10 AM to 3 PM for our open drop-in sessions. Whether you’re exploring career options\, updating your resume\, practicing for interviews\, or navigating the job search process\, our friendly team is ready to support you. \nNo appointment needed—just drop in! Let’s work together to take the next step in your employment journey.\n\nWhere: Gateway Association Calgary Office\nWhen: Wednesdays\, 10 AM – 3 PM
URL:https://gatewayassociation.ca/calendar/calgary-drop-in-wednesdays-35/
CATEGORIES:ERC
END:VEVENT
BEGIN:VEVENT
DTSTART;TZID=America/Denver:20250924T130000
DTEND;TZID=America/Denver:20250924T150000
DTSTAMP:20260420T000044
CREATED:20250805T193621Z
LAST-MODIFIED:20250805T193621Z
UID:255259-1758718800-1758726000@gatewayassociation.ca
SUMMARY:Edmonton Drop-In Wednesdays
DESCRIPTION:Edmonton Drop-In Wednesdays\nFor registered participants –  Join us every Wednesday from 10 AM to 3 PM for our open drop-in sessions. Whether you’re exploring career options\, updating your resume\, practicing for interviews\, or navigating the job search process\, our friendly team is ready to support you. \nNo appointment needed—just drop in! Let’s work together to take the next step in your employment journey.\nWhere: Gateway Association Edmonton Office\nWhen: Wednesdays\, 1 – 3 PM
URL:https://gatewayassociation.ca/calendar/edmonton-drop-in-wednesdays-17/
CATEGORIES:ERC
END:VEVENT
BEGIN:VEVENT
DTSTART;TZID=America/Denver:20250925T130000
DTEND;TZID=America/Denver:20250925T140000
DTSTAMP:20260420T000044
CREATED:20250805T204411Z
LAST-MODIFIED:20250805T204411Z
UID:255293-1758805200-1758808800@gatewayassociation.ca
SUMMARY:Disclosure and Accommodations
DESCRIPTION:Disclosure and Accommodations\nPractical steps you can take to share personal needs and ask for support. \nOnline \nFor more information or to register\, please connect with us at Get-Work@GatewayAssociation.ca
URL:https://gatewayassociation.ca/calendar/disclosure-and-accommodations-3/
CATEGORIES:ERC
END:VEVENT
BEGIN:VEVENT
DTSTART;TZID=America/Denver:20250930T130000
DTEND;TZID=America/Denver:20250930T140000
DTSTAMP:20260420T000044
CREATED:20250805T204455Z
LAST-MODIFIED:20250805T204455Z
UID:255295-1759237200-1759240800@gatewayassociation.ca
SUMMARY:Workplace Expectations
DESCRIPTION:Workplace Expectations\nThis interactive workshop will help you retain your job; we will explore what you need to do to keep your job. \nOnline – Zoom \nFor more information or to register\, please connect with us at Get-Work@GatewayAssociation.ca
URL:https://gatewayassociation.ca/calendar/workplace-expectations-22/
CATEGORIES:ERC
END:VEVENT
BEGIN:VEVENT
DTSTART;TZID=America/Denver:20251001T100000
DTEND;TZID=America/Denver:20251001T150000
DTSTAMP:20260420T000044
CREATED:20250731T192742Z
LAST-MODIFIED:20250731T192742Z
UID:255243-1759312800-1759330800@gatewayassociation.ca
SUMMARY:Calgary Drop-In Wednesdays
DESCRIPTION:Calgary Drop-In Wednesdays\nFor registered participants –  Join us every Wednesday from 10 AM to 3 PM for our open drop-in sessions. Whether you’re exploring career options\, updating your resume\, practicing for interviews\, or navigating the job search process\, our friendly team is ready to support you. \nNo appointment needed—just drop in! Let’s work together to take the next step in your employment journey.\n\nWhere: Gateway Association Calgary Office\nWhen: Wednesdays\, 10 AM – 3 PM
URL:https://gatewayassociation.ca/calendar/calgary-drop-in-wednesdays-36/
CATEGORIES:ERC
END:VEVENT
BEGIN:VEVENT
DTSTART;TZID=America/Denver:20251001T130000
DTEND;TZID=America/Denver:20251001T150000
DTSTAMP:20260420T000044
CREATED:20250805T193718Z
LAST-MODIFIED:20250805T193718Z
UID:255261-1759323600-1759330800@gatewayassociation.ca
SUMMARY:Edmonton Drop-In Sessions
DESCRIPTION:Edmonton Drop-In Wednesdays\nFor registered participants –  Join us every Wednesday from 10 AM to 3 PM for our open drop-in sessions. Whether you’re exploring career options\, updating your resume\, practicing for interviews\, or navigating the job search process\, our friendly team is ready to support you. \nNo appointment needed—just drop in! Let’s work together to take the next step in your employment journey.\nWhere: Gateway Association Edmonton Office\nWhen: Wednesdays\, 1 – 3 PM
URL:https://gatewayassociation.ca/calendar/edmonton-drop-in-sessions/
CATEGORIES:ERC
END:VEVENT
BEGIN:VEVENT
DTSTART;TZID=America/Denver:20251002T100000
DTEND;TZID=America/Denver:20251002T113000
DTSTAMP:20260420T000044
CREATED:20250918T211003Z
LAST-MODIFIED:20250918T211045Z
UID:255340-1759399200-1759404600@gatewayassociation.ca
SUMMARY:Inclusion Perks YYC ft ASL Instruction by Deaf & Hear Alberta!
DESCRIPTION:☕ Inclusion Perks YYC is back for DEAM 2025! ☕\nJoin us at Work Nicer Rail Yards for a morning of connection\, learning\, and inspiration as we celebrate Disability Employment Awareness Month (DEAM)! \nWhat’s brewing at this event?\nASL instruction led by Deaf & Hear Alberta — learn some sign language basics while building inclusive communication skills.\nMeaningful conversations with employers\, service providers\, job seekers\, and community members about building more inclusive workplaces.\nDEAM spotlight — discover what Disability Employment Awareness Month is all about and how YOU can get involved with events happening across Alberta all month long. \nThis is your chance to grab a coffee\, meet new people\, and walk away with practical ideas (and maybe even a few new phrases in ASL!) to bring inclusion into your workplace and community. \nCome for the coffee. Stay for the connections. Leave inspired to create change. \nWe can’t wait to see you at Inclusion Perks YYC! \nFor any questions or accommodations\, please connect with us at Get-Work@GatewayAssociation.ca \nREGISTER HERE
URL:https://gatewayassociation.ca/calendar/inclusion-perks-yyc-2/
CATEGORIES:ERC
END:VEVENT
BEGIN:VEVENT
DTSTART;TZID=America/Denver:20251007T130000
DTEND;TZID=America/Denver:20251007T140000
DTSTAMP:20260420T000044
CREATED:20250805T204624Z
LAST-MODIFIED:20250805T204624Z
UID:255297-1759842000-1759845600@gatewayassociation.ca
SUMMARY:How to Read a Job Posting
DESCRIPTION:How to Read a Job Posting\nJoin this workshop to understand various elements of a job posting\, identify red flags\, and find the right match. This workshop intends to help people save their time by targeting jobs that fits their expectations. \nOnline – Zoom \nTo learn more or to register\, please connect with us at Get-Work@GatewayAssociation.ca
URL:https://gatewayassociation.ca/calendar/how-to-read-a-job-posting-17/
CATEGORIES:ERC
END:VEVENT
BEGIN:VEVENT
DTSTART;TZID=America/Denver:20251008T100000
DTEND;TZID=America/Denver:20251008T150000
DTSTAMP:20260420T000044
CREATED:20250805T194125Z
LAST-MODIFIED:20250805T194125Z
UID:255271-1759917600-1759935600@gatewayassociation.ca
SUMMARY:Calgary Drop-In Wednesdays
DESCRIPTION:Calgary Drop-In Wednesdays\nFor registered participants –  Join us every Wednesday from 10 AM to 3 PM for our open drop-in sessions. Whether you’re exploring career options\, updating your resume\, practicing for interviews\, or navigating the job search process\, our friendly team is ready to support you. \nNo appointment needed—just drop in! Let’s work together to take the next step in your employment journey.\n\nWhere: Gateway Association Calgary Office\nWhen: Wednesdays\, 10 AM – 3 PM
URL:https://gatewayassociation.ca/calendar/calgary-drop-in-wednesdays-37/
CATEGORIES:ERC
END:VEVENT
BEGIN:VEVENT
DTSTART;TZID=America/Denver:20251008T100000
DTEND;TZID=America/Denver:20251008T150000
DTSTAMP:20260420T000044
CREATED:20250918T205908Z
LAST-MODIFIED:20250918T205908Z
UID:255338-1759917600-1759935600@gatewayassociation.ca
SUMMARY:Employment Drop In Session - Edmonton Employment Resource Centre
DESCRIPTION:Employment Drop In Session – Edmonton Employment Resource Centre\nPlease note that this event is for registered participants and invitees only \nAs part of Disability Employment Awareness Month (DEAM)\, Gateway Association is excited to host a special Drop-In Session exclusively for our Gateway participants! \nThis session is designed to give you hands-on tools\, resources\, and interactive learning opportunities to support your career journey. Whether you’re looking to upgrade your job search skills\, learn about mentorship\, or sharpen your application techniques\, this is a chance to build confidence in a supportive environment. \nAgenda\n12:00 PM – Doors Open | Explore resources including interview attire\, MentorAbility sign-up\, and USB drives with job search tools \n12:30 PM – Workshop: Spotting Job Scams \n1:00 PM – Workshop: How Mentorship Can Enhance Your Job Exploration \n1:30 PM – Workshop: Job Application Techniques Using AI \n2:00 PM – Workshop: Employment Jeopardy (interactive game) \n3:00 PM – Drop-In Ends \nThis event is a celebration of inclusion\, growth\, and opportunity during DEAM — and a chance for Gateway participants to connect\, learn\, and have some fun along the way.
URL:https://gatewayassociation.ca/calendar/employment-drop-in-session-edmonton-employment-resource-centre/
CATEGORIES:ERC
END:VEVENT
BEGIN:VEVENT
DTSTART;TZID=America/Denver:20251009T130000
DTEND;TZID=America/Denver:20251009T140000
DTSTAMP:20260420T000044
CREATED:20250805T204822Z
LAST-MODIFIED:20250805T204822Z
UID:255299-1760014800-1760018400@gatewayassociation.ca
SUMMARY:Networking - Using Our Connections
DESCRIPTION:Networking – Using Our Connections\nIn this workshop\, participants will be learning how to network online and in person. \nOnline – Zoom \nTo learn more or to register\, please connect with us at Get-Work@GatewayAssociation.ca
URL:https://gatewayassociation.ca/calendar/networking-using-our-connections-9/
CATEGORIES:ERC
END:VEVENT
BEGIN:VEVENT
DTSTART;TZID=America/Denver:20251014T130000
DTEND;TZID=America/Denver:20251014T140000
DTSTAMP:20260420T000044
CREATED:20250805T204931Z
LAST-MODIFIED:20250805T204931Z
UID:255301-1760446800-1760450400@gatewayassociation.ca
SUMMARY:Mindset Matters
DESCRIPTION:Mindset Matters\nThis workshop will help you build a positive mindset to improve your job search. Learn how to overcome self-doubt and embrace challenges. Whether you’re starting fresh or changing careers\, discover how the right mindset can lead you to success! \nOnline – Zoom \nFor more information or to register\, please connect with us at Get-work@GatewayAssociation.ca
URL:https://gatewayassociation.ca/calendar/mindset-matters-4/
CATEGORIES:ERC
END:VEVENT
BEGIN:VEVENT
DTSTART;TZID=America/Denver:20251015T100000
DTEND;TZID=America/Denver:20251015T150000
DTSTAMP:20260420T000044
CREATED:20250805T194204Z
LAST-MODIFIED:20250805T194204Z
UID:255273-1760522400-1760540400@gatewayassociation.ca
SUMMARY:Calgary Drop-In Wednesdays
DESCRIPTION:Calgary Drop-In Wednesdays\nFor registered participants –  Join us every Wednesday from 10 AM to 3 PM for our open drop-in sessions. Whether you’re exploring career options\, updating your resume\, practicing for interviews\, or navigating the job search process\, our friendly team is ready to support you. \nNo appointment needed—just drop in! Let’s work together to take the next step in your employment journey.\n\nWhere: Gateway Association Calgary Office\nWhen: Wednesdays\, 10 AM – 3 PM
URL:https://gatewayassociation.ca/calendar/calgary-drop-in-wednesdays-38/
CATEGORIES:ERC
END:VEVENT
BEGIN:VEVENT
DTSTART;TZID=America/Denver:20251015T130000
DTEND;TZID=America/Denver:20251015T150000
DTSTAMP:20260420T000044
CREATED:20250805T193831Z
LAST-MODIFIED:20251008T194429Z
UID:255265-1760533200-1760540400@gatewayassociation.ca
SUMMARY:Edmonton Drop-In Wednesdays
DESCRIPTION:Edmonton Drop-In Wednesdays\nFor registered participants –  Join us every Wednesday from 1 to 3 PM for our open drop-in sessions. Whether you’re exploring career options\, updating your resume\, practicing for interviews\, or navigating the job search process\, our friendly team is ready to support you. \nNo appointment needed—just drop in! Let’s work together to take the next step in your employment journey.\nWhere: Gateway Association Edmonton Office\nWhen: Wednesdays\, 1 – 3 PM
URL:https://gatewayassociation.ca/calendar/edmonton-drop-in-wednesdays-19/
CATEGORIES:ERC
END:VEVENT
BEGIN:VEVENT
DTSTART;TZID=America/Denver:20251016T130000
DTEND;TZID=America/Denver:20251016T140000
DTSTAMP:20260420T000044
CREATED:20250805T205019Z
LAST-MODIFIED:20250805T205019Z
UID:255303-1760619600-1760623200@gatewayassociation.ca
SUMMARY:Finding Your Purpose
DESCRIPTION:Finding Your Purpose\nAre you wondering what your purpose is? Stuck and not sure where to go? Then we have a workshop for you! Come join us for self exploration and learning. We will talk about what people need in life to grow and how we can access those resources. As well\, we will explore a personality test and leave the workshop with a deeper understanding of who we are and where we would like to go! \nOnline – Zoom \nFor more information or to register\, please connect with us at Get-Work@GatewayAssociation.ca
URL:https://gatewayassociation.ca/calendar/finding-your-purpose-21/
CATEGORIES:ERC
END:VEVENT
BEGIN:VEVENT
DTSTART;TZID=America/Denver:20251021T093000
DTEND;TZID=America/Denver:20251021T233000
DTSTAMP:20260420T000044
CREATED:20250918T212356Z
LAST-MODIFIED:20250918T212356Z
UID:255344-1761039000-1761089400@gatewayassociation.ca
SUMMARY:Inclusion Perks YEG 2025
DESCRIPTION:☕✨ Inclusion Perks YEG is back — and you’re invited! \nJoin us on October 21st at Felice Cafe for a morning of coffee\, connections\, and conversations that spark real change. \nThis isn’t your typical networking event — think casual café vibes with big\, meaningful discussions. Employers\, service providers\, and folks with lived experience will come together to share stories\, ideas\, and inspiration for building more inclusive workplaces. \n Each table will feature interactive facilitation cards to keep the conversations flowing and ideas buzzing. You’ll leave with fresh perspectives\, practical takeaways\, and maybe even a few new friends. \nInclusion Perks is all about celebrating Disability Employment Awareness Month (DEAM) in a way that feels approachable\, inspiring\, and action-oriented. \n☕ Come for the coffee. Stay for the connections. Leave ready to make inclusion happen in your workplace and community. \nWe can’t wait to see you there! \nQuestions or accommodation requests? Reach out at employment@gatewayassociation.ca \nREGISTER HERE
URL:https://gatewayassociation.ca/calendar/inclusion-perks-yeg-2025/
CATEGORIES:ERC
END:VEVENT
BEGIN:VEVENT
DTSTART;TZID=America/Denver:20251021T130000
DTEND;TZID=America/Denver:20251021T140000
DTSTAMP:20260420T000044
CREATED:20250805T205108Z
LAST-MODIFIED:20250805T205108Z
UID:255305-1761051600-1761055200@gatewayassociation.ca
SUMMARY:Interview Prep 101
DESCRIPTION:Interview Prep 101\nIn this workshop\, you will learn about how to get ready for a job interview\, how to “shine’ in the interview and what to do after the interview to stand out and increase your chances of getting called back! \nOnline \nFor more information or to register\, please connect with us at Get-Work@GatewayAssociation.ca
URL:https://gatewayassociation.ca/calendar/interview-prep-101-2/
CATEGORIES:ERC
END:VEVENT
BEGIN:VEVENT
DTSTART;TZID=America/Denver:20251022T100000
DTEND;TZID=America/Denver:20251022T150000
DTSTAMP:20260420T000044
CREATED:20250805T194248Z
LAST-MODIFIED:20250805T194248Z
UID:255275-1761127200-1761145200@gatewayassociation.ca
SUMMARY:Calgary Drop-In Wednesdays
DESCRIPTION:Calgary Drop-In Wednesdays\nFor registered participants –  Join us every Wednesday from 10 AM to 3 PM for our open drop-in sessions. Whether you’re exploring career options\, updating your resume\, practicing for interviews\, or navigating the job search process\, our friendly team is ready to support you. \nNo appointment needed—just drop in! Let’s work together to take the next step in your employment journey.\n\nWhere: Gateway Association Calgary Office\nWhen: Wednesdays\, 10 AM – 3 PM
URL:https://gatewayassociation.ca/calendar/calgary-drop-in-wednesdays-39/
CATEGORIES:ERC
END:VEVENT
BEGIN:VEVENT
DTSTART;TZID=America/Denver:20251022T130000
DTEND;TZID=America/Denver:20251022T150000
DTSTAMP:20260420T000044
CREATED:20250805T193921Z
LAST-MODIFIED:20251008T194458Z
UID:255267-1761138000-1761145200@gatewayassociation.ca
SUMMARY:Edmonton Drop-In Wednesdays
DESCRIPTION:Edmonton Drop-In Wednesdays\nFor registered participants –  Join us every Wednesday from 1 to 3 PM for our open drop-in sessions. Whether you’re exploring career options\, updating your resume\, practicing for interviews\, or navigating the job search process\, our friendly team is ready to support you. \nNo appointment needed—just drop in! Let’s work together to take the next step in your employment journey.\nWhere: Gateway Association Edmonton Office\nWhen: Wednesdays\, 1 – 3 PM
URL:https://gatewayassociation.ca/calendar/edmonton-drop-in-wednesdays-20/
CATEGORIES:ERC
END:VEVENT
END:VCALENDAR