BEGIN:VCALENDAR
VERSION:2.0
PRODID:-//Gateway Association - ECPv6.15.20//NONSGML v1.0//EN
CALSCALE:GREGORIAN
METHOD:PUBLISH
X-WR-CALNAME:Gateway Association
X-ORIGINAL-URL:https://gatewayassociation.ca
X-WR-CALDESC:Events for Gateway Association
REFRESH-INTERVAL;VALUE=DURATION:PT1H
X-Robots-Tag:noindex
X-PUBLISHED-TTL:PT1H
BEGIN:VTIMEZONE
TZID:America/Denver
BEGIN:DAYLIGHT
TZOFFSETFROM:-0700
TZOFFSETTO:-0600
TZNAME:MDT
DTSTART:20210314T090000
END:DAYLIGHT
BEGIN:STANDARD
TZOFFSETFROM:-0600
TZOFFSETTO:-0700
TZNAME:MST
DTSTART:20211107T080000
END:STANDARD
BEGIN:DAYLIGHT
TZOFFSETFROM:-0700
TZOFFSETTO:-0600
TZNAME:MDT
DTSTART:20220313T090000
END:DAYLIGHT
BEGIN:STANDARD
TZOFFSETFROM:-0600
TZOFFSETTO:-0700
TZNAME:MST
DTSTART:20221106T080000
END:STANDARD
BEGIN:DAYLIGHT
TZOFFSETFROM:-0700
TZOFFSETTO:-0600
TZNAME:MDT
DTSTART:20230312T090000
END:DAYLIGHT
BEGIN:STANDARD
TZOFFSETFROM:-0600
TZOFFSETTO:-0700
TZNAME:MST
DTSTART:20231105T080000
END:STANDARD
END:VTIMEZONE
BEGIN:VEVENT
DTSTART;TZID=America/Denver:20221103T180000
DTEND;TZID=America/Denver:20221103T210000
DTSTAMP:20260421T135601
CREATED:20220907T192430Z
LAST-MODIFIED:20220907T192437Z
UID:248705-1667498400-1667509200@gatewayassociation.ca
SUMMARY:Transition Planning for Adulthood 4 part series: Session 1 of 4
DESCRIPTION:Transition Planning for Adulthood 4 part series       \nThursdays \nNovember 3 \nNovember 10 \nNovember 17 \nNovember 24 \n6pm – 9pm | Zoom \nA 4-part workshop series exploring the critical transition to adulthood for 16-20 year-olds and how to create a plan for the future. \nJoin our 4-part workshop series that engages families in building knowledge when navigating this critical time for 16-20 year olds. \nThis workshop series includes topics on: life transitions\, valued roles in the community\, visioning and planning\, and navigating the systems. \nNote: All four workshops must be taken consecutively. \nFor accommodation requirements\, please reach out to Yonique@GatewayAssociation.ca for assistance
URL:https://gatewayassociation.ca/calendar/transition-planning-for-adulthood-4-part-series-session-1-of-4/
CATEGORIES:FRC
END:VEVENT
BEGIN:VEVENT
DTSTART;TZID=America/Denver:20221103T180000
DTEND;TZID=America/Denver:20221103T200000
DTSTAMP:20260421T135601
CREATED:20220907T171803Z
LAST-MODIFIED:20220907T171821Z
UID:248682-1667498400-1667505600@gatewayassociation.ca
SUMMARY:Visioning and Planning for Families with Youth 13-15 Years Old Session 4 of 4
DESCRIPTION:Visioning and Planning for Families with Youth 13-15 Years Old Session 4 of 4 \n6pm – 8pm | Zoom \nA 4-part workshop series that empowers families of 13-15 year-olds with disabilities with knowledge\, resources\, and more. \nJoin our 4-part workshop series that engages families in discussions for their 13-15 year olds with developmental disabilities with knowledge\, resources\, and a sense of direction for the future. \nWe will touch on a variety of topics including values and belonging in the community\, visioning and planning\, various transitions during junior high school\, navigating various systems age appropriate for families \nFor accommodation requirements\, please don’t hesitate to reach out to Kristina@GatewayAssociation.ca for assistance
URL:https://gatewayassociation.ca/calendar/248682/
CATEGORIES:FRC
END:VEVENT
BEGIN:VEVENT
DTSTART;TZID=America/Denver:20221103T180000
DTEND;TZID=America/Denver:20221103T193000
DTSTAMP:20260421T135601
CREATED:20221019T135327Z
LAST-MODIFIED:20221028T151945Z
UID:248971-1667498400-1667503800@gatewayassociation.ca
SUMMARY:Right to Love Part 1
DESCRIPTION:Right to Love  \nHonest conversations on care\, consent\, barriers and boundaries   \nthrough the lens of disability and confronting ablism.   \nHosted by Heath Birkholz with special guests \nRegister HERE
URL:https://gatewayassociation.ca/calendar/right-to-love-part-1/
END:VEVENT
BEGIN:VEVENT
DTSTART;TZID=America/Denver:20221103T130000
DTEND;TZID=America/Denver:20221103T140000
DTSTAMP:20260421T135601
CREATED:20221019T141308Z
LAST-MODIFIED:20221019T141308Z
UID:248989-1667480400-1667484000@gatewayassociation.ca
SUMMARY:Explore Canva
DESCRIPTION:Let your imagination be your guide as you create your own posters\, flyers\, cards\, videos\, and more to share information important to you. \nTo register and for any questions\, please connect with us at GetWork@GatewayAssociation.ca
URL:https://gatewayassociation.ca/calendar/explore-canva-13/
END:VEVENT
BEGIN:VEVENT
DTSTART;TZID=America/Denver:20221103T110000
DTEND;TZID=America/Denver:20221103T120000
DTSTAMP:20260421T135601
CREATED:20221019T160027Z
LAST-MODIFIED:20221019T160027Z
UID:249042-1667473200-1667476800@gatewayassociation.ca
SUMMARY:Kibbi Job Searching App with founder\, Hong Phuc Nguyen
DESCRIPTION:In this workshop\, Hong will share the app\, Kibbi\, that she created to help eliminate barriers to job searching. \nFor questions and to register\, please connect with Jasmine@GatewayAssociation.ca
URL:https://gatewayassociation.ca/calendar/kibbi-job-searching-app-with-founder-hong-phuc-nguyen/
CATEGORIES:ERC
END:VEVENT
BEGIN:VEVENT
DTSTART;TZID=America/Denver:20221103T100000
DTEND;TZID=America/Denver:20221103T120000
DTSTAMP:20260421T135601
CREATED:20220915T175325Z
LAST-MODIFIED:20220915T175325Z
UID:248859-1667469600-1667476800@gatewayassociation.ca
SUMMARY:Work Simulation\, Week 3
DESCRIPTION:Oct 18th to Nov 24rd – This is a 6-week course. \nClasses are on Tues to Thurs for 2 hours per session \nIncrease your digital and social skills\, as you work in a team to build a website for an imaginary company. This is a tech-based work simulation\, where learners are ‘hired’ into positions at an imaginary tech company and work together to build a website for a simulated client. \nThis course covers basic: internet vocabulary\, web design\, and use of google apps while giving you experience with working on a team\, engaging with peers\, and giving presentations. Learn to design and build a website\, create and give presentations\, and practice your interview skills. \nTo learn more or to register\, please connect with us at GetDigital@GatewayAssociation.ca
URL:https://gatewayassociation.ca/calendar/work-simulation-week-3-2/
END:VEVENT
BEGIN:VEVENT
DTSTART;TZID=America/Denver:20221103T100000
DTEND;TZID=America/Denver:20221103T110000
DTSTAMP:20260421T135601
CREATED:20221019T141147Z
LAST-MODIFIED:20221019T141147Z
UID:248987-1667469600-1667473200@gatewayassociation.ca
SUMMARY:Discord Tutorial
DESCRIPTION:Step by step tutorial for downloading and installing Discord – a free app that lets people chat using text\, voice or video. Discord is required for Online boardgames group. \nFor questions and to register\, please connect with us at GetDigital@GatewayAssociation.ca
URL:https://gatewayassociation.ca/calendar/discord-tutorial-7/
END:VEVENT
BEGIN:VEVENT
DTSTART;TZID=America/Denver:20221102T150000
DTEND;TZID=America/Denver:20221102T163000
DTSTAMP:20260421T135601
CREATED:20221019T140719Z
LAST-MODIFIED:20221019T140719Z
UID:248979-1667401200-1667406600@gatewayassociation.ca
SUMMARY:OSC Boardgames
DESCRIPTION:**Requires Online Social Connections – Discord and Steam Tutorials as well as desktop or laptop computer.** \n\nCome hang out! Learn about setting up online accounts\, meet new friends\, socialize\, and have fun playing boardgames online. Meet new friends\, practise new skills\, have fun! \nFor questions and to register\, please connect with us at GetDigital@GatewayAssociation.ca
URL:https://gatewayassociation.ca/calendar/osc-boardgames-12/
END:VEVENT
BEGIN:VEVENT
DTSTART;TZID=America/Denver:20221102T100000
DTEND;TZID=America/Denver:20221102T120000
DTSTAMP:20260421T135601
CREATED:20220915T184537Z
LAST-MODIFIED:20220915T184537Z
UID:248921-1667383200-1667390400@gatewayassociation.ca
SUMMARY:Work Simulation\, Week 3
DESCRIPTION:Oct 18th to Nov 24rd – This is a 6-week course. \nClasses are on Tues to Thurs for 2 hours per session \nIncrease your digital and social skills\, as you work in a team to build a website for an imaginary company. This is a tech-based work simulation\, where learners are ‘hired’ into positions at an imaginary tech company and work together to build a website for a simulated client. \nThis course covers basic: internet vocabulary\, web design\, and use of google apps while giving you experience with working on a team\, engaging with peers\, and giving presentations. Learn to design and build a website\, create and give presentations\, and practice your interview skills. \nTo learn more or to register\, please connect with us at GetDigital@GatewayAssociation.ca
URL:https://gatewayassociation.ca/calendar/work-simulation-week-3-3/
END:VEVENT
BEGIN:VEVENT
DTSTART;TZID=America/Denver:20221102T100000
DTEND;TZID=America/Denver:20221102T103000
DTSTAMP:20260421T135601
CREATED:20220907T191141Z
LAST-MODIFIED:20220907T204500Z
UID:248703-1667383200-1667385000@gatewayassociation.ca
SUMMARY:Family Resource Centre (FRC) Info Session
DESCRIPTION:
URL:https://gatewayassociation.ca/calendar/frc-information-session/
CATEGORIES:FRC
END:VEVENT
BEGIN:VEVENT
DTSTART;TZID=America/Denver:20221101T133000
DTEND;TZID=America/Denver:20221101T143000
DTSTAMP:20260421T135601
CREATED:20221019T155856Z
LAST-MODIFIED:20221019T155856Z
UID:249040-1667309400-1667313000@gatewayassociation.ca
SUMMARY:MentorAbility Industry Information Session: Careers in Data Entry
DESCRIPTION:MentorAbility Alberta is offering ongoing FREE interactive Industry Information Sessions! These information sessions give participants the opportunity to learn more about prospective industries\, recruitment requirements and qualifications and the next steps they may need to take to achieve their employment goals. \nIn this weeks’ session\, Amy Wing\, will be joining us to talk about Careers in Data Entry! \nClick here to register: https://www.eventbrite.ca/e/444580441067
URL:https://gatewayassociation.ca/calendar/mentorability-industry-information-session-careers-in-data-entry/
CATEGORIES:ERC
END:VEVENT
BEGIN:VEVENT
DTSTART;TZID=America/Denver:20221101T100000
DTEND;TZID=America/Denver:20221101T120000
DTSTAMP:20260421T135601
CREATED:20220915T175154Z
LAST-MODIFIED:20220915T175154Z
UID:248857-1667296800-1667304000@gatewayassociation.ca
SUMMARY:Work Simulation\, Week 3
DESCRIPTION:Oct 18th to Nov 24rd – This is a 6-week course. \nClasses are on Tues to Thurs for 2 hours per session \nIncrease your digital and social skills\, as you work in a team to build a website for an imaginary company. This is a tech-based work simulation\, where learners are ‘hired’ into positions at an imaginary tech company and work together to build a website for a simulated client. \nThis course covers basic: internet vocabulary\, web design\, and use of google apps while giving you experience with working on a team\, engaging with peers\, and giving presentations. Learn to design and build a website\, create and give presentations\, and practice your interview skills. \nTo learn more or to register\, please connect with us at GetDigital@GatewayAssociation.ca
URL:https://gatewayassociation.ca/calendar/work-simulation-week-3/
END:VEVENT
BEGIN:VEVENT
DTSTART;TZID=America/Denver:20221101T100000
DTEND;TZID=America/Denver:20221101T110000
DTSTAMP:20260421T135601
CREATED:20221019T140603Z
LAST-MODIFIED:20221019T140603Z
UID:248977-1667296800-1667300400@gatewayassociation.ca
SUMMARY:Email Basics
DESCRIPTION:Learn about and practice the basics of writing professional emails for your job search and workplace communication \nFor questions and to register\, please connect with us at GetDigital@GatewayAssociation.ca
URL:https://gatewayassociation.ca/calendar/email-basics-18/
END:VEVENT
BEGIN:VEVENT
DTSTART;TZID=America/Denver:20221031T130000
DTEND;TZID=America/Denver:20221031T140000
DTSTAMP:20260421T135601
CREATED:20220915T182707Z
LAST-MODIFIED:20220915T182707Z
UID:248907-1667221200-1667224800@gatewayassociation.ca
SUMMARY:Zoom Basics
DESCRIPTION:Learn what you need to know to participate in online Zoom meetings. Explore all the cool features of the program\, practice your digital skills and build your zoom social skills. \nTo learn more and to register\, please connect with us at GetDigital@GatewayAssociation.ca
URL:https://gatewayassociation.ca/calendar/zoom-basics-10/
END:VEVENT
BEGIN:VEVENT
DTSTART;TZID=America/Denver:20221031T130000
DTEND;TZID=America/Denver:20221031T140000
DTSTAMP:20260421T135601
CREATED:20220915T182609Z
LAST-MODIFIED:20220915T182609Z
UID:248905-1667221200-1667224800@gatewayassociation.ca
SUMMARY:Navigating Indeed
DESCRIPTION:To learn more and to register\, please connect with us at GetDigital@GatewayAssociation.ca
URL:https://gatewayassociation.ca/calendar/navigating-indeed/
END:VEVENT
BEGIN:VEVENT
DTSTART;TZID=America/Denver:20221029T090000
DTEND;TZID=America/Denver:20221029T120000
DTSTAMP:20260421T135601
CREATED:20220907T173225Z
LAST-MODIFIED:20220907T173225Z
UID:248701-1667034000-1667044800@gatewayassociation.ca
SUMMARY:More than Just a Job
DESCRIPTION:More Than Just A Job (FMS) \nSaturday\, October 29 \n9am – 12pm | Zoom \nA workshop for Family Managed Services staff to help identify and incorporate personal values in their work with persons with disabilities. \nThis workshop\, for Family Managed Services (FMS) staff\, will help you identify your values and how they apply to your work in supporting others. \nYou will learn how to deeply know the person you are supporting\, and how to build relationships both within the support network and within the community. You will gain skills and tools to excel in your role. \nFor accommodation requirements\, please connect with Miriam@GatewayAssociation.ca for assistance.
URL:https://gatewayassociation.ca/calendar/more-than-just-a-job-2/
CATEGORIES:FRC
END:VEVENT
BEGIN:VEVENT
DTSTART;TZID=America/Denver:20221028T140000
DTEND;TZID=America/Denver:20221028T153000
DTSTAMP:20260421T135601
CREATED:20221028T153124Z
LAST-MODIFIED:20221028T153124Z
UID:249134-1666965600-1666971000@gatewayassociation.ca
SUMMARY:Your Story\, Your Dance
DESCRIPTION:Facilitated by Harmanie Rose and Heath Birkholz \nThrough these sessions we are looking into discovering your story through dance\, and how that tells where you are from\, and who you are\, and what you love about you! The way each of us express our way of dancing is the exact technique required! Join Your Dance/ Your Story as we explore through using improvisational dance skills in telling our stories together. We will be sharing and experimenting with different forms of dance to tell our stories of how we want to be seen. Each week we will include a different approach to using dance to share our storytelling and unfold our creativity by learning from each other. \nDancers of all levels and abilities are WELCOME! \nReach out with any accommodation or questions you may have to: heath@gatewayassociation.ca \nSign up HERE \n  \nEvery Tuesday starting November 15 @ 2 PM weekly via zoom (and on the Gateway APP) \n\nSession #1: Beginning our Stories | November 15\, 2022 \nWe will explore how we can dance together and create our movements as a community. By discovering and learning from one another to begin our story. \nRequired (your choice): \nSpace to move in with comfortable clothes \nSession #2: Show and Tell November 22\, 2022 \nWith our community support\, we are going to source movements from the objects and memories that are meaningful to us to add strength to the stories we are creating. \nRequired (your choice): \nA meaningful object or memory\, a space to move in with comfortable clothes \nSession #3: Back to the Future November 29\, 2022 \nRevisiting the dancing that makes your story joyful and how certain struggles and moments of grief helped you towards that joyfulness. What are the different ways that you can offer to tell your story through your dance? \nRequired (your choice): \nSpace to move with comfortable clothes \nSession #4: Come together\, right now December 6\, 2022 \nRequired (your choice): \nSpace to move in with comfortable clothes \nSession #5: Shaping the big reveal! December 13\, 2022 \nRequired (your choice): \nSpace to move in with comfortable clothes
URL:https://gatewayassociation.ca/calendar/your-story-your-dance/
END:VEVENT
BEGIN:VEVENT
DTSTART;TZID=America/Denver:20221027T190000
DTEND;TZID=America/Denver:20221027T210000
DTSTAMP:20260421T135601
CREATED:20220907T173101Z
LAST-MODIFIED:20221006T123907Z
UID:248699-1666897200-1666904400@gatewayassociation.ca
SUMMARY:Families Forward\, Over 18
DESCRIPTION:Families Forward\, Over 18 \nThursday\, October 27 \n7pm – 9pm | Zoom \nMonthly meeting for families with loved ones over 18 with disabilities. \nWhere families can connect with other families\, learn from one another\, and explore issues that are important\, such as housing\, relationship building\, and community and government supports. \nUpcoming Topic: \nWant to learn more about the RDSP or have specific questions about RDSP management? Please join our conversation with Gateway’s own RDSP Coordinator\, Fiona Wilson \n  \nFor accommodation requirements\, please reach out to Betty@GatewayAssociation.ca for assistance.
URL:https://gatewayassociation.ca/calendar/families-forward-over-18-2/
CATEGORIES:FRC
END:VEVENT
BEGIN:VEVENT
DTSTART;TZID=America/Denver:20221027T180000
DTEND;TZID=America/Denver:20221027T200000
DTSTAMP:20260421T135601
CREATED:20220907T171627Z
LAST-MODIFIED:20220907T171627Z
UID:248680-1666893600-1666900800@gatewayassociation.ca
SUMMARY:Visioning and Planning for Families with Youth 13-15 Years Old Session 3 of 4
DESCRIPTION:Visioning and Planning for Families with Youth 13-15 Years Old Session 3 of 4 \nThursday\, October 13 \n6pm – 8pm | Zoom \nA 4-part workshop series that empowers families of 13-15 year-olds with disabilities with knowledge\, resources\, and more. \nJoin our 4-part workshop series that engages families in discussions for their 13-15 year olds with developmental disabilities with knowledge\, resources\, and a sense of direction for the future. \nWe will touch on a variety of topics including values and belonging in the community\, visioning and planning\, various transitions during junior high school\, navigating various systems age appropriate for families \nFor accommodation requirements\, please don’t hesitate to reach out to Kristina@GatewayAssociation.ca for assistance
URL:https://gatewayassociation.ca/calendar/visioning-and-planning-for-families-with-youth-13-15-years-old-session-3-of-4-2/
CATEGORIES:FRC
END:VEVENT
BEGIN:VEVENT
DTSTART;TZID=America/Denver:20221027T130000
DTEND;TZID=America/Denver:20221027T140000
DTSTAMP:20260421T135601
CREATED:20220915T182446Z
LAST-MODIFIED:20220915T182446Z
UID:248903-1666875600-1666879200@gatewayassociation.ca
SUMMARY:You TOO Can YouTube Series (4/4)
DESCRIPTION:Learn about being a YouTube viewer and a YouTube creator. Find out how to make your own YouTube Channel and what to consider when you are choosing videos to watch. Create YouTube content\, learn about what to consider when watching videos as well as how to save and organize videos. \nTo learn more and to register\, please connect with us at GetDigital@GatewayAssociation.ca
URL:https://gatewayassociation.ca/calendar/you-too-can-youtube-series-4-4/
END:VEVENT
BEGIN:VEVENT
DTSTART;TZID=America/Denver:20221027T110000
DTEND;TZID=America/Denver:20221027T120000
DTSTAMP:20260421T135601
CREATED:20220915T181745Z
LAST-MODIFIED:20220915T181745Z
UID:248895-1666868400-1666872000@gatewayassociation.ca
SUMMARY:ePortfolio Series (4/4)
DESCRIPTION:Learners will work on their own between classes. In the eportfolio workshop\, participants will learn about the different types of portfolios\, how to use google sites\, and the basics of layout and design. Learners will choose the type of portfolio they want to build and the subject they want to focus on. They will select and add content to their sites along with descriptions\, statements about their motivation\, interests\, skills\, and hobbies. \nTo learn more and to register\, please connect with us at GetDigital@GatewayAssociation.ca
URL:https://gatewayassociation.ca/calendar/eportfolio-series-4-4-5/
END:VEVENT
BEGIN:VEVENT
DTSTART;TZID=America/Denver:20221027T100000
DTEND;TZID=America/Denver:20221027T120000
DTSTAMP:20260421T135601
CREATED:20220915T175020Z
LAST-MODIFIED:20220915T175020Z
UID:248855-1666864800-1666872000@gatewayassociation.ca
SUMMARY:Work Simulation\, Week 2
DESCRIPTION:Oct 18th to Nov 24rd – This is a 6-week course. \nClasses are on Tues to Thurs for 2 hours per session \nIncrease your digital and social skills\, as you work in a team to build a website for an imaginary company. This is a tech-based work simulation\, where learners are ‘hired’ into positions at an imaginary tech company and work together to build a website for a simulated client. \nThis course covers basic: internet vocabulary\, web design\, and use of google apps while giving you experience with working on a team\, engaging with peers\, and giving presentations. Learn to design and build a website\, create and give presentations\, and practice your interview skills. \nTo learn more or to register\, please connect with us at GetDigital@GatewayAssociation.ca
URL:https://gatewayassociation.ca/calendar/work-simulation-week-2-2/
END:VEVENT
BEGIN:VEVENT
DTSTART;TZID=America/Denver:20221026T150000
DTEND;TZID=America/Denver:20221026T163000
DTSTAMP:20260421T135601
CREATED:20220915T181151Z
LAST-MODIFIED:20220915T181151Z
UID:248887-1666796400-1666801800@gatewayassociation.ca
SUMMARY:OSC Boardgames
DESCRIPTION:**Requires Online Social Connections – Discord and Steam Tutorials as well as desktop or laptop computer.** \nCome hang out! Learn about setting up online accounts\, meet new friends\, socialize\, and have fun playing boardgames online. Meet new friends\, practise new skills\, have fun! \nTo learn more and to register\, please connect with us at GetDigital@GatewayAssociation.ca
URL:https://gatewayassociation.ca/calendar/osc-boardgames-11/
END:VEVENT
BEGIN:VEVENT
DTSTART;TZID=America/Denver:20221026T130000
DTEND;TZID=America/Denver:20221026T140000
DTSTAMP:20260421T135601
CREATED:20220915T182417Z
LAST-MODIFIED:20220915T182417Z
UID:248901-1666789200-1666792800@gatewayassociation.ca
SUMMARY:You TOO Can YouTube Series (3/4)
DESCRIPTION:Learn about being a YouTube viewer and a YouTube creator. Find out how to make your own YouTube Channel and what to consider when you are choosing videos to watch. Create YouTube content\, learn about what to consider when watching videos as well as how to save and organize videos. \nTo learn more and to register\, please connect with us at GetDigital@GatewayAssociation.ca
URL:https://gatewayassociation.ca/calendar/you-too-can-youtube-series-3-4-2/
END:VEVENT
BEGIN:VEVENT
DTSTART;TZID=America/Denver:20221026T110000
DTEND;TZID=America/Denver:20221026T120000
DTSTAMP:20260421T135601
CREATED:20220915T181417Z
LAST-MODIFIED:20220915T181417Z
UID:248893-1666782000-1666785600@gatewayassociation.ca
SUMMARY:ePortfolio Series (3/4)
DESCRIPTION:Learners will work on their own between classes. In the eportfolio workshop\, participants will learn about the different types of portfolios\, how to use google sites\, and the basics of layout and design. Learners will choose the type of portfolio they want to build and the subject they want to focus on. They will select and add content to their sites along with descriptions\, statements about their motivation\, interests\, skills\, and hobbies. \nTo learn more and to register\, please connect with us at GetDigital@GatewayAssociation.ca
URL:https://gatewayassociation.ca/calendar/eportfolio-series-3-4-4/
END:VEVENT
BEGIN:VEVENT
DTSTART;TZID=America/Denver:20221026T080000
DTEND;TZID=America/Denver:20221026T170000
DTSTAMP:20260421T135601
CREATED:20220915T184508Z
LAST-MODIFIED:20220915T184508Z
UID:248919-1666771200-1666803600@gatewayassociation.ca
SUMMARY:Work Simulation\, Week 2
DESCRIPTION:Oct 18th to Nov 24rd – This is a 6-week course. \nClasses are on Tues to Thurs for 2 hours per session \nIncrease your digital and social skills\, as you work in a team to build a website for an imaginary company. This is a tech-based work simulation\, where learners are ‘hired’ into positions at an imaginary tech company and work together to build a website for a simulated client. \nThis course covers basic: internet vocabulary\, web design\, and use of google apps while giving you experience with working on a team\, engaging with peers\, and giving presentations. Learn to design and build a website\, create and give presentations\, and practice your interview skills. \nTo learn more or to register\, please connect with us at GetDigital@GatewayAssociation.ca
URL:https://gatewayassociation.ca/calendar/work-simulation-week-2-3/
END:VEVENT
BEGIN:VEVENT
DTSTART;TZID=America/Denver:20221025T180000
DTEND;TZID=America/Denver:20221025T200000
DTSTAMP:20260421T135601
CREATED:20220907T171156Z
LAST-MODIFIED:20220907T172038Z
UID:248674-1666720800-1666728000@gatewayassociation.ca
SUMMARY:Visioning and Planning for Families with Children Birth-8 Years Old: Session 4 of 4
DESCRIPTION:Visioning and Planning for Families with Children Birth-8 Years Old: Session 4 of 4   \n6pm – 8pm | Zoom \nA 4-part workshop series that empowers families of children with disabilities up to 8 years old with knowledge\, resources\, and more. \nJoin our 4-part workshop series that empowers parents/caregivers of children with disabilities from birth-8 years old with knowledge\, resources\, and a sense of direction for the future. \nWe will touch on a variety of topics including values and belonging in the community\, visioning and planning\, various transitions during early elementary school\, navigating various systems age appropriate for families with younger children as well as advocacy and having difficult conversations \n  \nFor accommodation requirements\, please don’t hesitate to reach out to Stacy@GatewayAssociation.ca for assistance
URL:https://gatewayassociation.ca/calendar/visioning-and-planning-for-families-with-children-birth-8-years-old-session-1-of-4-4/
CATEGORIES:FRC
END:VEVENT
BEGIN:VEVENT
DTSTART;TZID=America/Denver:20221025T143000
DTEND;TZID=America/Denver:20221025T153000
DTSTAMP:20260421T135601
CREATED:20220915T174111Z
LAST-MODIFIED:20220915T174111Z
UID:248837-1666708200-1666711800@gatewayassociation.ca
SUMMARY:GTDI Program Info Session
DESCRIPTION:Have you or someone you know wanted to increase your basic digital skills to work\, learn\, or have fun? Have you wanted to find ways to connect to work\, friends\, family\, or supports online? \nWe can help! \nDigital Literacy is your Gateway to connecting\, working\, learning\, sharing\, growing\, and creating online. \nThe Gateway to Digital Inclusion Program offers courses and workshops on basic digital skills\, online social connections\, an App to help you learn about and engage with the digital world\, and more …. \nJoin us on Tuesdays for an interactive information session about the Gateway to Digital Inclusion Program. \nWhat will be included in the session: \n– What the program offers \n– Details about the workshops\, courses\, and groups \n– Who is eligible for the program \n– How our services work \nYou will have a chance to: \n– Meet some of our team members \n– Find out how to apply \n– Ask any question you might have \nSee you on Tuesday! \nIf you require any accommodations for attending the information session\, please contact us prior to the event to make arrangements. \nThank you \nThe Gateway to Digital Inclusion Team \ngetdigital@gatewayassociation.ca
URL:https://gatewayassociation.ca/calendar/gtdi-program-info-session-6/
END:VEVENT
BEGIN:VEVENT
DTSTART;TZID=America/Denver:20221025T130000
DTEND;TZID=America/Denver:20221025T140000
DTSTAMP:20260421T135601
CREATED:20220915T183235Z
LAST-MODIFIED:20220923T163555Z
UID:248913-1666702800-1666706400@gatewayassociation.ca
SUMMARY:Tailoring Resume for Applicant Tracking System
DESCRIPTION:In this workshop\, you will learn tips and strategies on how to not only get past ATS resume review process\, but also stand out among other job seekers \nTo learn more about this session and to register\, please connect with us at Get-Work@GatewayAssociation.ca
URL:https://gatewayassociation.ca/calendar/applicant-tracking-systems-ats-workshop/
CATEGORIES:ERC
END:VEVENT
BEGIN:VEVENT
DTSTART;TZID=America/Denver:20221025T130000
DTEND;TZID=America/Denver:20221025T140000
DTSTAMP:20260421T135601
CREATED:20220915T182346Z
LAST-MODIFIED:20220915T182346Z
UID:248899-1666702800-1666706400@gatewayassociation.ca
SUMMARY:You TOO Can YouTube Series (2/4)
DESCRIPTION:Learn about being a YouTube viewer and a YouTube creator. Find out how to make your own YouTube Channel and what to consider when you are choosing videos to watch. Create YouTube content\, learn about what to consider when watching videos as well as how to save and organize videos. \nTo learn more and to register\, please connect with us at GetDigital@GatewayAssociation.ca
URL:https://gatewayassociation.ca/calendar/you-too-can-youtube-series-2-4-2/
END:VEVENT
END:VCALENDAR