BEGIN:VCALENDAR
VERSION:2.0
PRODID:-//Gateway Association - ECPv6.15.20//NONSGML v1.0//EN
CALSCALE:GREGORIAN
METHOD:PUBLISH
X-WR-CALNAME:Gateway Association
X-ORIGINAL-URL:https://gatewayassociation.ca
X-WR-CALDESC:Events for Gateway Association
REFRESH-INTERVAL;VALUE=DURATION:PT1H
X-Robots-Tag:noindex
X-PUBLISHED-TTL:PT1H
BEGIN:VTIMEZONE
TZID:America/Denver
BEGIN:DAYLIGHT
TZOFFSETFROM:-0700
TZOFFSETTO:-0600
TZNAME:MDT
DTSTART:20220313T090000
END:DAYLIGHT
BEGIN:STANDARD
TZOFFSETFROM:-0600
TZOFFSETTO:-0700
TZNAME:MST
DTSTART:20221106T080000
END:STANDARD
BEGIN:DAYLIGHT
TZOFFSETFROM:-0700
TZOFFSETTO:-0600
TZNAME:MDT
DTSTART:20230312T090000
END:DAYLIGHT
BEGIN:STANDARD
TZOFFSETFROM:-0600
TZOFFSETTO:-0700
TZNAME:MST
DTSTART:20231105T080000
END:STANDARD
BEGIN:DAYLIGHT
TZOFFSETFROM:-0700
TZOFFSETTO:-0600
TZNAME:MDT
DTSTART:20240310T090000
END:DAYLIGHT
BEGIN:STANDARD
TZOFFSETFROM:-0600
TZOFFSETTO:-0700
TZNAME:MST
DTSTART:20241103T080000
END:STANDARD
END:VTIMEZONE
BEGIN:VEVENT
DTSTART;TZID=America/Denver:20231116T130000
DTEND;TZID=America/Denver:20231116T143000
DTSTAMP:20260419T233207
CREATED:20230817T154754Z
LAST-MODIFIED:20231004T234037Z
UID:251336-1700139600-1700145000@gatewayassociation.ca
SUMMARY:Social Media Basics (3 of 4)
DESCRIPTION:Session 3 of 4 \nDuration 1.5 hr \nFacilitator: Toby \nPrivate – GTDI Program intake required prior to workshop: getdigital@gatewayassociation.ca \nSocial Media Basics is Part 2 of the Work Simulation. Completion of Part 1: Internet Basics is recommended prior to taking this 3 session workshop series. \nIncrease your understanding and use of social media! In this workshop we will go through understanding different types of social media and their uses\, creating material for social media\, and managing your social media
URL:https://gatewayassociation.ca/calendar/social-media-basics-3-of-3-2/
END:VEVENT
BEGIN:VEVENT
DTSTART;TZID=America/Denver:20231116T130000
DTEND;TZID=America/Denver:20231116T140000
DTSTAMP:20260419T233207
CREATED:20231103T154531Z
LAST-MODIFIED:20231103T154531Z
UID:251692-1700139600-1700143200@gatewayassociation.ca
SUMMARY:Bow Valley Community Week- Gateway ERC Information Session
DESCRIPTION:Join us virtually on November 16th during Bow Valley Community Week for a Gateway Association information session! \nThis is for job seekers with disability-based barriers\, learn about the services and supports available through Gateway Association! \n  \nRegister HERE
URL:https://gatewayassociation.ca/calendar/bow-valley-community-week-gateway-erc-information-session/
CATEGORIES:ERC,MentorAbility Alberta
END:VEVENT
BEGIN:VEVENT
DTSTART;TZID=America/Denver:20231116T130000
DTEND;TZID=America/Denver:20231116T140000
DTSTAMP:20260419T233207
CREATED:20231005T034831Z
LAST-MODIFIED:20231006T185117Z
UID:251541-1700139600-1700143200@gatewayassociation.ca
SUMMARY:Networking 102
DESCRIPTION:Networking 102 \nONLINE \nThis workshop will teach participants how to network online! We will go over  how to connect with people on LinkedIn\, sending cold emails\, using social media to connect with others and more! \nTo register\, please connect with us at Get-Work@GatewayAssociation.ca
URL:https://gatewayassociation.ca/calendar/networking-101/
CATEGORIES:ERC
END:VEVENT
BEGIN:VEVENT
DTSTART;TZID=America/Denver:20231116T110000
DTEND;TZID=America/Denver:20231116T120000
DTSTAMP:20260419T233207
CREATED:20230817T154548Z
LAST-MODIFIED:20230817T154548Z
UID:251330-1700132400-1700136000@gatewayassociation.ca
SUMMARY:ePortfolio Series (3 of 3)
DESCRIPTION:Session 3 of 3 \nDuration 1 hr \nFacilitator: Lee \nPrivate – GTDI Program intake required prior to workshop: getdigital@gatewayassociation.ca \n\nIn the eportfolio workshop series\, participants will learn about the different types of portfolios\, how to use google sites\, and the basics of layout and design. Learners will choose the type of portfolio they want to build and the subject they want to focus on. They will select and add content to their sites along with descriptions\, statements about their motivation\, interests\, skills\, and hobbies. Learners will work on their own between classes.
URL:https://gatewayassociation.ca/calendar/eportfolio-series-3-of-3-4/
END:VEVENT
BEGIN:VEVENT
DTSTART;TZID=America/Denver:20231116T100000
DTEND;TZID=America/Denver:20231116T120000
DTSTAMP:20260419T233207
CREATED:20230816T192906Z
LAST-MODIFIED:20231005T035410Z
UID:251277-1700128800-1700136000@gatewayassociation.ca
SUMMARY:Interview Roundtable: Learning and Laughing Together
DESCRIPTION:Interview Roundtable: Learning and Laughing Together \nJoin us for a dynamic and interactive workshop designed to help you ace your next job interview. In our Interview Roundtable\, you’ll have the opportunity to connect with fellow job seekers and share your experiences and insights. Our experienced facilitators will guide you through real-life interview scenarios and help you develop the skills and confidence you need to succeed. \nSpots are limited. To register\, please e-mail Marnie@gatewayassociation.ca. Registration will be first-come first-serve. \nIN-PERSON – YYC
URL:https://gatewayassociation.ca/calendar/interview-roundtable-learning-and-laughing-together-practice-2/
CATEGORIES:ERC
END:VEVENT
BEGIN:VEVENT
DTSTART;TZID=America/Denver:20231115T150000
DTEND;TZID=America/Denver:20231115T163000
DTSTAMP:20260419T233207
CREATED:20230817T154828Z
LAST-MODIFIED:20230817T154828Z
UID:251338-1700060400-1700065800@gatewayassociation.ca
SUMMARY:Online Boardgames
DESCRIPTION:Session: 1 of 1 \nDuration: 1.5 to 2 hr \nFacilitator: Lee \nPrivate – GTDI Program intake required prior to workshop signup: getdigital@gatewayassociation.ca \n\n**Requires Online Social Connections – Discord and Steam Tutorials as well as desktop or laptop computer.** \nCome hang out! Learn about setting up online accounts\, meet new friends\, socialize\, and have fun playing boardgames online. Meet new friends\, practise new skills\, have fun!
URL:https://gatewayassociation.ca/calendar/online-boardgames-20/
END:VEVENT
BEGIN:VEVENT
DTSTART;TZID=America/Denver:20231115T130000
DTEND;TZID=America/Denver:20231115T143000
DTSTAMP:20260419T233207
CREATED:20230817T154714Z
LAST-MODIFIED:20231004T234016Z
UID:251334-1700053200-1700058600@gatewayassociation.ca
SUMMARY:Social Media Basics (2 of 4)
DESCRIPTION:Session 2 of 4 \nDuration 1.5 hr \nFacilitator: Toby \nPrivate – GTDI Program intake required prior to workshop: getdigital@gatewayassociation.ca \nSocial Media Basics is Part 2 of the Work Simulation. Completion of Part 1: Internet Basics is recommended prior to taking this 3 session workshop series. \nIncrease your understanding and use of social media! In this workshop we will go through understanding different types of social media and their uses\, creating material for social media\, and managing your social media
URL:https://gatewayassociation.ca/calendar/social-media-basics-2-of-3-2/
END:VEVENT
BEGIN:VEVENT
DTSTART;TZID=America/Denver:20231115T110000
DTEND;TZID=America/Denver:20231115T120000
DTSTAMP:20260419T233207
CREATED:20230817T154505Z
LAST-MODIFIED:20230817T154505Z
UID:251328-1700046000-1700049600@gatewayassociation.ca
SUMMARY:ePortfolio Series (2 of 3)
DESCRIPTION:Session 2 of 3 \nDuration 1 hr \nFacilitator: Lee \nPrivate – GTDI Program intake required prior to workshop: getdigital@gatewayassociation.ca \n\nIn the eportfolio workshop series\, participants will learn about the different types of portfolios\, how to use google sites\, and the basics of layout and design. Learners will choose the type of portfolio they want to build and the subject they want to focus on. They will select and add content to their sites along with descriptions\, statements about their motivation\, interests\, skills\, and hobbies. Learners will work on their own between classes.
URL:https://gatewayassociation.ca/calendar/eportfolio-series-2-of-3-3/
END:VEVENT
BEGIN:VEVENT
DTSTART;TZID=America/Denver:20231115T100000
DTEND;TZID=America/Denver:20231115T150000
DTSTAMP:20260419T233207
CREATED:20231024T173546Z
LAST-MODIFIED:20231024T173546Z
UID:251626-1700042400-1700060400@gatewayassociation.ca
SUMMARY:DROP IN WEDNESDAYS at the Calgary Employment Resource Centre
DESCRIPTION:DROP IN Wednesdays at the Calgary Employment Resource Centre \nFor job seekers\, each Wednesday drop in any time between 10am and 3pm to connect with ERC team members to work on resumes\, interview skills\, job search and meet other job seekers! \n1206 20 AVE SE \nCalgary\, AB
URL:https://gatewayassociation.ca/calendar/drop-in-wednesdays-at-the-calgary-employment-resource-centre/
CATEGORIES:ERC
END:VEVENT
BEGIN:VEVENT
DTSTART;TZID=America/Denver:20231114T190000
DTEND;TZID=America/Denver:20231114T210000
DTSTAMP:20260419T233207
CREATED:20230720T164856Z
LAST-MODIFIED:20230831T215528Z
UID:250898-1699988400-1699995600@gatewayassociation.ca
SUMMARY:Families Forward\, Under 18
DESCRIPTION:Families Forward\, Under 18 \nTuesday\, November 14 \n7:00pm – 9:00pm | Online \nMonthly meeting for families with children under 18 with disabilities. \nWhere families can connect with other families\, learn from one another\, and explore issues that are important (such as schooling\, leadership\, and community and government support). \nNovember Topic: \nSpeech Matters & Gateway Association host Under 18 Families Forward \nSpeech Language Pathologist Holly Smith and colleagues explore the basics of FSCD contracts and the role of Speech Language Pathologist (SLP) with supporting FSCD contracts. \n  \nFacilitators: Yonique at Yonique@GatewayAssociation.ca and Stacy at Stacy@GatewayAssociation.ca \nRegister HERE
URL:https://gatewayassociation.ca/calendar/families-forward-under-18-10/
CATEGORIES:FRC
END:VEVENT
BEGIN:VEVENT
DTSTART;TZID=America/Denver:20231114T130000
DTEND;TZID=America/Denver:20231114T143000
DTSTAMP:20260419T233207
CREATED:20230817T154632Z
LAST-MODIFIED:20231004T233949Z
UID:251332-1699966800-1699972200@gatewayassociation.ca
SUMMARY:Social Media Basics (1 of 4)
DESCRIPTION:Session 1 of 4 \nDuration 1.5 hr \nFacilitator: Toby \nPrivate – GTDI Program intake required prior to workshop: getdigital@gatewayassociation.ca \nSocial Media Basics is Part 2 of the Work Simulation. Completion of Part 1: Internet Basics is recommended prior to taking this 3 session workshop series. \nIncrease your understanding and use of social media! In this workshop we will go through understanding different types of social media and their uses\, creating material for social media\, and managing your social media
URL:https://gatewayassociation.ca/calendar/social-media-basics-1-of-3-2/
END:VEVENT
BEGIN:VEVENT
DTSTART;TZID=America/Denver:20231114T130000
DTEND;TZID=America/Denver:20231114T140000
DTSTAMP:20260419T233207
CREATED:20230816T192803Z
LAST-MODIFIED:20230816T192803Z
UID:251275-1699966800-1699970400@gatewayassociation.ca
SUMMARY:Interview Prep 102: Common Interview Questions
DESCRIPTION:Interview Prep: Common Interview Questions \nLearn tips about how to effectively answer some of the most common interview questions! \nOnline or In-Person: ONLINE \nTo register\, please connect with us at Get-Work@GatewayAssociation.ca
URL:https://gatewayassociation.ca/calendar/interview-prep-102-common-interview-questions/
CATEGORIES:ERC
END:VEVENT
BEGIN:VEVENT
DTSTART;TZID=America/Denver:20231114T110000
DTEND;TZID=America/Denver:20231114T120000
DTSTAMP:20260419T233207
CREATED:20230817T154423Z
LAST-MODIFIED:20230817T154423Z
UID:251326-1699959600-1699963200@gatewayassociation.ca
SUMMARY:ePortfolio Series (1 of 3)
DESCRIPTION:Session 1 of 3 \nDuration 1 hr \nFacilitator: Lee \nPrivate – GTDI Program intake required prior to workshop: getdigital@gatewayassociation.ca \n\nIn the eportfolio workshop series\, participants will learn about the different types of portfolios\, how to use google sites\, and the basics of layout and design. Learners will choose the type of portfolio they want to build and the subject they want to focus on. They will select and add content to their sites along with descriptions\, statements about their motivation\, interests\, skills\, and hobbies. Learners will work on their own between classes.
URL:https://gatewayassociation.ca/calendar/eportfolio-series-1-of-3-4/
END:VEVENT
BEGIN:VEVENT
DTSTART;TZID=America/Denver:20231114T100000
DTEND;TZID=America/Denver:20231114T110000
DTSTAMP:20260419T233207
CREATED:20230817T154329Z
LAST-MODIFIED:20230817T154329Z
UID:251324-1699956000-1699959600@gatewayassociation.ca
SUMMARY:Discord Tutorial
DESCRIPTION:Session 1 of 1 \nDuration 1 hr \nFacilitator: Lee \nPrivate – GTDI Program intake required prior to workshop: getdigital@gatewayassociation.ca \n\nStep by step tutorial for downloading and installing Discord – a free app that lets people chat using text\, voice or video. Discord is required for Online boardgames group.
URL:https://gatewayassociation.ca/calendar/discord-tutorial-16/
END:VEVENT
BEGIN:VEVENT
DTSTART;TZID=America/Denver:20231110T130000
DTEND;TZID=America/Denver:20231110T143000
DTSTAMP:20260419T233207
CREATED:20231004T233855Z
LAST-MODIFIED:20231004T233855Z
UID:251513-1699621200-1699626600@gatewayassociation.ca
SUMMARY:Internet Basics (4 of 4)
DESCRIPTION:Session 4 of 4 \nDuration 1.5 hr \nFacilitator: Toby \nPrivate – GTDI Program intake required prior to workshop: getdigital@gatewayassociation.ca \nInternet Basics is Part 1 of the Work Simulation. It can be taken as part of the Work Simulation\, or on its own. \nThis 3 session workshop series helps learners find\, share\, and explore things online through a series of fun activities. Participants will use different google map features to find their way around town\, share their favourite places\, plan a vacation\, and compare different search engines. As a group\, learners will chat about fake news\, investigate stories on Snopes\, and chat about the media we take in everyday.
URL:https://gatewayassociation.ca/calendar/internet-basics-4-of-4/
END:VEVENT
BEGIN:VEVENT
DTSTART;TZID=America/Denver:20231109T170000
DTEND;TZID=America/Denver:20231109T190000
DTSTAMP:20260419T233207
CREATED:20231103T154857Z
LAST-MODIFIED:20231103T154857Z
UID:251694-1699549200-1699556400@gatewayassociation.ca
SUMMARY:Creating Community Through Storytelling
DESCRIPTION:Come watch our community art showcase! \nOur community service providers\, employers\, and participants will be involved in a full-day workshop that focuses on creating community and networking through various artistic mediums. Each participant will be putting together a chosen art performance that identifies their personal story\, through their personal perspective. As an attendee\, you will have the unique opportunity to witness these stories come to life and connect with your community members! \nCome meet your community and witness these live performances on Thursday November 9th at Work Nicer Coworking | Railyards. Performances run from 5:00pm to 7:00pm. \nRegister HERE
URL:https://gatewayassociation.ca/calendar/creating-community-through-storytelling/
CATEGORIES:ERC,MentorAbility Alberta
END:VEVENT
BEGIN:VEVENT
DTSTART;TZID=America/Denver:20231109T160000
DTEND;TZID=America/Denver:20231109T173000
DTSTAMP:20260419T233207
CREATED:20231004T235431Z
LAST-MODIFIED:20231109T214752Z
UID:251523-1699545600-1699551000@gatewayassociation.ca
SUMMARY:Holiday Baking along with Mick and Sam
DESCRIPTION:Join Mick and Sam for a holiday bake-along from the comfort of your own home! Whip up some quick and easy treats and join the holiday fun!\n\nSign up: getdigital@gatewayassociation.ca
URL:https://gatewayassociation.ca/calendar/holiday-baking-along-with-mick-and-sam/
END:VEVENT
BEGIN:VEVENT
DTSTART;TZID=America/Denver:20231109T130000
DTEND;TZID=America/Denver:20231109T143000
DTSTAMP:20260419T233207
CREATED:20230817T154031Z
LAST-MODIFIED:20231004T233818Z
UID:251320-1699534800-1699540200@gatewayassociation.ca
SUMMARY:Internet Basics (3 of 4)
DESCRIPTION:Session 3 of 4 \nDuration 1.5 hr \nFacilitator: Toby \nPrivate – GTDI Program intake required prior to workshop: getdigital@gatewayassociation.ca \nInternet Basics is Part 1 of the Work Simulation. It can be taken as part of the Work Simulation\, or on its own. \nThis 3 session workshop series helps learners find\, share\, and explore things online through a series of fun activities. Participants will use different google map features to find their way around town\, share their favourite places\, plan a vacation\, and compare different search engines. As a group\, learners will chat about fake news\, investigate stories on Snopes\, and chat about the media we take in everyday.
URL:https://gatewayassociation.ca/calendar/internet-basics-3-of-3-5/
END:VEVENT
BEGIN:VEVENT
DTSTART;TZID=America/Denver:20231109T130000
DTEND;TZID=America/Denver:20231109T140000
DTSTAMP:20260419T233207
CREATED:20231005T033358Z
LAST-MODIFIED:20231005T033358Z
UID:251535-1699534800-1699538400@gatewayassociation.ca
SUMMARY:Finding Your Purpose
DESCRIPTION:Are you wondering what your purpose is? Stuck and not sure where to go? Then we have a workshop for you! Come join us for self exploration and learning. We will talk about what people need in life to grow and how we can access those resources. As well\, we will explore a personality test and leave the workshop with a deeper understanding of who we are and where we would like to go! \nONLINE \nTo register\, connect with us at Get-Work@GatewayAssociation.ca
URL:https://gatewayassociation.ca/calendar/finding-your-purpose-3/
CATEGORIES:ERC
END:VEVENT
BEGIN:VEVENT
DTSTART;TZID=America/Denver:20231109T110000
DTEND;TZID=America/Denver:20231109T120000
DTSTAMP:20260419T233207
CREATED:20230817T153736Z
LAST-MODIFIED:20230817T153736Z
UID:251312-1699527600-1699531200@gatewayassociation.ca
SUMMARY:Google Docs (2 of 2)
DESCRIPTION:Session: 2 of 2 \nDuration: 1 hr \nFacilitator: Lee \nPrivate – GTDI Program intake required prior to workshop: getdigital@gatewayassociation.ca \n\nIn this 2 session workshop series\, Participants will practice creating and sharing google documents\, explore the tools provided to help them write\, edit\, comment and chat. This workshop covers the Basics of google docs\, as well as file organization\, sharing\, and commenting.
URL:https://gatewayassociation.ca/calendar/google-docs-2-of-2-3/
END:VEVENT
BEGIN:VEVENT
DTSTART;TZID=America/Denver:20231108T150000
DTEND;TZID=America/Denver:20231108T163000
DTSTAMP:20260419T233207
CREATED:20230817T154252Z
LAST-MODIFIED:20230817T154252Z
UID:251322-1699455600-1699461000@gatewayassociation.ca
SUMMARY:Online Boardgames
DESCRIPTION:Session: 1 of 1 \nDuration: 1.5 to 2 hr \nFacilitator: Lee \nPrivate – GTDI Program intake required prior to workshop signup: getdigital@gatewayassociation.ca \n\n**Requires Online Social Connections – Discord and Steam Tutorials as well as desktop or laptop computer.** \nCome hang out! Learn about setting up online accounts\, meet new friends\, socialize\, and have fun playing boardgames online. Meet new friends\, practise new skills\, have fun!
URL:https://gatewayassociation.ca/calendar/online-boardgames-19/
END:VEVENT
BEGIN:VEVENT
DTSTART;TZID=America/Denver:20231108T130000
DTEND;TZID=America/Denver:20231108T143000
DTSTAMP:20260419T233207
CREATED:20230817T153940Z
LAST-MODIFIED:20231004T233754Z
UID:251318-1699448400-1699453800@gatewayassociation.ca
SUMMARY:Internet Basics (2 of 4)
DESCRIPTION:Session 2 of 4 \nDuration 1.5 hr \nFacilitator: Toby \nPrivate – GTDI Program intake required prior to workshop: getdigital@gatewayassociation.ca \nInternet Basics is Part 1 of the Work Simulation. It can be taken as part of the Work Simulation\, or on its own. \nThis 3 session workshop series helps learners find\, share\, and explore things online through a series of fun activities. Participants will use different google map features to find their way around town\, share their favourite places\, plan a vacation\, and compare different search engines. As a group\, learners will chat about fake news\, investigate stories on Snopes\, and chat about the media we take in everyday.
URL:https://gatewayassociation.ca/calendar/internet-basics-2-of-3-4/
END:VEVENT
BEGIN:VEVENT
DTSTART;TZID=America/Denver:20231108T130000
DTEND;TZID=America/Denver:20231108T140000
DTSTAMP:20260419T233207
CREATED:20231005T033248Z
LAST-MODIFIED:20231005T033248Z
UID:251533-1699448400-1699452000@gatewayassociation.ca
SUMMARY:How to Read a Job Posting
DESCRIPTION:Join this workshop to understand various elements of a job posting\, identify red flags\, and find the right match. This workshop intends to help people save their time by targeting jobs that fits their expectations. \nONLINE \nTo register\, please connect with us at Get-Work@GatewayAssociation.ca
URL:https://gatewayassociation.ca/calendar/how-to-read-a-job-posting-6/
CATEGORIES:ERC
END:VEVENT
BEGIN:VEVENT
DTSTART;TZID=America/Denver:20231108T110000
DTEND;TZID=America/Denver:20231108T120000
DTSTAMP:20260419T233207
CREATED:20230817T153700Z
LAST-MODIFIED:20230817T153700Z
UID:251310-1699441200-1699444800@gatewayassociation.ca
SUMMARY:Google Docs (1 of 2)
DESCRIPTION:Session: 1 of 2 \nDuration: 1 hr \nFacilitator: Lee \nPrivate – GTDI Program intake required prior to workshop: getdigital@gatewayassociation.ca \n\nIn this 2 session workshop series\, Participants will practice creating and sharing google documents\, explore the tools provided to help them write\, edit\, comment and chat. This workshop covers the Basics of google docs\, as well as file organization\, sharing\, and commenting.
URL:https://gatewayassociation.ca/calendar/google-docs-1-of-2-3/
END:VEVENT
BEGIN:VEVENT
DTSTART;TZID=America/Denver:20231108T100000
DTEND;TZID=America/Denver:20231108T150000
DTSTAMP:20260419T233207
CREATED:20231024T173504Z
LAST-MODIFIED:20231024T173504Z
UID:251624-1699437600-1699455600@gatewayassociation.ca
SUMMARY:DROP IN WEDESDAYS at Calgary Employment Resource Centre
DESCRIPTION:DROP IN Wednesdays at the Calgary Employment Resource Centre \nFor job seekers\, each Wednesday drop in any time between 10am and 3pm to connect with ERC team members to work on resumes\, interview skills\, job search and meet other job seekers! \n1206 20 AVE SE \nCalgary\, AB
URL:https://gatewayassociation.ca/calendar/drop-in-wedesdays-at-calgary-employment-resource-centre/
CATEGORIES:ERC
END:VEVENT
BEGIN:VEVENT
DTSTART;TZID=America/Denver:20231107T130000
DTEND;TZID=America/Denver:20231107T140000
DTSTAMP:20260419T233207
CREATED:20231005T000438Z
LAST-MODIFIED:20231005T000438Z
UID:251531-1699362000-1699365600@gatewayassociation.ca
SUMMARY:Growth Mindset; Resiliency in Job Search
DESCRIPTION:Job search can be a long and daunting process for many. This workshop will introduce folks to the concept of having a “Growth Mindset” and help individuals create a positive/persistent mindset along with tips on how to stay motivated throughout this process. \nTo register\, please connect with us at Get-Work@GatewayAssociation.ca
URL:https://gatewayassociation.ca/calendar/growth-mindset-resiliency-in-job-search-10/
CATEGORIES:ERC
END:VEVENT
BEGIN:VEVENT
DTSTART;TZID=America/Denver:20231107T130000
DTEND;TZID=America/Denver:20231107T140000
DTSTAMP:20260419T233207
CREATED:20230817T153902Z
LAST-MODIFIED:20231004T233731Z
UID:251316-1699362000-1699365600@gatewayassociation.ca
SUMMARY:Internet Basics (1 of 4)
DESCRIPTION:Session 1 of 4 \nDuration 1.5 hr \nFacilitator: Toby \nPrivate – GTDI Program intake required prior to workshop: getdigital@gatewayassociation.ca \nInternet Basics is Part 1 of the Work Simulation. It can be taken as part of the Work Simulation\, or on its own. \nThis 3 session workshop series helps learners find\, share\, and explore things online through a series of fun activities. Participants will use different google map features to find their way around town\, share their favourite places\, plan a vacation\, and compare different search engines. As a group\, learners will chat about fake news\, investigate stories on Snopes\, and chat about the media we take in everyday.
URL:https://gatewayassociation.ca/calendar/internet-basics-1-of-3-5/
END:VEVENT
BEGIN:VEVENT
DTSTART;TZID=America/Denver:20231107T110000
DTEND;TZID=America/Denver:20231107T120000
DTSTAMP:20260419T233207
CREATED:20230817T153601Z
LAST-MODIFIED:20230817T153601Z
UID:251308-1699354800-1699358400@gatewayassociation.ca
SUMMARY:Google Drive (2 of 2)
DESCRIPTION:Session: 2 of 2 \nDuration: 1 hr \nFacilitator: Lee \nPrivate – GTDI Program intake required prior to workshop: getdigital@gatewayassociation.ca \n  \nLearn how to create a google accounts\, access google drive\, upload files\, create folders\, search for files. Group discussion on cloud storage\, strong passwords\, file naming conventions and keeping documents and folders organized.
URL:https://gatewayassociation.ca/calendar/google-drive-2-of-2-5/
END:VEVENT
BEGIN:VEVENT
DTSTART;TZID=America/Denver:20231106T130000
DTEND;TZID=America/Denver:20231106T140000
DTSTAMP:20260419T233207
CREATED:20230817T153818Z
LAST-MODIFIED:20230817T153818Z
UID:251314-1699275600-1699279200@gatewayassociation.ca
SUMMARY:LinkedIn Learning
DESCRIPTION:Session 1 of 1 \nDuration 1 hr \nFacilitator: Toby \nPrivate – GTDI Program intake required prior to workshop: getdigital@gatewayassociation.ca \n\n***Requires an active library membership.** \nExplore LinkedIn website as a group\, learn how to: create an account\, search for course\, save and organize courses\, and customize your profile.
URL:https://gatewayassociation.ca/calendar/linkedin-learning-20/
END:VEVENT
BEGIN:VEVENT
DTSTART;TZID=America/Denver:20231106T110000
DTEND;TZID=America/Denver:20231106T120000
DTSTAMP:20260419T233207
CREATED:20230817T142425Z
LAST-MODIFIED:20230817T142425Z
UID:251306-1699268400-1699272000@gatewayassociation.ca
SUMMARY:Google Drive (1 of 2)
DESCRIPTION:Session: 1 of 2 \nDuration: 1 hr \nFacilitator: Lee \nPrivate – GTDI Program intake required prior to workshop: getdigital@gatewayassociation.ca \n  \nLearn how to create a google accounts\, access google drive\, upload files\, create folders\, search for files. Group discussion on cloud storage\, strong passwords\, file naming conventions and keeping documents and folders organized.
URL:https://gatewayassociation.ca/calendar/google-drive-1-of-2-5/
END:VEVENT
END:VCALENDAR