BEGIN:VCALENDAR
VERSION:2.0
PRODID:-//Gateway Association - ECPv6.15.20//NONSGML v1.0//EN
CALSCALE:GREGORIAN
METHOD:PUBLISH
X-WR-CALNAME:Gateway Association
X-ORIGINAL-URL:https://gatewayassociation.ca
X-WR-CALDESC:Events for Gateway Association
REFRESH-INTERVAL;VALUE=DURATION:PT1H
X-Robots-Tag:noindex
X-PUBLISHED-TTL:PT1H
BEGIN:VTIMEZONE
TZID:America/Denver
BEGIN:DAYLIGHT
TZOFFSETFROM:-0700
TZOFFSETTO:-0600
TZNAME:MDT
DTSTART:20230312T090000
END:DAYLIGHT
BEGIN:STANDARD
TZOFFSETFROM:-0600
TZOFFSETTO:-0700
TZNAME:MST
DTSTART:20231105T080000
END:STANDARD
BEGIN:DAYLIGHT
TZOFFSETFROM:-0700
TZOFFSETTO:-0600
TZNAME:MDT
DTSTART:20240310T090000
END:DAYLIGHT
BEGIN:STANDARD
TZOFFSETFROM:-0600
TZOFFSETTO:-0700
TZNAME:MST
DTSTART:20241103T080000
END:STANDARD
BEGIN:DAYLIGHT
TZOFFSETFROM:-0700
TZOFFSETTO:-0600
TZNAME:MDT
DTSTART:20250309T090000
END:DAYLIGHT
BEGIN:STANDARD
TZOFFSETFROM:-0600
TZOFFSETTO:-0700
TZNAME:MST
DTSTART:20251102T080000
END:STANDARD
END:VTIMEZONE
BEGIN:VEVENT
DTSTART;TZID=America/Denver:20240425T110000
DTEND;TZID=America/Denver:20240425T120000
DTSTAMP:20260421T061520
CREATED:20240326T215345Z
LAST-MODIFIED:20240326T215425Z
UID:252250-1714042800-1714046400@gatewayassociation.ca
SUMMARY:Google Docs (2 of 2)
DESCRIPTION:Session: 2 of 2  \nDuration: 1 hr   \nFacilitator: Lee  \nPrivate – GTDI Program intake required prior to workshop: getdigital@gatewayassociation.ca  \n  \nIn this 2 session workshop series\, Participants will practice creating and sharing google documents\, explore the tools provided to help them write\, edit\, comment and chat. This workshop covers the Basics of google docs\, as well as file organization\, sharing\, and commenting.  
URL:https://gatewayassociation.ca/calendar/google-docs-2-of-2-9/
END:VEVENT
BEGIN:VEVENT
DTSTART;TZID=America/Denver:20240429T110000
DTEND;TZID=America/Denver:20240429T120000
DTSTAMP:20260421T061520
CREATED:20240326T215701Z
LAST-MODIFIED:20240326T215701Z
UID:252258-1714388400-1714392000@gatewayassociation.ca
SUMMARY:Email Basics
DESCRIPTION:Session: 1 of 1  \nDuration: 1 hr   \nFacilitator: Lee  \nPrivate – GTDI Program intake required prior to workshop: getdigital@gatewayassociation.ca  \n  \nLearn about and practice the basics of writing professional emails for your job search and workplace communication. 
URL:https://gatewayassociation.ca/calendar/email-basics-39/
END:VEVENT
BEGIN:VEVENT
DTSTART;TZID=America/Denver:20240429T130000
DTEND;TZID=America/Denver:20240429T140000
DTSTAMP:20260421T061520
CREATED:20240326T215732Z
LAST-MODIFIED:20240326T215732Z
UID:252260-1714395600-1714399200@gatewayassociation.ca
SUMMARY:Zoom Basics
DESCRIPTION:Session: 1 of 1 \nDuration: 1 hr \nFacilitator: Toby \nPrivate – GTDI Program intake required prior to workshop: getdigital@gatewayassociation.ca \n\nLearn what you need to know to participate in online Zoom meetings. Explore all the cool features of the program\, practice your digital skills and build your zoom social skills.
URL:https://gatewayassociation.ca/calendar/zoom-basics-26/
END:VEVENT
BEGIN:VEVENT
DTSTART;TZID=America/Denver:20240430T110000
DTEND;TZID=America/Denver:20240430T120000
DTSTAMP:20260421T061520
CREATED:20240424T205356Z
LAST-MODIFIED:20240424T205455Z
UID:252497-1714474800-1714478400@gatewayassociation.ca
SUMMARY:Identifying and Interrupting Microaggressions in the Workplace
DESCRIPTION:Identifying and Interrupting Microaggressions in the Workplace\nThis workshop is intended to help you identify what a microaggression can look like in a workplace setting. We will do this by defining microaggressions and giving examples of how this manifests primarily using the paper “Racial microaggressions in everyday life” (Sue\, D. W.\, Capodilupo\, C. M.\, Torino\, G. C.\, Bucceri\, J. M.\, Holder\, A.\, Nadal\, K. L.\, & Esquilin\, M. (2007). We will also give you some tools on how to start to build your knowledge\, capacity\, and confidence in starting to interrupt those behaviours. \n   \nLearning Objectives:  \n 1. Be able to define microaggressions and understand how they may show up in your workplace.  \n2. Provide attendees with the tools to begin to interrupt these behaviours in the workplace.  \n3. Provide some self-reflection tools to see where attendees have been complicit. \nOnline or In-Person: ONLINE  \nRegister HERE
URL:https://gatewayassociation.ca/calendar/identifying-and-interrupting-microaggressions-in-the-workplace/
CATEGORIES:ERC
END:VEVENT
BEGIN:VEVENT
DTSTART;TZID=America/Denver:20240430T110000
DTEND;TZID=America/Denver:20240430T120000
DTSTAMP:20260421T061520
CREATED:20240424T210237Z
LAST-MODIFIED:20240424T210237Z
UID:252501-1714474800-1714478400@gatewayassociation.ca
SUMMARY:Identifying and Interrupting Microaggressions in the Workplace
DESCRIPTION:This workshop is intended to help you identify what a microaggression can look like in a workplace setting. We will do this by defining microaggressions and giving examples of how this manifests primarily using the paper “Racial microaggressions in everyday life” (Sue\, D. W.\, Capodilupo\, C. M.\, Torino\, G. C.\, Bucceri\, J. M.\, Holder\, A.\, Nadal\, K. L.\, & Esquilin\, M. (2007). We will also give you some tools on how to start to build your knowledge\, capacity\, and confidence in starting to interrupt those behaviours. \nLearning Objectives\nDuring this workshop\, participants will:\n1. Be able to define microaggressions and understand how they may show up in your workplace.\n2. Provide attendees with the tools to begin to interrupt these behaviours in the workplace.\n3. Provide some self-reflection tools to see where attendees have been complicit. \n  \nRegister HERE
URL:https://gatewayassociation.ca/calendar/identifying-and-interrupting-microaggressions-in-the-workplace-2/
CATEGORIES:ERC
END:VEVENT
BEGIN:VEVENT
DTSTART;TZID=America/Denver:20240430T180000
DTEND;TZID=America/Denver:20240430T210000
DTSTAMP:20260421T061520
CREATED:20230724T132256Z
LAST-MODIFIED:20230724T132256Z
UID:251032-1714500000-1714510800@gatewayassociation.ca
SUMMARY:Transition Planning for Adulthood (Part 3 of 3)
DESCRIPTION:Transition Planning for Adulthood – 3 part series \nTuesday\, April 16 \nTuesday\, April 23 \nTuesday\, April 30 \n6:00pm – 9:00pm | Online \n  \nJoin our 3-part workshop series that engages families in building knowledge when navigating this critical time for 14-20 year olds. This workshop series includes topics on: life transitions\, valued roles in the community\, visioning and planning\, and navigating the systems.  \nFacilitator: Shelley at Shelley@GatewayAssociation.ca \nRegister HERE
URL:https://gatewayassociation.ca/calendar/transition-planning-for-adulthood-part-3-of-3/
CATEGORIES:FRC
END:VEVENT
BEGIN:VEVENT
DTSTART;TZID=America/Denver:20240501T100000
DTEND;TZID=America/Denver:20240501T150000
DTSTAMP:20260421T061520
CREATED:20240424T195911Z
LAST-MODIFIED:20240424T195911Z
UID:252418-1714557600-1714575600@gatewayassociation.ca
SUMMARY:DROP IN WEDNESDAYS at the Calgary Employment Resource Centre
DESCRIPTION:DROP IN WEDNESDAYS \nat the Calgary Employment Resource Centre \nFor job seekers\, each Wednesday drop in any time between 10am and 3pm to connect with ERC team members to work on resumes\, interview skills\, job search and meet other job seekers! \n1206 20 AVE SE \nCalgary\, AB
URL:https://gatewayassociation.ca/calendar/drop-in-wednesdays-at-the-calgary-employment-resource-centre-19/
CATEGORIES:ERC
END:VEVENT
BEGIN:VEVENT
DTSTART;TZID=America/Denver:20240501T110000
DTEND;TZID=America/Denver:20240501T120000
DTSTAMP:20260421T061520
CREATED:20240424T201850Z
LAST-MODIFIED:20240424T201850Z
UID:252440-1714561200-1714564800@gatewayassociation.ca
SUMMARY:Discord Tutorial
DESCRIPTION:Session 1 of 1  \nDuration 1 hr  \nFacilitator: Lee  \nPrivate – GTDI Program intake required prior to workshop: getdigital@gatewayassociation.ca  \n  \nStep by step tutorial for downloading and installing Discord – a free app that lets people chat using text\, voice or video. Discord is required for Online boardgames group. 
URL:https://gatewayassociation.ca/calendar/discord-tutorial-21/
END:VEVENT
BEGIN:VEVENT
DTSTART;TZID=America/Denver:20240501T130000
DTEND;TZID=America/Denver:20240501T140000
DTSTAMP:20260421T061520
CREATED:20240424T201926Z
LAST-MODIFIED:20240424T201926Z
UID:252442-1714568400-1714572000@gatewayassociation.ca
SUMMARY:LinkedIn Learning
DESCRIPTION:Session 1 of 1  \nDuration 1 hr   \nFacilitator: Toby  \nPrivate – GTDI Program intake required prior to workshop: getdigital@gatewayassociation.ca  \n  \n***Requires an active library membership.**  \nExplore LinkedIn website as a group\, learn how to: create an account\, search for course\, save and organize courses\, and customize your profile.  
URL:https://gatewayassociation.ca/calendar/linkedin-learning-24/
END:VEVENT
BEGIN:VEVENT
DTSTART;TZID=America/Denver:20240501T143000
DTEND;TZID=America/Denver:20240501T163000
DTSTAMP:20260421T061520
CREATED:20240424T202113Z
LAST-MODIFIED:20240424T202113Z
UID:252444-1714573800-1714581000@gatewayassociation.ca
SUMMARY:Online Boardgames
DESCRIPTION:Session: 1 of 1 \nDuration: 1.5 to 2 hr \nFacilitator: Lee \nPrivate – GTDI Program intake required prior to workshop signup: getdigital@gatewayassociation.ca \n\n**Requires Online Social Connections – Discord and Steam Tutorials as well as desktop or laptop computer.** \nCome hang out! Learn about setting up online accounts\, meet new friends\, socialize\, and have fun playing boardgames online. Meet new friends\, practise new skills\, have fun!
URL:https://gatewayassociation.ca/calendar/online-boardgames-36/
END:VEVENT
BEGIN:VEVENT
DTSTART;TZID=America/Denver:20240502T110000
DTEND;TZID=America/Denver:20240502T120000
DTSTAMP:20260421T061520
CREATED:20240424T202355Z
LAST-MODIFIED:20240424T202355Z
UID:252454-1714647600-1714651200@gatewayassociation.ca
SUMMARY:Study Hall - ePortfolios
DESCRIPTION:Session 1 of 1  \nDuration 1 hr   \nFacilitator: Lee  \nPrivate – GTDI Program intake required prior to workshop: getdigital@gatewayassociation.ca  \n**Requires desktop or laptop computer. (tablets may work – contact facilitator prior to session)** \n  \nThis is an open work session for participants who  have already completed the ePortfolio Workshop series and would like to continue working on their portfolios.
URL:https://gatewayassociation.ca/calendar/study-hall-eportfolios/
END:VEVENT
BEGIN:VEVENT
DTSTART;TZID=America/Denver:20240502T110000
DTEND;TZID=America/Denver:20240502T120000
DTSTAMP:20260421T061520
CREATED:20240424T210120Z
LAST-MODIFIED:20240424T210120Z
UID:252499-1714647600-1714651200@gatewayassociation.ca
SUMMARY:You’re Not Alone in This: An Introduction to GEDI Hub
DESCRIPTION:This presentation will introduce the Gateway to Equity\, Diversity\, and Inclusion\n(GEDI) Hub is a province-wide EDI workplace resource for employers that assists them with their\nrecruitment processes to meet their hiring needs. \nLearning Objectives:\n\nThe audience will acquire knowledge and insight about the changing demographics of\nAlberta’s workforce.\nThe audience will acquire knowledge about the GEDI Hub and its resources and the\nbenefits of accessing its services.\n\n  \nRegister HERE
URL:https://gatewayassociation.ca/calendar/youre-not-alone-in-this-an-introduction-to-gedi-hub/
CATEGORIES:ERC
END:VEVENT
BEGIN:VEVENT
DTSTART;TZID=America/Denver:20240502T130000
DTEND;TZID=America/Denver:20240502T140000
DTSTAMP:20260421T061520
CREATED:20240424T184312Z
LAST-MODIFIED:20240424T184312Z
UID:252401-1714654800-1714658400@gatewayassociation.ca
SUMMARY:Finding Your Purpose
DESCRIPTION:Finding Your Purpose \nAre you wondering what your purpose is? Stuck and not sure where to go? Then we have a workshop for you! Come join us for self exploration and learning. We will talk about what people need in life to grow and how we can access those resources. As well\, we will explore a personality test and leave the workshop with a deeper understanding of who we are and where we would like to go! \n This workshop is for registered participants only. To register\, please connect with us at Get-Work@GatewayAssociation.ca\n\nOnline or In-Person: ONLINE
URL:https://gatewayassociation.ca/calendar/finding-your-purpose-8/
CATEGORIES:ERC
END:VEVENT
BEGIN:VEVENT
DTSTART;TZID=America/Denver:20240506T110000
DTEND;TZID=America/Denver:20240506T120000
DTSTAMP:20260421T061520
CREATED:20240424T202445Z
LAST-MODIFIED:20240424T202445Z
UID:252456-1714993200-1714996800@gatewayassociation.ca
SUMMARY:Google Drive (1 of 2)
DESCRIPTION:Session: 1 of 2  \nDuration: 1  hr  \nFacilitator: Lee   \nPrivate – GTDI Program intake required prior to workshop: getdigital@gatewayassociation.ca  \n  \nLearn how to create a google accounts\, access google drive\, upload files\, create folders\, search for files. Group discussion on cloud storage\, strong passwords\, file naming conventions and keeping documents and folders organized.  
URL:https://gatewayassociation.ca/calendar/google-drive-1-of-2-10/
END:VEVENT
BEGIN:VEVENT
DTSTART;TZID=America/Denver:20240506T130000
DTEND;TZID=America/Denver:20240506T143000
DTSTAMP:20260421T061520
CREATED:20240424T202558Z
LAST-MODIFIED:20240424T202558Z
UID:252460-1715000400-1715005800@gatewayassociation.ca
SUMMARY:Internet Basics (1 of 4)
DESCRIPTION:Session 1 of 4  \nDuration 1.5 hr   \nFacilitator: Toby  \nPrivate – GTDI Program intake required prior to workshop: getdigital@gatewayassociation.ca  \n  \nThis 4 session workshop series (part 1 of the work simulation) helps learners find\, share\, and explore things online through a series of fun activities. Participants will use different google map features to find their way around town\, share their favourite places\, plan a vacation\, and compare different search engines. As a group\, learners will chat about fake news\, investigate stories on Snopes\, and chat about the media we take in everyday.  
URL:https://gatewayassociation.ca/calendar/internet-basics-1-of-4-5/
END:VEVENT
BEGIN:VEVENT
DTSTART;TZID=America/Denver:20240506T163000
DTEND;TZID=America/Denver:20240506T183000
DTSTAMP:20260421T061520
CREATED:20230724T133003Z
LAST-MODIFIED:20240221T183630Z
UID:251038-1715013000-1715020200@gatewayassociation.ca
SUMMARY:Having Difficult Conversations
DESCRIPTION:Having Difficult Conversations \nThursday\, May 6 \n4:30pm – 6:30pm | Online \n  \nA workshop for people with disabilities and their families on navigating difficult conversations \nHaving conversations can be hard.  How we communicate with others is important. \n  \nDuring this short ninety minute workshop\, we will explore what conflict is\, how we respond to it and some key principles for good communication. \nFacilitators:  Stacy at Stacy@gatewayassociation.ca and Mike at Mike@GatewayAssociation.ca \nRegister HERE
URL:https://gatewayassociation.ca/calendar/having-difficult-conversations-7/
CATEGORIES:FRC
END:VEVENT
BEGIN:VEVENT
DTSTART;TZID=America/Denver:20240507T110000
DTEND;TZID=America/Denver:20240507T120000
DTSTAMP:20260421T061520
CREATED:20240424T202520Z
LAST-MODIFIED:20240424T202520Z
UID:252458-1715079600-1715083200@gatewayassociation.ca
SUMMARY:Google Drive (2 of 2)
DESCRIPTION:Session: 2 of 2  \nDuration: 1  hr  \nFacilitator: Lee   \nPrivate – GTDI Program intake required prior to workshop: getdigital@gatewayassociation.ca  \n  \nLearn how to create a google accounts\, access google drive\, upload files\, create folders\, search for files. Group discussion on cloud storage\, strong passwords\, file naming conventions and keeping documents and folders organized.  
URL:https://gatewayassociation.ca/calendar/google-drive-2-of-2-10/
END:VEVENT
BEGIN:VEVENT
DTSTART;TZID=America/Denver:20240507T110000
DTEND;TZID=America/Denver:20240507T120000
DTSTAMP:20260421T061520
CREATED:20240424T210416Z
LAST-MODIFIED:20240424T210416Z
UID:252503-1715079600-1715083200@gatewayassociation.ca
SUMMARY:Honouring Intersectionality in the Recruitment Process
DESCRIPTION:Honouring Intersectionality in the Recruitment Process\nThis workshop will equip recruiters and hiring managers with the knowledge and tools to foster inclusivity and diversity within their organizations. Participants will explore the concept of intersectionality and its relevance in recruitment\, learn the benefits of hiring with an intersectional lens\, and develop inclusive hiring practices to attract and retain a diverse talent pool. While the workshop is aimed to recruiters and hiring managers\, anyone who is interested in learning more about the topic is welcome to join! \nLearning Objectives\nDuring this workshop\, participants will:\n1. Gain an understanding of intersectionality and its impact on individuals’ experiences and social identities.\n2. Recognize the benefits of hiring with an intersectional lens.\n3. Introduce practical tools and techniques to build inclusive hiring practices in the workplace. \nRegister HERE
URL:https://gatewayassociation.ca/calendar/honouring-intersectionality-in-the-recruitment-process/
CATEGORIES:ERC
END:VEVENT
BEGIN:VEVENT
DTSTART;TZID=America/Denver:20240507T130000
DTEND;TZID=America/Denver:20240507T140000
DTSTAMP:20260421T061520
CREATED:20240424T184407Z
LAST-MODIFIED:20240424T184407Z
UID:252403-1715086800-1715090400@gatewayassociation.ca
SUMMARY:Growth Mindset: Resiliency in Job Search
DESCRIPTION:Growth Mindset: Resiliency in Job Search \nDescription: Job search can be a long and daunting process for many. This workshop will introduce folks to the concept of having a “Growth Mindset” and help individuals create a positive/persistent mindset along with tips on how to stay motivated throughout this process. \n This workshop is for registered participants only. To register\, please connect with us at Get-Work@GatewayAssociation.ca \nOnline or In-Person: ONLINE
URL:https://gatewayassociation.ca/calendar/growth-mindset-resiliency-in-job-search-15/
CATEGORIES:ERC
END:VEVENT
BEGIN:VEVENT
DTSTART;TZID=America/Denver:20240507T130000
DTEND;TZID=America/Denver:20240507T143000
DTSTAMP:20260421T061520
CREATED:20240424T202628Z
LAST-MODIFIED:20240424T202628Z
UID:252462-1715086800-1715092200@gatewayassociation.ca
SUMMARY:Internet Basics (2 of 4)
DESCRIPTION:Session 2 of 4  \nDuration 1.5 hr   \nFacilitator: Toby  \nPrivate – GTDI Program intake required prior to workshop: getdigital@gatewayassociation.ca  \n  \nThis 4 session workshop series (part 1 of the work simulation) helps learners find\, share\, and explore things online through a series of fun activities. Participants will use different google map features to find their way around town\, share their favourite places\, plan a vacation\, and compare different search engines. As a group\, learners will chat about fake news\, investigate stories on Snopes\, and chat about the media we take in everyday.  
URL:https://gatewayassociation.ca/calendar/internet-basics-2-of-4-3/
END:VEVENT
BEGIN:VEVENT
DTSTART;TZID=America/Denver:20240508T100000
DTEND;TZID=America/Denver:20240508T150000
DTSTAMP:20260421T061520
CREATED:20240424T195943Z
LAST-MODIFIED:20240424T195943Z
UID:252420-1715162400-1715180400@gatewayassociation.ca
SUMMARY:DROP IN WEDNESDAY at the Calgary Employment Resource Centre
DESCRIPTION:DROP IN WEDNESDAYS \nat the Calgary Employment Resource Centre \nFor job seekers\, each Wednesday drop in any time between 10am and 3pm to connect with ERC team members to work on resumes\, interview skills\, job search and meet other job seekers! \n1206 20 AVE SE \nCalgary\, AB
URL:https://gatewayassociation.ca/calendar/drop-in-wednesday-at-the-calgary-employment-resource-centre/
CATEGORIES:ERC
END:VEVENT
BEGIN:VEVENT
DTSTART;TZID=America/Denver:20240508T130000
DTEND;TZID=America/Denver:20240508T143000
DTSTAMP:20260421T061520
CREATED:20240424T202736Z
LAST-MODIFIED:20240424T202736Z
UID:252464-1715173200-1715178600@gatewayassociation.ca
SUMMARY:Internet Basics (3 of 4)
DESCRIPTION:Session 3 of 4  \nDuration 1.5 hr   \nFacilitator: Toby  \nPrivate – GTDI Program intake required prior to workshop: getdigital@gatewayassociation.ca  \n  \nThis 4 session workshop series (part 1 of the work simulation) helps learners find\, share\, and explore things online through a series of fun activities. Participants will use different google map features to find their way around town\, share their favourite places\, plan a vacation\, and compare different search engines. As a group\, learners will chat about fake news\, investigate stories on Snopes\, and chat about the media we take in everyday.  
URL:https://gatewayassociation.ca/calendar/internet-basics-3-of-4-4/
END:VEVENT
BEGIN:VEVENT
DTSTART;TZID=America/Denver:20240508T143000
DTEND;TZID=America/Denver:20240508T163000
DTSTAMP:20260421T061520
CREATED:20240424T202140Z
LAST-MODIFIED:20240424T202140Z
UID:252446-1715178600-1715185800@gatewayassociation.ca
SUMMARY:Online Boardgames
DESCRIPTION:Session: 1 of 1 \nDuration: 1.5 to 2 hr \nFacilitator: Lee \nPrivate – GTDI Program intake required prior to workshop signup: getdigital@gatewayassociation.ca \n\n**Requires Online Social Connections – Discord and Steam Tutorials as well as desktop or laptop computer.** \nCome hang out! Learn about setting up online accounts\, meet new friends\, socialize\, and have fun playing boardgames online. Meet new friends\, practise new skills\, have fun!
URL:https://gatewayassociation.ca/calendar/online-boardgames-37/
END:VEVENT
BEGIN:VEVENT
DTSTART;TZID=America/Denver:20240509T130000
DTEND;TZID=America/Denver:20240509T143000
DTSTAMP:20260421T061520
CREATED:20240424T202808Z
LAST-MODIFIED:20240424T202808Z
UID:252466-1715259600-1715265000@gatewayassociation.ca
SUMMARY:Internet Basics (4 of 4)
DESCRIPTION:Session 4 of 4  \nDuration 1.5 hr   \nFacilitator: Toby  \nPrivate – GTDI Program intake required prior to workshop: getdigital@gatewayassociation.ca  \n  \nThis 4 session workshop series (part 1 of the work simulation) helps learners find\, share\, and explore things online through a series of fun activities. Participants will use different google map features to find their way around town\, share their favourite places\, plan a vacation\, and compare different search engines. As a group\, learners will chat about fake news\, investigate stories on Snopes\, and chat about the media we take in everyday.  
URL:https://gatewayassociation.ca/calendar/internet-basics-4-of-4-3/
END:VEVENT
BEGIN:VEVENT
DTSTART;TZID=America/Denver:20240511T180000
DTEND;TZID=America/Denver:20240511T210000
DTSTAMP:20260421T061520
CREATED:20230724T133112Z
LAST-MODIFIED:20230724T133112Z
UID:251040-1715450400-1715461200@gatewayassociation.ca
SUMMARY:More Than Just A Job (FMS)
DESCRIPTION:More Than Just A Job (FMS) \nSaturday\, May 11 \n6:00pm – 9:00pm | Online \n  \nA workshop for Family Managed Services staff to help identify and incorporate personal values in their work with persons with disabilities. \n  \nThis workshop\, for Family Managed Services (FMS) staff\, will help you identify your values and how they apply to your work in supporting others. \n  \nFacilitator: Miriam at Miriam@GatewayAssociation.ca \nRegister HERE
URL:https://gatewayassociation.ca/calendar/more-than-just-a-job-fms-3/
CATEGORIES:FRC
END:VEVENT
BEGIN:VEVENT
DTSTART;TZID=America/Denver:20240513T130000
DTEND;TZID=America/Denver:20240513T140000
DTSTAMP:20260421T061520
CREATED:20240424T203807Z
LAST-MODIFIED:20240424T203807Z
UID:252468-1715605200-1715608800@gatewayassociation.ca
SUMMARY:Explore Canva (1 of 2)
DESCRIPTION:Session 1 of 2  \nDuration 1 hr   \nFacilitator: Toby  \nPrivate – GTDI Program intake required prior to workshop: getdigital@gatewayassociation.ca  \n  \nLet your imagination be your guide as you create your own posters\, flyers\, cards\, videos\, and more to share information important to you. 
URL:https://gatewayassociation.ca/calendar/explore-canva-1-of-2-8/
END:VEVENT
BEGIN:VEVENT
DTSTART;TZID=America/Denver:20240513T190000
DTEND;TZID=America/Denver:20240513T210000
DTSTAMP:20260421T061520
CREATED:20230802T221348Z
LAST-MODIFIED:20230802T221456Z
UID:251063-1715626800-1715634000@gatewayassociation.ca
SUMMARY:Families Forward\, Financial Resources
DESCRIPTION:Families Forward\, Financial Resources \nMonday\, May 13 \n7:00pm – 9:00pm | Online \n  \nMonthly meeting where families can connect with other families\, learn from one another\, and explore financial resources. \nFacilitators: Fiona at Fiona@GatewayAssociation.ca and Jacquie at Jacquie@Jacquie@GatewayAssociation.ca \nRegister HERE 
URL:https://gatewayassociation.ca/calendar/families-forward-financial-resources-8/
CATEGORIES:FRC
END:VEVENT
BEGIN:VEVENT
DTSTART;TZID=America/Denver:20240514T130000
DTEND;TZID=America/Denver:20240514T140000
DTSTAMP:20260421T061520
CREATED:20240424T190021Z
LAST-MODIFIED:20240424T190051Z
UID:252405-1715691600-1715695200@gatewayassociation.ca
SUMMARY:Interview Prep: Before\, During and After
DESCRIPTION:Interview Prep: Before\, During & After \nIn this workshop\, you will learn about how to get ready for a job interview\, how to “shine’ in the interview and what to do after the interview to stand out and increase your chances of getting called back! \n This workshop is for registered participants only. To register\, please connect with us at Get-Work@GatewayAssociation.ca\nOnline or In-Person: Online
URL:https://gatewayassociation.ca/calendar/252405/
CATEGORIES:ERC
END:VEVENT
BEGIN:VEVENT
DTSTART;TZID=America/Denver:20240514T130000
DTEND;TZID=America/Denver:20240514T140000
DTSTAMP:20260421T061520
CREATED:20240424T203906Z
LAST-MODIFIED:20240424T203906Z
UID:252470-1715691600-1715695200@gatewayassociation.ca
SUMMARY:Explore Canva (2 of 2)
DESCRIPTION:Session 2 of 2  \nDuration 1 hr   \nFacilitator: Toby  \nPrivate – GTDI Program intake required prior to workshop: getdigital@gatewayassociation.ca  \n  \nLet your imagination be your guide as you create your own posters\, flyers\, cards\, videos\, and more to share information important to you. 
URL:https://gatewayassociation.ca/calendar/explore-canva-2-of-2-7/
END:VEVENT
BEGIN:VEVENT
DTSTART;TZID=America/Denver:20240514T190000
DTEND;TZID=America/Denver:20240514T210000
DTSTAMP:20260421T061520
CREATED:20230720T170352Z
LAST-MODIFIED:20230803T143454Z
UID:250908-1715713200-1715720400@gatewayassociation.ca
SUMMARY:Families Forward\, Under 18
DESCRIPTION:Families Forward\, Under 18 \nTuesday\, May 14 \n7:00pm – 9:00pm | Online \n  \nMonthly meeting for families with children under 18 with disabilities. \nWhere families can connect with other families\, learn from one another\, and explore issues that are important (such as schooling\, leadership\, and community and government support). \nFacilitators: Yonique at Yonique@GatewayAssociation.ca and Stacy at Stacy@GatewayAssociation.ca \n  \nRegister HERE: https://www.eventbrite.ca/e/255535783407
URL:https://gatewayassociation.ca/calendar/families-forward-under-18-15/
CATEGORIES:FRC
END:VEVENT
END:VCALENDAR