BEGIN:VCALENDAR
VERSION:2.0
PRODID:-//Gateway Association - ECPv6.15.20//NONSGML v1.0//EN
CALSCALE:GREGORIAN
METHOD:PUBLISH
X-ORIGINAL-URL:https://gatewayassociation.ca
X-WR-CALDESC:Events for Gateway Association
REFRESH-INTERVAL;VALUE=DURATION:PT1H
X-Robots-Tag:noindex
X-PUBLISHED-TTL:PT1H
BEGIN:VTIMEZONE
TZID:America/Denver
BEGIN:DAYLIGHT
TZOFFSETFROM:-0700
TZOFFSETTO:-0600
TZNAME:MDT
DTSTART:20210314T090000
END:DAYLIGHT
BEGIN:STANDARD
TZOFFSETFROM:-0600
TZOFFSETTO:-0700
TZNAME:MST
DTSTART:20211107T080000
END:STANDARD
BEGIN:DAYLIGHT
TZOFFSETFROM:-0700
TZOFFSETTO:-0600
TZNAME:MDT
DTSTART:20220313T090000
END:DAYLIGHT
BEGIN:STANDARD
TZOFFSETFROM:-0600
TZOFFSETTO:-0700
TZNAME:MST
DTSTART:20221106T080000
END:STANDARD
BEGIN:DAYLIGHT
TZOFFSETFROM:-0700
TZOFFSETTO:-0600
TZNAME:MDT
DTSTART:20230312T090000
END:DAYLIGHT
BEGIN:STANDARD
TZOFFSETFROM:-0600
TZOFFSETTO:-0700
TZNAME:MST
DTSTART:20231105T080000
END:STANDARD
END:VTIMEZONE
BEGIN:VEVENT
DTSTART;TZID=America/Denver:20221102T100000
DTEND;TZID=America/Denver:20221102T103000
DTSTAMP:20260421T061559
CREATED:20220907T191141Z
LAST-MODIFIED:20220907T204500Z
UID:248703-1667383200-1667385000@gatewayassociation.ca
SUMMARY:Family Resource Centre (FRC) Info Session
DESCRIPTION:
URL:https://gatewayassociation.ca/calendar/frc-information-session/
CATEGORIES:FRC
END:VEVENT
BEGIN:VEVENT
DTSTART;TZID=America/Denver:20221102T100000
DTEND;TZID=America/Denver:20221102T120000
DTSTAMP:20260421T061559
CREATED:20220915T184537Z
LAST-MODIFIED:20220915T184537Z
UID:248921-1667383200-1667390400@gatewayassociation.ca
SUMMARY:Work Simulation\, Week 3
DESCRIPTION:Oct 18th to Nov 24rd – This is a 6-week course. \nClasses are on Tues to Thurs for 2 hours per session \nIncrease your digital and social skills\, as you work in a team to build a website for an imaginary company. This is a tech-based work simulation\, where learners are ‘hired’ into positions at an imaginary tech company and work together to build a website for a simulated client. \nThis course covers basic: internet vocabulary\, web design\, and use of google apps while giving you experience with working on a team\, engaging with peers\, and giving presentations. Learn to design and build a website\, create and give presentations\, and practice your interview skills. \nTo learn more or to register\, please connect with us at GetDigital@GatewayAssociation.ca
URL:https://gatewayassociation.ca/calendar/work-simulation-week-3-3/
END:VEVENT
BEGIN:VEVENT
DTSTART;TZID=America/Denver:20221102T150000
DTEND;TZID=America/Denver:20221102T163000
DTSTAMP:20260421T061559
CREATED:20221019T140719Z
LAST-MODIFIED:20221019T140719Z
UID:248979-1667401200-1667406600@gatewayassociation.ca
SUMMARY:OSC Boardgames
DESCRIPTION:**Requires Online Social Connections – Discord and Steam Tutorials as well as desktop or laptop computer.** \n\nCome hang out! Learn about setting up online accounts\, meet new friends\, socialize\, and have fun playing boardgames online. Meet new friends\, practise new skills\, have fun! \nFor questions and to register\, please connect with us at GetDigital@GatewayAssociation.ca
URL:https://gatewayassociation.ca/calendar/osc-boardgames-12/
END:VEVENT
BEGIN:VEVENT
DTSTART;TZID=America/Denver:20221103T100000
DTEND;TZID=America/Denver:20221103T110000
DTSTAMP:20260421T061559
CREATED:20221019T141147Z
LAST-MODIFIED:20221019T141147Z
UID:248987-1667469600-1667473200@gatewayassociation.ca
SUMMARY:Discord Tutorial
DESCRIPTION:Step by step tutorial for downloading and installing Discord – a free app that lets people chat using text\, voice or video. Discord is required for Online boardgames group. \nFor questions and to register\, please connect with us at GetDigital@GatewayAssociation.ca
URL:https://gatewayassociation.ca/calendar/discord-tutorial-7/
END:VEVENT
BEGIN:VEVENT
DTSTART;TZID=America/Denver:20221103T100000
DTEND;TZID=America/Denver:20221103T120000
DTSTAMP:20260421T061559
CREATED:20220915T175325Z
LAST-MODIFIED:20220915T175325Z
UID:248859-1667469600-1667476800@gatewayassociation.ca
SUMMARY:Work Simulation\, Week 3
DESCRIPTION:Oct 18th to Nov 24rd – This is a 6-week course. \nClasses are on Tues to Thurs for 2 hours per session \nIncrease your digital and social skills\, as you work in a team to build a website for an imaginary company. This is a tech-based work simulation\, where learners are ‘hired’ into positions at an imaginary tech company and work together to build a website for a simulated client. \nThis course covers basic: internet vocabulary\, web design\, and use of google apps while giving you experience with working on a team\, engaging with peers\, and giving presentations. Learn to design and build a website\, create and give presentations\, and practice your interview skills. \nTo learn more or to register\, please connect with us at GetDigital@GatewayAssociation.ca
URL:https://gatewayassociation.ca/calendar/work-simulation-week-3-2/
END:VEVENT
BEGIN:VEVENT
DTSTART;TZID=America/Denver:20221103T110000
DTEND;TZID=America/Denver:20221103T120000
DTSTAMP:20260421T061559
CREATED:20221019T160027Z
LAST-MODIFIED:20221019T160027Z
UID:249042-1667473200-1667476800@gatewayassociation.ca
SUMMARY:Kibbi Job Searching App with founder\, Hong Phuc Nguyen
DESCRIPTION:In this workshop\, Hong will share the app\, Kibbi\, that she created to help eliminate barriers to job searching. \nFor questions and to register\, please connect with Jasmine@GatewayAssociation.ca
URL:https://gatewayassociation.ca/calendar/kibbi-job-searching-app-with-founder-hong-phuc-nguyen/
CATEGORIES:ERC
END:VEVENT
BEGIN:VEVENT
DTSTART;TZID=America/Denver:20221103T130000
DTEND;TZID=America/Denver:20221103T140000
DTSTAMP:20260421T061559
CREATED:20221019T141308Z
LAST-MODIFIED:20221019T141308Z
UID:248989-1667480400-1667484000@gatewayassociation.ca
SUMMARY:Explore Canva
DESCRIPTION:Let your imagination be your guide as you create your own posters\, flyers\, cards\, videos\, and more to share information important to you. \nTo register and for any questions\, please connect with us at GetWork@GatewayAssociation.ca
URL:https://gatewayassociation.ca/calendar/explore-canva-13/
END:VEVENT
BEGIN:VEVENT
DTSTART;TZID=America/Denver:20221103T180000
DTEND;TZID=America/Denver:20221103T193000
DTSTAMP:20260421T061559
CREATED:20221019T135327Z
LAST-MODIFIED:20221028T151945Z
UID:248971-1667498400-1667503800@gatewayassociation.ca
SUMMARY:Right to Love Part 1
DESCRIPTION:Right to Love  \nHonest conversations on care\, consent\, barriers and boundaries   \nthrough the lens of disability and confronting ablism.   \nHosted by Heath Birkholz with special guests \nRegister HERE
URL:https://gatewayassociation.ca/calendar/right-to-love-part-1/
END:VEVENT
BEGIN:VEVENT
DTSTART;TZID=America/Denver:20221103T180000
DTEND;TZID=America/Denver:20221103T200000
DTSTAMP:20260421T061559
CREATED:20220907T171803Z
LAST-MODIFIED:20220907T171821Z
UID:248682-1667498400-1667505600@gatewayassociation.ca
SUMMARY:Visioning and Planning for Families with Youth 13-15 Years Old Session 4 of 4
DESCRIPTION:Visioning and Planning for Families with Youth 13-15 Years Old Session 4 of 4 \n6pm – 8pm | Zoom \nA 4-part workshop series that empowers families of 13-15 year-olds with disabilities with knowledge\, resources\, and more. \nJoin our 4-part workshop series that engages families in discussions for their 13-15 year olds with developmental disabilities with knowledge\, resources\, and a sense of direction for the future. \nWe will touch on a variety of topics including values and belonging in the community\, visioning and planning\, various transitions during junior high school\, navigating various systems age appropriate for families \nFor accommodation requirements\, please don’t hesitate to reach out to Kristina@GatewayAssociation.ca for assistance
URL:https://gatewayassociation.ca/calendar/248682/
CATEGORIES:FRC
END:VEVENT
BEGIN:VEVENT
DTSTART;TZID=America/Denver:20221103T180000
DTEND;TZID=America/Denver:20221103T210000
DTSTAMP:20260421T061559
CREATED:20220907T192430Z
LAST-MODIFIED:20220907T192437Z
UID:248705-1667498400-1667509200@gatewayassociation.ca
SUMMARY:Transition Planning for Adulthood 4 part series: Session 1 of 4
DESCRIPTION:Transition Planning for Adulthood 4 part series       \nThursdays \nNovember 3 \nNovember 10 \nNovember 17 \nNovember 24 \n6pm – 9pm | Zoom \nA 4-part workshop series exploring the critical transition to adulthood for 16-20 year-olds and how to create a plan for the future. \nJoin our 4-part workshop series that engages families in building knowledge when navigating this critical time for 16-20 year olds. \nThis workshop series includes topics on: life transitions\, valued roles in the community\, visioning and planning\, and navigating the systems. \nNote: All four workshops must be taken consecutively. \nFor accommodation requirements\, please reach out to Yonique@GatewayAssociation.ca for assistance
URL:https://gatewayassociation.ca/calendar/transition-planning-for-adulthood-4-part-series-session-1-of-4/
CATEGORIES:FRC
END:VEVENT
BEGIN:VEVENT
DTSTART;TZID=America/Denver:20221107T110000
DTEND;TZID=America/Denver:20221107T120000
DTSTAMP:20260421T061559
CREATED:20221019T141501Z
LAST-MODIFIED:20221019T141501Z
UID:248991-1667818800-1667822400@gatewayassociation.ca
SUMMARY:Google Docs Series (1/4)
DESCRIPTION:This is a 4 part series \nIn this workshop series\, Participants will create their own google account\, learn to navigate google drive\, and keep their drives organized. Through a series of activities\, Learners will practice creating and sharing google documents\, explore the tools provided to help them write\, edit\, comment and chat. This workshop covers the Basics of google drive and google docs\, as well as file organization\, sharing\, and commenting. \nFor questions and to register\, please connect with us at GetDigital@GatewayAssociation.ca
URL:https://gatewayassociation.ca/calendar/google-docs-series-1-4/
END:VEVENT
BEGIN:VEVENT
DTSTART;TZID=America/Denver:20221107T130000
DTEND;TZID=America/Denver:20221107T140000
DTSTAMP:20260421T061559
CREATED:20221019T141833Z
LAST-MODIFIED:20221019T141833Z
UID:248999-1667826000-1667829600@gatewayassociation.ca
SUMMARY:Look Stuff Up Online Series (1/4)
DESCRIPTION:This is a 4 part series \nThis workshop series helps learners find\, share\, and explore things online through a series of fun activities. Participants will use different google map features to find their way around town\, share their favourite places\, plan a vacation\, and compare different search engines. As a group\, learners will chat about fake news\, investigate stories on Snopes\, and chat about the media we take in everyday. \nFor questions and to register\, please connect with us at GetDigital@GatewayAssociation.ca
URL:https://gatewayassociation.ca/calendar/look-stuff-up-online-series-1-4-3/
END:VEVENT
BEGIN:VEVENT
DTSTART;TZID=America/Denver:20221108T100000
DTEND;TZID=America/Denver:20221108T110000
DTSTAMP:20260421T061559
CREATED:20221019T142935Z
LAST-MODIFIED:20221019T142935Z
UID:249007-1667901600-1667905200@gatewayassociation.ca
SUMMARY:Email Level 2 - Extra Practice
DESCRIPTION:**For participants who have completed Email Basics\, and would like more practice** \nA session for participants who have take the Email Basics session and would like more practice in writing professional emails for their job search and workplace communication \nFor questions and to register\, please connect with us at GetDigital@GatewayAssociation.ca
URL:https://gatewayassociation.ca/calendar/email-level-2-extra-practice/
END:VEVENT
BEGIN:VEVENT
DTSTART;TZID=America/Denver:20221108T100000
DTEND;TZID=America/Denver:20221108T120000
DTSTAMP:20260421T061559
CREATED:20220915T175726Z
LAST-MODIFIED:20220915T175726Z
UID:248861-1667901600-1667908800@gatewayassociation.ca
SUMMARY:Work Simulation\, Week 4
DESCRIPTION:Oct 18th to Nov 24rd – This is a 6-week course. \nClasses are on Tues to Thurs for 2 hours per session \nIncrease your digital and social skills\, as you work in a team to build a website for an imaginary company. This is a tech-based work simulation\, where learners are ‘hired’ into positions at an imaginary tech company and work together to build a website for a simulated client. \nThis course covers basic: internet vocabulary\, web design\, and use of google apps while giving you experience with working on a team\, engaging with peers\, and giving presentations. Learn to design and build a website\, create and give presentations\, and practice your interview skills. \nTo learn more or to register\, please connect with us at GetDigital@GatewayAssociation.ca
URL:https://gatewayassociation.ca/calendar/work-simulation-week-4/
END:VEVENT
BEGIN:VEVENT
DTSTART;TZID=America/Denver:20221108T110000
DTEND;TZID=America/Denver:20221108T120000
DTSTAMP:20260421T061559
CREATED:20221019T141546Z
LAST-MODIFIED:20221019T141546Z
UID:248993-1667905200-1667908800@gatewayassociation.ca
SUMMARY:Google Docs Series (2/4)
DESCRIPTION:This is a 4 part series \nIn this workshop series\, Participants will create their own google account\, learn to navigate google drive\, and keep their drives organized. Through a series of activities\, Learners will practice creating and sharing google documents\, explore the tools provided to help them write\, edit\, comment and chat. This workshop covers the Basics of google drive and google docs\, as well as file organization\, sharing\, and commenting. \nFor questions and to register\, please connect with us at GetDigital@GatewayAssociation.ca
URL:https://gatewayassociation.ca/calendar/google-docs-series-2-4/
END:VEVENT
BEGIN:VEVENT
DTSTART;TZID=America/Denver:20221108T130000
DTEND;TZID=America/Denver:20221108T140000
DTSTAMP:20260421T061559
CREATED:20221019T133656Z
LAST-MODIFIED:20221019T133656Z
UID:248959-1667912400-1667916000@gatewayassociation.ca
SUMMARY:Finding Your Purpose - Career Exploration
DESCRIPTION:In this workshop\, we will discuss how considering own interests and abilities along with researching job market trends and income can yield success and job satisfaction. \nTo register or for any accommodation needs\, please connect with us at Get-Work@GatewayAssociation.ca
URL:https://gatewayassociation.ca/calendar/finding-your-purpose-career-exploration-4/
CATEGORIES:ERC
END:VEVENT
BEGIN:VEVENT
DTSTART;TZID=America/Denver:20221108T130000
DTEND;TZID=America/Denver:20221108T140000
DTSTAMP:20260421T061559
CREATED:20221019T141912Z
LAST-MODIFIED:20221019T141912Z
UID:249001-1667912400-1667916000@gatewayassociation.ca
SUMMARY:Look Stuff Up Online Series (2/4)
DESCRIPTION:This is a 4 part series \nThis workshop series helps learners find\, share\, and explore things online through a series of fun activities. Participants will use different google map features to find their way around town\, share their favourite places\, plan a vacation\, and compare different search engines. As a group\, learners will chat about fake news\, investigate stories on Snopes\, and chat about the media we take in everyday. \nFor questions and to register\, please connect with us at GetDigital@GatewayAssociation.ca
URL:https://gatewayassociation.ca/calendar/look-stuff-up-online-series-2-4-4/
END:VEVENT
BEGIN:VEVENT
DTSTART;TZID=America/Denver:20221108T190000
DTEND;TZID=America/Denver:20221108T210000
DTSTAMP:20260421T061559
CREATED:20220907T193408Z
LAST-MODIFIED:20220907T193408Z
UID:248715-1667934000-1667941200@gatewayassociation.ca
SUMMARY:Families Forward\, Under 18
DESCRIPTION:Families Forward\, Under 18 \nTuesday\, November 8 \n7pm – 9pm | Zoom \nMonthly meeting for families with children under 18 with disabilities. \nWhere families can connect with other families\, learn from one another\, and explore issues that are important\, such as schooling\, leadership\, and community and government support. \nFor any accommodation requirements\, please contact Stacy@GatewayAssociation.ca for assistance
URL:https://gatewayassociation.ca/calendar/families-forward-under-18-2/
CATEGORIES:FRC
END:VEVENT
BEGIN:VEVENT
DTSTART;TZID=America/Denver:20221109T100000
DTEND;TZID=America/Denver:20221109T120000
DTSTAMP:20260421T061559
CREATED:20220915T184607Z
LAST-MODIFIED:20220915T184607Z
UID:248923-1667988000-1667995200@gatewayassociation.ca
SUMMARY:Work Simulation\, Week 4
DESCRIPTION:Oct 18th to Nov 24rd – This is a 6-week course. \nClasses are on Tues to Thurs for 2 hours per session \nIncrease your digital and social skills\, as you work in a team to build a website for an imaginary company. This is a tech-based work simulation\, where learners are ‘hired’ into positions at an imaginary tech company and work together to build a website for a simulated client. \nThis course covers basic: internet vocabulary\, web design\, and use of google apps while giving you experience with working on a team\, engaging with peers\, and giving presentations. Learn to design and build a website\, create and give presentations\, and practice your interview skills. \nTo learn more or to register\, please connect with us at GetDigital@GatewayAssociation.ca
URL:https://gatewayassociation.ca/calendar/work-simulation-week-4-3/
END:VEVENT
BEGIN:VEVENT
DTSTART;TZID=America/Denver:20221109T110000
DTEND;TZID=America/Denver:20221109T120000
DTSTAMP:20260421T061559
CREATED:20221019T141615Z
LAST-MODIFIED:20221019T141615Z
UID:248995-1667991600-1667995200@gatewayassociation.ca
SUMMARY:Google Docs Series (3/4)
DESCRIPTION:This is a 4 part series \nIn this workshop series\, Participants will create their own google account\, learn to navigate google drive\, and keep their drives organized. Through a series of activities\, Learners will practice creating and sharing google documents\, explore the tools provided to help them write\, edit\, comment and chat. This workshop covers the Basics of google drive and google docs\, as well as file organization\, sharing\, and commenting. \nFor questions and to register\, please connect with us at GetDigital@GatewayAssociation.ca
URL:https://gatewayassociation.ca/calendar/google-docs-series-3-4/
END:VEVENT
BEGIN:VEVENT
DTSTART;TZID=America/Denver:20221109T130000
DTEND;TZID=America/Denver:20221109T140000
DTSTAMP:20260421T061559
CREATED:20221019T142106Z
LAST-MODIFIED:20221019T142106Z
UID:249003-1667998800-1668002400@gatewayassociation.ca
SUMMARY:Look Stuff Up Online Series (3/4)
DESCRIPTION:This is a 4 part series \nThis workshop series helps learners find\, share\, and explore things online through a series of fun activities. Participants will use different google map features to find their way around town\, share their favourite places\, plan a vacation\, and compare different search engines. As a group\, learners will chat about fake news\, investigate stories on Snopes\, and chat about the media we take in everyday. \nFor questions and to register\, please connect with us at GetDigital@GatewayAssociation.ca
URL:https://gatewayassociation.ca/calendar/look-stuff-up-online-series-3-4-2/
END:VEVENT
BEGIN:VEVENT
DTSTART;TZID=America/Denver:20221109T150000
DTEND;TZID=America/Denver:20221109T163000
DTSTAMP:20260421T061559
CREATED:20221019T140810Z
LAST-MODIFIED:20221019T140810Z
UID:248981-1668006000-1668011400@gatewayassociation.ca
SUMMARY:OSC Boardgames
DESCRIPTION:**Requires Online Social Connections – Discord and Steam Tutorials as well as desktop or laptop computer.** \nCome hang out! Learn about setting up online accounts\, meet new friends\, socialize\, and have fun playing boardgames online. Meet new friends\, practise new skills\, have fun! \nFor questions and to register\, please connect with us at GetDigital@GatewayAssociation.ca
URL:https://gatewayassociation.ca/calendar/osc-boardgames-13/
END:VEVENT
BEGIN:VEVENT
DTSTART;TZID=America/Denver:20221110T100000
DTEND;TZID=America/Denver:20221110T120000
DTSTAMP:20260421T061559
CREATED:20220915T175754Z
LAST-MODIFIED:20220915T175754Z
UID:248863-1668074400-1668081600@gatewayassociation.ca
SUMMARY:Work Simulation\, Week 4
DESCRIPTION:Oct 18th to Nov 24rd – This is a 6-week course. \nClasses are on Tues to Thurs for 2 hours per session \nIncrease your digital and social skills\, as you work in a team to build a website for an imaginary company. This is a tech-based work simulation\, where learners are ‘hired’ into positions at an imaginary tech company and work together to build a website for a simulated client. \nThis course covers basic: internet vocabulary\, web design\, and use of google apps while giving you experience with working on a team\, engaging with peers\, and giving presentations. Learn to design and build a website\, create and give presentations\, and practice your interview skills. \nTo learn more or to register\, please connect with us at GetDigital@GatewayAssociation.ca
URL:https://gatewayassociation.ca/calendar/work-simulation-week-4-2/
END:VEVENT
BEGIN:VEVENT
DTSTART;TZID=America/Denver:20221110T110000
DTEND;TZID=America/Denver:20221110T120000
DTSTAMP:20260421T061559
CREATED:20221019T141643Z
LAST-MODIFIED:20221019T141643Z
UID:248997-1668078000-1668081600@gatewayassociation.ca
SUMMARY:Google Doc Series (4/4)
DESCRIPTION:This is a 4 part series \nIn this workshop series\, Participants will create their own google account\, learn to navigate google drive\, and keep their drives organized. Through a series of activities\, Learners will practice creating and sharing google documents\, explore the tools provided to help them write\, edit\, comment and chat. This workshop covers the Basics of google drive and google docs\, as well as file organization\, sharing\, and commenting. \nFor questions and to register\, please connect with us at GetDigital@GatewayAssociation.ca
URL:https://gatewayassociation.ca/calendar/google-doc-series-4-4/
END:VEVENT
BEGIN:VEVENT
DTSTART;TZID=America/Denver:20221110T130000
DTEND;TZID=America/Denver:20221110T140000
DTSTAMP:20260421T061559
CREATED:20221019T133812Z
LAST-MODIFIED:20221019T133812Z
UID:248961-1668085200-1668088800@gatewayassociation.ca
SUMMARY:Growth Mindset: Resiliency in Job Search
DESCRIPTION:Growth Mindset – Resiliency in Job Search  \nJob search can be a long and daunting process for many. This workshop will help individuals create a positive and persistent mindset along with tips on how to stay motivated \n  \nTo register and for any accommodation needs\, please connect with us at Get-Work@GatewayAssociation.ca
URL:https://gatewayassociation.ca/calendar/growth-mindset-resiliency-in-job-search-2/
CATEGORIES:ERC
END:VEVENT
BEGIN:VEVENT
DTSTART;TZID=America/Denver:20221110T130000
DTEND;TZID=America/Denver:20221110T140000
DTSTAMP:20260421T061559
CREATED:20221019T142214Z
LAST-MODIFIED:20221019T142214Z
UID:249005-1668085200-1668088800@gatewayassociation.ca
SUMMARY:Look Stuff Up Online Series (4/4)
DESCRIPTION:This is a 4 part series \nThis workshop series helps learners find\, share\, and explore things online through a series of fun activities. Participants will use different google map features to find their way around town\, share their favourite places\, plan a vacation\, and compare different search engines. As a group\, learners will chat about fake news\, investigate stories on Snopes\, and chat about the media we take in everyday. \nFor questions and to register\, please connect with us at GetDigital@GatewayAssociation.ca
URL:https://gatewayassociation.ca/calendar/look-stuff-up-online-series-4-4-3/
END:VEVENT
BEGIN:VEVENT
DTSTART;TZID=America/Denver:20221110T140000
DTEND;TZID=America/Denver:20221110T150000
DTSTAMP:20260421T061559
CREATED:20221019T135504Z
LAST-MODIFIED:20221019T135504Z
UID:248973-1668088800-1668092400@gatewayassociation.ca
SUMMARY:Passion Session Series #1
DESCRIPTION:Everyone has a passion or talent that they find themselves attracted to from time to time. From knitting and video games to podcasting and hot sauce. What if you want to turn your passion into a business? Join Rabia in a series of workshops where we discuss the basics of what goes on into starting a business and how you can turn your skills into a source of income.  \n  \nWorkshop 1: In this introductory workshop we will have an open discussion on what passion or talent can be and share what we are all interested in. From mainstream ideas to rad\, out of the box ones – share what makes you\, YOU! We will also discuss how to harness our interests and passions into something we are proud of and want to share with the world as well as go over some examples of folks who have turned their passions into a business. \n  \nRegister here: https://forms.gle/JR1mUTG4qBy4fjiB9
URL:https://gatewayassociation.ca/calendar/passion-session-series-1/
END:VEVENT
BEGIN:VEVENT
DTSTART;TZID=America/Denver:20221110T180000
DTEND;TZID=America/Denver:20221110T210000
DTSTAMP:20260421T061559
CREATED:20220907T192549Z
LAST-MODIFIED:20220907T192549Z
UID:248708-1668103200-1668114000@gatewayassociation.ca
SUMMARY:Transition Planning for Adulthood 4 part series: Session 2 of 4
DESCRIPTION:Transition Planning for Adulthood 4 part series: Part 2 of 4      \nThursdays \nNovember 3 \nNovember 10 \nNovember 17 \nNovember 24 \n6pm – 9pm | Zoom \nA 4-part workshop series exploring the critical transition to adulthood for 16-20 year-olds and how to create a plan for the future. \nJoin our 4-part workshop series that engages families in building knowledge when navigating this critical time for 16-20 year olds. \nThis workshop series includes topics on: life transitions\, valued roles in the community\, visioning and planning\, and navigating the systems. \nNote: All four workshops must be taken consecutively. \nFor accommodation requirements\, please reach out to Yonique@GatewayAssociation.ca for assistance
URL:https://gatewayassociation.ca/calendar/transition-planning-for-adulthood-4-part-series-session-2-of-4/
CATEGORIES:FRC
END:VEVENT
BEGIN:VEVENT
DTSTART;TZID=America/Denver:20221114T110000
DTEND;TZID=America/Denver:20221114T120000
DTSTAMP:20260421T061559
CREATED:20221019T143155Z
LAST-MODIFIED:20221019T143155Z
UID:249009-1668423600-1668427200@gatewayassociation.ca
SUMMARY:ePortfolio Series (1/4)
DESCRIPTION:Learners will work on their own between classes. In the eportfolio workshop\, participants will learn about the different types of portfolios\, how to use google sites\, and the basics of layout and design. Learners will choose the type of portfolio they want to build and the subject they want to focus on. They will select and add content to their sites along with descriptions\, statements about their motivation\, interests\, skills\, and hobbies. \nFor questions and to register\, please connect with us at GetDigital@GatewayAssociation.ca
URL:https://gatewayassociation.ca/calendar/eportfolio-series-1-4-5/
END:VEVENT
BEGIN:VEVENT
DTSTART;TZID=America/Denver:20221114T130000
DTEND;TZID=America/Denver:20221114T140000
DTSTAMP:20260421T061559
CREATED:20221019T144002Z
LAST-MODIFIED:20221019T144002Z
UID:249017-1668430800-1668434400@gatewayassociation.ca
SUMMARY:LinkedIn Learning
DESCRIPTION:***Requires an active library membership.** \nExplore LinkedIn website as a group\, learn how to: create an account\, search for course\, save and organize courses\, and customize your profile. \nFor questions and to register\, please connect with us at GetDigital@GatewayAssociation.ca
URL:https://gatewayassociation.ca/calendar/linkedin-learning-10/
END:VEVENT
END:VCALENDAR