BEGIN:VCALENDAR
VERSION:2.0
PRODID:-//Gateway Association - ECPv6.15.20//NONSGML v1.0//EN
CALSCALE:GREGORIAN
METHOD:PUBLISH
X-ORIGINAL-URL:https://gatewayassociation.ca
X-WR-CALDESC:Events for Gateway Association
REFRESH-INTERVAL;VALUE=DURATION:PT1H
X-Robots-Tag:noindex
X-PUBLISHED-TTL:PT1H
BEGIN:VTIMEZONE
TZID:America/Denver
BEGIN:DAYLIGHT
TZOFFSETFROM:-0700
TZOFFSETTO:-0600
TZNAME:MDT
DTSTART:20220313T090000
END:DAYLIGHT
BEGIN:STANDARD
TZOFFSETFROM:-0600
TZOFFSETTO:-0700
TZNAME:MST
DTSTART:20221106T080000
END:STANDARD
BEGIN:DAYLIGHT
TZOFFSETFROM:-0700
TZOFFSETTO:-0600
TZNAME:MDT
DTSTART:20230312T090000
END:DAYLIGHT
BEGIN:STANDARD
TZOFFSETFROM:-0600
TZOFFSETTO:-0700
TZNAME:MST
DTSTART:20231105T080000
END:STANDARD
BEGIN:DAYLIGHT
TZOFFSETFROM:-0700
TZOFFSETTO:-0600
TZNAME:MDT
DTSTART:20240310T090000
END:DAYLIGHT
BEGIN:STANDARD
TZOFFSETFROM:-0600
TZOFFSETTO:-0700
TZNAME:MST
DTSTART:20241103T080000
END:STANDARD
END:VTIMEZONE
BEGIN:VEVENT
DTSTART;TZID=America/Denver:20231118T090000
DTEND;TZID=America/Denver:20231118T120000
DTSTAMP:20260419T230727
CREATED:20230720T183003Z
LAST-MODIFIED:20230720T183104Z
UID:250967-1700298000-1700308800@gatewayassociation.ca
SUMMARY:Understanding Disability (covering 3 different sessions)
DESCRIPTION:Understanding Disability \nSaturday\, November 18 \n9:00am – 12:00pm | Online \n  \nUnderstanding Disability workshop covers 3 part series: \n  \nUnderstanding Disability in Alberta \nA workshop for those who would like information about disability and initial government programs that can be accessed in Alberta. \nThis workshop is for caregivers and professionals to gain knowledge and bring awareness about services that support those with disabilities in Alberta. \n  \nUnderstanding Disability in the Transitioning Years \nA workshop that provides an overview of supports available to youth who are transitioning to adulthood. \nThis workshop is for caregivers and professionals who are supporting a young person who is transitioning to adulthood to think about their future in the community and access the right support. \n  \nUnderstanding Disability: Community Resources \nA workshop that explores community and government resources for adults with disabilities. \nThis workshop is for caregivers and professionals who are supporting an adult with a disability to ensure the proper supports are accessed for them to live a good life. The workshop will empower participants with the knowledge they need to begin planning for adulthood and seniorhood. \n  \nFacilitators: Yonique at Yonique@GatewayAssociation.ca and Shelley (facilitator) & Shelley@GatewayAssociation.ca \nRegister HERE
URL:https://gatewayassociation.ca/calendar/understanding-disability-covering-3-different-sessions/
CATEGORIES:FRC
END:VEVENT
BEGIN:VEVENT
DTSTART;TZID=America/Denver:20231120T130000
DTEND;TZID=America/Denver:20231120T140000
DTSTAMP:20260419T230727
CREATED:20230817T155801Z
LAST-MODIFIED:20230817T155801Z
UID:251358-1700485200-1700488800@gatewayassociation.ca
SUMMARY:You TOO Can YouTube (1 of 4)
DESCRIPTION:Session: 1 of 4 \nDuration: 1 hr \nFacilitator: Toby \nPrivate – GTDI Program intake required prior to workshop: getdigital@gatewayassociation.ca \n\nLearn about being a YouTube viewer and a YouTube creator. Find out how to make your own YouTube Channel and what to consider when you are choosing videos to watch. Create YouTube content\, learn about what to consider when watching videos as well as how to save and organize videos.
URL:https://gatewayassociation.ca/calendar/you-too-can-youtube-1-of-4-4/
END:VEVENT
BEGIN:VEVENT
DTSTART;TZID=America/Denver:20231120T150000
DTEND;TZID=America/Denver:20231120T163000
DTSTAMP:20260419T230727
CREATED:20231004T235545Z
LAST-MODIFIED:20231109T214946Z
UID:251525-1700492400-1700497800@gatewayassociation.ca
SUMMARY:Open Art Studio
DESCRIPTION:HOUSING IS A HUMAN RIGHT!\n\n(Online) Each month will include a different creative prompt or approach to art-making that aims to inspire your inner artist and bring us together in creativity; documenting the everyday ideas and experiences of persons with disabilities. All levels and abilities welcome! Register at getdigital@gatewayassociation.ca\nDraw\, paint\, write\, move\, sing\, explore -with your own art supplies at home\n \nTo sign up\, please connect with us at GetDigital@GatewayAssociation.ca
URL:https://gatewayassociation.ca/calendar/open-art-studio-3/
END:VEVENT
BEGIN:VEVENT
DTSTART;TZID=America/Denver:20231120T190000
DTEND;TZID=America/Denver:20231120T210000
DTSTAMP:20260419T230727
CREATED:20230720T170953Z
LAST-MODIFIED:20230803T143612Z
UID:250914-1700506800-1700514000@gatewayassociation.ca
SUMMARY:Families Forward\, Financial Resources
DESCRIPTION:Families Forward\, Financial Resources \nMonday\, November 20 \n7:00pm – 9:00pm | Online \n  \nMonthly meeting where families can connect with other families\, learn from one another\, and explore financial resources. \nFacilitators: Fiona at Fiona@GatewayAssociation.ca and Jacquie at Jacquie@Jacquie@GatewayAssociation.ca \n  \nRegister HERE 
URL:https://gatewayassociation.ca/calendar/families-forward-financial-resources-3/
CATEGORIES:FRC
END:VEVENT
BEGIN:VEVENT
DTSTART;TZID=America/Denver:20231121T100000
DTEND;TZID=America/Denver:20231121T113000
DTSTAMP:20260419T230727
CREATED:20230817T155144Z
LAST-MODIFIED:20230817T155144Z
UID:251340-1700560800-1700566200@gatewayassociation.ca
SUMMARY:Build a Website Series (1 of 9)
DESCRIPTION:Session: 1 of 9 \nDuration: 1.5 hours \nFacilitator: Lee \nPrivate – GTDI Program intake required prior to workshop: getdigital@gatewayassociation.ca \n\nBuild a Website is Part 3 of the Work Simulation. Completion of Part 1: Internet Basics\, and Part 2: Social Media Basics is recommended prior to taking this 3 week course. \nClasses are on Tues to Thurs for 1.5 hours per session. \nIncrease your digital and social media skills\, as you work in a team to build a website for an imaginary company. This is a tech-based work simulation\, where learners are ‘hired’ into positions at an imaginary tech company and work together to build a website for a simulated client. \nThis course covers basic: use of internet vocabulary and social media\, as well as web design while giving you experience with working on a team\, engaging with peers\, and giving presentations. Learn to design and build a website\, create and give presentations\, and practice your teamwork skills.
URL:https://gatewayassociation.ca/calendar/build-a-website-series-1-of-9-2/
END:VEVENT
BEGIN:VEVENT
DTSTART;TZID=America/Denver:20231121T130000
DTEND;TZID=America/Denver:20231121T140000
DTSTAMP:20260419T230727
CREATED:20231005T035023Z
LAST-MODIFIED:20231005T035023Z
UID:251543-1700571600-1700575200@gatewayassociation.ca
SUMMARY:Workplace Communication 102 - Conflict Resolution
DESCRIPTION:Workplace Communication 102 – Conflict Resolution \nONLINE \nWorkplace Communication is made up of many essential skills\, including how to deal with conflict.  Conflict can be difficult to navigate and hard to understand.  In this workshop\, we will talk about conflict in the workplace and learn strategies to resolve conflict \nTo register\, please connect with us at Get-Work@GatewayAssociation.ca
URL:https://gatewayassociation.ca/calendar/workplace-communication-102-conflict-resolution-2/
CATEGORIES:ERC
END:VEVENT
BEGIN:VEVENT
DTSTART;TZID=America/Denver:20231121T130000
DTEND;TZID=America/Denver:20231121T143000
DTSTAMP:20260419T230727
CREATED:20230817T155842Z
LAST-MODIFIED:20230817T155842Z
UID:251360-1700571600-1700577000@gatewayassociation.ca
SUMMARY:You TOO Can YouTube (2 of 4)
DESCRIPTION:Session: 2 of 4 \nDuration: 1 hr \nFacilitator: Toby \nPrivate – GTDI Program intake required prior to workshop: getdigital@gatewayassociation.ca \n\nLearn about being a YouTube viewer and a YouTube creator. Find out how to make your own YouTube Channel and what to consider when you are choosing videos to watch. Create YouTube content\, learn about what to consider when watching videos as well as how to save and organize videos.
URL:https://gatewayassociation.ca/calendar/you-too-can-youtube-2-of-4-4/
END:VEVENT
BEGIN:VEVENT
DTSTART;TZID=America/Denver:20231122T100000
DTEND;TZID=America/Denver:20231122T113000
DTSTAMP:20260419T230727
CREATED:20230817T155227Z
LAST-MODIFIED:20230817T155227Z
UID:251342-1700647200-1700652600@gatewayassociation.ca
SUMMARY:Build a Website Series (2 of 9)
DESCRIPTION:Session: 2 of 9 \nDuration: 1.5 hours \nFacilitator: Lee \nPrivate – GTDI Program intake required prior to workshop: getdigital@gatewayassociation.ca \n\nBuild a Website is Part 3 of the Work Simulation. Completion of Part 1: Internet Basics\, and Part 2: Social Media Basics is recommended prior to taking this 3 week course. \nClasses are on Tues to Thurs for 1.5 hours per session. \nIncrease your digital and social media skills\, as you work in a team to build a website for an imaginary company. This is a tech-based work simulation\, where learners are ‘hired’ into positions at an imaginary tech company and work together to build a website for a simulated client. \nThis course covers basic: use of internet vocabulary and social media\, as well as web design while giving you experience with working on a team\, engaging with peers\, and giving presentations. Learn to design and build a website\, create and give presentations\, and practice your teamwork skills.
URL:https://gatewayassociation.ca/calendar/build-a-website-series-2-of-9-2/
END:VEVENT
BEGIN:VEVENT
DTSTART;TZID=America/Denver:20231122T100000
DTEND;TZID=America/Denver:20231122T150000
DTSTAMP:20260419T230727
CREATED:20231024T173625Z
LAST-MODIFIED:20231024T173625Z
UID:251628-1700647200-1700665200@gatewayassociation.ca
SUMMARY:DROP IN WEDNESDAYS at Calgary Employment Resource Centre
DESCRIPTION:DROP IN Wednesdays at the Calgary Employment Resource Centre \nFor job seekers\, each Wednesday drop in any time between 10am and 3pm to connect with ERC team members to work on resumes\, interview skills\, job search and meet other job seekers! \n1206 20 AVE SE \nCalgary\, AB
URL:https://gatewayassociation.ca/calendar/drop-in-wednesdays-at-calgary-employment-resource-centre/
CATEGORIES:ERC
END:VEVENT
BEGIN:VEVENT
DTSTART;TZID=America/Denver:20231122T130000
DTEND;TZID=America/Denver:20231122T140000
DTSTAMP:20260419T230727
CREATED:20230817T155924Z
LAST-MODIFIED:20230817T155924Z
UID:251362-1700658000-1700661600@gatewayassociation.ca
SUMMARY:You TOO Can YouTube (3 of 4)
DESCRIPTION:Session: 3 of 4 \nDuration: 1 hr \nFacilitator: Toby \nPrivate – GTDI Program intake required prior to workshop: getdigital@gatewayassociation.ca \n\nLearn about being a YouTube viewer and a YouTube creator. Find out how to make your own YouTube Channel and what to consider when you are choosing videos to watch. Create YouTube content\, learn about what to consider when watching videos as well as how to save and organize videos.
URL:https://gatewayassociation.ca/calendar/you-too-can-youtube-3-of-4-4/
END:VEVENT
BEGIN:VEVENT
DTSTART;TZID=America/Denver:20231122T143000
DTEND;TZID=America/Denver:20231122T153000
DTSTAMP:20260419T230727
CREATED:20230817T160046Z
LAST-MODIFIED:20230817T160046Z
UID:251366-1700663400-1700667000@gatewayassociation.ca
SUMMARY:File Management and PDFs (1 of 2)
DESCRIPTION:Session 1 of 2 \nDuration 1 hr \nFacilitator: Toby \nPrivate – GTDI Program intake required prior to workshop: getdigital@gatewayassociation.ca \n\nIn this workshop participants will learn about saving files\, organizing and finding files\, converting documents to pdfs\, what a is pdf\, and how to use pdfs.
URL:https://gatewayassociation.ca/calendar/file-management-and-pdfs-1-of-2-2/
END:VEVENT
BEGIN:VEVENT
DTSTART;TZID=America/Denver:20231122T150000
DTEND;TZID=America/Denver:20231122T163000
DTSTAMP:20260419T230727
CREATED:20231004T234810Z
LAST-MODIFIED:20231004T234810Z
UID:251520-1700665200-1700670600@gatewayassociation.ca
SUMMARY:Online Boardgames
DESCRIPTION:Session: 1 of 1 \nDuration: 1.5 to 2 hr \nFacilitator: Lee \nPrivate – GTDI Program intake required prior to workshop signup: getdigital@gatewayassociation.ca \n\n**Requires Online Social Connections – Discord and Steam Tutorials as well as desktop or laptop computer.** \nCome hang out! Learn about setting up online accounts\, meet new friends\, socialize\, and have fun playing boardgames online. Meet new friends\, practise new skills\, have fun!
URL:https://gatewayassociation.ca/calendar/online-boardgames-25/
END:VEVENT
BEGIN:VEVENT
DTSTART;TZID=America/Denver:20231122T180000
DTEND;TZID=America/Denver:20231122T210000
DTSTAMP:20260419T230727
CREATED:20230720T183709Z
LAST-MODIFIED:20230720T183709Z
UID:250969-1700676000-1700686800@gatewayassociation.ca
SUMMARY:Persons with Developmental Disabilities (PDD) 101
DESCRIPTION:Persons with Developmental Disabilities (PDD) 101 \nWednesday\, November 22 \n6:00pm  – 9:00pm | Online \n  \nThis workshop is an introduction to\, and overview of\, PDD for those who may be eligible. \nYou will gain an understanding of the PDD program\, options available for service provision\, and information to determine the best supports for your family. \n  \nFacilitator: Miriam at miriam@gatewayassociation.ca \nRegister HERE
URL:https://gatewayassociation.ca/calendar/persons-with-developmental-disabilities-pdd-101-7/
CATEGORIES:FRC
END:VEVENT
BEGIN:VEVENT
DTSTART;TZID=America/Denver:20231123T100000
DTEND;TZID=America/Denver:20231123T113000
DTSTAMP:20260419T230727
CREATED:20230817T155306Z
LAST-MODIFIED:20230817T155306Z
UID:251344-1700733600-1700739000@gatewayassociation.ca
SUMMARY:Build a Website Series (3 of 9)
DESCRIPTION:Session: 3 of 9 \nDuration: 1.5 hours \nFacilitator: Lee \nPrivate – GTDI Program intake required prior to workshop: getdigital@gatewayassociation.ca \n\nBuild a Website is Part 3 of the Work Simulation. Completion of Part 1: Internet Basics\, and Part 2: Social Media Basics is recommended prior to taking this 3 week course. \nClasses are on Tues to Thurs for 1.5 hours per session. \nIncrease your digital and social media skills\, as you work in a team to build a website for an imaginary company. This is a tech-based work simulation\, where learners are ‘hired’ into positions at an imaginary tech company and work together to build a website for a simulated client. \nThis course covers basic: use of internet vocabulary and social media\, as well as web design while giving you experience with working on a team\, engaging with peers\, and giving presentations. Learn to design and build a website\, create and give presentations\, and practice your teamwork skills.
URL:https://gatewayassociation.ca/calendar/build-a-website-series-3-of-9-2/
END:VEVENT
BEGIN:VEVENT
DTSTART;TZID=America/Denver:20231123T130000
DTEND;TZID=America/Denver:20231123T140000
DTSTAMP:20260419T230727
CREATED:20230816T193341Z
LAST-MODIFIED:20230816T193341Z
UID:251283-1700744400-1700748000@gatewayassociation.ca
SUMMARY:Workplace Expectations
DESCRIPTION:Workplace Expectations \nYou’ve got the job\, now you must keep it! Talking about the everyday behaviors that are appropriate in the workplace: \n\nshowing up on time\nhow long is too long for socializing with coworkers\nbreaks – what does this mean\nmotivation and engagement\n\nOnline or In-Person: ONLINE \nTo register\, please connect with us at Get-Work@GatewayAssociation.ca
URL:https://gatewayassociation.ca/calendar/workplace-expectations-10/
CATEGORIES:ERC
END:VEVENT
BEGIN:VEVENT
DTSTART;TZID=America/Denver:20231123T130000
DTEND;TZID=America/Denver:20231123T140000
DTSTAMP:20260419T230727
CREATED:20230817T160002Z
LAST-MODIFIED:20230817T160002Z
UID:251364-1700744400-1700748000@gatewayassociation.ca
SUMMARY:You TOO Can YouTube (4 of 4)
DESCRIPTION:Session: 4 of 4 \nDuration: 1 hr \nFacilitator: Toby \nPrivate – GTDI Program intake required prior to workshop: getdigital@gatewayassociation.ca \n\nLearn about being a YouTube viewer and a YouTube creator. Find out how to make your own YouTube Channel and what to consider when you are choosing videos to watch. Create YouTube content\, learn about what to consider when watching videos as well as how to save and organize videos.
URL:https://gatewayassociation.ca/calendar/you-too-can-youtube-4-of-4-4/
END:VEVENT
BEGIN:VEVENT
DTSTART;TZID=America/Denver:20231123T143000
DTEND;TZID=America/Denver:20231123T153000
DTSTAMP:20260419T230727
CREATED:20230817T160124Z
LAST-MODIFIED:20230817T160124Z
UID:251368-1700749800-1700753400@gatewayassociation.ca
SUMMARY:File Management and PDFs (2 of 2)
DESCRIPTION:Session 2 of 2 \nDuration 1 hr \nFacilitator: Toby \nPrivate – GTDI Program intake required prior to workshop: getdigital@gatewayassociation.ca \n\nIn this workshop participants will learn about saving files\, organizing and finding files\, converting documents to pdfs\, what a is pdf\, and how to use pdfs.
URL:https://gatewayassociation.ca/calendar/file-management-and-pdfs-2-of-2-3/
END:VEVENT
BEGIN:VEVENT
DTSTART;TZID=America/Denver:20231124T180000
DTEND;TZID=America/Denver:20231124T210000
DTSTAMP:20260419T230727
CREATED:20230720T184144Z
LAST-MODIFIED:20230720T193038Z
UID:250971-1700848800-1700859600@gatewayassociation.ca
SUMMARY:Transition Planning for Adulthood Weekend Blitz ( Day 1)
DESCRIPTION:Transition Planning for Adulthood Weekend Blitz \nFriday\, November 24 – 6:00-9:00pm | Hybrid \nSaturday\, November 25 – 9:00am-3:00pm | Hybrid \n  \nHYBRID EVENT: Choose to attend in-person or online \n  \nA weekend blitz exploring the critical transition to adulthood for 14-20 year-olds and how to create a plan for the future.  \nJoin our 3-part workshop series that engages families in building knowledge when navigating this critical time for 14-20 year olds. \nThis workshop series includes topics on: life transitions\, valued roles in the community\, visioning and planning\, and navigating the systems.  \n  \nBoth days must be attended to receive a certificate. \n  \nFacilitators: Yonique at Yonique@GatewayAssociation.ca and Shelley at Shelley@GatewayAssociation.ca \nRegister HERE
URL:https://gatewayassociation.ca/calendar/transition-planning-for-adulthood-weekend-blitz-3/
CATEGORIES:FRC
END:VEVENT
BEGIN:VEVENT
DTSTART;TZID=America/Denver:20231125T090000
DTEND;TZID=America/Denver:20231125T150000
DTSTAMP:20260419T230727
CREATED:20230720T193350Z
LAST-MODIFIED:20230720T193542Z
UID:250974-1700902800-1700924400@gatewayassociation.ca
SUMMARY:Transition Planning for Adulthood Weekend Blitz (Day 2)
DESCRIPTION:Transition Planning for Adulthood Weekend Blitz \nFriday\, November 24 – 6:00-9:00pm | Hybrid \nSaturday\, November 25 – 9:00am-3:00pm | Hybrid \n  \nHYBRID EVENT: Choose to attend in-person or online \n  \nA weekend blitz exploring the critical transition to adulthood for 14-20 year-olds and how to create a plan for the future.  \nJoin our 3-part workshop series that engages families in building knowledge when navigating this critical time for 14-20 year olds. \nThis workshop series includes topics on: life transitions\, valued roles in the community\, visioning and planning\, and navigating the systems.  \n  \nBoth days must be attended to receive a certificate. \n  \nFacilitators: Yonique at Yonique@GatewayAssociation.ca and Shelley at Shelley@GatewayAssociation.ca \nRegister HERE
URL:https://gatewayassociation.ca/calendar/transition-planning-for-adulthood-weekend-blitz-day-2/
CATEGORIES:FRC
END:VEVENT
BEGIN:VEVENT
DTSTART;TZID=America/Denver:20231127T110000
DTEND;TZID=America/Denver:20231127T120000
DTSTAMP:20260419T230727
CREATED:20230817T160612Z
LAST-MODIFIED:20230817T160612Z
UID:251372-1701082800-1701086400@gatewayassociation.ca
SUMMARY:Email Basics
DESCRIPTION:Session: 1 of 1 \nDuration: 1 hr \nFacilitator: Lee \nPrivate – GTDI Program intake required prior to workshop: getdigital@gatewayassociation.ca \n\nLearn about and practice the basics of writing professional emails for your job search and workplace communication.
URL:https://gatewayassociation.ca/calendar/email-basics-35/
END:VEVENT
BEGIN:VEVENT
DTSTART;TZID=America/Denver:20231127T130000
DTEND;TZID=America/Denver:20231127T140000
DTSTAMP:20260419T230727
CREATED:20230817T160651Z
LAST-MODIFIED:20230817T160651Z
UID:251374-1701090000-1701093600@gatewayassociation.ca
SUMMARY:LinkedIn Profiles (1 of 3)
DESCRIPTION:Session: 1 of 3 \nDuration: 1 hr \nFacilitator: Toby \nPrivate – GTDI Program intake required prior to workshop: getdigital@gatewayassociation.ca \n\nBuild your own LinkedIn profile! Share your skills\, goals\, and experiences\, create job alerts\, and grow your online network.
URL:https://gatewayassociation.ca/calendar/linkedin-profiles-1-of-3-3/
END:VEVENT
BEGIN:VEVENT
DTSTART;TZID=America/Denver:20231128T100000
DTEND;TZID=America/Denver:20231128T113000
DTSTAMP:20260419T230727
CREATED:20230817T155401Z
LAST-MODIFIED:20230817T155401Z
UID:251346-1701165600-1701171000@gatewayassociation.ca
SUMMARY:Build a Website Series (4 of 9)
DESCRIPTION:Session: 4 of 9 \nDuration: 1.5 hours \nFacilitator: Lee \nPrivate – GTDI Program intake required prior to workshop: getdigital@gatewayassociation.ca \n\nBuild a Website is Part 3 of the Work Simulation. Completion of Part 1: Internet Basics\, and Part 2: Social Media Basics is recommended prior to taking this 3 week course. \nClasses are on Tues to Thurs for 1.5 hours per session. \nIncrease your digital and social media skills\, as you work in a team to build a website for an imaginary company. This is a tech-based work simulation\, where learners are ‘hired’ into positions at an imaginary tech company and work together to build a website for a simulated client. \nThis course covers basic: use of internet vocabulary and social media\, as well as web design while giving you experience with working on a team\, engaging with peers\, and giving presentations. Learn to design and build a website\, create and give presentations\, and practice your teamwork skills.
URL:https://gatewayassociation.ca/calendar/build-a-website-series-4-of-9-2/
END:VEVENT
BEGIN:VEVENT
DTSTART;TZID=America/Denver:20231128T130000
DTEND;TZID=America/Denver:20231128T140000
DTSTAMP:20260419T230727
CREATED:20230817T160725Z
LAST-MODIFIED:20230817T160725Z
UID:251376-1701176400-1701180000@gatewayassociation.ca
SUMMARY:LinkedIn Profiles (2 of 3)
DESCRIPTION:Session: 2 of 3 \nDuration: 1 hr \nFacilitator: Toby \nPrivate – GTDI Program intake required prior to workshop: getdigital@gatewayassociation.ca \n\nBuild your own LinkedIn profile! Share your skills\, goals\, and experiences\, create job alerts\, and grow your online network.
URL:https://gatewayassociation.ca/calendar/linkedin-profiles-2-of-3-3/
END:VEVENT
BEGIN:VEVENT
DTSTART;TZID=America/Denver:20231129T100000
DTEND;TZID=America/Denver:20231129T113000
DTSTAMP:20260419T230727
CREATED:20230817T155442Z
LAST-MODIFIED:20230817T155442Z
UID:251348-1701252000-1701257400@gatewayassociation.ca
SUMMARY:Build a Website Series (5 of 9)
DESCRIPTION:Session: 5 of 9 \nDuration: 1.5 hours \nFacilitator: Lee \nPrivate – GTDI Program intake required prior to workshop: getdigital@gatewayassociation.ca \n\nBuild a Website is Part 3 of the Work Simulation. Completion of Part 1: Internet Basics\, and Part 2: Social Media Basics is recommended prior to taking this 3 week course. \nClasses are on Tues to Thurs for 1.5 hours per session. \nIncrease your digital and social media skills\, as you work in a team to build a website for an imaginary company. This is a tech-based work simulation\, where learners are ‘hired’ into positions at an imaginary tech company and work together to build a website for a simulated client. \nThis course covers basic: use of internet vocabulary and social media\, as well as web design while giving you experience with working on a team\, engaging with peers\, and giving presentations. Learn to design and build a website\, create and give presentations\, and practice your teamwork skills.
URL:https://gatewayassociation.ca/calendar/build-a-website-series-5-of-9-2/
END:VEVENT
BEGIN:VEVENT
DTSTART;TZID=America/Denver:20231129T100000
DTEND;TZID=America/Denver:20231129T150000
DTSTAMP:20260419T230727
CREATED:20231024T173701Z
LAST-MODIFIED:20231024T173701Z
UID:251630-1701252000-1701270000@gatewayassociation.ca
SUMMARY:DROP IN WEDNESDAYS at Calgary Employment Resource Centre
DESCRIPTION:DROP IN Wednesdays at the Calgary Employment Resource Centre \nFor job seekers\, each Wednesday drop in any time between 10am and 3pm to connect with ERC team members to work on resumes\, interview skills\, job search and meet other job seekers! \n1206 20 AVE SE \nCalgary\, AB
URL:https://gatewayassociation.ca/calendar/drop-in-wednesdays-at-calgary-employment-resource-centre-2/
CATEGORIES:ERC
END:VEVENT
BEGIN:VEVENT
DTSTART;TZID=America/Denver:20231129T130000
DTEND;TZID=America/Denver:20231129T140000
DTSTAMP:20260419T230727
CREATED:20230817T160757Z
LAST-MODIFIED:20230817T160757Z
UID:251378-1701262800-1701266400@gatewayassociation.ca
SUMMARY:LinkedIn Profiles (3 of 3)
DESCRIPTION:Session: 3 of 3 \nDuration: 1 hr \nFacilitator: Toby \nPrivate – GTDI Program intake required prior to workshop: getdigital@gatewayassociation.ca \n\nBuild your own LinkedIn profile! Share your skills\, goals\, and experiences\, create job alerts\, and grow your online network.
URL:https://gatewayassociation.ca/calendar/linkedin-profiles-3-of-3-3/
END:VEVENT
BEGIN:VEVENT
DTSTART;TZID=America/Denver:20231129T150000
DTEND;TZID=America/Denver:20231129T163000
DTSTAMP:20260419T230727
CREATED:20230817T160914Z
LAST-MODIFIED:20231004T235222Z
UID:251382-1701270000-1701275400@gatewayassociation.ca
SUMMARY:Online Boardgames
DESCRIPTION:Session: 1 of 1 \nDuration: 1.5 to 2 hr \nFacilitator: Lee \nPrivate – GTDI Program intake required prior to workshop signup: getdigital@gatewayassociation.ca \n**Requires Online Social Connections – Discord and Steam Tutorials as well as desktop or laptop computer.** \nCome hang out! Learn about setting up online accounts\, meet new friends\, socialize\, and have fun playing boardgames online. Meet new friends\, practise new skills\, have fun!
URL:https://gatewayassociation.ca/calendar/online-boardgames-22/
END:VEVENT
BEGIN:VEVENT
DTSTART;TZID=America/Denver:20231129T180000
DTEND;TZID=America/Denver:20231129T210000
DTSTAMP:20260419T230727
CREATED:20230720T193717Z
LAST-MODIFIED:20230720T193717Z
UID:250976-1701280800-1701291600@gatewayassociation.ca
SUMMARY:More Than Just A Job (FMS)
DESCRIPTION:More Than Just A Job (FMS) \nWednesday\, November 29 \n6:00pm – 9:00pm | Online \n  \nA workshop for Family Managed Services staff to help identify and incorporate personal values in their work with persons with disabilities. \nThis workshop\, for Family Managed Services (FMS) staff\, will help you identify your values and how they apply to your work in supporting others. \n  \nFacilitator: Miriam at Miriam@GatewayAssociation.ca \nRegister HERE
URL:https://gatewayassociation.ca/calendar/more-than-just-a-job-fms-2/
CATEGORIES:FRC
END:VEVENT
BEGIN:VEVENT
DTSTART;TZID=America/Denver:20231130T100000
DTEND;TZID=America/Denver:20231130T113000
DTSTAMP:20260419T230727
CREATED:20230817T155522Z
LAST-MODIFIED:20230817T155522Z
UID:251350-1701338400-1701343800@gatewayassociation.ca
SUMMARY:Build a Website Series (6 of 9)
DESCRIPTION:Session: 6 of 9 \nDuration: 1.5 hours \nFacilitator: Lee \nPrivate – GTDI Program intake required prior to workshop: getdigital@gatewayassociation.ca \n\nBuild a Website is Part 3 of the Work Simulation. Completion of Part 1: Internet Basics\, and Part 2: Social Media Basics is recommended prior to taking this 3 week course. \nClasses are on Tues to Thurs for 1.5 hours per session. \nIncrease your digital and social media skills\, as you work in a team to build a website for an imaginary company. This is a tech-based work simulation\, where learners are ‘hired’ into positions at an imaginary tech company and work together to build a website for a simulated client. \nThis course covers basic: use of internet vocabulary and social media\, as well as web design while giving you experience with working on a team\, engaging with peers\, and giving presentations. Learn to design and build a website\, create and give presentations\, and practice your teamwork skills.
URL:https://gatewayassociation.ca/calendar/build-a-website-series-6-of-9-2/
END:VEVENT
BEGIN:VEVENT
DTSTART;TZID=America/Denver:20231130T100000
DTEND;TZID=America/Denver:20231130T120000
DTSTAMP:20260419T230727
CREATED:20230816T193500Z
LAST-MODIFIED:20230816T193526Z
UID:251285-1701338400-1701345600@gatewayassociation.ca
SUMMARY:Interview Roundtable: Learning and Laughing Together - Practice
DESCRIPTION:Interview Roundtable: Learning and Laughing Together – Practice \nJoin us for a dynamic and interactive workshop designed to help you ace your next job interview. In our Interview Roundtable\, you’ll have the opportunity to connect with fellow job seekers and share your experiences and insights. Our experienced facilitators will guide you through real-life interview scenarios and help you develop the skills and confidence you need to succeed. \nSpots are limited. To register\, please e-mail Marnie@gatewayassociation.ca. Registration will be first-come first-serve. \nOnline or In-Person: IN-PERSON – YYC
URL:https://gatewayassociation.ca/calendar/251285/
CATEGORIES:ERC
END:VEVENT
END:VCALENDAR