BEGIN:VCALENDAR
VERSION:2.0
PRODID:-//Gateway Association - ECPv6.15.20//NONSGML v1.0//EN
CALSCALE:GREGORIAN
METHOD:PUBLISH
X-ORIGINAL-URL:https://gatewayassociation.ca
X-WR-CALDESC:Events for Gateway Association
REFRESH-INTERVAL;VALUE=DURATION:PT1H
X-Robots-Tag:noindex
X-PUBLISHED-TTL:PT1H
BEGIN:VTIMEZONE
TZID:America/Denver
BEGIN:DAYLIGHT
TZOFFSETFROM:-0700
TZOFFSETTO:-0600
TZNAME:MDT
DTSTART:20230312T090000
END:DAYLIGHT
BEGIN:STANDARD
TZOFFSETFROM:-0600
TZOFFSETTO:-0700
TZNAME:MST
DTSTART:20231105T080000
END:STANDARD
BEGIN:DAYLIGHT
TZOFFSETFROM:-0700
TZOFFSETTO:-0600
TZNAME:MDT
DTSTART:20240310T090000
END:DAYLIGHT
BEGIN:STANDARD
TZOFFSETFROM:-0600
TZOFFSETTO:-0700
TZNAME:MST
DTSTART:20241103T080000
END:STANDARD
BEGIN:DAYLIGHT
TZOFFSETFROM:-0700
TZOFFSETTO:-0600
TZNAME:MDT
DTSTART:20250309T090000
END:DAYLIGHT
BEGIN:STANDARD
TZOFFSETFROM:-0600
TZOFFSETTO:-0700
TZNAME:MST
DTSTART:20251102T080000
END:STANDARD
BEGIN:DAYLIGHT
TZOFFSETFROM:-0700
TZOFFSETTO:-0600
TZNAME:MDT
DTSTART:20260308T090000
END:DAYLIGHT
BEGIN:STANDARD
TZOFFSETFROM:-0600
TZOFFSETTO:-0700
TZNAME:MST
DTSTART:20261101T080000
END:STANDARD
END:VTIMEZONE
BEGIN:VEVENT
DTSTART;TZID=America/Denver:20241217T130000
DTEND;TZID=America/Denver:20241217T140000
DTSTAMP:20260421T094910
CREATED:20241113T181844Z
LAST-MODIFIED:20241113T182029Z
UID:254246-1734440400-1734444000@gatewayassociation.ca
SUMMARY:Dealing With Job Search Over The Holidays
DESCRIPTION:Dealing With Job Search Over The Holidays\nIn-Person in both Edmonton and Calgary offices \nAs Gateway prepares to close for winter break\, we want to make sure folks are prepared for what they can do to make sure they are on track for job searching while the office is closed. So come on down to the office to get some tips and tricks on job searching over the holidays!\n\nTo learn more and register\, please connect with us at Get-Work@GatewayAssociation.ca
URL:https://gatewayassociation.ca/calendar/dealing-with-job-search-over-the-holidays/
CATEGORIES:ERC
END:VEVENT
BEGIN:VEVENT
DTSTART;TZID=America/Denver:20241218T140000
DTEND;TZID=America/Denver:20241218T150000
DTSTAMP:20260421T094910
CREATED:20241107T175118Z
LAST-MODIFIED:20241107T175118Z
UID:254216-1734530400-1734534000@gatewayassociation.ca
SUMMARY:Industry Information Session: Careers with Elections Canada
DESCRIPTION:Industry Information Session: Careers with Elections Canada\nMentorAbility Alberta is offering ongoing FREE interactive Industry Information Sessions! These information sessions give participants the opportunity to learn more about prospective industries\, recruitment requirements and qualifications\, and the next steps they may need to take to achieve their employment goals. \nEvery federal election\, Elections Canada becomes the largest employer in Canada by hiring more than 200\,000 people to work at the polls. You are officially invited to the Elections Canada virtual session happening on the 18th of Dec from 1pm to 2pm overviewing the programs and tools in place to reduce barriers to working at a general federal election. By the end of this session\, we hope you will feel confident applying to work at the polls during a federal election and support diverse Canadians in exercising their democratic right to vote. \nElections Canada’s mission is to ensure that Canadians can exercise their democratic rights to vote and be a candidate. Research shows that some electors\, including youth\, new Canadians\, electors with disabilities and Indigenous electors\, face barriers to participating in elections. These barriers can include not knowing the ways to register and vote\, or how to work at an election or run as a candidate. Through the Inspire Democracy program\, Elections Canada works with a network of partner organizations to share key information and hold workshops for people who face barriers to participating in elections. \nThis event is offered to all MentorAbility participants – so if you are a job seeker who experiences disability-related barriers to employment or a supportive employment service provider who wants to learn more about the industry\, this event is for you! \nIf we can offer any accommodations during the event to make your participation easier or answer any questions you have about the event ahead of time\, please contact jamie@gatewayassociation.ca after you register to discuss. \nThis event will be recorded. \nREGISTER HERE
URL:https://gatewayassociation.ca/calendar/industry-information-session-careers-with-elections-canada/
CATEGORIES:ERC,MentorAbility Alberta
END:VEVENT
BEGIN:VEVENT
DTSTART;TZID=America/Denver:20241218T140000
DTEND;TZID=America/Denver:20241218T180000
DTSTAMP:20260421T094910
CREATED:20241113T182236Z
LAST-MODIFIED:20241113T182236Z
UID:254248-1734530400-1734544800@gatewayassociation.ca
SUMMARY:Gateway Calgary's Festive Open House!
DESCRIPTION:You’re Invited to Gateway Calgary’s Festive Open House! \nAs this year is coming to a close\, we find ourselves reflecting on the strength of our community and the joy that working together brings. We appreciate you\, the energy and time you share\, your bright ideas\, your optimism\, and how you show up for the community. \nWe’d love to show our appreciation in the way we know best\, coming together for some good times and cheer! \nJoin the Gateway community on December 18 anytime between 2:00 – 6:00 pm for our Festive Open House. \nLet’s wrap up the year in a good way\, with old and new friends\, refreshments and merrymaking.\nGateway Association\, 1206 20 Avenue SE (Inside Work Nicer Coworking) \nDecember 18\, 2024 from 2:00 – 6:00 pm \nReach out to get-work@gatewayassociation.ca with any questions \n️ When: December 18th\, 2 – 6:00pm\n Where: Gateway Association Calgary – 1206 20 Ave SE \n What: Festive refreshments\, connecting and getting into the holiday spirit! \nWe hope to see you there! \nRegister HERE \nIf you have questions\, conerns or for any accommodations\, please connect with us at get-work@gatewatassociation.ca
URL:https://gatewayassociation.ca/calendar/gateway-calgarys-festive-open-house/
CATEGORIES:ERC
END:VEVENT
BEGIN:VEVENT
DTSTART;TZID=America/Denver:20250107T130000
DTEND;TZID=America/Denver:20250107T140000
DTSTAMP:20260421T094910
CREATED:20241217T161647Z
LAST-MODIFIED:20241217T161705Z
UID:254383-1736254800-1736258400@gatewayassociation.ca
SUMMARY:Finding Your Purpose
DESCRIPTION:Finding Your Purpose \n\n\nAre you wondering what your purpose is? Stuck and not sure where to go? Then we have a workshop for you! Come join us for self exploration and learning. We will talk about what people need in life to grow and how we can access those resources. As well\, we will explore a personality test and leave the workshop with a deeper understanding of who we are and where we would like to go!  \n\n\nOnline or In-Person: ONLINE 
URL:https://gatewayassociation.ca/calendar/finding-your-purpose-14/
CATEGORIES:ERC
END:VEVENT
BEGIN:VEVENT
DTSTART;TZID=America/Denver:20250108T100000
DTEND;TZID=America/Denver:20250108T150000
DTSTAMP:20260421T094910
CREATED:20241217T205908Z
LAST-MODIFIED:20241217T210120Z
UID:254413-1736330400-1736348400@gatewayassociation.ca
SUMMARY:YYC Drop-In Wednesdays
DESCRIPTION:For registered participants – Join us every Wednesday from 10 AM to 3 PM for our open drop-in sessions. Whether you’re exploring career options\, updating your resume\, practicing for interviews\, or navigating the job search process\, our friendly team is ready to support you. \nNo appointment needed—just drop in! Let’s work together to take the next step in your employment journey. \nWhere: Gateway Association Calgary Office\nWhen: Wednesdays\, 10 AM – 3 PM
URL:https://gatewayassociation.ca/calendar/yyc-drop-in-wednesdays/
CATEGORIES:ERC
END:VEVENT
BEGIN:VEVENT
DTSTART;TZID=America/Denver:20250108T130000
DTEND;TZID=America/Denver:20250108T140000
DTSTAMP:20260421T094910
CREATED:20241216T213117Z
LAST-MODIFIED:20241216T213117Z
UID:254323-1736341200-1736344800@gatewayassociation.ca
SUMMARY:Google Photos: Basics ( 1 of 2)
DESCRIPTION:Google Photos: Basics\nSession: 1 of 2  \nDuration: 1 hr   \nFacilitator: Toby  \nPrivate – GTDI Program intake required prior to workshop: getdigital@gatewayassociation.ca  \n  \nIn this workshop we will look at using Google Photos for storage\, management\, and sharing of photos. We will talk about Google Photos on different device types and tools for privacy management. Please note: This workshop does NOT cover photo editing.
URL:https://gatewayassociation.ca/calendar/google-photos-basics-1-of-2/
END:VEVENT
BEGIN:VEVENT
DTSTART;TZID=America/Denver:20250108T143000
DTEND;TZID=America/Denver:20250108T163000
DTSTAMP:20260421T094910
CREATED:20241216T213323Z
LAST-MODIFIED:20241216T213323Z
UID:254327-1736346600-1736353800@gatewayassociation.ca
SUMMARY:Online Boardgames
DESCRIPTION:Online Boardgames\nSession: 1 of 1 \nDuration: 1.5 to 2 hr \nFacilitator: Lee \nPrivate – GTDI Program intake required prior to workshop signup: getdigital@gatewayassociation.ca \n\n**Requires Online Social Connections – Discord and Steam Tutorials as well as desktop or laptop computer.** \nCome hang out! Learn about setting up online accounts\, meet new friends\, socialize\, and have fun playing boardgames online. Meet new friends\, practise new skills\, have fun!
URL:https://gatewayassociation.ca/calendar/online-boardgames-65/
END:VEVENT
BEGIN:VEVENT
DTSTART;TZID=America/Denver:20250108T183000
DTEND;TZID=America/Denver:20250108T203000
DTSTAMP:20260421T094910
CREATED:20241105T193135Z
LAST-MODIFIED:20241105T193135Z
UID:254089-1736361000-1736368200@gatewayassociation.ca
SUMMARY:Families Forward
DESCRIPTION:Families Forward  \nWednesday\, January 8 \n6:30 pm – 8:30 pm | Online \n  \nJoin us for an information session  with Carlos Pereira from Norquest College\n \nIs it too early to start thinking about the future and post secondary education for my child?\n \n“It is my hope to not only reach out to adult learners about our Data Analytics and Business Intelligence for Autistic/Neurodiverse Individuals\, but to also reach out to parents of young children. The purpose of reaching out to parents is to provide hope\, start creating a vision (path) for their children so they can begin preparations to meet the entry requirements. The goal is to prepare in advance so that their children can end up with a realistic opportunity to attain meaningful employment.” ~ Carlos Pereira \nRegister HERE \n\n\n\nQuestions? Contact Stacy at stacy@GatewayAssociation.ca
URL:https://gatewayassociation.ca/calendar/families-forward-4/
CATEGORIES:FRC
END:VEVENT
BEGIN:VEVENT
DTSTART;TZID=America/Denver:20250109T110000
DTEND;TZID=America/Denver:20250109T120000
DTSTAMP:20260421T094910
CREATED:20241216T213604Z
LAST-MODIFIED:20241216T213604Z
UID:254333-1736420400-1736424000@gatewayassociation.ca
SUMMARY:Email Basics
DESCRIPTION:Email Basics\nSession: 1 of 1  \nDuration: 1 hr   \nFacilitator: Lee  \nPrivate – GTDI Program intake required prior to workshop: getdigital@gatewayassociation.ca  \n  \nLearn about and practice the basics of writing professional emails for your job search and workplace communication. 
URL:https://gatewayassociation.ca/calendar/email-basics-47/
END:VEVENT
BEGIN:VEVENT
DTSTART;TZID=America/Denver:20250109T130000
DTEND;TZID=America/Denver:20250109T140000
DTSTAMP:20260421T094910
CREATED:20241216T213224Z
LAST-MODIFIED:20241216T213224Z
UID:254325-1736427600-1736431200@gatewayassociation.ca
SUMMARY:Google Photos: Basics (2 of 2)
DESCRIPTION:Google Photos: Basics\nSession: 2 of 2  \nDuration: 1 hr   \nFacilitator: Toby  \nPrivate – GTDI Program intake required prior to workshop: getdigital@gatewayassociation.ca  \n  \nIn this workshop we will look at using Google Photos for storage\, management\, and sharing of photos. We will talk about Google Photos on different device types and tools for privacy management. Please note: This workshop does NOT cover photo editing.
URL:https://gatewayassociation.ca/calendar/google-photos-basics-2-of-2/
END:VEVENT
BEGIN:VEVENT
DTSTART;TZID=America/Denver:20250109T130000
DTEND;TZID=America/Denver:20250109T140000
DTSTAMP:20260421T094910
CREATED:20241217T161806Z
LAST-MODIFIED:20241217T161806Z
UID:254386-1736427600-1736431200@gatewayassociation.ca
SUMMARY: Mindset Matters: Boost Your Job Search! 
DESCRIPTION:Mindset Matters: Boost Your Job Search! \n\n\nDescription: As offered in Career360 in October\, this workshop will help you build a positive mindset to improve your job search. Learn how to overcome self-doubt and embrace challenges. Whether you’re starting fresh or changing careers\, discover how the right mindset can lead you to success!  \n\n\nOnline or In-Person: Online – Zoom 
URL:https://gatewayassociation.ca/calendar/mindset-matters-boost-your-job-search-2/
CATEGORIES:ERC
END:VEVENT
BEGIN:VEVENT
DTSTART;TZID=America/Denver:20250113T110000
DTEND;TZID=America/Denver:20250113T120000
DTSTAMP:20260421T094910
CREATED:20241216T213647Z
LAST-MODIFIED:20241216T213647Z
UID:254335-1736766000-1736769600@gatewayassociation.ca
SUMMARY:Google Drive (1 of 2)
DESCRIPTION:Google Drive\nSession: 1 of 2  \nDuration: 1  hr  \nFacilitator: Lee   \nPrivate – GTDI Program intake required prior to workshop: getdigital@gatewayassociation.ca  \n  \nLearn how to create a google accounts\, access google drive\, upload files\, create folders\, search for files. Group discussion on cloud storage\, strong passwords\, file naming conventions and keeping documents and folders organized.  
URL:https://gatewayassociation.ca/calendar/google-drive-1-of-2-19/
END:VEVENT
BEGIN:VEVENT
DTSTART;TZID=America/Denver:20250113T130000
DTEND;TZID=America/Denver:20250113T140000
DTSTAMP:20260421T094910
CREATED:20241216T214500Z
LAST-MODIFIED:20241216T214500Z
UID:254343-1736773200-1736776800@gatewayassociation.ca
SUMMARY:Zoom Basics
DESCRIPTION:Zoom Basics\nSession: 1 of 1 \nDuration: 1 hr \nFacilitator: Toby \nPrivate – GTDI Program intake required prior to workshop: getdigital@gatewayassociation.ca \n\nLearn what you need to know to participate in online Zoom meetings. Explore all the cool features of the program\, practice your digital skills and build your zoom social skills.
URL:https://gatewayassociation.ca/calendar/zoom-basics-33/
END:VEVENT
BEGIN:VEVENT
DTSTART;TZID=America/Denver:20250113T150000
DTEND;TZID=America/Denver:20250113T160000
DTSTAMP:20260421T094910
CREATED:20241216T214538Z
LAST-MODIFIED:20241216T214538Z
UID:254345-1736780400-1736784000@gatewayassociation.ca
SUMMARY:LinkedIn Learning
DESCRIPTION:LinkedIn Learning\nSession 1 of 1  \nDuration 1 hr   \nFacilitator: Toby  \nPrivate – GTDI Program intake required prior to workshop: getdigital@gatewayassociation.ca  \n  \n***Requires an active library membership.**  \nExplore LinkedIn website as a group\, learn how to: create an account\, search for course\, save and organize courses\, and customize your profile.  
URL:https://gatewayassociation.ca/calendar/linkedin-learning-29/
END:VEVENT
BEGIN:VEVENT
DTSTART;TZID=America/Denver:20250113T163000
DTEND;TZID=America/Denver:20250113T173000
DTSTAMP:20260421T094910
CREATED:20241217T161926Z
LAST-MODIFIED:20241217T185654Z
UID:254388-1736785800-1736789400@gatewayassociation.ca
SUMMARY:Edmonton Employment Resource Centre Information Session
DESCRIPTION:Edmonton Employment Resource Centre Information Session\nJoin Gateway Association for a virtual Employment Resource Centre information session. \nThis session is for job seekers with disability or mental health-based barriers to learn about how Gateway Association can support you with achieving your employment goals! \nLearn about individualized supports and group workshops that will help you with: \n\nCareer development and action plans\nResume building\nInterview skills\nWorkplace communication\nOnboarding and training\nJob search and finding the right job for you\nKeeping your job!\nAND much more!\n\nFor additional accommodations or questions\, please connect with us at employment@gatewayassociation.ca \nRegister HERE
URL:https://gatewayassociation.ca/calendar/edmonton-employment-resource-centre-information-session-6/
CATEGORIES:ERC
END:VEVENT
BEGIN:VEVENT
DTSTART;TZID=America/Denver:20250113T180000
DTEND;TZID=America/Denver:20250113T190000
DTSTAMP:20260421T094910
CREATED:20241105T193245Z
LAST-MODIFIED:20241105T193245Z
UID:254091-1736791200-1736794800@gatewayassociation.ca
SUMMARY:FSCD 101
DESCRIPTION:FSCD 101\nMonday\, January 13 \n6:00 pm – 7:00 pm | Online \n  \nFSCD 101 is an introduction to the Family Support for Children with Disabilities (FSCD) program. \nThe presentation will support families with understanding how to utilize their FSCD agreement and is intended for families that have received their first FSCD agreement. \nPrior to attending the session\, it would be helpful for families to review the Family Package\, sent to you by the Family Support Services (FSS) team\, as we will be referencing this document throughout the session. \nTopics we will be going over include: \n\nthe different types of services and supports\nreviewing an example agreement\nrecords-keeping and invoicing requirements\nand more.\n\n  \nREGISTER HERE \nQuestions? Jacquie (Facilitator) at Jacquie@gatewayassociation.ca
URL:https://gatewayassociation.ca/calendar/fscd-101-12/
CATEGORIES:FRC
END:VEVENT
BEGIN:VEVENT
DTSTART;TZID=America/Denver:20250114T110000
DTEND;TZID=America/Denver:20250114T120000
DTSTAMP:20260421T094910
CREATED:20241216T213726Z
LAST-MODIFIED:20241216T213726Z
UID:254337-1736852400-1736856000@gatewayassociation.ca
SUMMARY:Google Drive (2 of 2)
DESCRIPTION:Google Drive\nSession: 2 of 2  \nDuration: 1  hr  \nFacilitator: Lee   \nPrivate – GTDI Program intake required prior to workshop: getdigital@gatewayassociation.ca  \n  \nLearn how to create a google accounts\, access google drive\, upload files\, create folders\, search for files. Group discussion on cloud storage\, strong passwords\, file naming conventions and keeping documents and folders organized.  
URL:https://gatewayassociation.ca/calendar/google-drive-2-of-2-17/
END:VEVENT
BEGIN:VEVENT
DTSTART;TZID=America/Denver:20250114T130000
DTEND;TZID=America/Denver:20250114T140000
DTSTAMP:20260421T094910
CREATED:20241217T162205Z
LAST-MODIFIED:20241217T162205Z
UID:254390-1736859600-1736863200@gatewayassociation.ca
SUMMARY:Interview Prep 101: Before\, During & After 
DESCRIPTION:Interview Prep 101: Before\, During & After \n\n\n In this workshop\, you will learn about how to get ready for a job interview\, how to “shine’ in the interview and what to do after the interview to stand out and increase your chances of getting called back! 
URL:https://gatewayassociation.ca/calendar/interview-prep-101-before-during-after-2/
CATEGORIES:ERC
END:VEVENT
BEGIN:VEVENT
DTSTART;TZID=America/Denver:20250114T163000
DTEND;TZID=America/Denver:20250114T183000
DTSTAMP:20260421T094910
CREATED:20241105T193944Z
LAST-MODIFIED:20241105T193944Z
UID:254093-1736872200-1736879400@gatewayassociation.ca
SUMMARY:Having Difficult Conversations
DESCRIPTION:Having Difficult Conversations    \nTuesday January 14\n4:30 pm – 6:00 pm | Online\n\n\nA workshop for people with disabilities and their families on navigating difficult conversations\n\nLet’s get talking!    Having conversations can be hard.   How we communicate with others is important.   During this short ninety minute workshop\, we will explore what conflict is\, how we respond to it and some key principles for good communication.\n\nREGISTER HERE\n\nQuestions? Stacy (facilitator) or Mike (Facilitator) at Stacy@GatewayAssociation.ca or Mike@GatewayAssociation.ca
URL:https://gatewayassociation.ca/calendar/having-difficult-conversations-8/
CATEGORIES:FRC
END:VEVENT
BEGIN:VEVENT
DTSTART;TZID=America/Denver:20250114T180000
DTEND;TZID=America/Denver:20250114T200000
DTSTAMP:20260421T094910
CREATED:20241105T194054Z
LAST-MODIFIED:20241105T194054Z
UID:254095-1736877600-1736884800@gatewayassociation.ca
SUMMARY:Accounts and Claims
DESCRIPTION:Accounts and Claims\nTuesday\, January 14 \n6:00 pm – 8:00 pm | Online \n  \nA 2-hour workshop is tailored for families with FSCD agreements looking to optimize their use of the OCR system. This workshop intended to facilitate an open dialogue on utilizing the OCR system effectively. \nThe training has been developed by FSCD to address four significant challenges facing system users. They are: \n\nUnderstanding the Agreement\nAccessing OCR\nCreating a Successful claim; and\nRecord keeping and preparing for reviews\n\nA Service Roadmap has also been developed to give users a high-level overview of the entire process\, with helpful links at each step to provide further details. \nREGISTER HERE \nQuestions? Contact Li (Facilitator) by email Li@gatewayassociation.ca
URL:https://gatewayassociation.ca/calendar/accounts-and-claims-6/
CATEGORIES:FRC
END:VEVENT
BEGIN:VEVENT
DTSTART;TZID=America/Denver:20250115T100000
DTEND;TZID=America/Denver:20250115T120000
DTSTAMP:20260421T094910
CREATED:20241217T205449Z
LAST-MODIFIED:20241217T205449Z
UID:254409-1736935200-1736942400@gatewayassociation.ca
SUMMARY:YYC Interview Roundtable
DESCRIPTION:Interview Roundtable: Learning and Laughing Together – Practice\nJoin us for a dynamic and interactive workshop designed to help you ace your next job interview. In our Interview Roundtable\, you’ll have the opportunity to connect with fellow job seekers and share your experiences and insights. Our experienced facilitators will guide you through real-life interview scenarios and help you develop the skills and confidence you need to succeed.   \n\nOnline or In-Person: IN-PERSON – YYC
URL:https://gatewayassociation.ca/calendar/yyc-interview-roundtable-2/
CATEGORIES:ERC
END:VEVENT
BEGIN:VEVENT
DTSTART;TZID=America/Denver:20250115T100000
DTEND;TZID=America/Denver:20250115T150000
DTSTAMP:20260421T094910
CREATED:20241217T210215Z
LAST-MODIFIED:20241217T210215Z
UID:254417-1736935200-1736953200@gatewayassociation.ca
SUMMARY:YYC Drop-In Wednesdays
DESCRIPTION:YYC Drop- In Wednesdays\nFor registered participants – Join us every Wednesday from 10 AM to 3 PM for our open drop-in sessions. Whether you’re exploring career options\, updating your resume\, practicing for interviews\, or navigating the job search process\, our friendly team is ready to support you. \nNo appointment needed—just drop in! Let’s work together to take the next step in your employment journey. \nWhere: Gateway Association Calgary Office\nWhen: Wednesdays\, 10 AM – 3 PM
URL:https://gatewayassociation.ca/calendar/yyc-drop-in-wednesdays-2/
CATEGORIES:ERC
END:VEVENT
BEGIN:VEVENT
DTSTART;TZID=America/Denver:20250115T110000
DTEND;TZID=America/Denver:20250115T120000
DTSTAMP:20260421T094910
CREATED:20241216T214344Z
LAST-MODIFIED:20241216T214344Z
UID:254339-1736938800-1736942400@gatewayassociation.ca
SUMMARY:Google Docs (1 of 2)
DESCRIPTION:Google Docs\nSession: 1 of 2  \nDuration: 1 hr   \nFacilitator: Lee  \nPrivate – GTDI Program intake required prior to workshop: getdigital@gatewayassociation.ca  \n  \nIn this 2 session workshop series\, Participants will practice creating and sharing google documents\, explore the tools provided to help them write\, edit\, comment and chat. This workshop covers the Basics of google docs\, as well as file organization\, sharing\, and commenting.  
URL:https://gatewayassociation.ca/calendar/google-docs-1-of-2-17/
END:VEVENT
BEGIN:VEVENT
DTSTART;TZID=America/Denver:20250115T130000
DTEND;TZID=America/Denver:20250115T140000
DTSTAMP:20260421T094910
CREATED:20241216T214731Z
LAST-MODIFIED:20241216T214731Z
UID:254347-1736946000-1736949600@gatewayassociation.ca
SUMMARY:File Management and PDFs (1 of 2)
DESCRIPTION:File Management and PDFs\nSession 1 of 2 \nDuration 1 hr \nFacilitator: Toby \nPrivate – GTDI Program intake required prior to workshop: getdigital@gatewayassociation.ca \n\nIn this workshop participants will learn about saving files\, organizing and finding files\, converting documents to pdfs\, what a is pdf\, and how to use pdfs.
URL:https://gatewayassociation.ca/calendar/file-management-and-pdfs-1-of-2-11/
END:VEVENT
BEGIN:VEVENT
DTSTART;TZID=America/Denver:20250115T143000
DTEND;TZID=America/Denver:20250115T163000
DTSTAMP:20260421T094910
CREATED:20241216T213412Z
LAST-MODIFIED:20241216T213412Z
UID:254329-1736951400-1736958600@gatewayassociation.ca
SUMMARY:Online Boardgames
DESCRIPTION:Online Boardgames\nSession: 1 of 1 \nDuration: 1.5 to 2 hr \nFacilitator: Lee \nPrivate – GTDI Program intake required prior to workshop signup: getdigital@gatewayassociation.ca \n**Requires Online Social Connections – Discord and Steam Tutorials as well as desktop or laptop computer.** \nCome hang out! Learn about setting up online accounts\, meet new friends\, socialize\, and have fun playing boardgames online. Meet new friends\, practise new skills\, have fun!
URL:https://gatewayassociation.ca/calendar/online-boardgames-66/
END:VEVENT
BEGIN:VEVENT
DTSTART;TZID=America/Denver:20250115T150000
DTEND;TZID=America/Denver:20250115T160000
DTSTAMP:20260421T094910
CREATED:20241216T214911Z
LAST-MODIFIED:20241216T214911Z
UID:254351-1736953200-1736956800@gatewayassociation.ca
SUMMARY:Google Photos: Edits (1 of 2)
DESCRIPTION:Google Photos: Edits\nSession: 1 of 2  \nDuration: 1 hr   \nFacilitator: Toby  \nPrivate – GTDI Program intake required prior to workshop: getdigital@gatewayassociation.ca  \n  \nIn this workshop we will be learning how to use Google Photos for basic photo editing. We will go through terminology\, the different tools available\, tips for taking photos\, and some things to consider about photos in public spaces.
URL:https://gatewayassociation.ca/calendar/google-photos-edits-1-of-2/
END:VEVENT
BEGIN:VEVENT
DTSTART;TZID=America/Denver:20250115T183000
DTEND;TZID=America/Denver:20250115T203000
DTSTAMP:20260421T094910
CREATED:20241105T194212Z
LAST-MODIFIED:20241105T194212Z
UID:254097-1736965800-1736973000@gatewayassociation.ca
SUMMARY:Online Claims Reimbursement System Training - FMS
DESCRIPTION:Online Claims Reimbursement System Training – FMS\nWednesday\, January 15\n6:30 pm – 8:30 pm | Online \n  \nA workshop for Family Managed Services Administrators focused on enhancing your understanding and management of the Online Claims Reimbursement (OCR) system. \nThis session will address common challenges and streamline your experience with the system\, ensuring you can utilize it confidently and efficiently. \nWorkshop Goals: \n\nUnderstanding the Agreement: Gain a deeper understanding of the FMS agreements and expectations of the OCR system.\nAccessing OCR: Learn the ins and outs of accessing the system effectively\, including navigation tips\, user support resources\, and troubleshooting common issues.\nCreating a Successful Claim: We’ll Walk you through the process of creating and submitting claims through the OCR system\, focusing on accuracy and timeliness to ensure successful processing.\nRecord Keeping and Preparing for Reviews: Enhance your skills in maintaining accurate records and preparing for periodic reviews.\n\n  \nQuestions? Contact Miriam @ miriam@gatewayassociation.ca \nREGISTER HERE
URL:https://gatewayassociation.ca/calendar/online-claims-reimbursement-system-training-fms/
CATEGORIES:FRC
END:VEVENT
BEGIN:VEVENT
DTSTART;TZID=America/Denver:20250116T110000
DTEND;TZID=America/Denver:20250116T120000
DTSTAMP:20260421T094910
CREATED:20241216T214416Z
LAST-MODIFIED:20241216T214416Z
UID:254341-1737025200-1737028800@gatewayassociation.ca
SUMMARY:Google Docs
DESCRIPTION:Google Docs\nSession: 2 of 2  \nDuration: 1 hr   \nFacilitator: Lee  \nPrivate – GTDI Program intake required prior to workshop: getdigital@gatewayassociation.ca  \n  \nIn this 2 session workshop series\, Participants will practice creating and sharing google documents\, explore the tools provided to help them write\, edit\, comment and chat. This workshop covers the Basics of google docs\, as well as file organization\, sharing\, and commenting.  
URL:https://gatewayassociation.ca/calendar/google-docs/
END:VEVENT
BEGIN:VEVENT
DTSTART;TZID=America/Denver:20250116T130000
DTEND;TZID=America/Denver:20250116T140000
DTSTAMP:20260421T094910
CREATED:20241216T214813Z
LAST-MODIFIED:20241216T214813Z
UID:254349-1737032400-1737036000@gatewayassociation.ca
SUMMARY:File Management and PDFs (2 of 2)
DESCRIPTION:File Management and PDFs\nSession 2 of 2 \nDuration 1 hr \nFacilitator: Toby \nPrivate – GTDI Program intake required prior to workshop: getdigital@gatewayassociation.ca \n\nIn this workshop participants will learn about saving files\, organizing and finding files\, converting documents to pdfs\, what a is pdf\, and how to use pdfs.
URL:https://gatewayassociation.ca/calendar/file-management-and-pdfs-2-of-2-11/
END:VEVENT
BEGIN:VEVENT
DTSTART;TZID=America/Denver:20250116T130000
DTEND;TZID=America/Denver:20250116T140000
DTSTAMP:20260421T094910
CREATED:20241217T162300Z
LAST-MODIFIED:20241217T162301Z
UID:254392-1737032400-1737036000@gatewayassociation.ca
SUMMARY:How to Read a Job Posting
DESCRIPTION:How to Read a Job Posting\n\n\nJoin this workshop to understand various elements of a job posting\, identify red flags\, and find the right match. This workshop intends to help people save their time by targeting jobs that fits their expectations.  \n\n\nOnline or In-Person: ONLINE 
URL:https://gatewayassociation.ca/calendar/how-to-read-a-job-posting-12/
CATEGORIES:ERC
END:VEVENT
END:VCALENDAR