BEGIN:VCALENDAR
VERSION:2.0
PRODID:-//Gateway Association - ECPv6.15.20//NONSGML v1.0//EN
CALSCALE:GREGORIAN
METHOD:PUBLISH
X-WR-CALNAME:Gateway Association
X-ORIGINAL-URL:https://gatewayassociation.ca
X-WR-CALDESC:Events for Gateway Association
REFRESH-INTERVAL;VALUE=DURATION:PT1H
X-Robots-Tag:noindex
X-PUBLISHED-TTL:PT1H
BEGIN:VTIMEZONE
TZID:America/Denver
BEGIN:DAYLIGHT
TZOFFSETFROM:-0700
TZOFFSETTO:-0600
TZNAME:MDT
DTSTART:20210314T090000
END:DAYLIGHT
BEGIN:STANDARD
TZOFFSETFROM:-0600
TZOFFSETTO:-0700
TZNAME:MST
DTSTART:20211107T080000
END:STANDARD
BEGIN:DAYLIGHT
TZOFFSETFROM:-0700
TZOFFSETTO:-0600
TZNAME:MDT
DTSTART:20220313T090000
END:DAYLIGHT
BEGIN:STANDARD
TZOFFSETFROM:-0600
TZOFFSETTO:-0700
TZNAME:MST
DTSTART:20221106T080000
END:STANDARD
BEGIN:DAYLIGHT
TZOFFSETFROM:-0700
TZOFFSETTO:-0600
TZNAME:MDT
DTSTART:20230312T090000
END:DAYLIGHT
BEGIN:STANDARD
TZOFFSETFROM:-0600
TZOFFSETTO:-0700
TZNAME:MST
DTSTART:20231105T080000
END:STANDARD
END:VTIMEZONE
BEGIN:VTIMEZONE
TZID:America/Edmonton
BEGIN:DAYLIGHT
TZOFFSETFROM:-0700
TZOFFSETTO:-0600
TZNAME:MDT
DTSTART:20210314T090000
END:DAYLIGHT
BEGIN:STANDARD
TZOFFSETFROM:-0600
TZOFFSETTO:-0700
TZNAME:MST
DTSTART:20211107T080000
END:STANDARD
BEGIN:DAYLIGHT
TZOFFSETFROM:-0700
TZOFFSETTO:-0600
TZNAME:MDT
DTSTART:20220313T090000
END:DAYLIGHT
BEGIN:STANDARD
TZOFFSETFROM:-0600
TZOFFSETTO:-0700
TZNAME:MST
DTSTART:20221106T080000
END:STANDARD
BEGIN:DAYLIGHT
TZOFFSETFROM:-0700
TZOFFSETTO:-0600
TZNAME:MDT
DTSTART:20230312T090000
END:DAYLIGHT
BEGIN:STANDARD
TZOFFSETFROM:-0600
TZOFFSETTO:-0700
TZNAME:MST
DTSTART:20231105T080000
END:STANDARD
END:VTIMEZONE
BEGIN:VEVENT
DTSTART;TZID=America/Denver:20220525T150000
DTEND;TZID=America/Denver:20220525T163000
DTSTAMP:20260424T192512
CREATED:20220426T184953Z
LAST-MODIFIED:20220426T184953Z
UID:247382-1653490800-1653496200@gatewayassociation.ca
SUMMARY:Online Boardgames
DESCRIPTION:Come hang out with us! Meet new friends\, socialize\, and have fun playing board games online. \nTo learn more and to register\, connect with us at GetDigital@GatewayAssociation.ca
URL:https://gatewayassociation.ca/calendar/online-boardgames-3/
END:VEVENT
BEGIN:VEVENT
DTSTART;TZID=America/Denver:20220525T140000
DTEND;TZID=America/Denver:20220525T150000
DTSTAMP:20260424T192512
CREATED:20220425T222819Z
LAST-MODIFIED:20220425T222819Z
UID:247331-1653487200-1653490800@gatewayassociation.ca
SUMMARY:Interview Preparation Workshop
DESCRIPTION:Learn about how to ace your next interview by planning ahead\, researching the company and preparing your STAR stories! \nThese sessions happen weekly and offer varying tips and tricks for your success in interviews. \nTo find out more and to register\, connect with us at Get-Work@GatewayAssociation.ca
URL:https://gatewayassociation.ca/calendar/interview-preparation-workshop-10/
CATEGORIES:ERC
END:VEVENT
BEGIN:VEVENT
DTSTART;TZID=America/Denver:20220525T110000
DTEND;TZID=America/Denver:20220525T120000
DTSTAMP:20260424T192512
CREATED:20220426T184501Z
LAST-MODIFIED:20220427T160824Z
UID:247373-1653476400-1653480000@gatewayassociation.ca
SUMMARY:Look Stuff Up Online (Session 4 of 4)
DESCRIPTION:Chat about fake news\, learn how to do a great search\, plan a trip\, and find out what information photos can tell you. \nThis is a 4 part series running from May 4th until 25th\, Wednesdays from 2-3pm. \nTo learn more and to register\, connect with us at GetDigital@GatewayAssociation.ca
URL:https://gatewayassociation.ca/calendar/look-stuff-up-online-session-4-of-4/
END:VEVENT
BEGIN:VEVENT
DTSTART;TZID=America/Denver:20220525T110000
DTEND;TZID=America/Denver:20220525T120000
DTSTAMP:20260424T192512
CREATED:20220426T183525Z
LAST-MODIFIED:20220427T160057Z
UID:247363-1653476400-1653480000@gatewayassociation.ca
SUMMARY:Google App Series (Session 4 of 4)
DESCRIPTION:May 4-25th\, Wednesdays from 11:00am-12:00pm \nTo learn more and to register\, connect with us at GetDigital@GatewayAssociation.ca
URL:https://gatewayassociation.ca/calendar/google-app-series-session-3-of-4/
END:VEVENT
BEGIN:VEVENT
DTSTART;TZID=America/Denver:20220525T110000
DTEND;TZID=America/Denver:20220525T120000
DTSTAMP:20260424T192512
CREATED:20220425T165614Z
LAST-MODIFIED:20220425T165614Z
UID:247314-1653476400-1653480000@gatewayassociation.ca
SUMMARY:Job Search Workshop
DESCRIPTION:Join us in Gateway Association’s Job Search Workshop on Wednesdays! \nIn these workshops you will learn how to navigate through online job search\, how to determine which jobs are best for you\, how to apply independently and network with other job seekers! \n  \nIf you have questions or would like to register\, please reach out to Get-Work@GatewayAssociation.ca
URL:https://gatewayassociation.ca/calendar/job-search-workshop-10/
CATEGORIES:ERC
END:VEVENT
BEGIN:VEVENT
DTSTART;TZID=America/Edmonton:20220524T150000
DTEND;TZID=America/Edmonton:20220524T160000
DTSTAMP:20260424T192512
CREATED:20220316T151758Z
LAST-MODIFIED:20220404T162708Z
UID:8425-1653404400-1653408000@gatewayassociation.ca
SUMMARY:Gateway to Digital Inclusion Program Info Session
DESCRIPTION:Gateway to Digital Inclusion Program Info Session.\nJoin us every Tuesday to learn more about the program offerings and how to get involved
URL:https://gatewayassociation.ca/calendar/gateway-to-digital-inclusion-program-info-session-26/
CATEGORIES:ERC
ATTACH;FMTTYPE=image/jpeg:https://gatewayassociation.ca/wp-content/uploads/2022/03/a5cb4c6873fb3a52d5d666668df2e3a0.jpg
END:VEVENT
BEGIN:VEVENT
DTSTART;TZID=America/Denver:20220524T110000
DTEND;TZID=America/Denver:20220524T120000
DTSTAMP:20260424T192512
CREATED:20220427T162934Z
LAST-MODIFIED:20220427T162934Z
UID:247436-1653390000-1653393600@gatewayassociation.ca
SUMMARY:Email Basics
DESCRIPTION:Learn about and practice the basics of writing professional emails for your job search and workplace communication. \nTo learn more and to register\, connect with us at GetDigital@GatewayAssociation.ca
URL:https://gatewayassociation.ca/calendar/email-basics-3/
END:VEVENT
BEGIN:VEVENT
DTSTART;TZID=America/Denver:20220524T100000
DTEND;TZID=America/Denver:20220524T110000
DTSTAMP:20260424T192512
CREATED:20220427T161901Z
LAST-MODIFIED:20220427T161901Z
UID:247424-1653386400-1653390000@gatewayassociation.ca
SUMMARY:You TOO Can YouTube Series (3 of 4)
DESCRIPTION:May 10-31st\, Tuesdays from 10-11:00am \nFind out how to make your own YouTube Channel and what to consider when choosing which videos you watch. \nTo learn more and to register\, connect with us at GetDigital@GatewayAssociation.ca
URL:https://gatewayassociation.ca/calendar/you-too-can-youtube-series-3-of-4-2/
END:VEVENT
BEGIN:VEVENT
DTSTART;TZID=America/Denver:20220524T090000
DTEND;TZID=America/Denver:20220524T100000
DTSTAMP:20260424T192512
CREATED:20220427T161421Z
LAST-MODIFIED:20220427T161421Z
UID:247416-1653382800-1653386400@gatewayassociation.ca
SUMMARY:LinkedIn Profile Series (3 of 4)
DESCRIPTION:May 10th- 31st\, Tuesdays from 9-10:00am \nBuild your own LinkedIn profile! Share your skills\, goals\, and experiences\, create job alerts\, and grow your online network. \nTo learn more or to register\, connect with us at GetDigital@GatewayAssociation.ca
URL:https://gatewayassociation.ca/calendar/linkedin-profile-series-3-of-4/
END:VEVENT
BEGIN:VEVENT
DTSTART;TZID=America/Denver:20220519T190000
DTEND;TZID=America/Denver:20220519T200000
DTSTAMP:20260424T192512
CREATED:20220422T140221Z
LAST-MODIFIED:20220422T140735Z
UID:247275-1652986800-1652990400@gatewayassociation.ca
SUMMARY:Financial Literacy Series (Session 1 of 4)
DESCRIPTION:Starting March 3rd\, Gateway Association in partnership with United Way is offering the Each One Teach One Financial Literacy workshop series\, a 4-week financial literacy program covering basic budgeting.  \n By registering\, you will partake in 4 weeks of virtual and interactive zoom sessions\, with new topics and lessons delivered each week! Upon completing the series\, you will receive an official certificate of completion! The sessions start on Thursday\, May 19th @ 7:00 pm and will continue every Thursday evening following until June 9th. \nThe topics that will be discussed each week are: \nINTRODUCTION TO BASIC BUDGETING  \n✓ What a budget is and why should you create one  \n✓ Tips to help you reach your financial goals  \n✓ Ideas to help you adjust your spending \nNote: We suggest that participants have some experience with or basic knowledge of financial institutions.
URL:https://gatewayassociation.ca/calendar/financial-literacy-series-session-1-of-4/
CATEGORIES:ERC
END:VEVENT
BEGIN:VEVENT
DTSTART;TZID=America/Denver:20220519T110000
DTEND;TZID=America/Denver:20220519T120000
DTSTAMP:20260424T192512
CREATED:20220427T162710Z
LAST-MODIFIED:20220427T162710Z
UID:247434-1652958000-1652961600@gatewayassociation.ca
SUMMARY:Steam Tutorial
DESCRIPTION:Join us on fieldtrips to different online communities. As part of a group\, you will check out online spaces\, hangout and engage. \nTo learn more and to register\, connect with us at GetDigital@GatewayAssociation.ca
URL:https://gatewayassociation.ca/calendar/steam-tutorial/
END:VEVENT
BEGIN:VEVENT
DTSTART;TZID=America/Denver:20220519T100000
DTEND;TZID=America/Denver:20220519T110000
DTSTAMP:20260424T192512
CREATED:20220427T140747Z
LAST-MODIFIED:20220427T140747Z
UID:247396-1652954400-1652958000@gatewayassociation.ca
SUMMARY:Explore Canva
DESCRIPTION:Let your imagination be your guide as you create your own posters\, flyers\, cards\, videos\, and more to share information important to you. \nTo learn more and to register\, connect with us at GetDigital@GatewayAssociation.ca
URL:https://gatewayassociation.ca/calendar/explore-canva-2/
END:VEVENT
BEGIN:VEVENT
DTSTART;TZID=America/Denver:20220518T190000
DTEND;TZID=America/Denver:20220518T210000
DTSTAMP:20260424T192512
CREATED:20220207T181740Z
LAST-MODIFIED:20220425T162828Z
UID:7610-1652900400-1652907600@gatewayassociation.ca
SUMMARY:Families Forward Meeting (Not Eligible for PDD? Now What?)
DESCRIPTION:About this event\nExploring transitioning into adulthood for individuals with disabilities that do not qualify for Persons with Developmental Disabilities (PDD) supports. \nFebruary topic: TBD\nMarch topic: TBD\nApril topic: TBD \nDetails\nEach meeting is hosted online through Zoom (link is shared on Eventbrite upon registration\, and via email leading up each event). \n			\n				REGISTER
URL:https://gatewayassociation.ca/calendar/families-forward-meeting-not-eligible-for-pdd-now-what-4/
CATEGORIES:FRC
END:VEVENT
BEGIN:VEVENT
DTSTART;TZID=America/Denver:20220518T180000
DTEND;TZID=America/Denver:20220518T200000
DTSTAMP:20260424T192512
CREATED:20220425T161536Z
LAST-MODIFIED:20220425T162106Z
UID:247295-1652896800-1652904000@gatewayassociation.ca
SUMMARY:(Session 3 of 4) Visioning and Planning for Families with Children Up To 8 Years Old
DESCRIPTION:A 4-part workshop series that empowers families of children with disabilities up to 8 years with knowledge\, resources\, and more \nJoin our 4-part workshop series that empowers parents/caregivers of children with disabilities from birth-8 years old with knowledge\, resources\, and a sense of direction for the future. We will touch on a variety of topics including values and belonging in the community\, visioning and planning\, various transitions during early elementary school\, navigating various systems age appropriate for families with younger children as well as advocacy and having difficult conversations \nDatesWednesday\, May 4Wednesday\, May 11Wednesday\, May 18Wednesday\, May 25 \nDetails-Will take place online (Zoom link to come shortly before the event)-Handouts for the event will be sent with the Zoom link \nQuestions?Contact stacy@gatewayassociation.ca
URL:https://gatewayassociation.ca/calendar/session-3-of-4-visioning-and-planning-for-families-with-children-up-to-8-years-old/
CATEGORIES:FRC
END:VEVENT
BEGIN:VEVENT
DTSTART;TZID=America/Denver:20220518T150000
DTEND;TZID=America/Denver:20220518T163000
DTSTAMP:20260424T192512
CREATED:20220426T184911Z
LAST-MODIFIED:20220426T184916Z
UID:247379-1652886000-1652891400@gatewayassociation.ca
SUMMARY:Online Boardgames
DESCRIPTION:Come hang out with us! Meet new friends\, socialize\, and have fun playing board games online. \nTo learn more and to register\, connect with us at GetDigital@GatewayAssociation.ca
URL:https://gatewayassociation.ca/calendar/online-boardgame/
END:VEVENT
BEGIN:VEVENT
DTSTART;TZID=America/Denver:20220518T140000
DTEND;TZID=America/Denver:20220518T150000
DTSTAMP:20260424T192512
CREATED:20220425T222736Z
LAST-MODIFIED:20220425T222736Z
UID:247329-1652882400-1652886000@gatewayassociation.ca
SUMMARY:Interview Preparation Workshop
DESCRIPTION:Learn about how to ace your next interview by planning ahead\, researching the company and preparing your STAR stories! \nThese sessions happen weekly and offer varying tips and tricks for your success in interviews. \nTo find out more and to register\, connect with us at Get-Work@GatewayAssociation.ca
URL:https://gatewayassociation.ca/calendar/interview-preparation-workshop-9/
CATEGORIES:ERC
END:VEVENT
BEGIN:VEVENT
DTSTART;TZID=America/Denver:20220518T110000
DTEND;TZID=America/Denver:20220518T120000
DTSTAMP:20260424T192512
CREATED:20220426T184414Z
LAST-MODIFIED:20220427T160756Z
UID:247371-1652871600-1652875200@gatewayassociation.ca
SUMMARY:Look Stuff Up Online Series (Session 3 of 4)
DESCRIPTION:Chat about fake news\, learn how to do a great search\, plan a trip\, and find out what information photos can tell you. \nThis is a 4 part series running from May 4th until 25th\, Wednesdays from 2-3pm. \nTo learn more and to register\, connect with us at GetDigital@GatewayAssociation.ca
URL:https://gatewayassociation.ca/calendar/look-stuff-up-online-series-session-3-of-4/
END:VEVENT
BEGIN:VEVENT
DTSTART;TZID=America/Denver:20220518T110000
DTEND;TZID=America/Denver:20220518T120000
DTSTAMP:20260424T192512
CREATED:20220426T183431Z
LAST-MODIFIED:20220427T155804Z
UID:247361-1652871600-1652875200@gatewayassociation.ca
SUMMARY:Google App Series (Session 3 of 4)
DESCRIPTION:May 4- 25th\, Wednesdays from 11-12 \nTo learn more and to register\, connect with us at GetDigital@GatewayAssociation.ca
URL:https://gatewayassociation.ca/calendar/google-app-series-session-2-of-4/
END:VEVENT
BEGIN:VEVENT
DTSTART;TZID=America/Denver:20220518T110000
DTEND;TZID=America/Denver:20220518T120000
DTSTAMP:20260424T192512
CREATED:20220425T165530Z
LAST-MODIFIED:20220425T165530Z
UID:247312-1652871600-1652875200@gatewayassociation.ca
SUMMARY:Job Search Workshop
DESCRIPTION:Join us in Gateway Association’s Job Search Workshop on Wednesdays! \nIn these workshops you will learn how to navigate through online job search\, how to determine which jobs are best for you\, how to apply independently and network with other job seekers! \n  \nIf you have questions or would like to register\, please reach out to Get-Work@GatewayAssociation.ca
URL:https://gatewayassociation.ca/calendar/job-search-workshop-9/
CATEGORIES:ERC
END:VEVENT
BEGIN:VEVENT
DTSTART;TZID=America/Edmonton:20220517T150000
DTEND;TZID=America/Edmonton:20220517T160000
DTSTAMP:20260424T192512
CREATED:20220316T151758Z
LAST-MODIFIED:20220404T162657Z
UID:8423-1652799600-1652803200@gatewayassociation.ca
SUMMARY:Gateway to Digital Inclusion Program Info Session
DESCRIPTION:Gateway to Digital Inclusion Program Info Session.\nJoin us every Tuesday to learn more about the program offerings and how to get involved
URL:https://gatewayassociation.ca/calendar/gateway-to-digital-inclusion-program-info-session-24/
CATEGORIES:ERC
ATTACH;FMTTYPE=image/jpeg:https://gatewayassociation.ca/wp-content/uploads/2022/03/a5cb4c6873fb3a52d5d666668df2e3a0.jpg
END:VEVENT
BEGIN:VEVENT
DTSTART;TZID=America/Edmonton:20220517T113000
DTEND;TZID=America/Edmonton:20220517T130000
DTSTAMP:20260424T192512
CREATED:20220316T150100Z
LAST-MODIFIED:20220425T211208Z
UID:8402-1652787000-1652792400@gatewayassociation.ca
SUMMARY:Mayor's Event 2022
DESCRIPTION:9th Annual Mayor’s Luncheon: Future Proof Your Business through Equity\, Diversity\, and Inclusion. IDEAS TO ACTION\n\n\nIn line with our mission\, “transform community through the lens of disability”\, Gateway Association hosts the annual Mayor’s Luncheon to build momentum and leadership for a more inclusive business community that acknowledges and promotes marginalized communities in Alberta. \nWorkplace inclusion is the answer to meeting labour market needs\, employee retention\, diversification of products – all of these are necessary to a growing Alberta. Along with the opportunity to network\, the yearly\, one-of-a-kind event is an opportunity to build momentum\, leadership and to learn from other employers and leaders who advocate for and hire inclusively. \nThis year\, our Emcee\, Sarah Chan\, will be facilitating a panel discussion with a diverse group of community and business leaders. You’ll leave the event with new connections\, new understandings\, new ideas\, and resources. Together\, we’ll move IDEAS TO ACTION.
URL:https://gatewayassociation.ca/calendar/mayors-event-2022/
LOCATION:JW Marriott Edmonton ICE District\, 10344 102 Street Northwest\, Edmonton\, AB\, T5J 0K9\, Canada
CATEGORIES:ERC,FRC,MentorAbility Alberta
ATTACH;FMTTYPE=image/jpeg:https://gatewayassociation.ca/wp-content/uploads/2022/03/e44371fbe116ef1f4c1c862c9e5caade.jpg
END:VEVENT
BEGIN:VEVENT
DTSTART;TZID=America/Denver:20220517T110000
DTEND;TZID=America/Denver:20220517T120000
DTSTAMP:20260424T192512
CREATED:20220427T162541Z
LAST-MODIFIED:20220427T162541Z
UID:247432-1652785200-1652788800@gatewayassociation.ca
SUMMARY:E-Mail Basics
DESCRIPTION:Learn about and practice the basics of writing professional emails for your job search and workplace communication. \nTo learn more and to register\, connect with us at GetDigital@GatewayAssociation.ca
URL:https://gatewayassociation.ca/calendar/e-mail-basics/
END:VEVENT
BEGIN:VEVENT
DTSTART;TZID=America/Denver:20220517T100000
DTEND;TZID=America/Denver:20220517T110000
DTSTAMP:20260424T192512
CREATED:20220427T161810Z
LAST-MODIFIED:20220427T161810Z
UID:247422-1652781600-1652785200@gatewayassociation.ca
SUMMARY:You TOO Can YouTube Series (2 of 4)
DESCRIPTION:May 10-31st\, Tuesdays from 10-11:00am \nFind out how to make your own YouTube Channel and what to consider when choosing which videos you watch. \nTo learn more and to register\, connect with us at GetDigital@GatewayAssociation.ca
URL:https://gatewayassociation.ca/calendar/you-too-can-youtube-series-2-of-4-2/
END:VEVENT
BEGIN:VEVENT
DTSTART;TZID=America/Denver:20220517T090000
DTEND;TZID=America/Denver:20220517T100000
DTSTAMP:20260424T192512
CREATED:20220427T161340Z
LAST-MODIFIED:20220427T161340Z
UID:247414-1652778000-1652781600@gatewayassociation.ca
SUMMARY:LinkedIn Profile Series (2 of 4)
DESCRIPTION:May 10th- 31st\, Tuesdays from 9-10:00am \nBuild your own LinkedIn profile! Share your skills\, goals\, and experiences\, create job alerts\, and grow your online network. \nTo learn more or to register\, connect with us at GetDigital@GatewayAssociation.ca
URL:https://gatewayassociation.ca/calendar/linkedin-profile-series-2-of-4/
END:VEVENT
BEGIN:VEVENT
DTSTART;TZID=America/Denver:20220516T180000
DTEND;TZID=America/Denver:20220516T210000
DTSTAMP:20260424T192512
CREATED:20211221T233835Z
LAST-MODIFIED:20220427T201706Z
UID:6172-1652724000-1652734800@gatewayassociation.ca
SUMMARY:Abuse Prevention and Response Protocol (for FMS Staff)
DESCRIPTION:About this event\nThis workshop\, for FMS Administrators\, explores what can be done to reduce the risk of abuse and how to handle situations when abuse is suspected. \nNote: This is a mandatory course for FMS staff under Family Managed Services with Disability Services. \nDetails:-Will take place online (Zoom link to come shortly before the event)-Handouts for the event will be sent with the Zoom link \nQuestions?Contact Betty@GatewayAssociation.ca \n			\n				REGISTER
URL:https://gatewayassociation.ca/calendar/abuse-prevention-and-response-protocol-for-fms-staff/
CATEGORIES:FRC
END:VEVENT
BEGIN:VEVENT
DTSTART;TZID=America/Denver:20220516T110000
DTEND;TZID=America/Denver:20220516T120000
DTSTAMP:20260424T192512
CREATED:20220426T185735Z
LAST-MODIFIED:20220427T160408Z
UID:247390-1652698800-1652702400@gatewayassociation.ca
SUMMARY:ePortfolio Series (Session 3 of 4)
DESCRIPTION:Create a website all about you! Learn basic design and layout as you choose and create content for your portfolio. \nTo learn more and to register\, connect with us at GetDigital@GatewayAssociation.ca
URL:https://gatewayassociation.ca/calendar/eportfolio-series-session-3-of-4/
END:VEVENT
BEGIN:VEVENT
DTSTART;TZID=America/Denver:20220516T110000
DTEND;TZID=America/Denver:20220516T120000
DTSTAMP:20260424T192512
CREATED:20220425T223917Z
LAST-MODIFIED:20220425T223917Z
UID:247337-1652698800-1652702400@gatewayassociation.ca
SUMMARY:Let Me Introduce Myself: Cover Letters and References
DESCRIPTION:Introducing yourself to an employer is a very important step in looking for a job! \nPlease join us to learn cover letter basics and to learn the skills you need to customize your cover letter to be invited to a job interview! \nFor more information and to register\, connect with us at Get-Work@GatewayAssociation.ca
URL:https://gatewayassociation.ca/calendar/let-me-introduce-myself-cover-letters-and-references/
CATEGORIES:ERC
END:VEVENT
BEGIN:VEVENT
DTSTART;TZID=America/Denver:20220516T090000
DTEND;TZID=America/Denver:20220516T100000
DTSTAMP:20260424T192512
CREATED:20220426T185207Z
LAST-MODIFIED:20220426T185207Z
UID:247386-1652691600-1652695200@gatewayassociation.ca
SUMMARY:LinkedIn Learning
DESCRIPTION:We will walk you through how you can access thousands of free courses to build new skills and learn more about your interests. *requires a public library membership \nTo learn more and to register\, connect with us at GetDigital@GatewayAssociation.ca
URL:https://gatewayassociation.ca/calendar/linkedin-learning-3/
END:VEVENT
BEGIN:VEVENT
DTSTART;TZID=America/Denver:20220514T090000
DTEND;TZID=America/Denver:20220514T120000
DTSTAMP:20260424T192512
CREATED:20211221T233835Z
LAST-MODIFIED:20211222T213302Z
UID:6171-1652518800-1652529600@gatewayassociation.ca
SUMMARY:Finding the Right Staff
DESCRIPTION:About this event\nThis workshop\, for Funds Administrators only\, looks at staffing as a tool to help achieve your goals while meeting the needs of your family. Topics covered include recruitment\, management and retention of staff. \nNote: The ‘Envisioning the Future’ workshop is a prerequisite for this session. \nDetails:-Will take place online (Zoom link to come shortly before the event)-Handouts for the event will be sent with the Zoom link \nQuestions?Contact miriam@gatewayassociation.ca \n			\n				REGISTER
URL:https://gatewayassociation.ca/calendar/finding-the-right-staff/
CATEGORIES:ERC,FRC
END:VEVENT
BEGIN:VEVENT
DTSTART;TZID=America/Denver:20220512T180000
DTEND;TZID=America/Denver:20220512T210000
DTSTAMP:20260424T192512
CREATED:20220422T123058Z
LAST-MODIFIED:20220422T123058Z
UID:247269-1652378400-1652389200@gatewayassociation.ca
SUMMARY:Transition Planning for Adulthood (Session 4 of 4)
DESCRIPTION:A 4-part series exploring the critical transition to adulthood of 16-20 year olds and how families can create a plan for the future. \nTransitioning to adulthood is one of the most important life transitions we experience. Youth ages 16-20 require support in navigating this critical time of life. This workshop offers parents the opportunity to acknowledge the fear of the unknown and move forward with the acknowledgement that together we will work to support the values of each individual and family as a community. This free four-part workshop series includes: \nLife Transitions – Understanding life transitions and the barriers to successfully transitioning to adulthood. \nValued Roles in Community – Exploring social roles and how to be valued as a respected member of the community. \nVisioning and Planning – Creating a plan for the future based on a vision supported by goals and strategies. \nNavigating the Systems – Understanding adult services and systems of support. \nAll four workshops must be taken consecutively.
URL:https://gatewayassociation.ca/calendar/transition-planning-for-adulthood-session-4-of-4/
CATEGORIES:FRC
END:VEVENT
END:VCALENDAR