BEGIN:VCALENDAR
VERSION:2.0
PRODID:-//Gateway Association - ECPv6.15.20//NONSGML v1.0//EN
CALSCALE:GREGORIAN
METHOD:PUBLISH
X-WR-CALNAME:Gateway Association
X-ORIGINAL-URL:https://gatewayassociation.ca
X-WR-CALDESC:Events for Gateway Association
REFRESH-INTERVAL;VALUE=DURATION:PT1H
X-Robots-Tag:noindex
X-PUBLISHED-TTL:PT1H
BEGIN:VTIMEZONE
TZID:America/Denver
BEGIN:DAYLIGHT
TZOFFSETFROM:-0700
TZOFFSETTO:-0600
TZNAME:MDT
DTSTART:20220313T090000
END:DAYLIGHT
BEGIN:STANDARD
TZOFFSETFROM:-0600
TZOFFSETTO:-0700
TZNAME:MST
DTSTART:20221106T080000
END:STANDARD
BEGIN:DAYLIGHT
TZOFFSETFROM:-0700
TZOFFSETTO:-0600
TZNAME:MDT
DTSTART:20230312T090000
END:DAYLIGHT
BEGIN:STANDARD
TZOFFSETFROM:-0600
TZOFFSETTO:-0700
TZNAME:MST
DTSTART:20231105T080000
END:STANDARD
BEGIN:DAYLIGHT
TZOFFSETFROM:-0700
TZOFFSETTO:-0600
TZNAME:MDT
DTSTART:20240310T090000
END:DAYLIGHT
BEGIN:STANDARD
TZOFFSETFROM:-0600
TZOFFSETTO:-0700
TZNAME:MST
DTSTART:20241103T080000
END:STANDARD
END:VTIMEZONE
BEGIN:VEVENT
DTSTART;TZID=America/Denver:20230320T130000
DTEND;TZID=America/Denver:20230320T140000
DTSTAMP:20260424T192604
CREATED:20230213T223114Z
LAST-MODIFIED:20230213T223114Z
UID:249745-1679317200-1679320800@gatewayassociation.ca
SUMMARY:Digital Citizenship
DESCRIPTION:Session 1 of 1 \nDuration 1 hr \nFacilitator: Toby \nPrivate – GTDI Program intake required prior to workshop: getdigital@gatewayassociation.ca \nFind out what it means to be a digital citizen and how you can share your passions online. Learn about online activism\, how to use the internet to create change\, what is online community\, how to share the things that matter to you\, and find ways to connect with other people who share the same passions as you.
URL:https://gatewayassociation.ca/calendar/digital-citizenship-9/
END:VEVENT
BEGIN:VEVENT
DTSTART;TZID=America/Denver:20230316T130000
DTEND;TZID=America/Denver:20230316T140000
DTSTAMP:20260424T192604
CREATED:20230213T222755Z
LAST-MODIFIED:20230213T222755Z
UID:249737-1678971600-1678975200@gatewayassociation.ca
SUMMARY:You TOO Can YouTube (4/4)
DESCRIPTION:Session: 4 of 4 \nDuration: 1 hr \nFacilitator: Toby \nGTDI Program intake required prior to workshop: getdigital@gatewayassociation.ca \nLearn about being a YouTube viewer and a YouTube creator. Find out how to make your own YouTube Channel and what to consider when you are choosing videos to watch. Create YouTube content\, learn about what to consider when watching videos as well as how to save and organize videos.
URL:https://gatewayassociation.ca/calendar/you-too-can-youtube-4-4-3/
END:VEVENT
BEGIN:VEVENT
DTSTART;TZID=America/Denver:20230316T130000
DTEND;TZID=America/Denver:20230316T140000
DTSTAMP:20260424T192604
CREATED:20230213T215916Z
LAST-MODIFIED:20230213T215916Z
UID:249689-1678971600-1678975200@gatewayassociation.ca
SUMMARY:Interview Preparation Workshop
DESCRIPTION:What to do before\, during and after the job interview. \nFor any accommodation requirements\, questions and to register\, please reach out to us at Get-Work@GatewayAssociation.ca
URL:https://gatewayassociation.ca/calendar/interview-preparation-workshop-15/
CATEGORIES:ERC
END:VEVENT
BEGIN:VEVENT
DTSTART;TZID=America/Denver:20230315T150000
DTEND;TZID=America/Denver:20230315T163000
DTSTAMP:20260424T192604
CREATED:20230213T223025Z
LAST-MODIFIED:20230213T223025Z
UID:249743-1678892400-1678897800@gatewayassociation.ca
SUMMARY:OSC Boardgames
DESCRIPTION:Come hang out! Learn about setting up online accounts\, meet new friends\, socialize\, and have fun playing boardgames online. Meet new friends\, practice new skills\, have fun! \nDuration: 1.5 to 2 hr \nFacilitator: Lee \nGTDI Program intake required prior to workshop signup: getdigital@gatewayassociation.ca . \n**Requires Online Social Connections – Discord and Steam Tutorials as well as desktop or laptop computer.**
URL:https://gatewayassociation.ca/calendar/osc-boardgames-28/
END:VEVENT
BEGIN:VEVENT
DTSTART;TZID=America/Denver:20230315T130000
DTEND;TZID=America/Denver:20230315T140000
DTSTAMP:20260424T192604
CREATED:20230213T222655Z
LAST-MODIFIED:20230213T222655Z
UID:249735-1678885200-1678888800@gatewayassociation.ca
SUMMARY:You TOO Can YouTube (3/4)
DESCRIPTION:Session: 3 of 4 \nDuration: 1 hr \nFacilitator: Toby \nGTDI Program intake required prior to workshop: getdigital@gatewayassociation.ca \nLearn about being a YouTube viewer and a YouTube creator. Find out how to make your own YouTube Channel and what to consider when you are choosing videos to watch. Create YouTube content\, learn about what to consider when watching videos as well as how to save and organize videos.
URL:https://gatewayassociation.ca/calendar/you-too-can-youtube-3-4-2/
END:VEVENT
BEGIN:VEVENT
DTSTART;TZID=America/Denver:20230315T110000
DTEND;TZID=America/Denver:20230315T120000
DTSTAMP:20260424T192604
CREATED:20230213T222926Z
LAST-MODIFIED:20230213T222926Z
UID:249741-1678878000-1678881600@gatewayassociation.ca
SUMMARY:Google Docs Series (2/2)
DESCRIPTION:In this 2 session workshop series\, Participants will practice creating and sharing google documents\, explore the tools provided to help them write\, edit\, comment and chat. This workshop covers the Basics of google docs\, as well as file organization\, sharing\, and commenting. \nSession: 2 of 2 \nDuration: 1 hr \nFacilitator: Lee \nPrivate – GTDI Program intake required prior to workshop: getdigital@gatewayassociation.ca
URL:https://gatewayassociation.ca/calendar/google-docs-series-2-2-3/
END:VEVENT
BEGIN:VEVENT
DTSTART;TZID=America/Denver:20230314T190000
DTEND;TZID=America/Denver:20230314T210000
DTSTAMP:20260424T192604
CREATED:20221027T195353Z
LAST-MODIFIED:20230112T184921Z
UID:249105-1678820400-1678827600@gatewayassociation.ca
SUMMARY:Families Forward\, Under 18
DESCRIPTION:Families Forward\, Under 18 \nTuesday\, March 14 \n7pm – 9pm | Zoom \nMonthly meeting for families with children under 18 with disabilities. \nWhere families can connect with other families\, learn from one another\, and explore issues that are important \,such as schooling\, leadership\, and community and government support. \nThis month’s topic: \nShyla Masse from Getting Ready for Inclusion Today(GRIT) will be joining us to discuss visioning and planning for your young child’s future. \n  \nFor accommodations and questions\, please connect with Stacy@GatewayAssociation.ca \nRegister HERE
URL:https://gatewayassociation.ca/calendar/families-forward-under-18-5/
CATEGORIES:FRC
END:VEVENT
BEGIN:VEVENT
DTSTART;TZID=America/Denver:20230314T180000
DTEND;TZID=America/Denver:20230314T210000
DTSTAMP:20260424T192604
CREATED:20221027T194815Z
LAST-MODIFIED:20221027T194815Z
UID:249103-1678816800-1678827600@gatewayassociation.ca
SUMMARY:Finding the Right Staff (FMS)
DESCRIPTION:Finding the Right Staff (FMS)              \nTuesday\, March 14 \n6pm – 9pm | Zoom \nA workshop for Family Managed Services Administrators that looks at using your vision plan to identify appropriate supports to help achieve your family member’s goals \nThis workshop\, for Family Managed Services Administrators only\, looks at using the Individual Support Plan to help your staff create valued roles and enhance community connections. \nFor accommodations or questions\, please connect with Miriam@GatewayAssociation.ca \nRegister HERE
URL:https://gatewayassociation.ca/calendar/finding-the-right-staff-fms-2/
CATEGORIES:FRC
END:VEVENT
BEGIN:VEVENT
DTSTART;TZID=America/Denver:20230314T170000
DTEND;TZID=America/Denver:20230314T183000
DTSTAMP:20260424T192604
CREATED:20230214T202931Z
LAST-MODIFIED:20230214T202931Z
UID:249771-1678813200-1678818600@gatewayassociation.ca
SUMMARY:How To Be Smart with Your Monetary Resources
DESCRIPTION:Money Smarts – keeping money in your pocket and enhancing your monetary spending to its maximum potential. In this session\, we will cover various approaches that you may or may not be aware of for accessing lower costs\, free items and learn to better cope with the rising cost of good and services. \nClick HERE to sign up for the session! \nFor accommodation needs or questions\, please connect with us at GetDigital@GatewayAssociation.ca
URL:https://gatewayassociation.ca/calendar/how-to-be-smart-with-your-monetary-resources/
END:VEVENT
BEGIN:VEVENT
DTSTART;TZID=America/Denver:20230314T130000
DTEND;TZID=America/Denver:20230314T140000
DTSTAMP:20260424T192604
CREATED:20230213T222616Z
LAST-MODIFIED:20230213T222616Z
UID:249733-1678798800-1678802400@gatewayassociation.ca
SUMMARY:You TOO Can YouTube (2/4)
DESCRIPTION:Session: 2 of 4 \nDuration: 1 hr \nFacilitator: Toby \nGTDI Program intake required prior to workshop: getdigital@gatewayassociation.ca \nLearn about being a YouTube viewer and a YouTube creator. Find out how to make your own YouTube Channel and what to consider when you are choosing videos to watch. Create YouTube content\, learn about what to consider when watching videos as well as how to save and organize videos.
URL:https://gatewayassociation.ca/calendar/you-too-can-youtube-2-4-2/
END:VEVENT
BEGIN:VEVENT
DTSTART;TZID=America/Denver:20230314T130000
DTEND;TZID=America/Denver:20230314T140000
DTSTAMP:20260424T192604
CREATED:20230213T215827Z
LAST-MODIFIED:20230213T215827Z
UID:249687-1678798800-1678802400@gatewayassociation.ca
SUMMARY:Networking: Using Your Connections
DESCRIPTION:Description: Building sustaining personal networks is a great way to connect with employers. This session will describe ways to create a personal network and using existing relationships that can lead to career paths and new opportunities. \nFor any accommodation requirements\, questions and to register\, please reach out to us at Get-Work@GatewayAssociation.ca
URL:https://gatewayassociation.ca/calendar/networking-using-your-connections-5/
CATEGORIES:ERC
END:VEVENT
BEGIN:VEVENT
DTSTART;TZID=America/Denver:20230314T110000
DTEND;TZID=America/Denver:20230314T120000
DTSTAMP:20260424T192604
CREATED:20230213T222846Z
LAST-MODIFIED:20230213T222846Z
UID:249739-1678791600-1678795200@gatewayassociation.ca
SUMMARY:Google Doc Series (1/2)
DESCRIPTION:In this 2 session workshop series\, Participants will practice creating and sharing google documents\, explore the tools provided to help them write\, edit\, comment and chat. This workshop covers the Basics of google docs\, as well as file organization\, sharing\, and commenting. \nSession: 1 of 2 \nDuration: 1 hr \nFacilitator: Lee \nPrivate – GTDI Program intake required prior to workshop: getdigital@gatewayassociation.ca
URL:https://gatewayassociation.ca/calendar/google-doc-series-1-2-2/
END:VEVENT
BEGIN:VEVENT
DTSTART;TZID=America/Denver:20230313T130000
DTEND;TZID=America/Denver:20230313T140000
DTSTAMP:20260424T192604
CREATED:20230213T222546Z
LAST-MODIFIED:20230213T222546Z
UID:249731-1678712400-1678716000@gatewayassociation.ca
SUMMARY:You TOO Can YouTube (1/4)
DESCRIPTION:Session: 1 of 4 \nDuration: 1 hr \nFacilitator: Toby \nGTDI Program intake required prior to workshop: getdigital@gatewayassociation.ca \nLearn about being a YouTube viewer and a YouTube creator. Find out how to make your own YouTube Channel and what to consider when you are choosing videos to watch. Create YouTube content\, learn about what to consider when watching videos as well as how to save and organize videos.
URL:https://gatewayassociation.ca/calendar/you-too-can-youtube-1-4-2/
END:VEVENT
BEGIN:VEVENT
DTSTART;TZID=America/Denver:20230313T100000
DTEND;TZID=America/Denver:20230313T130000
DTSTAMP:20260424T192604
CREATED:20230213T215744Z
LAST-MODIFIED:20230302T155929Z
UID:249685-1678701600-1678712400@gatewayassociation.ca
SUMMARY:Mental Health Awareness Day- With CMHA (Calgary)
DESCRIPTION:Gateway Association invites all Employment Program participants to join this in-person mental health awareness session. This event will be facilitated by Canadian Mental Health Association. \nThe session intends to cover the following topics: \n\nUnderstanding stress and how it affects body and mind\nIdentifying personal stress triggers\nWays to cope with stress in a healthy way\nMisconceptions surrounding mental health and mental illnesses\nWarning signs for mental health concerns\nResources available for help\n\n\nLight refreshments will be provided. \nWe are thankful for our partners at ATB to lend us their beautiful workshop space! \nRegister HERE \nFor any accommodation requirements\, questions and to register\, please reach out to us at Get-Work@GatewayAssociation.ca
URL:https://gatewayassociation.ca/calendar/mental-health-awareness-day-with-cmha/
CATEGORIES:ERC
END:VEVENT
BEGIN:VEVENT
DTSTART;TZID=America/Denver:20230309T130000
DTEND;TZID=America/Denver:20230309T140000
DTSTAMP:20260424T192604
CREATED:20230213T215619Z
LAST-MODIFIED:20230213T215619Z
UID:249683-1678366800-1678370400@gatewayassociation.ca
SUMMARY:Growth Mindset: Resiliency in Job Search
DESCRIPTION:Job search can be a long and daunting process for many. This workshop will help individuals create a positive and persistent mindset along with tips on how to stay motivated \nFor any accommodation requirements\, questions and to register\, please reach out to us at Get-Work@GatewayAssociation.ca
URL:https://gatewayassociation.ca/calendar/growth-mindset-resiliency-in-job-search-5/
CATEGORIES:ERC
END:VEVENT
BEGIN:VEVENT
DTSTART;TZID=America/Denver:20230309T110000
DTEND;TZID=America/Denver:20230309T120000
DTSTAMP:20260424T192604
CREATED:20230213T222127Z
LAST-MODIFIED:20230213T222127Z
UID:249723-1678359600-1678363200@gatewayassociation.ca
SUMMARY:Audio Editing with Audacity (3/3)
DESCRIPTION:Session 3 of 3 \nDuration 1 hr \nFacilitator: Toby \nGTDI Program intake required prior to workshop: getdigital@gatewayassociation.ca \nIn this 3 session workshop series participants will be guided through the steps to use Audacity software for basic audio editing. This series will focus on editing spoken dialogue.
URL:https://gatewayassociation.ca/calendar/audio-editing-with-audacity-3-3-2/
END:VEVENT
BEGIN:VEVENT
DTSTART;TZID=America/Denver:20230309T110000
DTEND;TZID=America/Denver:20230309T120000
DTSTAMP:20260424T192604
CREATED:20230213T221927Z
LAST-MODIFIED:20230213T221927Z
UID:249717-1678359600-1678363200@gatewayassociation.ca
SUMMARY:ePortfolio Series (3/3)
DESCRIPTION:Session 3 of 3 \nDuration 1 hr \nFacilitator: Lee \nGTDI Program intake required prior to workshop: getdigital@gatewayassociation.ca \nIn the eportfolio workshop series\, participants will learn about the different types of portfolios\, how to use google sites\, and the basics of layout and design. Learners will choose the type of portfolio they want to build and the subject they want to focus on. They will select and add content to their sites along with descriptions\, statements about their motivation\, interests\, skills\, and hobbies. Learners will work on their own between classes.
URL:https://gatewayassociation.ca/calendar/eportfolio-series-3-3-4/
END:VEVENT
BEGIN:VEVENT
DTSTART;TZID=America/Denver:20230308T180000
DTEND;TZID=America/Denver:20230308T210000
DTSTAMP:20260424T192604
CREATED:20221026T190446Z
LAST-MODIFIED:20221026T190446Z
UID:249087-1678298400-1678309200@gatewayassociation.ca
SUMMARY:Transition Planning for Adulthood (4/4)
DESCRIPTION:Transition Planning for Adulthood \nWednesdays \nFebruary 15 \nFebruary 22 \nMarch 1 \nMarch 8 \n6pm – 9pm | Zoom \nA 4-part workshop series exploring the critical transition to adulthood for 16-20 year-olds and how to create a plan for the future. \nJoin our 4-part workshop series that engages families in building knowledge when navigating this critical time for 16-20 year olds. This workshop series includes topics on: life transitions\, valued roles in the community\, visioning and planning\, and navigating the systems. \nNote: All four workshops must be taken consecutively. \nFor accommodations and questions\, please connect with Yonique@GatewayAssociation.ca \nRegister HERE
URL:https://gatewayassociation.ca/calendar/transition-planning-for-adulthood-4-4/
CATEGORIES:FRC
END:VEVENT
BEGIN:VEVENT
DTSTART;TZID=America/Denver:20230308T180000
DTEND;TZID=America/Denver:20230308T190000
DTSTAMP:20260424T192604
CREATED:20230214T203310Z
LAST-MODIFIED:20230214T203310Z
UID:249773-1678298400-1678302000@gatewayassociation.ca
SUMMARY:Registered Disability Savings Plan (RDSP) Information Session
DESCRIPTION:Join GA’s RDSP Coordinators for an informal yet informative presentation on the Registered Disability Savings Plan. Learn how to qualify and how Jacquie and Fiona can support you! \nSign up for this session HERE \nFor accommodation requirements and questions\, please connect with us at GetDigital@GatewayAssociation.ca
URL:https://gatewayassociation.ca/calendar/registered-disability-savings-plan-rdsp-information-session/
CATEGORIES:ERC,FRC
END:VEVENT
BEGIN:VEVENT
DTSTART;TZID=America/Denver:20230308T150000
DTEND;TZID=America/Denver:20230308T163000
DTSTAMP:20260424T192604
CREATED:20230213T222434Z
LAST-MODIFIED:20230213T222434Z
UID:249729-1678287600-1678293000@gatewayassociation.ca
SUMMARY:OSC Boardgames
DESCRIPTION:Come hang out! Learn about setting up online accounts\, meet new friends\, socialize\, and have fun playing boardgames online. Meet new friends\, practise new skills\, have fun! \nDuration: 1.5 to 2 hr \nFacilitator: Lee \nGTDI Program intake required prior to workshop signup: getdigital@gatewayassociation.ca . \n**Requires Online Social Connections – Discord and Steam Tutorials as well as desktop or laptop computer.**
URL:https://gatewayassociation.ca/calendar/osc-boardgames-27/
END:VEVENT
BEGIN:VEVENT
DTSTART;TZID=America/Denver:20230308T143000
DTEND;TZID=America/Denver:20230308T153000
DTSTAMP:20260424T192604
CREATED:20230213T222236Z
LAST-MODIFIED:20230213T222236Z
UID:249725-1678285800-1678289400@gatewayassociation.ca
SUMMARY:Explore Canva (1/2)
DESCRIPTION:Session 1 of 2 \nDuration 1 hr \nFacilitator: Toby \nLet your imagination be your guide as you create your own posters\, flyers\, cards\, videos\, and more to share information important to you. \nGTDI Program intake required prior to workshop: getdigital@gatewayassociation.ca
URL:https://gatewayassociation.ca/calendar/explore-canva-1-2-3/
END:VEVENT
BEGIN:VEVENT
DTSTART;TZID=America/Denver:20230308T130000
DTEND;TZID=America/Denver:20230308T140000
DTSTAMP:20260424T192604
CREATED:20230213T222053Z
LAST-MODIFIED:20230213T222053Z
UID:249721-1678280400-1678284000@gatewayassociation.ca
SUMMARY:Audio Editing with Audacity (2/3)
DESCRIPTION:Session 2 of 3 \nDuration 1 hr \nFacilitator: Toby \nGTDI Program intake required prior to workshop: getdigital@gatewayassociation.ca \nIn this 3 session workshop series participants will be guided through the steps to use Audacity software for basic audio editing. This series will focus on editing spoken dialogue.
URL:https://gatewayassociation.ca/calendar/audio-editing-with-audacity-2-3-2/
END:VEVENT
BEGIN:VEVENT
DTSTART;TZID=America/Denver:20230308T110000
DTEND;TZID=America/Denver:20230308T120000
DTSTAMP:20260424T192604
CREATED:20230213T221847Z
LAST-MODIFIED:20230213T221847Z
UID:249715-1678273200-1678276800@gatewayassociation.ca
SUMMARY:ePortfolio Series (2/3)
DESCRIPTION:Session 2 of 3 \nDuration 1 hr \nFacilitator: Lee \nGTDI Program intake required prior to workshop: getdigital@gatewayassociation.ca \nIn the eportfolio workshop series\, participants will learn about the different types of portfolios\, how to use google sites\, and the basics of layout and design. Learners will choose the type of portfolio they want to build and the subject they want to focus on. They will select and add content to their sites along with descriptions\, statements about their motivation\, interests\, skills\, and hobbies. Learners will work on their own between classes.
URL:https://gatewayassociation.ca/calendar/eportfolio-series-2-3-4/
END:VEVENT
BEGIN:VEVENT
DTSTART;TZID=America/Denver:20230307T180000
DTEND;TZID=America/Denver:20230307T210000
DTSTAMP:20260424T192604
CREATED:20221027T194617Z
LAST-MODIFIED:20221027T194617Z
UID:249101-1678212000-1678222800@gatewayassociation.ca
SUMMARY:Persons with Developmental Disabilities (PDD) 101
DESCRIPTION:Persons with Developmental Disabilities (PDD) 101 \nTuesday\, March 7 \n6pm -9pm | Zoom \nA workshop for caregivers to develop knowledge of Alberta’s government service known as Persons with Developmental Disabilities (PDD). \nThis workshop is an introduction to\, and overview of\, PDD for those who may be eligible. You will gain an understanding of the PDD program\, options available for service provision\, and information to determine the best supports for your family. \nFor accommodations or questions\, please connect with Miriam@GatewayAssociation.ca    \nRegister HERE 
URL:https://gatewayassociation.ca/calendar/persons-with-developmental-disabilities-pdd-101-5/
CATEGORIES:FRC
END:VEVENT
BEGIN:VEVENT
DTSTART;TZID=America/Denver:20230307T130000
DTEND;TZID=America/Denver:20230307T140000
DTSTAMP:20260424T192604
CREATED:20230213T222015Z
LAST-MODIFIED:20230213T222015Z
UID:249719-1678194000-1678197600@gatewayassociation.ca
SUMMARY:Audio Editing with Audacity
DESCRIPTION:Session 1 of 3 \nDuration 1 hr \nFacilitator: Toby \nGTDI Program intake required prior to workshop: getdigital@gatewayassociation.ca \nIn this 3 session workshop series participants will be guided through the steps to use Audacity software for basic audio editing. This series will focus on editing spoken dialogue.
URL:https://gatewayassociation.ca/calendar/audio-editing-with-audacity/
END:VEVENT
BEGIN:VEVENT
DTSTART;TZID=America/Denver:20230307T130000
DTEND;TZID=America/Denver:20230307T140000
DTSTAMP:20260424T192604
CREATED:20230213T215501Z
LAST-MODIFIED:20230213T215501Z
UID:249681-1678194000-1678197600@gatewayassociation.ca
SUMMARY:Finding Your Purpose - Career Exploration
DESCRIPTION:In this workshop\, we will discuss how considering own interests and abilities along with researching job market trends and income can yield success and job satisfaction. \n  \nFor any accommodation requirements\, questions and to register\, please reach out to us at Get-Work@GatewayAssociation.ca
URL:https://gatewayassociation.ca/calendar/finding-your-purpose-career-exploration-7/
CATEGORIES:ERC
END:VEVENT
BEGIN:VEVENT
DTSTART;TZID=America/Denver:20230307T110000
DTEND;TZID=America/Denver:20230307T120000
DTSTAMP:20260424T192604
CREATED:20230213T221810Z
LAST-MODIFIED:20230213T221810Z
UID:249713-1678186800-1678190400@gatewayassociation.ca
SUMMARY:ePortfolio Series (1/3)
DESCRIPTION:Session 1 of 3 \nDuration 1 hr \nFacilitator: Lee \nGTDI Program intake required prior to workshop: getdigital@gatewayassociation.ca \nIn the eportfolio workshop series\, participants will learn about the different types of portfolios\, how to use google sites\, and the basics of layout and design. Learners will choose the type of portfolio they want to build and the subject they want to focus on. They will select and add content to their sites along with descriptions\, statements about their motivation\, interests\, skills\, and hobbies. Learners will work on their own between classes.
URL:https://gatewayassociation.ca/calendar/eportfolio-series-1-3-3/
END:VEVENT
BEGIN:VEVENT
DTSTART;TZID=America/Denver:20230306T110000
DTEND;TZID=America/Denver:20230306T120000
DTSTAMP:20260424T192604
CREATED:20230213T221705Z
LAST-MODIFIED:20230213T221705Z
UID:249711-1678100400-1678104000@gatewayassociation.ca
SUMMARY:Email Basics
DESCRIPTION:Email Basics \nLearn about and practice the basics of writing professional emails for your job search and workplace communication. \nVirtual \nSession: 1 of 1 \nDuration: 1 hr \nFacilitator: Lee \nPrivate – GTDI Program intake required prior to workshop: getdigital@gatewayassociation.ca
URL:https://gatewayassociation.ca/calendar/email-basics-26/
END:VEVENT
BEGIN:VEVENT
DTSTART;TZID=America/Denver:20230302T143000
DTEND;TZID=America/Denver:20230302T153000
DTSTAMP:20260424T192604
CREATED:20230213T221605Z
LAST-MODIFIED:20230213T221605Z
UID:249709-1677767400-1677771000@gatewayassociation.ca
SUMMARY:LinkedIn Learning
DESCRIPTION:Explore LinkedIn website as a group\, learn how to: create an account\, search for course\, save and organize courses\, and customize your profile. \nSession 1 of 1 \nDuration 1 hr \nFacilitator: Toby \nGTDI Program intake required prior to workshop: getdigital@gatewayassociation.ca \n\n***Requires an active library membership.**
URL:https://gatewayassociation.ca/calendar/linkedin-learning-14/
END:VEVENT
BEGIN:VEVENT
DTSTART;TZID=America/Denver:20230302T130000
DTEND;TZID=America/Denver:20230302T140000
DTSTAMP:20260424T192604
CREATED:20230213T221221Z
LAST-MODIFIED:20230213T221221Z
UID:249703-1677762000-1677765600@gatewayassociation.ca
SUMMARY:File Management and PDFs (2/2)
DESCRIPTION:In this workshop participants will learn about saving files\, organizing and finding files\, converting documents to pdfs\, what a is pdf\, and how to use pdfs. \n  \nConnect with us at GetDigital@GatewayAssociation.ca to sign up!
URL:https://gatewayassociation.ca/calendar/file-management-and-pdfs-2-2/
END:VEVENT
END:VCALENDAR