BEGIN:VCALENDAR
VERSION:2.0
PRODID:-//Gateway Association - ECPv6.15.20//NONSGML v1.0//EN
CALSCALE:GREGORIAN
METHOD:PUBLISH
X-WR-CALNAME:Gateway Association
X-ORIGINAL-URL:https://gatewayassociation.ca
X-WR-CALDESC:Events for Gateway Association
REFRESH-INTERVAL;VALUE=DURATION:PT1H
X-Robots-Tag:noindex
X-PUBLISHED-TTL:PT1H
BEGIN:VTIMEZONE
TZID:America/Denver
BEGIN:DAYLIGHT
TZOFFSETFROM:-0700
TZOFFSETTO:-0600
TZNAME:MDT
DTSTART:20220313T090000
END:DAYLIGHT
BEGIN:STANDARD
TZOFFSETFROM:-0600
TZOFFSETTO:-0700
TZNAME:MST
DTSTART:20221106T080000
END:STANDARD
BEGIN:DAYLIGHT
TZOFFSETFROM:-0700
TZOFFSETTO:-0600
TZNAME:MDT
DTSTART:20230312T090000
END:DAYLIGHT
BEGIN:STANDARD
TZOFFSETFROM:-0600
TZOFFSETTO:-0700
TZNAME:MST
DTSTART:20231105T080000
END:STANDARD
BEGIN:DAYLIGHT
TZOFFSETFROM:-0700
TZOFFSETTO:-0600
TZNAME:MDT
DTSTART:20240310T090000
END:DAYLIGHT
BEGIN:STANDARD
TZOFFSETFROM:-0600
TZOFFSETTO:-0700
TZNAME:MST
DTSTART:20241103T080000
END:STANDARD
END:VTIMEZONE
BEGIN:VEVENT
DTSTART;TZID=America/Denver:20230905T110000
DTEND;TZID=America/Denver:20230905T120000
DTSTAMP:20260420T170400
CREATED:20230816T142031Z
LAST-MODIFIED:20230816T142031Z
UID:251099-1693911600-1693915200@gatewayassociation.ca
SUMMARY:Email Basics
DESCRIPTION:Session: 1 of 1 \nDuration: 1 hr \nFacilitator: Lee \nPrivate – GTDI Program intake required prior to workshop: getdigital@gatewayassociation.ca \n\nLearn about and practice the basics of writing professional emails for your job search and workplace communication.
URL:https://gatewayassociation.ca/calendar/email-basics-33/
END:VEVENT
BEGIN:VEVENT
DTSTART;TZID=America/Denver:20230831T130000
DTEND;TZID=America/Denver:20230831T140000
DTSTAMP:20260420T170400
CREATED:20230710T211137Z
LAST-MODIFIED:20230710T211137Z
UID:250844-1693486800-1693490400@gatewayassociation.ca
SUMMARY:LinkedIn Learning
DESCRIPTION:Session 1 of 1 \nDuration 1 hr \nFacilitator: Toby \nPrivate – GTDI Program intake required prior to workshop: getdigital@gatewayassociation.ca \n\n***Requires an active library membership.** \nExplore LinkedIn website as a group\, learn how to: create an account\, search for course\, save and organize courses\, and customize your profile.
URL:https://gatewayassociation.ca/calendar/linkedin-learning-18/
END:VEVENT
BEGIN:VEVENT
DTSTART;TZID=America/Denver:20230830T110000
DTEND;TZID=America/Denver:20230830T120000
DTSTAMP:20260420T170400
CREATED:20230710T211053Z
LAST-MODIFIED:20230710T211053Z
UID:250842-1693393200-1693396800@gatewayassociation.ca
SUMMARY:Steam Tutorial
DESCRIPTION:Session 1 of 1 \nDuration 1 hr \nFacilitator: Lee \nPrivate – GTDI Program intake required prior to workshop: getdigital@gatewayassociation.ca \n\nStep by step tutorial for downloading and installing Steam – an online game platform. Steam is required for Online boardgames group.
URL:https://gatewayassociation.ca/calendar/steam-tutorial-14/
END:VEVENT
BEGIN:VEVENT
DTSTART;TZID=America/Denver:20230829T150000
DTEND;TZID=America/Denver:20230829T163000
DTSTAMP:20260420T170400
CREATED:20230710T211013Z
LAST-MODIFIED:20230710T211013Z
UID:250840-1693321200-1693326600@gatewayassociation.ca
SUMMARY:OSC Boardgames
DESCRIPTION:Session: 1 of 1 \nDuration: 1.5 to 2 hr \nFacilitator: Lee \nPrivate – GTDI Program intake required prior to workshop signup: getdigital@gatewayassociation.ca \n**Requires Online Social Connections – Discord and Steam Tutorials as well as desktop or laptop computer.** \nCome hang out! Learn about setting up online accounts\, meet new friends\, socialize\, and have fun playing boardgames online. Meet new friends\, practise new skills\, have fun!
URL:https://gatewayassociation.ca/calendar/osc-boardgames-50/
END:VEVENT
BEGIN:VEVENT
DTSTART;TZID=America/Denver:20230828T130000
DTEND;TZID=America/Denver:20230828T140000
DTSTAMP:20260420T170400
CREATED:20230710T210912Z
LAST-MODIFIED:20230710T210912Z
UID:250838-1693227600-1693231200@gatewayassociation.ca
SUMMARY:Zoom Basics
DESCRIPTION:Session: 1 of 1 \nDuration: 1 hr \nFacilitator: Toby \nPrivate – GTDI Program intake required prior to workshop: getdigital@gatewayassociation.ca \n\nLearn what you need to know to participate in online Zoom meetings. Explore all the cool features of the program\, practice your digital skills and build your zoom social skills.
URL:https://gatewayassociation.ca/calendar/zoom-basics-18/
END:VEVENT
BEGIN:VEVENT
DTSTART;TZID=America/Denver:20230824T110000
DTEND;TZID=America/Denver:20230824T120000
DTSTAMP:20260420T170400
CREATED:20230710T210833Z
LAST-MODIFIED:20230710T210833Z
UID:250836-1692874800-1692878400@gatewayassociation.ca
SUMMARY:Google Docs (2 of 2)
DESCRIPTION:Session: 2 of 2 \nDuration: 1 hr \nFacilitator: Lee \nPrivate – GTDI Program intake required prior to workshop: getdigital@gatewayassociation.ca \n\nIn this 2 session workshop series\, Participants will practice creating and sharing google documents\, explore the tools provided to help them write\, edit\, comment and chat. This workshop covers the Basics of google docs\, as well as file organization\, sharing\, and commenting.
URL:https://gatewayassociation.ca/calendar/google-docs-2-of-2-2/
END:VEVENT
BEGIN:VEVENT
DTSTART;TZID=America/Denver:20230823T130000
DTEND;TZID=America/Denver:20230823T143000
DTSTAMP:20260420T170400
CREATED:20230710T210702Z
LAST-MODIFIED:20230710T210702Z
UID:250832-1692795600-1692801000@gatewayassociation.ca
SUMMARY:Internet Basics (3 of 3)
DESCRIPTION:Session 3 of 3 \nDuration 1.5 hr \nFacilitator: Toby \nPrivate – GTDI Program intake required prior to workshop: getdigital@gatewayassociation.ca \n\nThis 3 session workshop series (part 1 of the work simulation) helps learners find\, share\, and explore things online through a series of fun activities. Participants will use different google map features to find their way around town\, share their favourite places\, plan a vacation\, and compare different search engines. As a group\, learners will chat about fake news\, investigate stories on Snopes\, and chat about the media we take in everyday.
URL:https://gatewayassociation.ca/calendar/internet-basics-3-of-3-2/
END:VEVENT
BEGIN:VEVENT
DTSTART;TZID=America/Denver:20230823T110000
DTEND;TZID=America/Denver:20230823T120000
DTSTAMP:20260420T170400
CREATED:20230710T210748Z
LAST-MODIFIED:20230710T210748Z
UID:250834-1692788400-1692792000@gatewayassociation.ca
SUMMARY:Google Docs (1 of 2)
DESCRIPTION:Session: 1 of 2 \nDuration: 1 hr \nFacilitator: Lee \nPrivate – GTDI Program intake required prior to workshop: getdigital@gatewayassociation.ca \n\nIn this 2 session workshop series\, Participants will practice creating and sharing google documents\, explore the tools provided to help them write\, edit\, comment and chat. This workshop covers the Basics of google docs\, as well as file organization\, sharing\, and commenting.
URL:https://gatewayassociation.ca/calendar/google-docs-1-of-2-2/
END:VEVENT
BEGIN:VEVENT
DTSTART;TZID=America/Denver:20230822T130000
DTEND;TZID=America/Denver:20230822T143000
DTSTAMP:20260420T170400
CREATED:20230710T210624Z
LAST-MODIFIED:20230710T210624Z
UID:250830-1692709200-1692714600@gatewayassociation.ca
SUMMARY:Internet Basics (2 of 3)
DESCRIPTION:Session 2 of 3 \nDuration 1.5 hr \nFacilitator: Toby \nPrivate – GTDI Program intake required prior to workshop: getdigital@gatewayassociation.ca \n\nThis 3 session workshop series (part 1 of the work simulation) helps learners find\, share\, and explore things online through a series of fun activities. Participants will use different google map features to find their way around town\, share their favourite places\, plan a vacation\, and compare different search engines. As a group\, learners will chat about fake news\, investigate stories on Snopes\, and chat about the media we take in everyday.
URL:https://gatewayassociation.ca/calendar/internet-basics-2-of-3-2/
END:VEVENT
BEGIN:VEVENT
DTSTART;TZID=America/Denver:20230821T130000
DTEND;TZID=America/Denver:20230821T143000
DTSTAMP:20260420T170400
CREATED:20230710T210532Z
LAST-MODIFIED:20230710T210541Z
UID:250827-1692622800-1692628200@gatewayassociation.ca
SUMMARY:Internet Basics (1 of 3)
DESCRIPTION:Session 1 of 3 \nDuration 1.5 hr \nFacilitator: Toby \nPrivate – GTDI Program intake required prior to workshop: getdigital@gatewayassociation.ca \nThis 3 session workshop series (part 1 of the work simulation) helps learners find\, share\, and explore things online through a series of fun activities. Participants will use different google map features to find their way around town\, share their favourite places\, plan a vacation\, and compare different search engines. As a group\, learners will chat about fake news\, investigate stories on Snopes\, and chat about the media we take in everyday.
URL:https://gatewayassociation.ca/calendar/internet-basics-1-of-3-2/
END:VEVENT
BEGIN:VEVENT
DTSTART;TZID=America/Denver:20230818T130000
DTEND;TZID=America/Denver:20230818T150000
DTSTAMP:20260420T170400
CREATED:20230711T193113Z
LAST-MODIFIED:20230801T133452Z
UID:250856-1692363600-1692370800@gatewayassociation.ca
SUMMARY:August Digital Storytelling Workshops (5 of 5)
DESCRIPTION:August 9\,11\,14\,16\,18 @1-3pm -Virtual \nFinding ways to help your story unfold!  \nWe all have stories\, and it’s important that they are told. When telling our stories\, we have different ways of going about it. Let’s work together so that each of us can discover new skills and find our own tools to tell our story.   \nYou will work together for 5 weeks\, alongside others\, to share and develop your very own digital story. Each week we will bring in activities to help participants tell their story the way they want to tell it.   \nThese activities will introduce creative ways to go about telling your story. These will include lots of digital tools that support audio and visual storytelling. When you finish the sessions\, you will achieve a Digital Storyteller Certificate that you can add to your resume to show your experience and be part of an online screening of your work.  \n  \nThese sessions are facilitated by Story Finders Heath Birkholz and Maigan van der Giessen from Gateway Association.   \nTo sign up\, please contact getdigital@gatewayassociation.ca
URL:https://gatewayassociation.ca/calendar/august-digital-storytelling-workshops-3-of-5/
END:VEVENT
BEGIN:VEVENT
DTSTART;TZID=America/Denver:20230817T130000
DTEND;TZID=America/Denver:20230817T140000
DTSTAMP:20260420T170400
CREATED:20230710T210146Z
LAST-MODIFIED:20230710T210146Z
UID:250819-1692277200-1692280800@gatewayassociation.ca
SUMMARY:You TOO Can YouTube (4 of 4)
DESCRIPTION:Session: 4 of 4 \nDuration: 1 hr \nFacilitator: Toby \nPrivate – GTDI Program intake required prior to workshop: getdigital@gatewayassociation.ca \n\nLearn about being a YouTube viewer and a YouTube creator. Find out how to make your own YouTube Channel and what to consider when you are choosing videos to watch. Create YouTube content\, learn about what to consider when watching videos as well as how to save and organize videos.
URL:https://gatewayassociation.ca/calendar/you-too-can-youtube-4-of-4/
END:VEVENT
BEGIN:VEVENT
DTSTART;TZID=America/Denver:20230817T110000
DTEND;TZID=America/Denver:20230817T120000
DTSTAMP:20260420T170400
CREATED:20230710T210353Z
LAST-MODIFIED:20230710T210353Z
UID:250825-1692270000-1692273600@gatewayassociation.ca
SUMMARY:Email Basics
DESCRIPTION:Session: 1 of 1 \nDuration: 1 hr \nFacilitator: Lee \nPrivate – GTDI Program intake required prior to workshop: getdigital@gatewayassociation.ca \nLearn about and practice the basics of writing professional emails for your job search and workplace communication.
URL:https://gatewayassociation.ca/calendar/email-basics-32/
END:VEVENT
BEGIN:VEVENT
DTSTART;TZID=America/Denver:20230816T130000
DTEND;TZID=America/Denver:20230816T150000
DTSTAMP:20260420T170400
CREATED:20230711T193033Z
LAST-MODIFIED:20230801T133433Z
UID:250854-1692190800-1692198000@gatewayassociation.ca
SUMMARY:August Digital Storytelling Workshops (4 of 5)
DESCRIPTION:August 9\,11\,14\,16\,18 @1-3pm -Virtual \nFinding ways to help your story unfold!  \nWe all have stories\, and it’s important that they are told. When telling our stories\, we have different ways of going about it. Let’s work together so that each of us can discover new skills and find our own tools to tell our story.   \nYou will work together for 5 weeks\, alongside others\, to share and develop your very own digital story. Each week we will bring in activities to help participants tell their story the way they want to tell it.   \nThese activities will introduce creative ways to go about telling your story. These will include lots of digital tools that support audio and visual storytelling. When you finish the sessions\, you will achieve a Digital Storyteller Certificate that you can add to your resume to show your experience and be part of an online screening of your work.  \n  \nThese sessions are facilitated by Story Finders Heath Birkholz and Maigan van der Giessen from Gateway Association.   \nTo sign up\, please contact getdigital@gatewayassociation.ca
URL:https://gatewayassociation.ca/calendar/august-digital-storytelling-workshops-2-of-5/
END:VEVENT
BEGIN:VEVENT
DTSTART;TZID=America/Denver:20230816T130000
DTEND;TZID=America/Denver:20230816T140000
DTSTAMP:20260420T170400
CREATED:20230710T210102Z
LAST-MODIFIED:20230710T210102Z
UID:250817-1692190800-1692194400@gatewayassociation.ca
SUMMARY:You TOO Can YouTube (3 of 4)
DESCRIPTION:Session: 3 of 4 \nDuration: 1 hr \nFacilitator: Toby \nPrivate – GTDI Program intake required prior to workshop: getdigital@gatewayassociation.ca \n\nLearn about being a YouTube viewer and a YouTube creator. Find out how to make your own YouTube Channel and what to consider when you are choosing videos to watch. Create YouTube content\, learn about what to consider when watching videos as well as how to save and organize videos.
URL:https://gatewayassociation.ca/calendar/you-too-can-youtube-3-of-4/
END:VEVENT
BEGIN:VEVENT
DTSTART;TZID=America/Denver:20230816T110000
DTEND;TZID=America/Denver:20230816T120000
DTSTAMP:20260420T170400
CREATED:20230710T210228Z
LAST-MODIFIED:20230710T210228Z
UID:250821-1692183600-1692187200@gatewayassociation.ca
SUMMARY:Discord Tutorial
DESCRIPTION:Session 1 of 1 \nDuration 1 hr \nFacilitator: Lee \nPrivate – GTDI Program intake required prior to workshop: getdigital@gatewayassociation.ca \n\nStep by step tutorial for downloading and installing Discord – a free app that lets people chat using text\, voice or video. Discord is required for Online boardgames group.
URL:https://gatewayassociation.ca/calendar/discord-tutorial-14/
END:VEVENT
BEGIN:VEVENT
DTSTART;TZID=America/Denver:20230815T150000
DTEND;TZID=America/Denver:20230815T163000
DTSTAMP:20260420T170400
CREATED:20230710T210312Z
LAST-MODIFIED:20230710T211351Z
UID:250823-1692111600-1692117000@gatewayassociation.ca
SUMMARY:OSC Boardgames
DESCRIPTION:Session: 1 of 1 \nDuration: 1.5 to 2 hr \nFacilitator: Lee \nPrivate – GTDI Program intake required prior to workshop signup: getdigital@gatewayassociation.ca \n**Requires Online Social Connections – Discord and Steam Tutorials as well as desktop or laptop computer.** \nCome hang out! Learn about setting up online accounts\, meet new friends\, socialize\, and have fun playing boardgames online. Meet new friends\, practise new skills\, have fun!
URL:https://gatewayassociation.ca/calendar/osc-boardgames-49/
END:VEVENT
BEGIN:VEVENT
DTSTART;TZID=America/Denver:20230815T130000
DTEND;TZID=America/Denver:20230815T140000
DTSTAMP:20260420T170400
CREATED:20230710T210023Z
LAST-MODIFIED:20230710T210023Z
UID:250815-1692104400-1692108000@gatewayassociation.ca
SUMMARY:You TOO Can YouTube (2 of 4)
DESCRIPTION:Session: 2 of 4 \nDuration: 1 hr \nFacilitator: Toby \nPrivate – GTDI Program intake required prior to workshop: getdigital@gatewayassociation.ca \n\nLearn about being a YouTube viewer and a YouTube creator. Find out how to make your own YouTube Channel and what to consider when you are choosing videos to watch. Create YouTube content\, learn about what to consider when watching videos as well as how to save and organize videos.
URL:https://gatewayassociation.ca/calendar/you-too-can-youtube-2-of-4/
END:VEVENT
BEGIN:VEVENT
DTSTART;TZID=America/Denver:20230814T130000
DTEND;TZID=America/Denver:20230814T150000
DTSTAMP:20260420T170400
CREATED:20230711T194123Z
LAST-MODIFIED:20230801T133249Z
UID:250858-1692018000-1692025200@gatewayassociation.ca
SUMMARY:August Digital Storytelling Workshops (3 of 5)
DESCRIPTION:August 9\,11\,14\,16\,18 @1-3pm -Virtual \nFinding ways to help your story unfold!  \nWe all have stories\, and it’s important that they are told. When telling our stories\, we have different ways of going about it. Let’s work together so that each of us can discover new skills and find our own tools to tell our story.   \nYou will work together for 5 weeks\, alongside others\, to share and develop your very own digital story. Each week we will bring in activities to help participants tell their story the way they want to tell it.   \nThese activities will introduce creative ways to go about telling your story. These will include lots of digital tools that support audio and visual storytelling. When you finish the sessions\, you will achieve a Digital Storyteller Certificate that you can add to your resume to show your experience and be part of an online screening of your work.  \n  \nThese sessions are facilitated by Story Finders Heath Birkholz and Maigan van der Giessen from Gateway Association.   \nTo sign up\, please contact getdigital@gatewayassociation.ca
URL:https://gatewayassociation.ca/calendar/august-digital-storytelling-workshops-4-of-5/
END:VEVENT
BEGIN:VEVENT
DTSTART;TZID=America/Denver:20230814T130000
DTEND;TZID=America/Denver:20230814T140000
DTSTAMP:20260420T170400
CREATED:20230710T205947Z
LAST-MODIFIED:20230710T205947Z
UID:250813-1692018000-1692021600@gatewayassociation.ca
SUMMARY:You TOO Can YouTube (1 of 4)
DESCRIPTION:Session: 1 of 4 \nDuration: 1 hr \nFacilitator: Toby \nPrivate – GTDI Program intake required prior to workshop: getdigital@gatewayassociation.ca \nLearn about being a YouTube viewer and a YouTube creator. Find out how to make your own YouTube Channel and what to consider when you are choosing videos to watch. Create YouTube content\, learn about what to consider when watching videos as well as how to save and organize videos.
URL:https://gatewayassociation.ca/calendar/you-too-can-youtube-1-of-4/
END:VEVENT
BEGIN:VEVENT
DTSTART;TZID=America/Denver:20230811T130000
DTEND;TZID=America/Denver:20230811T150000
DTSTAMP:20260420T170400
CREATED:20230711T201313Z
LAST-MODIFIED:20230801T133337Z
UID:250860-1691758800-1691766000@gatewayassociation.ca
SUMMARY:August Digital Storytelling Cohort (2 of 5)
DESCRIPTION:August 9\,11\,14\,16\,18 @1-3pm -Virtual \nFinding ways to help your story unfold!  \nWe all have stories\, and it’s important that they are told. When telling our stories\, we have different ways of going about it. Let’s work together so that each of us can discover new skills and find our own tools to tell our story.   \nYou will work together for 5 weeks\, alongside others\, to share and develop your very own digital story. Each week we will bring in activities to help participants tell their story the way they want to tell it.   \nThese activities will introduce creative ways to go about telling your story. These will include lots of digital tools that support audio and visual storytelling. When you finish the sessions\, you will achieve a Digital Storyteller Certificate that you can add to your resume to show your experience and be part of an online screening of your work.  \n  \nThese sessions are facilitated by Story Finders Heath Birkholz and Maigan van der Giessen from Gateway Association.   \nTo sign up\, please contact getdigital@gatewayassociation.ca
URL:https://gatewayassociation.ca/calendar/august-digital-storytelling-cohort-5-of-5/
END:VEVENT
BEGIN:VEVENT
DTSTART;TZID=America/Denver:20230810T143000
DTEND;TZID=America/Denver:20230810T153000
DTSTAMP:20260420T170400
CREATED:20230710T205608Z
LAST-MODIFIED:20230803T143915Z
UID:250811-1691677800-1691681400@gatewayassociation.ca
SUMMARY:Explore Canva (2 of 2)
DESCRIPTION:Session 2 of 2 \nDuration 1 hr \nFacilitator: Toby \nPrivate – GTDI Program intake required prior to workshop: getdigital@gatewayassociation.ca \nLet your imagination be your guide as you create your own posters\, flyers\, cards\, videos\, and more to share information important to you.
URL:https://gatewayassociation.ca/calendar/explore-canva-2-of-2/
END:VEVENT
BEGIN:VEVENT
DTSTART;TZID=America/Denver:20230810T130000
DTEND;TZID=America/Denver:20230810T140000
DTSTAMP:20260420T170400
CREATED:20230710T205234Z
LAST-MODIFIED:20230710T205234Z
UID:250801-1691672400-1691676000@gatewayassociation.ca
SUMMARY:Audio Editing with Audacity (3 of 3)
DESCRIPTION:Session 3 of 3 \nDuration 1 hr \nFacilitator: Toby \nPrivate – GTDI Program intake required prior to workshop: getdigital@gatewayassociation.ca \n\nIn this 3 session workshop series participants will be guided through the steps to use Audacity software for basic audio editing. This series will focus on editing spoken dialogue.
URL:https://gatewayassociation.ca/calendar/audio-editing-with-audacity-3-of-3/
END:VEVENT
BEGIN:VEVENT
DTSTART;TZID=America/Denver:20230810T110000
DTEND;TZID=America/Denver:20230810T120000
DTSTAMP:20260420T170400
CREATED:20230710T205440Z
LAST-MODIFIED:20230710T205440Z
UID:250807-1691665200-1691668800@gatewayassociation.ca
SUMMARY:Google Drive (2 of 2)
DESCRIPTION:Duration: 1 hr \nFacilitator: Lee \nPrivate – GTDI Program intake required prior to workshop: getdigital@gatewayassociation.ca \nLearn how to create a google accounts\, access google drive\, upload files\, create folders\, search for files. Group discussion on cloud storage\, strong passwords\, file naming conventions and keeping documents and folders organized.
URL:https://gatewayassociation.ca/calendar/google-drive-2-of-2-2/
END:VEVENT
BEGIN:VEVENT
DTSTART;TZID=America/Denver:20230809T143000
DTEND;TZID=America/Denver:20230809T153000
DTSTAMP:20260420T170400
CREATED:20230710T205520Z
LAST-MODIFIED:20230803T143900Z
UID:250809-1691591400-1691595000@gatewayassociation.ca
SUMMARY:Explore Canva (1 of 2)
DESCRIPTION:Session 1 of 2 \nDuration 1 hr \nFacilitator: Toby \nPrivate – GTDI Program intake required prior to workshop: getdigital@gatewayassociation.ca \nLet your imagination be your guide as you create your own posters\, flyers\, cards\, videos\, and more to share information important to you.
URL:https://gatewayassociation.ca/calendar/explore-canva-1-of-2/
END:VEVENT
BEGIN:VEVENT
DTSTART;TZID=America/Denver:20230809T130000
DTEND;TZID=America/Denver:20230809T150000
DTSTAMP:20260420T170400
CREATED:20230711T192950Z
LAST-MODIFIED:20230801T133218Z
UID:250852-1691586000-1691593200@gatewayassociation.ca
SUMMARY:August Digital Storytelling Workshops (1 of 5)
DESCRIPTION:August 9\,11\,14\,16\,18 @1-3pm -Virtual \nFinding ways to help your story unfold!  \nWe all have stories\, and it’s important that they are told. When telling our stories\, we have different ways of going about it. Let’s work together so that each of us can discover new skills and find our own tools to tell our story.   \nYou will work together for 5 weeks\, alongside others\, to share and develop your very own digital story. Each week we will bring in activities to help participants tell their story the way they want to tell it.   \nThese activities will introduce creative ways to go about telling your story. These will include lots of digital tools that support audio and visual storytelling. When you finish the sessions\, you will achieve a Digital Storyteller Certificate that you can add to your resume to show your experience and be part of an online screening of your work.  \n  \nThese sessions are facilitated by Story Finders Heath Birkholz and Maigan van der Giessen from Gateway Association.   \nTo sign up\, please contact getdigital@gatewayassociation.ca
URL:https://gatewayassociation.ca/calendar/august-digital-storytelling-workshops-1-of-5/
END:VEVENT
BEGIN:VEVENT
DTSTART;TZID=America/Denver:20230809T130000
DTEND;TZID=America/Denver:20230809T140000
DTSTAMP:20260420T170400
CREATED:20230710T205155Z
LAST-MODIFIED:20230710T205155Z
UID:250799-1691586000-1691589600@gatewayassociation.ca
SUMMARY:Audio Editing with Audacity (2 of 3)
DESCRIPTION:Session 2 of 3 \nDuration 1 hr \nFacilitator: Toby \nPrivate – GTDI Program intake required prior to workshop: getdigital@gatewayassociation.ca \n\nIn this 3 session workshop series participants will be guided through the steps to use Audacity software for basic audio editing. This series will focus on editing spoken dialogue.
URL:https://gatewayassociation.ca/calendar/audio-editing-with-audacity-2-of-3/
END:VEVENT
BEGIN:VEVENT
DTSTART;TZID=America/Denver:20230809T110000
DTEND;TZID=America/Denver:20230809T120000
DTSTAMP:20260420T170400
CREATED:20230710T205407Z
LAST-MODIFIED:20230710T205407Z
UID:250805-1691578800-1691582400@gatewayassociation.ca
SUMMARY:Google Drive (1 of 2)
DESCRIPTION:Duration: 1 hr \nFacilitator: Lee \nPrivate – GTDI Program intake required prior to workshop: getdigital@gatewayassociation.ca \nLearn how to create a google accounts\, access google drive\, upload files\, create folders\, search for files. Group discussion on cloud storage\, strong passwords\, file naming conventions and keeping documents and folders organized.
URL:https://gatewayassociation.ca/calendar/google-drive-1-of-2-2/
END:VEVENT
BEGIN:VEVENT
DTSTART;TZID=America/Denver:20230808T160000
DTEND;TZID=America/Denver:20230808T170000
DTSTAMP:20260420T170400
CREATED:20230725T173537Z
LAST-MODIFIED:20230725T173537Z
UID:251052-1691510400-1691514000@gatewayassociation.ca
SUMMARY:Importance of Mastering Your Mind
DESCRIPTION:Join Angong Deng as she takes us on a journey of mindset changes\, intuition\, and instincts. Learn how to figure out the root causes of your thoughts\, emotions\, and logic. In this session\, Deng hopes you will leave with knowledge that will add onto your personal and professional development by learning how to strengthen\, expand and master your mind for a healthier lifestyle. \n  \nSign up here: https://forms.gle/AURTGpBwJjCrWR6z5
URL:https://gatewayassociation.ca/calendar/importance-of-mastering-your-mind/
END:VEVENT
BEGIN:VEVENT
DTSTART;TZID=America/Denver:20230808T160000
DTEND;TZID=America/Denver:20230808T170000
DTSTAMP:20260420T170400
CREATED:20230711T124542Z
LAST-MODIFIED:20230711T124542Z
UID:250848-1691510400-1691514000@gatewayassociation.ca
SUMMARY:The Importance of Mastering Your Mind
DESCRIPTION:Join Angong Deng as she takes us on a journey of mindset changes\, intuition\, and instincts. Learn how to figure out the root causes of your thoughts\, emotions\, and logic. In this session\, Deng hopes you will leave with knowledge that will add onto your personal and professional development by learning how to strengthen\, expand and master your mind for a healthier lifestyle. \n  \nSign up here: https://forms.gle/AURTGpBwJjCrWR6z5
URL:https://gatewayassociation.ca/calendar/the-importance-of-mastering-your-mind/
END:VEVENT
END:VCALENDAR