BEGIN:VCALENDAR
VERSION:2.0
PRODID:-//Gateway Association - ECPv6.15.20//NONSGML v1.0//EN
CALSCALE:GREGORIAN
METHOD:PUBLISH
X-WR-CALNAME:Gateway Association
X-ORIGINAL-URL:https://gatewayassociation.ca
X-WR-CALDESC:Events for Gateway Association
REFRESH-INTERVAL;VALUE=DURATION:PT1H
X-Robots-Tag:noindex
X-PUBLISHED-TTL:PT1H
BEGIN:VTIMEZONE
TZID:America/Denver
BEGIN:DAYLIGHT
TZOFFSETFROM:-0700
TZOFFSETTO:-0600
TZNAME:MDT
DTSTART:20230312T090000
END:DAYLIGHT
BEGIN:STANDARD
TZOFFSETFROM:-0600
TZOFFSETTO:-0700
TZNAME:MST
DTSTART:20231105T080000
END:STANDARD
BEGIN:DAYLIGHT
TZOFFSETFROM:-0700
TZOFFSETTO:-0600
TZNAME:MDT
DTSTART:20240310T090000
END:DAYLIGHT
BEGIN:STANDARD
TZOFFSETFROM:-0600
TZOFFSETTO:-0700
TZNAME:MST
DTSTART:20241103T080000
END:STANDARD
BEGIN:DAYLIGHT
TZOFFSETFROM:-0700
TZOFFSETTO:-0600
TZNAME:MDT
DTSTART:20250309T090000
END:DAYLIGHT
BEGIN:STANDARD
TZOFFSETFROM:-0600
TZOFFSETTO:-0700
TZNAME:MST
DTSTART:20251102T080000
END:STANDARD
END:VTIMEZONE
BEGIN:VEVENT
DTSTART;TZID=America/Denver:20240727T090000
DTEND;TZID=America/Denver:20240727T120000
DTSTAMP:20260420T105348
CREATED:20240524T191628Z
LAST-MODIFIED:20240524T191628Z
UID:252744-1722070800-1722081600@gatewayassociation.ca
SUMMARY:Persons with Developmental Disabilities (PDD) 101
DESCRIPTION:PDD 101     \nA workshop for caregivers to develop knowledge of Alberta’s government service known as Persons with Developmental Disabilities (PDD).\n\nSaturday\, July 27\n9:00 am – 12:00 pm\n\n\n“This workshop is an introduction to\, and overview of\, PDD for those who may be eligible. You will gain an understanding of the PDD program\, options available for service provision\, and information to determine the best supports for your family.\n\n This workshop will provide you with:\n\n1. An understanding of the PDD program’s role in supporting adults with developmental disabilities \n2. Knowledge of available options for service provision – Family Managed Supports (FMS) and PDD Service Providers (agency)\n3. Information to guide you in determining which type of service provision will best suit your family and adult child’s needs”\n\nQuestions?  Contact Miriam (facilitator) at miriam@gatewayassociation.ca \n\n\nREGISTER HERE
URL:https://gatewayassociation.ca/calendar/persons-with-developmental-disabilities-pdd-101-12/
CATEGORIES:FRC
END:VEVENT
BEGIN:VEVENT
DTSTART;TZID=America/Denver:20240729T110000
DTEND;TZID=America/Denver:20240729T120000
DTSTAMP:20260420T105348
CREATED:20240524T151105Z
LAST-MODIFIED:20240524T151105Z
UID:252720-1722250800-1722254400@gatewayassociation.ca
SUMMARY:Email Basics
DESCRIPTION:Session: 1 of 1  \nDuration: 1 hr   \nFacilitator: Lee  \nPrivate – GTDI Program intake required prior to workshop: getdigital@gatewayassociation.ca  \n  \nLearn about and practice the basics of writing professional emails for your job search and workplace communication. 
URL:https://gatewayassociation.ca/calendar/email-basics-42/
END:VEVENT
BEGIN:VEVENT
DTSTART;TZID=America/Denver:20240729T130000
DTEND;TZID=America/Denver:20240729T140000
DTSTAMP:20260420T105348
CREATED:20240524T151321Z
LAST-MODIFIED:20240524T151321Z
UID:252724-1722258000-1722261600@gatewayassociation.ca
SUMMARY:LinkedIn Profiles (1 of 3)
DESCRIPTION:Session: 1 of 3 \nDuration: 1 hr \nFacilitator: Toby \nPrivate – GTDI Program intake required prior to workshop: getdigital@gatewayassociation.ca \n\nBuild your own LinkedIn profile! Share your skills\, goals\, and experiences\, create job alerts\, and grow your online network.
URL:https://gatewayassociation.ca/calendar/linkedin-profiles-1-of-3-7/
END:VEVENT
BEGIN:VEVENT
DTSTART;TZID=America/Denver:20240729T130000
DTEND;TZID=America/Denver:20240729T140000
DTSTAMP:20260420T105348
CREATED:20240704T183736Z
LAST-MODIFIED:20240704T184425Z
UID:252815-1722258000-1722261600@gatewayassociation.ca
SUMMARY:Edmonton Employment Resource Centre Info Session
DESCRIPTION:Join Gateway Association for a virtual Employment Resource Centre information session. \nThis session is for job seekers with disability or mental health-based barriers to learn about how Gateway Association can support you with achieving your employment goals! \nLearn about individualized supports and group workshops that will help you with: \n\nCareer development and action plans\nResume building\nInterview skills\nWorkplace communication\nOnboarding and training\nJob search and finding the right job for you\nKeeping your job!\nAND much more!\n\nFor additional accommodations or questions\, please connect with us at employment@gatewayassociation.ca  \nRegister HERE
URL:https://gatewayassociation.ca/calendar/edmonton-employment-resource-centre-info-session-2/
CATEGORIES:ERC
END:VEVENT
BEGIN:VEVENT
DTSTART;TZID=America/Denver:20240730T110000
DTEND;TZID=America/Denver:20240730T120000
DTSTAMP:20260420T105348
CREATED:20240524T151157Z
LAST-MODIFIED:20240524T151157Z
UID:252722-1722337200-1722340800@gatewayassociation.ca
SUMMARY:Study Hall - ePortfolio
DESCRIPTION:Session 1 of 1  \nDuration 1 hr   \nFacilitator: Lee  \nPrivate – GTDI Program intake required prior to workshop: getdigital@gatewayassociation.ca  \n**Requires desktop or laptop computer. \n  \nThis is an open work session for participants who  have already completed the ePortfolio Workshop series and would like to continue working on their portfolios.
URL:https://gatewayassociation.ca/calendar/study-hall-eportfolio-2/
END:VEVENT
BEGIN:VEVENT
DTSTART;TZID=America/Denver:20240730T130000
DTEND;TZID=America/Denver:20240730T140000
DTSTAMP:20260420T105348
CREATED:20240524T151416Z
LAST-MODIFIED:20240524T151416Z
UID:252726-1722344400-1722348000@gatewayassociation.ca
SUMMARY:LinkedIn Profiles (2 of 3)
DESCRIPTION:Session: 2 of 3 \nDuration: 1 hr \nFacilitator: Toby \nPrivate – GTDI Program intake required prior to workshop: getdigital@gatewayassociation.ca \n\nBuild your own LinkedIn profile! Share your skills\, goals\, and experiences\, create job alerts\, and grow your online network.
URL:https://gatewayassociation.ca/calendar/linkedin-profiles-2-of-3-7/
END:VEVENT
BEGIN:VEVENT
DTSTART;TZID=America/Denver:20240731T130000
DTEND;TZID=America/Denver:20240731T140000
DTSTAMP:20260420T105348
CREATED:20240524T151532Z
LAST-MODIFIED:20240524T151532Z
UID:252729-1722430800-1722434400@gatewayassociation.ca
SUMMARY:LinkedIn Profiles (3 of 3)
DESCRIPTION:Session: 3 of 3 \nDuration: 1 hr \nFacilitator: Toby \nPrivate – GTDI Program intake required prior to workshop: getdigital@gatewayassociation.ca \n\nBuild your own LinkedIn profile! Share your skills\, goals\, and experiences\, create job alerts\, and grow your online network.
URL:https://gatewayassociation.ca/calendar/linkedin-profiles-3-of-3-7/
END:VEVENT
BEGIN:VEVENT
DTSTART;TZID=America/Denver:20240731T130000
DTEND;TZID=America/Denver:20240731T150000
DTSTAMP:20260420T105348
CREATED:20240704T192155Z
LAST-MODIFIED:20240704T192155Z
UID:252837-1722430800-1722438000@gatewayassociation.ca
SUMMARY:YYC MentorAbility Information Session & Mock Interviews
DESCRIPTION:Have you heard of our awesome program MentorAbility? \nIf not\, this workshop is for you! Even if you have heard of them\, please come check out the session! A chance to learn all about what MentorAbility has to offer and ask questions from the pros themselves! Afterwards\, there will be a chance to practice your interview skills with us! Partake in a mock interview to freshen up those skills and get real time feedback before heading to live interviews! \nTo register\, please connect with nikkitta@gatewayassociation.ca
URL:https://gatewayassociation.ca/calendar/yyc-mentorability-information-session-mock-interviews/
CATEGORIES:ERC
END:VEVENT
BEGIN:VEVENT
DTSTART;TZID=America/Denver:20240731T140000
DTEND;TZID=America/Denver:20240731T160000
DTSTAMP:20260420T105348
CREATED:20240704T192630Z
LAST-MODIFIED:20240704T192630Z
UID:252839-1722434400-1722441600@gatewayassociation.ca
SUMMARY:Mock Interview Roundtable
DESCRIPTION:Come down to the Edmonton Office to work on your interview skills! We will be hosting a mock interview roundtable where folks can participate as the interviewee and the interviewer. There will be a variety of questions to get you prepared for every interview you have! \nTo learn more and register\, please connect with employment@gatewayassociation.ca
URL:https://gatewayassociation.ca/calendar/mock-interview-roundtable/
CATEGORIES:ERC
END:VEVENT
BEGIN:VEVENT
DTSTART;TZID=America/Denver:20240731T180000
DTEND;TZID=America/Denver:20240731T190000
DTSTAMP:20260420T105348
CREATED:20240704T192838Z
LAST-MODIFIED:20240704T194430Z
UID:252841-1722448800-1722452400@gatewayassociation.ca
SUMMARY:Calgary Employment Resource Centre Information Session
DESCRIPTION:Calgary Employment Resource Centre Information Session \nJoin Gateway Association for a virtual Employment Resource Centre information session. \nThis session is for job seekers with disability or mental health-based barriers to learn about how Gateway Association can support you with achieving your employment goals! \nL earn about individualized supports and group workshops that will help you with: \n\nCareer development and action plans\nResume building\nInterview skills\nWorkplace communication\nOnboarding and training\nJob search and finding the right job for you\nKeeping your job!\nA ND much more!\n\nFor additional accommodations or questions\, please connect with us at Get-Work@GatewayAssociation.ca \n\n \nFacilitator: Courtney Lanouette \nTime: 6:00-6:45pm\, last Wednesday each month\nOpen to public \n\nRegister HERE
URL:https://gatewayassociation.ca/calendar/calgary-employment-resource-centre-information-session/
CATEGORIES:ERC
END:VEVENT
BEGIN:VEVENT
DTSTART;TZID=America/Denver:20240806T110000
DTEND;TZID=America/Denver:20240806T120000
DTSTAMP:20260420T105348
CREATED:20240723T194834Z
LAST-MODIFIED:20240723T194916Z
UID:252933-1722942000-1722945600@gatewayassociation.ca
SUMMARY:ePortfolio Series (1 of 3)
DESCRIPTION:ePortfolio Series\nSession 1 of 3 \nDuration 1 hr \nFacilitator: Lee \nPrivate – GTDI Program intake required prior to workshop: getdigital@gatewayassociation.ca \n**A desktop or laptop computer is required for this workshop.** \nIn the eportfolio workshop series\, participants will learn about the different types of portfolios\, how to use google sites\, and the basics of layout and design. Learners will choose the type of portfolio they want to build and the subject they want to focus on. They will select and add content to their sites along with descriptions\, statements about their motivation\, interests\, skills\, and hobbies. Learners will work on their own between classes.
URL:https://gatewayassociation.ca/calendar/eportfolio-series-1-of-3-9/
END:VEVENT
BEGIN:VEVENT
DTSTART;TZID=America/Denver:20240806T130000
DTEND;TZID=America/Denver:20240806T140000
DTSTAMP:20260420T105348
CREATED:20240723T195436Z
LAST-MODIFIED:20240723T195436Z
UID:252940-1722949200-1722952800@gatewayassociation.ca
SUMMARY:Audio Editing with Audacity (1 of 3)
DESCRIPTION:Audio Editing with Audacity\nSession 1 of 3 \nDuration 1 hr \nFacilitator: Toby \nPrivate – GTDI Program intake required prior to workshop: getdigital@gatewayassociation.ca \n\nIn this 3 session workshop series participants will be guided through the steps to use Audacity software for basic audio editing. This series will focus on editing spoken dialogue.
URL:https://gatewayassociation.ca/calendar/audio-editing-with-audacity-1-of-3-7/
END:VEVENT
BEGIN:VEVENT
DTSTART;TZID=America/Denver:20240807T110000
DTEND;TZID=America/Denver:20240807T120000
DTSTAMP:20260420T105348
CREATED:20240723T195002Z
LAST-MODIFIED:20240723T195002Z
UID:252936-1723028400-1723032000@gatewayassociation.ca
SUMMARY:ePortfolio Series (2 of 3)
DESCRIPTION:ePortfolio Series\nSession 2 of 3 \nDuration 1 hr \nFacilitator: Lee \nPrivate – GTDI Program intake required prior to workshop: getdigital@gatewayassociation.ca \n**A desktop or laptop computer is required for this workshop.** \nIn the eportfolio workshop series\, participants will learn about the different types of portfolios\, how to use google sites\, and the basics of layout and design. Learners will choose the type of portfolio they want to build and the subject they want to focus on. They will select and add content to their sites along with descriptions\, statements about their motivation\, interests\, skills\, and hobbies. Learners will work on their own between classes.
URL:https://gatewayassociation.ca/calendar/eportfolio-series-2-of-3-8/
END:VEVENT
BEGIN:VEVENT
DTSTART;TZID=America/Denver:20240807T130000
DTEND;TZID=America/Denver:20240807T140000
DTSTAMP:20260420T105348
CREATED:20240723T195529Z
LAST-MODIFIED:20240723T195529Z
UID:252942-1723035600-1723039200@gatewayassociation.ca
SUMMARY:Audio Editing with Audacity (2 of 3)
DESCRIPTION:Audio Editing with Audacity\nSession 2 of 3 \nDuration 1 hr \nFacilitator: Toby \nPrivate – GTDI Program intake required prior to workshop: getdigital@gatewayassociation.ca \nIn this 3 session workshop series participants will be guided through the steps to use Audacity software for basic audio editing. This series will focus on editing spoken dialogue.
URL:https://gatewayassociation.ca/calendar/audio-editing-with-audacity-2-of-3-8/
END:VEVENT
BEGIN:VEVENT
DTSTART;TZID=America/Denver:20240807T143000
DTEND;TZID=America/Denver:20240807T153000
DTSTAMP:20260420T105348
CREATED:20240723T195727Z
LAST-MODIFIED:20240723T195759Z
UID:252946-1723041000-1723044600@gatewayassociation.ca
SUMMARY:Online Boardgames
DESCRIPTION:Online Boardgames\nSession: 1 of 1 \nDuration: 1.5 to 2 hr \nFacilitator: Lee \nPrivate – GTDI Program intake required prior to workshop signup: getdigital@gatewayassociation.ca \n**Requires Online Social Connections – Discord and Steam Tutorials as well as desktop or laptop computer.** \nCome hang out! Learn about setting up online accounts\, meet new friends\, socialize\, and have fun playing boardgames online. Meet new friends\, practice new skills\, have fun!
URL:https://gatewayassociation.ca/calendar/online-boardgames-49/
END:VEVENT
BEGIN:VEVENT
DTSTART;TZID=America/Denver:20240807T180000
DTEND;TZID=America/Denver:20240807T193000
DTSTAMP:20260420T105348
CREATED:20240722T151430Z
LAST-MODIFIED:20240722T151443Z
UID:252878-1723053600-1723059000@gatewayassociation.ca
SUMMARY:Accounts and Claims
DESCRIPTION:Accounts and Claims\nWednesday\, August 7 \n6 pm – 7:30 pm | Online \n  \nA 1.5-hour workshop aims to have an open conversation about how to use the OCR system successfully. \nThe training has been developed by FSCD to address four significant challenges facing system users. They are: \n\nUnderstanding the Agreement\nAccessing OCR\nCreating a Successful claim; and\nRecord keeping and preparing for reviews\n\n  \nA Service Roadmap has also been developed to give users a high-level overview of the entire process\, with helpful links at each step to provide further details. \nQuestions? Jacquie (facilitator) at jacquie@gatewayassociation.ca \n  \nRegister here:  https://www.eventbrite.ca/e/accounts-and-claims-tickets-941575316117?aff=oddtdtcreator \n 
URL:https://gatewayassociation.ca/calendar/252878/
CATEGORIES:FRC
END:VEVENT
BEGIN:VEVENT
DTSTART;TZID=America/Denver:20240808T110000
DTEND;TZID=America/Denver:20240808T120000
DTSTAMP:20260420T105348
CREATED:20240723T195047Z
LAST-MODIFIED:20240723T195047Z
UID:252938-1723114800-1723118400@gatewayassociation.ca
SUMMARY:ePortfolio Series (3 of 3)
DESCRIPTION:ePortfolio Series\nSession 3 of 3 \nDuration 1 hr \nFacilitator: Lee \nPrivate – GTDI Program intake required prior to workshop: getdigital@gatewayassociation.ca \n**A desktop or laptop computer is required for this workshop.** \nIn the eportfolio workshop series\, participants will learn about the different types of portfolios\, how to use google sites\, and the basics of layout and design. Learners will choose the type of portfolio they want to build and the subject they want to focus on. They will select and add content to their sites along with descriptions\, statements about their motivation\, interests\, skills\, and hobbies. Learners will work on their own between classes.
URL:https://gatewayassociation.ca/calendar/eportfolio-series-3-of-3-10/
END:VEVENT
BEGIN:VEVENT
DTSTART;TZID=America/Denver:20240808T130000
DTEND;TZID=America/Denver:20240808T140000
DTSTAMP:20260420T105348
CREATED:20240723T195613Z
LAST-MODIFIED:20240723T195613Z
UID:252944-1723122000-1723125600@gatewayassociation.ca
SUMMARY:Audio Editing with Audacity (3 of 3)
DESCRIPTION:Audio Editing with Audacity\nSession 3 of 3 \nDuration 1 hr \nFacilitator: Toby \nPrivate – GTDI Program intake required prior to workshop: getdigital@gatewayassociation.ca \n\nIn this 3 session workshop series participants will be guided through the steps to use Audacity software for basic audio editing. This series will focus on editing spoken dialogue.
URL:https://gatewayassociation.ca/calendar/audio-editing-with-audacity-3-of-3-8/
END:VEVENT
BEGIN:VEVENT
DTSTART;TZID=America/Denver:20240808T150000
DTEND;TZID=America/Denver:20240808T160000
DTSTAMP:20260420T105348
CREATED:20240723T200031Z
LAST-MODIFIED:20240723T200031Z
UID:252953-1723129200-1723132800@gatewayassociation.ca
SUMMARY:Zoom Basics
DESCRIPTION:Zoom Basics\nSession: 1 of 1 \nDuration: 1 hr \nFacilitator: Toby \nPrivate – GTDI Program intake required prior to workshop: getdigital@gatewayassociation.ca \n\nLearn what you need to know to participate in online Zoom meetings. Explore all the cool features of the program\, practice your digital skills and build your zoom social skills.
URL:https://gatewayassociation.ca/calendar/zoom-basics-29/
END:VEVENT
BEGIN:VEVENT
DTSTART;TZID=America/Denver:20240812T110000
DTEND;TZID=America/Denver:20240812T120000
DTSTAMP:20260420T105348
CREATED:20240723T200140Z
LAST-MODIFIED:20240723T200140Z
UID:252955-1723460400-1723464000@gatewayassociation.ca
SUMMARY:Google Drive (1 of 2)
DESCRIPTION:Google Drive\nSession: 1 of 2  \nDuration: 1  hr  \nFacilitator: Lee   \nPrivate – GTDI Program intake required prior to workshop: getdigital@gatewayassociation.ca  \n  \nLearn how to create a google accounts\, access google drive\, upload files\, create folders\, search for files. Group discussion on cloud storage\, strong passwords\, file naming conventions and keeping documents and folders organized.  
URL:https://gatewayassociation.ca/calendar/google-drive-1-of-2-14/
END:VEVENT
BEGIN:VEVENT
DTSTART;TZID=America/Denver:20240812T130000
DTEND;TZID=America/Denver:20240812T140000
DTSTAMP:20260420T105348
CREATED:20240723T200823Z
LAST-MODIFIED:20240726T204858Z
UID:252963-1723467600-1723471200@gatewayassociation.ca
SUMMARY:You TOO Can YouTube (1 of 4)
DESCRIPTION:You TOO Can YouTube\nSession: 1 of 4 \nDuration: 1 hr \nFacilitator: Toby \nPrivate – GTDI Program intake required prior to workshop: getdigital@gatewayassociation.ca \n\nLearn about being a YouTube viewer and a YouTube creator. Find out how to make your own YouTube Channel and what to consider when you are choosing videos to watch. Create YouTube content\, learn about what to consider when watching videos as well as how to save and organize videos.
URL:https://gatewayassociation.ca/calendar/social-media-basics-1-of-4-3/
END:VEVENT
BEGIN:VEVENT
DTSTART;TZID=America/Denver:20240812T163000
DTEND;TZID=America/Denver:20240812T173000
DTSTAMP:20260420T105348
CREATED:20240704T183847Z
LAST-MODIFIED:20240704T184518Z
UID:252817-1723480200-1723483800@gatewayassociation.ca
SUMMARY:Edmonton Employment Resource Centre Info Session
DESCRIPTION:Join Gateway Association for a virtual Employment Resource Centre information session. \nThis session is for job seekers with disability or mental health-based barriers to learn about how Gateway Association can support you with achieving your employment goals! \nLearn about individualized supports and group workshops that will help you with: \n\nCareer development and action plans\nResume building\nInterview skills\nWorkplace communication\nOnboarding and training\nJob search and finding the right job for you\nKeeping your job!\nAND much more!\n\nFor additional accommodations or questions\, please connect with us at employment@gatewayassociation.ca  \nRegister HERE
URL:https://gatewayassociation.ca/calendar/edmonton-employment-resource-centre-info-session-3/
CATEGORIES:ERC
END:VEVENT
BEGIN:VEVENT
DTSTART;TZID=America/Denver:20240813T110000
DTEND;TZID=America/Denver:20240813T120000
DTSTAMP:20260420T105348
CREATED:20240723T200223Z
LAST-MODIFIED:20240723T200223Z
UID:252957-1723546800-1723550400@gatewayassociation.ca
SUMMARY:Google Drive (2 of 2)
DESCRIPTION:Google Drive\nSession: 1 of 2  \nDuration: 1  hr  \nFacilitator: Lee   \nPrivate – GTDI Program intake required prior to workshop: getdigital@gatewayassociation.ca  \n  \nLearn how to create a google accounts\, access google drive\, upload files\, create folders\, search for files. Group discussion on cloud storage\, strong passwords\, file naming conventions and keeping documents and folders organized.  
URL:https://gatewayassociation.ca/calendar/google-drive-2-of-2-12/
END:VEVENT
BEGIN:VEVENT
DTSTART;TZID=America/Denver:20240813T130000
DTEND;TZID=America/Denver:20240813T140000
DTSTAMP:20260420T105348
CREATED:20240723T201015Z
LAST-MODIFIED:20240726T205039Z
UID:252965-1723554000-1723557600@gatewayassociation.ca
SUMMARY:You TOO Can YouTube (2 of 4)
DESCRIPTION:You TOO Can YouTube\nSession: 2 of 4 \nDuration: 1 hr \nFacilitator: Toby \nPrivate – GTDI Program intake required prior to workshop: getdigital@gatewayassociation.ca \nLearn about being a YouTube viewer and a YouTube creator. Find out how to make your own YouTube Channel and what to consider when you are choosing videos to watch. Create YouTube content\, learn about what to consider when watching videos as well as how to save and organize videos.
URL:https://gatewayassociation.ca/calendar/social-media-basics-2-of-4-3/
END:VEVENT
BEGIN:VEVENT
DTSTART;TZID=America/Denver:20240814T090000
DTEND;TZID=America/Denver:20240814T120000
DTSTAMP:20260420T105348
CREATED:20240722T151619Z
LAST-MODIFIED:20240722T151619Z
UID:252881-1723626000-1723636800@gatewayassociation.ca
SUMMARY:FMS Admin: Abuse Prevention and Response Protocol     
DESCRIPTION:FMS Admin: Abuse Prevention and Response Protocol\n\n\n\n\n\nWednesday\, August 14 \n\n\n9:00 am – 12:00 pm \n\n\nIn-person \n\n\n\n\n\nA workshop that explores ways to reduce the risk of abuse and how to handle suspicions of abuse \n\n\n\n\n\nThis workshop\, for FMS Administrators\, provides an understanding of the protocol\, explores what can be done to reduce the risk of abuse\, identifies types of abuse\, and how to handle situations when abuse is suspected. \n\n\n\n\n\nNote: This is a mandatory course for FMS Administrators under Family Managed Services with Disability Services. \n\n\n\n\n\nQuestions? Contact Betty (Facilitator) at Betty@GatewayAssociation.ca \n\n\n\n\n\nRegister here:: https://www.eventbrite.ca/e/fms-admin-abuse-prevention-and-response-protocol-tickets-919635874657?aff=oddtdtcreator
URL:https://gatewayassociation.ca/calendar/fms-admin-abuse-prevention-and-response-protocol/
CATEGORIES:FRC
END:VEVENT
BEGIN:VEVENT
DTSTART;TZID=America/Denver:20240814T100000
DTEND;TZID=America/Denver:20240814T120000
DTSTAMP:20260420T105348
CREATED:20240704T195226Z
LAST-MODIFIED:20240704T195226Z
UID:252846-1723629600-1723636800@gatewayassociation.ca
SUMMARY:Polishing Your Professional Style
DESCRIPTION:Join us at the YYC Gateway Office for a 2 Part Workshop! The first hour will be a presentation on “Polishing Your Professional Style” with Patti from Making Changes. Learn how to be better prepared for an interview and the workplace so you shine! \nTopics include: \n\nMaking a great first impression\nYour appearance\nYour behaviours\nCommunication\nTips on how to feel calmer and more confident in interviews\n\nThe second hour will be a fun hygiene “shop & talk” with Nikkitta and the CERC team! We’ll explore the importance of maintaining hygiene and presenting oneself professionally in a work setting. You will also get a chance to snag some hygiene items! \nRegister HERE
URL:https://gatewayassociation.ca/calendar/polishing-your-professional-style/
CATEGORIES:ERC
END:VEVENT
BEGIN:VEVENT
DTSTART;TZID=America/Denver:20240814T110000
DTEND;TZID=America/Denver:20240814T120000
DTSTAMP:20260420T105348
CREATED:20240723T200324Z
LAST-MODIFIED:20240723T200324Z
UID:252959-1723633200-1723636800@gatewayassociation.ca
SUMMARY:Google Docs (1 of 2)
DESCRIPTION:Google Docs\nSession: 1 of 2  \nDuration: 1 hr   \nFacilitator: Lee  \nPrivate – GTDI Program intake required prior to workshop: getdigital@gatewayassociation.ca  \n  \nIn this 2 session workshop series\, Participants will practice creating and sharing google documents\, explore the tools provided to help them write\, edit\, comment and chat. This workshop covers the Basics of google docs\, as well as file organization\, sharing\, and commenting.  
URL:https://gatewayassociation.ca/calendar/google-docs-1-of-2-13/
END:VEVENT
BEGIN:VEVENT
DTSTART;TZID=America/Denver:20240814T130000
DTEND;TZID=America/Denver:20240814T140000
DTSTAMP:20260420T105348
CREATED:20240723T201349Z
LAST-MODIFIED:20240726T205132Z
UID:252971-1723640400-1723644000@gatewayassociation.ca
SUMMARY:You TOO Can YouTube (3 of 4)
DESCRIPTION:You TOO Can YouTube\nSession: 3 of 4 \nDuration: 1 hr \nFacilitator: Toby \nPrivate – GTDI Program intake required prior to workshop: getdigital@gatewayassociation.ca \n\nLearn about being a YouTube viewer and a YouTube creator. Find out how to make your own YouTube Channel and what to consider when you are choosing videos to watch. Create YouTube content\, learn about what to consider when watching videos as well as how to save and organize videos.
URL:https://gatewayassociation.ca/calendar/social-media-basics-3-of-4-4/
END:VEVENT
BEGIN:VEVENT
DTSTART;TZID=America/Denver:20240814T143000
DTEND;TZID=America/Denver:20240814T153000
DTSTAMP:20260420T105348
CREATED:20240723T195834Z
LAST-MODIFIED:20240723T195834Z
UID:252949-1723645800-1723649400@gatewayassociation.ca
SUMMARY:Online Boardgames
DESCRIPTION:Online Boardgames\nSession: 1 of 1 \nDuration: 1.5 to 2 hr \nFacilitator: Lee \nPrivate – GTDI Program intake required prior to workshop signup: getdigital@gatewayassociation.ca \n**Requires Online Social Connections – Discord and Steam Tutorials as well as desktop or laptop computer.** \nCome hang out! Learn about setting up online accounts\, meet new friends\, socialize\, and have fun playing boardgames online. Meet new friends\, practice new skills\, have fun!
URL:https://gatewayassociation.ca/calendar/online-boardgames-50/
END:VEVENT
BEGIN:VEVENT
DTSTART;TZID=America/Denver:20240815T110000
DTEND;TZID=America/Denver:20240815T120000
DTSTAMP:20260420T105348
CREATED:20240723T200405Z
LAST-MODIFIED:20240723T200405Z
UID:252961-1723719600-1723723200@gatewayassociation.ca
SUMMARY:Google Docs (2 of 2)
DESCRIPTION:Google Docs\nSession: 2 of 2  \nDuration: 1 hr   \nFacilitator: Lee  \nPrivate – GTDI Program intake required prior to workshop: getdigital@gatewayassociation.ca  \n  \nIn this 2 session workshop series\, Participants will practice creating and sharing google documents\, explore the tools provided to help them write\, edit\, comment and chat. This workshop covers the Basics of google docs\, as well as file organization\, sharing\, and commenting.  
URL:https://gatewayassociation.ca/calendar/google-docs-2-of-2-13/
END:VEVENT
END:VCALENDAR