BEGIN:VCALENDAR
VERSION:2.0
PRODID:-//Gateway Association - ECPv6.15.20//NONSGML v1.0//EN
CALSCALE:GREGORIAN
METHOD:PUBLISH
X-ORIGINAL-URL:https://gatewayassociation.ca
X-WR-CALDESC:Events for Gateway Association
REFRESH-INTERVAL;VALUE=DURATION:PT1H
X-Robots-Tag:noindex
X-PUBLISHED-TTL:PT1H
BEGIN:VTIMEZONE
TZID:America/Denver
BEGIN:DAYLIGHT
TZOFFSETFROM:-0700
TZOFFSETTO:-0600
TZNAME:MDT
DTSTART:20220313T090000
END:DAYLIGHT
BEGIN:STANDARD
TZOFFSETFROM:-0600
TZOFFSETTO:-0700
TZNAME:MST
DTSTART:20221106T080000
END:STANDARD
BEGIN:DAYLIGHT
TZOFFSETFROM:-0700
TZOFFSETTO:-0600
TZNAME:MDT
DTSTART:20230312T090000
END:DAYLIGHT
BEGIN:STANDARD
TZOFFSETFROM:-0600
TZOFFSETTO:-0700
TZNAME:MST
DTSTART:20231105T080000
END:STANDARD
BEGIN:DAYLIGHT
TZOFFSETFROM:-0700
TZOFFSETTO:-0600
TZNAME:MDT
DTSTART:20240310T090000
END:DAYLIGHT
BEGIN:STANDARD
TZOFFSETFROM:-0600
TZOFFSETTO:-0700
TZNAME:MST
DTSTART:20241103T080000
END:STANDARD
END:VTIMEZONE
BEGIN:VEVENT
DTSTART;TZID=America/Denver:20230125T130000
DTEND;TZID=America/Denver:20230125T140000
DTSTAMP:20260424T204422
CREATED:20221213T225845Z
LAST-MODIFIED:20221213T225845Z
UID:249408-1674651600-1674655200@gatewayassociation.ca
SUMMARY:LinkedIn Profile Series (2/3)
DESCRIPTION:Build your own LinkedIn profile! Share your skills\, goals\, and experiences\, create job alerts\, and grow your online network. \nSession: 2 of 3 \nDuration: 1 hr \nPrivate – GTDI Program intake required prior to workshop: getdigital@gatewayassociation.ca
URL:https://gatewayassociation.ca/calendar/linkedin-profile-series-2-3/
END:VEVENT
BEGIN:VEVENT
DTSTART;TZID=America/Denver:20230125T150000
DTEND;TZID=America/Denver:20230125T163000
DTSTAMP:20260424T204422
CREATED:20221213T212452Z
LAST-MODIFIED:20221213T212452Z
UID:249363-1674658800-1674664200@gatewayassociation.ca
SUMMARY:OSC Boardgames
DESCRIPTION:Come hang out! Learn about setting up online accounts\, meet new friends\, socialize\, and have fun playing boardgames online. Meet new friends\, practise new skills\, have fun! \nDuration: 1.5 to 2 hrs \nPrivate – GTDI Program intake required prior to workshop signup: getdigital@gatewayassociation.ca . \n**Requires Online Social Connections – Discord and Steam Tutorials as well as desktop or laptop computer.**
URL:https://gatewayassociation.ca/calendar/osc-boardgames-21/
END:VEVENT
BEGIN:VEVENT
DTSTART;TZID=America/Denver:20230126T130000
DTEND;TZID=America/Denver:20230126T140000
DTSTAMP:20260424T204422
CREATED:20221213T212052Z
LAST-MODIFIED:20221213T212052Z
UID:249355-1674738000-1674741600@gatewayassociation.ca
SUMMARY:Workplace Communication
DESCRIPTION:Workplace Communication is made up of many essential skills\, such as\, what is okay to talk about at work with your coworkers? How to give and receive positive and constructive feedback? How to talk about conflict? In this workshop\, we will talk about ways to help you to feel confident and comfortable with workplace communication. \nFor questions\, accommodation requirements and to register\, please connect with us at Get-Work@GatewayAssociation.ca
URL:https://gatewayassociation.ca/calendar/workplace-communication-3/
CATEGORIES:ERC
END:VEVENT
BEGIN:VEVENT
DTSTART;TZID=America/Denver:20230126T130000
DTEND;TZID=America/Denver:20230126T140000
DTSTAMP:20260424T204422
CREATED:20221213T225920Z
LAST-MODIFIED:20221213T225920Z
UID:249410-1674738000-1674741600@gatewayassociation.ca
SUMMARY:LinkedIn Profile Series (3/3)
DESCRIPTION:Build your own LinkedIn profile! Share your skills\, goals\, and experiences\, create job alerts\, and grow your online network. \nSession: 3 of 3 \nDuration: 1 hr \nPrivate – GTDI Program intake required prior to workshop: getdigital@gatewayassociation.ca
URL:https://gatewayassociation.ca/calendar/linkedin-profile-series-3-3/
END:VEVENT
BEGIN:VEVENT
DTSTART;TZID=America/Denver:20230126T190000
DTEND;TZID=America/Denver:20230126T210000
DTSTAMP:20260424T204422
CREATED:20221026T183605Z
LAST-MODIFIED:20230112T184627Z
UID:249069-1674759600-1674766800@gatewayassociation.ca
SUMMARY:Families Forward\, Over 18
DESCRIPTION:Families Forward\, Over 18     \nThursday\, January 26 \n7pm – 9pm | Zoom \nMonthly meeting for families with loved ones over 18 with disabilities.      Where families can connect with other families\, learn from one another\, and explore issues that are important\, such as housing\, relationship building\, and community and government supports. \nThis month’s topic: \nThe Caregiver Road Map provides approachable information relating to disability and parenting on the Gateway to Digital Inclusion mobile app. Through various learning modules\, activities\, and resources\, the Caregiver Road Map can aid in processing & embracing feelings\, finding community\, understanding available supports\, and knowing where to start with supporting your family member. Download the app today and join us in this conversation! \nhttps://apps.apple.com/in/app/gateway-association/id1560784753 \nhttps://play.google.com/store/apps/details?id=com.exponentkonnect.gatewaykonnect&gl=US&pli=1 \nFor accommodations and questions\, please connect with Betty@GatewayAssociation.ca
URL:https://gatewayassociation.ca/calendar/families-forward-over-18-4/
CATEGORIES:FRC
END:VEVENT
BEGIN:VEVENT
DTSTART;TZID=America/Denver:20230127T133000
DTEND;TZID=America/Denver:20230127T143000
DTSTAMP:20260424T204422
CREATED:20230117T200749Z
LAST-MODIFIED:20230117T200749Z
UID:249570-1674826200-1674829800@gatewayassociation.ca
SUMMARY:MentorAbility Industry Info Session: Careers in Fire Rescue
DESCRIPTION:MentorAbility Alberta is offering ongoing FREE interactive Industry Information Sessions! These information sessions give participants the opportunity to learn more about prospective industries\, recruitment requirements and qualifications and the next steps they may need to take to achieve their employment goals. \n\nIn this weeks’ session\, Luke will be joining us to talk about careers in Fire Rescue with Edmonton Fire Rescue ServicesOffice Support role at the City of Edmonton! \n\nIf you require any accommodations for this session\, please contact us prior to the session and we will assist with accommodation provisions as best we can \njasmine@gatewayassociation.ca
URL:https://gatewayassociation.ca/calendar/mentorability-industry-info-session-careers-in-fire-rescue/
CATEGORIES:ERC
END:VEVENT
BEGIN:VEVENT
DTSTART;TZID=America/Denver:20230130T110000
DTEND;TZID=America/Denver:20230130T120000
DTSTAMP:20260424T204422
CREATED:20221213T230121Z
LAST-MODIFIED:20221213T230121Z
UID:249412-1675076400-1675080000@gatewayassociation.ca
SUMMARY:Steam Tutorial
DESCRIPTION:Step by step tutorial for downloading and installing Steam – an online game platform. Steam is required for Online boardgames group. \nPrivate – GTDI Program intake required prior to workshop: getdigital@gatewayassociation.ca
URL:https://gatewayassociation.ca/calendar/steam-tutorial-8/
END:VEVENT
BEGIN:VEVENT
DTSTART;TZID=America/Denver:20230130T130000
DTEND;TZID=America/Denver:20230130T140000
DTSTAMP:20260424T204422
CREATED:20221213T230219Z
LAST-MODIFIED:20221213T230219Z
UID:249414-1675083600-1675087200@gatewayassociation.ca
SUMMARY:Zoom Basics
DESCRIPTION:Learn what you need to know to participate in online Zoom meetings. Explore all the cool features of the program\, practice your digital skills and build your zoom social skills. \nFor questions\, accommodation requirements and to register\, please connect with us at GetDigital@GatewayAssociation.ca
URL:https://gatewayassociation.ca/calendar/zoom-basics-12/
END:VEVENT
BEGIN:VEVENT
DTSTART;TZID=America/Denver:20230130T140000
DTEND;TZID=America/Denver:20230130T153000
DTSTAMP:20260424T204422
CREATED:20230110T190530Z
LAST-MODIFIED:20230110T190530Z
UID:249477-1675087200-1675092600@gatewayassociation.ca
SUMMARY:Your Story\, Your Dance
DESCRIPTION:Through these sessions we are looking into discovering your story through dance\, and how that tells where you are from\, and who you are\, and what you love about you! The way each of us express our way of dancing is the exact technique required! Join Your Dance/ Your Story as we explore through using improvisational dance skills in telling our stories together. We will be sharing and experimenting with different forms of dance to tell our stories of how we want to be seen. Each week we will include a different approach to using dance to share our storytelling and unfold our creativity by learning from each other. \nDancers of all levels and abilities are WELCOME! \nReach out with any accommodation or questions you may have to: heath@gatewayassociation.ca \nSign up Link: Sign up for January Events – Google Forms \nSession #5: Shaping the big reveal! January 30\, 2023 \nToday we will be able to fully share our stories through dance and look at how we can share the magic together! \nRequired (your choice): \nSpace to move in with comfortable clothes
URL:https://gatewayassociation.ca/calendar/your-story-your-dance-6/
END:VEVENT
BEGIN:VEVENT
DTSTART;TZID=America/Denver:20230131T130000
DTEND;TZID=America/Denver:20230131T140000
DTSTAMP:20260424T204422
CREATED:20221213T230322Z
LAST-MODIFIED:20221213T230322Z
UID:249416-1675170000-1675173600@gatewayassociation.ca
SUMMARY:Explore Canva
DESCRIPTION:Let your imagination be your guide as you create your own posters\, flyers\, cards\, videos\, and more to share information important to you. \nFor questions\, accommodation requirements and to register\, please connect with us at GetDigital@GatewayAssociation.ca
URL:https://gatewayassociation.ca/calendar/explore-canva-16/
END:VEVENT
BEGIN:VEVENT
DTSTART;TZID=America/Denver:20230201T100000
DTEND;TZID=America/Denver:20230201T120000
DTSTAMP:20260424T204422
CREATED:20230110T190010Z
LAST-MODIFIED:20230110T190010Z
UID:249469-1675245600-1675252800@gatewayassociation.ca
SUMMARY:Digital Storytelling Series (Week 3/5)
DESCRIPTION:Finding ways to help your story unfold!  \nWe all have stories\, and it’s important that they are told. When telling our stories\, we have different ways of going about it. Let’s work together so that each of us can discover new skills and find our own tools to tell our story.  \nYou will work together for 5 weeks\, alongside others\, to share and develop your very own digital story. Each week we will bring in activities to help participants tell their story the way they want to tell it.  \nThese activities will introduce creative ways to go about telling your story. These will include lots of digital tools that support audio and visual storytelling. When you finish the sessions\, you will achieve a Digital Storyteller Certificate that you can add to your resume to show your experience and be part of an online screening of your work.   \nThese sessions are facilitated by Story Finders Heath Birkholz and Maigan van der Giessen from Gateway Association.   \nSign up for the first cohort\, running on Wednesday’s 10 am-Noon; (January 18\, January 25 February 1\, February 8\, February 15\, 2023  \n  \nTo Signup or get more information on this program\, please email getdigital@gatewayassociation.ca
URL:https://gatewayassociation.ca/calendar/digital-storytelling-series-week-3-5/
END:VEVENT
BEGIN:VEVENT
DTSTART;TZID=America/Denver:20230201T130000
DTEND;TZID=America/Denver:20230201T140000
DTSTAMP:20260424T204422
CREATED:20230111T211735Z
LAST-MODIFIED:20230111T211735Z
UID:249479-1675256400-1675260000@gatewayassociation.ca
SUMMARY:Digital Citizenship
DESCRIPTION:Find out what it means to be a digital citizen and how you can share your passions online. Learn about online activism\, how to use the internet to create change\, what is online community\, how to share the things that matter to you\, and find ways to connect with other people who share the same passions as you. \nFor accommodations\, to learn more and to register\, connect with us at GetDigital@GatewayAssociation.ca
URL:https://gatewayassociation.ca/calendar/digital-citizenship-8/
END:VEVENT
BEGIN:VEVENT
DTSTART;TZID=America/Denver:20230201T150000
DTEND;TZID=America/Denver:20230201T163000
DTSTAMP:20260424T204422
CREATED:20230111T211912Z
LAST-MODIFIED:20230111T211912Z
UID:249481-1675263600-1675269000@gatewayassociation.ca
SUMMARY:OSC Boardgames
DESCRIPTION:**Requires Online Social Connections – Discord and Steam Tutorials as well as desktop or laptop computer.** \nCome hang out! Learn about setting up online accounts\, meet new friends\, socialize\, and have fun playing boardgames online. Meet new friends\, practice new skills\, have fun! \n  \nFor accommodations\, to learn more and to register\, connect with us at GetDigital@GatewayAssociation.ca
URL:https://gatewayassociation.ca/calendar/osc-boardgames-22/
END:VEVENT
BEGIN:VEVENT
DTSTART;TZID=America/Denver:20230202T110000
DTEND;TZID=America/Denver:20230202T120000
DTSTAMP:20260424T204422
CREATED:20230111T212015Z
LAST-MODIFIED:20230111T212015Z
UID:249483-1675335600-1675339200@gatewayassociation.ca
SUMMARY:Google Drive
DESCRIPTION:Learn how to create a google accounts\, access google drive\, upload files\, create folders\, search for files. Group discussion on cloud storage\, strong passwords\, file naming conventions and keeping documents and folders organized. \nFor accommodations\, to learn more and to register\, please connect with us at GetDigital@GatewayAssociation.ca
URL:https://gatewayassociation.ca/calendar/google-drive-2/
END:VEVENT
BEGIN:VEVENT
DTSTART;TZID=America/Denver:20230202T130000
DTEND;TZID=America/Denver:20230202T140000
DTSTAMP:20260424T204422
CREATED:20230111T212112Z
LAST-MODIFIED:20230111T212112Z
UID:249485-1675342800-1675346400@gatewayassociation.ca
SUMMARY:LinkedIn Learning
DESCRIPTION:***Requires an active library membership.** \nExplore LinkedIn website as a group\, learn how to: create an account\, search for course\, save and organize courses\, and customize your profile. \nFor accommodations\, to learn more and to register\, please connect with us at GetDigital@GatewayAssociation.ca
URL:https://gatewayassociation.ca/calendar/linkedin-learning-13/
END:VEVENT
BEGIN:VEVENT
DTSTART;TZID=America/Denver:20230206T140000
DTEND;TZID=America/Denver:20230206T150000
DTSTAMP:20260424T204422
CREATED:20230111T212230Z
LAST-MODIFIED:20230111T212230Z
UID:249487-1675692000-1675695600@gatewayassociation.ca
SUMMARY:File Management (1/2)
DESCRIPTION:Session 1 of 2 \nDuration 1 hr \nPrivate – GTDI Program intake required prior to workshop: getdigital@gatewayassociation.ca \nIn this workshop participants will learn about saving files\, organizing and finding files\, converting documents to pdfs\, what a is pdf\, and how to use pdfs. \nFor accommodations\, to learn more and to register\, please connect with us at GetDigital@GatewayAssociation.ca
URL:https://gatewayassociation.ca/calendar/file-management-1-2/
END:VEVENT
BEGIN:VEVENT
DTSTART;TZID=America/Denver:20230207T100000
DTEND;TZID=America/Denver:20230207T110000
DTSTAMP:20260424T204422
CREATED:20230111T212417Z
LAST-MODIFIED:20230111T212417Z
UID:249491-1675764000-1675767600@gatewayassociation.ca
SUMMARY:Email Basics
DESCRIPTION:Learn about and practice the basics of writing professional emails for your job search and workplace communication. \nFor accommodations\, to learn more and to register\, connect with us at GetDigital@GatewayAssociation.ca
URL:https://gatewayassociation.ca/calendar/email-basics-24/
END:VEVENT
BEGIN:VEVENT
DTSTART;TZID=America/Denver:20230207T110000
DTEND;TZID=America/Denver:20230207T120000
DTSTAMP:20260424T204422
CREATED:20230111T212535Z
LAST-MODIFIED:20230111T212535Z
UID:249493-1675767600-1675771200@gatewayassociation.ca
SUMMARY:ePortfolio Series (1/3)
DESCRIPTION:Session 1 of 3 \nDuration 1 hr \nFacilitator: Lee \nPrivate – GTDI Program intake required prior to workshop: getdigital@gatewayassociation.ca \n\nIn the eportfolio workshop series\, participants will learn about the different types of portfolios\, how to use google sites\, and the basics of layout and design. Learners will choose the type of portfolio they want to build and the subject they want to focus on. They will select and add content to their sites along with descriptions\, statements about their motivation\, interests\, skills\, and hobbies. Learners will work on their own between classes. \nFor accommodations and to register\, please connect with us at GetDigital@GatewayAssociation.ca
URL:https://gatewayassociation.ca/calendar/eportfolio-series-1-3-2/
END:VEVENT
BEGIN:VEVENT
DTSTART;TZID=America/Denver:20230207T130000
DTEND;TZID=America/Denver:20230207T140000
DTSTAMP:20260424T204422
CREATED:20230111T213251Z
LAST-MODIFIED:20230111T213251Z
UID:249499-1675774800-1675778400@gatewayassociation.ca
SUMMARY:Look Stuff Up Online Series (1/3)
DESCRIPTION:Session: 1 of 3 \nDuration: 1 hr \nFacilitator: Toby \nPrivate – GTDI Program intake required prior to workshop: getdigital@gatewayassociation.ca \nThis 3 session workshop series helps learners find\, share\, and explore things online through a series of fun activities. Participants will use different google map features to find their way around town\, share their favourite places\, plan a vacation\, and compare different search engines. As a group\, learners will chat about fake news\, investigate stories on Snopes\, and chat about the media we take in everyday. \nFor accommodations and to register\, connect with us at GetDigital@GatewayAssociation.ca
URL:https://gatewayassociation.ca/calendar/look-stuff-up-online-series-1-3-3/
END:VEVENT
BEGIN:VEVENT
DTSTART;TZID=America/Denver:20230207T130000
DTEND;TZID=America/Denver:20230207T140000
DTSTAMP:20260424T204422
CREATED:20230112T212334Z
LAST-MODIFIED:20230112T212334Z
UID:249557-1675774800-1675778400@gatewayassociation.ca
SUMMARY:Workplace Expectations
DESCRIPTION:You’ve got the job\, now you must keep it! Talking about the everyday behaviors that are appropriate in the workplace: \n\nshowing up on time\nhow long is too long for socializing with coworkers\nbreaks – what does this mean\nmotivation and engagement\n\nFor questions\, accommodation requests and to register\, please connect with us at Get-Work@GatewayAssociation.ca
URL:https://gatewayassociation.ca/calendar/workplace-expectations-4/
CATEGORIES:ERC
END:VEVENT
BEGIN:VEVENT
DTSTART;TZID=America/Denver:20230207T140000
DTEND;TZID=America/Denver:20230207T150000
DTSTAMP:20260424T204422
CREATED:20230111T212306Z
LAST-MODIFIED:20230111T212306Z
UID:249489-1675778400-1675782000@gatewayassociation.ca
SUMMARY:File Management (2/2)
DESCRIPTION:Session 2 of 2 \nDuration 1 hr \nPrivate – GTDI Program intake required prior to workshop: getdigital@gatewayassociation.ca \nIn this workshop participants will learn about saving files\, organizing and finding files\, converting documents to pdfs\, what a is pdf\, and how to use pdfs. \nFor accommodations\, to learn more and to register\, please connect with us at GetDigital@GatewayAssociation.ca
URL:https://gatewayassociation.ca/calendar/file-management-2-2/
END:VEVENT
BEGIN:VEVENT
DTSTART;TZID=America/Denver:20230207T180000
DTEND;TZID=America/Denver:20230207T200000
DTSTAMP:20260424T204422
CREATED:20221026T184007Z
LAST-MODIFIED:20221026T184007Z
UID:249071-1675792800-1675800000@gatewayassociation.ca
SUMMARY:Visioning and Planning for Families with Children 9-12 Years Old (1 of 4)
DESCRIPTION:Visioning and Planning for Families with Children 9-12 Years Old \nTuesdays\, \nFebruary 7 \nFebruary 14 \nFebruay 21 \nFebruary 28 \n6pm – 8pm | Zoom \nA 4-part workshop series that empowers families of 9-12 year-olds with disabilities with knowledge\, resources\, and more. \nJoin our 4-part workshop series that empowers parents/caregivers of 9-12 year-olds with developmental disabilities with knowledge\, resources\, and a sense of direction for the future. We will touch on a variety of topics including values and belonging in the community\, visioning and planning\, various transitions during later elementary school\, navigating various systems age appropriate for families with “tween” age children as well as advocacy and having difficult conversations. \nFor accommodations and questions\, please connect with Stacy@GatewayAssociation.ca \nRegister HERE
URL:https://gatewayassociation.ca/calendar/visioning-and-planning-for-families-with-children-9-12-years-old-1-of-4/
CATEGORIES:FRC
END:VEVENT
BEGIN:VEVENT
DTSTART;TZID=America/Denver:20230207T190000
DTEND;TZID=America/Denver:20230207T210000
DTSTAMP:20260424T204422
CREATED:20221026T190718Z
LAST-MODIFIED:20230112T184827Z
UID:249089-1675796400-1675803600@gatewayassociation.ca
SUMMARY:Families Forward\, Under 18
DESCRIPTION:Families Forward\, Under 18 \nTuesday\, February 7 \n7pm -9pm | Zoom \nMonthly meeting for families with children under 18 with disabilities. \nWhere families can connect with other families\, learn from one another\, and explore issues that are important\, such as schooling\, leadership\, and community and government support. \nThis month’s topic: \nSpread the love! Let’s chat about ways that you and your family share kindness within their community. \nFor accommodations and questions\, please connect with Stacy@GatewayAssociation.ca \nRegister HERE
URL:https://gatewayassociation.ca/calendar/families-forward-under-18-4/
CATEGORIES:FRC
END:VEVENT
BEGIN:VEVENT
DTSTART;TZID=America/Denver:20230208T100000
DTEND;TZID=America/Denver:20230208T120000
DTSTAMP:20260424T204422
CREATED:20230110T190056Z
LAST-MODIFIED:20230110T190056Z
UID:249471-1675850400-1675857600@gatewayassociation.ca
SUMMARY:Digital Storytelling Series (Week 4/5)
DESCRIPTION:Finding ways to help your story unfold!  \nWe all have stories\, and it’s important that they are told. When telling our stories\, we have different ways of going about it. Let’s work together so that each of us can discover new skills and find our own tools to tell our story.  \nYou will work together for 5 weeks\, alongside others\, to share and develop your very own digital story. Each week we will bring in activities to help participants tell their story the way they want to tell it.  \nThese activities will introduce creative ways to go about telling your story. These will include lots of digital tools that support audio and visual storytelling. When you finish the sessions\, you will achieve a Digital Storyteller Certificate that you can add to your resume to show your experience and be part of an online screening of your work.   \nThese sessions are facilitated by Story Finders Heath Birkholz and Maigan van der Giessen from Gateway Association.   \nSign up for the first cohort\, running on Wednesday’s 10 am-Noon; (January 18\, January 25 February 1\, February 8\, February 15\, 2023  \n  \nTo Signup or get more information on this program\, please email getdigital@gatewayassociation.ca
URL:https://gatewayassociation.ca/calendar/digital-storytelling-series-week-4-5/
END:VEVENT
BEGIN:VEVENT
DTSTART;TZID=America/Denver:20230208T110000
DTEND;TZID=America/Denver:20230208T120000
DTSTAMP:20260424T204422
CREATED:20230111T212608Z
LAST-MODIFIED:20230111T212608Z
UID:249495-1675854000-1675857600@gatewayassociation.ca
SUMMARY:ePortfolio Series (2/3)
DESCRIPTION:Session 2 of 3 \nDuration 1 hr \nFacilitator: Lee \nPrivate – GTDI Program intake required prior to workshop: getdigital@gatewayassociation.ca \n\nIn the eportfolio workshop series\, participants will learn about the different types of portfolios\, how to use google sites\, and the basics of layout and design. Learners will choose the type of portfolio they want to build and the subject they want to focus on. They will select and add content to their sites along with descriptions\, statements about their motivation\, interests\, skills\, and hobbies. Learners will work on their own between classes. \nFor accommodations and to register\, please connect with us at GetDigital@GatewayAssociation.ca
URL:https://gatewayassociation.ca/calendar/eportfolio-series-2-3-3/
END:VEVENT
BEGIN:VEVENT
DTSTART;TZID=America/Denver:20230208T130000
DTEND;TZID=America/Denver:20230208T140000
DTSTAMP:20260424T204422
CREATED:20230111T213334Z
LAST-MODIFIED:20230111T213334Z
UID:249501-1675861200-1675864800@gatewayassociation.ca
SUMMARY:Look Stuff Up Online Series (2/3)
DESCRIPTION:Session: 2 of 3 \nDuration: 1 hr \nFacilitator: Toby \nPrivate – GTDI Program intake required prior to workshop: getdigital@gatewayassociation.ca \nThis 3 session workshop series helps learners find\, share\, and explore things online through a series of fun activities. Participants will use different google map features to find their way around town\, share their favourite places\, plan a vacation\, and compare different search engines. As a group\, learners will chat about fake news\, investigate stories on Snopes\, and chat about the media we take in everyday. \nFor accommodations and to register\, connect with us at GetDigital@GatewayAssociation.ca
URL:https://gatewayassociation.ca/calendar/look-stuff-up-online-series-2-3-3/
END:VEVENT
BEGIN:VEVENT
DTSTART;TZID=America/Denver:20230208T140000
DTEND;TZID=America/Denver:20230208T150000
DTSTAMP:20260424T204422
CREATED:20230111T214022Z
LAST-MODIFIED:20230111T214022Z
UID:249505-1675864800-1675868400@gatewayassociation.ca
SUMMARY:Explore Canva (1/2)
DESCRIPTION:Session 1 of 2 \nDuration 1 hr \nFacilitator: Toby \nPrivate – GTDI Program intake required prior to workshop: getdigital@gatewayassociation.ca \nLet your imagination be your guide as you create your own posters\, flyers\, cards\, videos\, and more to share information important to you.
URL:https://gatewayassociation.ca/calendar/explore-canva-1-2/
END:VEVENT
BEGIN:VEVENT
DTSTART;TZID=America/Denver:20230208T150000
DTEND;TZID=America/Denver:20230208T163000
DTSTAMP:20260424T204422
CREATED:20230111T214300Z
LAST-MODIFIED:20230111T214300Z
UID:249510-1675868400-1675873800@gatewayassociation.ca
SUMMARY:OSC Boardgames
DESCRIPTION:**Requires Online Social Connections – Discord and Steam Tutorials as well as desktop or laptop computer.** \nCome hang out! Learn about setting up online accounts\, meet new friends\, socialize\, and have fun playing boardgames online. Meet new friends\, practise new skills\, have fun! \nFor accommodations\, to learn more and to register\, connect with us at GetDigital@GatewayAssociation.ca
URL:https://gatewayassociation.ca/calendar/osc-boardgames-23/
END:VEVENT
BEGIN:VEVENT
DTSTART;TZID=America/Denver:20230209T110000
DTEND;TZID=America/Denver:20230209T120000
DTSTAMP:20260424T204422
CREATED:20230111T213138Z
LAST-MODIFIED:20230111T213138Z
UID:249497-1675940400-1675944000@gatewayassociation.ca
SUMMARY:ePortfolio Series (3/3)
DESCRIPTION:Session 3 of 3 \nDuration 1 hr \nFacilitator: Lee \nPrivate – GTDI Program intake required prior to workshop: getdigital@gatewayassociation.ca \n\nIn the eportfolio workshop series\, participants will learn about the different types of portfolios\, how to use google sites\, and the basics of layout and design. Learners will choose the type of portfolio they want to build and the subject they want to focus on. They will select and add content to their sites along with descriptions\, statements about their motivation\, interests\, skills\, and hobbies. Learners will work on their own between classes. \nFor accommodations and to register\, please connect with us at GetDigital@GatewayAssociation.ca
URL:https://gatewayassociation.ca/calendar/eportfolio-series-3-3-3/
END:VEVENT
BEGIN:VEVENT
DTSTART;TZID=America/Denver:20230209T130000
DTEND;TZID=America/Denver:20230209T140000
DTSTAMP:20260424T204422
CREATED:20230111T213409Z
LAST-MODIFIED:20230111T213409Z
UID:249503-1675947600-1675951200@gatewayassociation.ca
SUMMARY:Look Stuff Up Online Series (3/3)
DESCRIPTION:Session: 3 of 3 \nDuration: 1 hr \nFacilitator: Toby \nPrivate – GTDI Program intake required prior to workshop: getdigital@gatewayassociation.ca \nThis 3 session workshop series helps learners find\, share\, and explore things online through a series of fun activities. Participants will use different google map features to find their way around town\, share their favourite places\, plan a vacation\, and compare different search engines. As a group\, learners will chat about fake news\, investigate stories on Snopes\, and chat about the media we take in everyday. \nFor accommodations and to register\, connect with us at GetDigital@GatewayAssociation.ca
URL:https://gatewayassociation.ca/calendar/look-stuff-up-online-series-3-3-3/
END:VEVENT
END:VCALENDAR