BEGIN:VCALENDAR
VERSION:2.0
PRODID:-//Gateway Association - ECPv6.15.20//NONSGML v1.0//EN
CALSCALE:GREGORIAN
METHOD:PUBLISH
X-ORIGINAL-URL:https://gatewayassociation.ca
X-WR-CALDESC:Events for Gateway Association
REFRESH-INTERVAL;VALUE=DURATION:PT1H
X-Robots-Tag:noindex
X-PUBLISHED-TTL:PT1H
BEGIN:VTIMEZONE
TZID:America/Denver
BEGIN:DAYLIGHT
TZOFFSETFROM:-0700
TZOFFSETTO:-0600
TZNAME:MDT
DTSTART:20230312T090000
END:DAYLIGHT
BEGIN:STANDARD
TZOFFSETFROM:-0600
TZOFFSETTO:-0700
TZNAME:MST
DTSTART:20231105T080000
END:STANDARD
BEGIN:DAYLIGHT
TZOFFSETFROM:-0700
TZOFFSETTO:-0600
TZNAME:MDT
DTSTART:20240310T090000
END:DAYLIGHT
BEGIN:STANDARD
TZOFFSETFROM:-0600
TZOFFSETTO:-0700
TZNAME:MST
DTSTART:20241103T080000
END:STANDARD
BEGIN:DAYLIGHT
TZOFFSETFROM:-0700
TZOFFSETTO:-0600
TZNAME:MDT
DTSTART:20250309T090000
END:DAYLIGHT
BEGIN:STANDARD
TZOFFSETFROM:-0600
TZOFFSETTO:-0700
TZNAME:MST
DTSTART:20251102T080000
END:STANDARD
END:VTIMEZONE
BEGIN:VEVENT
DTSTART;TZID=America/Denver:20240209T090000
DTEND;TZID=America/Denver:20240209T150000
DTSTAMP:20260420T163541
CREATED:20240213T134802Z
LAST-MODIFIED:20240213T134802Z
UID:252197-1707469200-1707490800@gatewayassociation.ca
SUMMARY:Empower 2024\, March 8 & 9
DESCRIPTION:Join us for *Empower 2024*​\, an Individual Support Planning event for families offered on March 8 (Friday) and March 9 (Saturday) 2024.\n\n\nThis event is designed to equip you and your family for a future that exceeds expectations and enriches lives. \nWho Should Attend: \n\nIndividuals with disabilities ages 15 to 18\nFamilies\, caregivers and advocates\n\nDate: \n\nFriday\, March 8\, 2024\nSaturday March 9\, 2024\n\n  \nYou Can’t Afford to Miss This! \nThis is a call to action\, a revolutionary moment to redefine what support for people with disabilities looks like. \nLearn to advocate for needs that are often misunderstood or overlooked. Self Advocacy Federation will be in attendance to chat about Advocacy! \nEquip yourself with tools to build a plan that reflects YOU – your dreams\, your strengths\, your life. \nWhat’s On the Agenda: \n\nIndividual Support Plans (ISP). We will call all those that are registered to book your ISP time slot.\nVisioning and Planning Workshop\nPresentations from our Digital Literacy Programs and Employment Resource Centre\nReal-life Testimonials\nOne-on-One Consultations\nCommunity Connection Resources\nAdvocacy Capacity Building\n\nAgenda \n\n\n\n11:00 Am – 12 Pm – Visioning & Planning Workshop\n12:00 Pm – 2 Pm – RDSP Breakout Room\n12:00 Pm – 2 Pm – Advocacy Capacity Building Breakout Room\n12:00 Pm – 2 Pm – Digital Literacy & Employment Breakout Room\n\n\n\nLocation: \nGateway Association \n201- 10941 120 Street NW Edmonton\, AB \nThe address for DATS drop off and elevator access is: 10930-119 Street N \nThe address for DATS drop off and elevator access is: 10930-119 Street NW \n\nSnacks\, light lunch and refreshments will be provided.\nYou’re welcome to bring your own food.\n\nLet’s seize the moment and craft a future that celebrates diversity\, acknowledges individuality\, and above all\, empowers. \nSeats are limited! Book now to secure your spot! \nFor any additional questions or accommodations\, please contact Info@gatewayassociation.ca
URL:https://gatewayassociation.ca/calendar/empower-2024-march-8-9-2/
CATEGORIES:FRC
END:VEVENT
BEGIN:VEVENT
DTSTART;TZID=America/Denver:20240212T110000
DTEND;TZID=America/Denver:20240212T120000
DTSTAMP:20260420T163541
CREATED:20240123T220801Z
LAST-MODIFIED:20240123T220801Z
UID:252068-1707735600-1707739200@gatewayassociation.ca
SUMMARY:Email Basics
DESCRIPTION:Session: 1 of 1  \nDuration: 1 hr   \nFacilitator: Lee  \nPrivate – GTDI Program intake required prior to workshop: getdigital@gatewayassociation.ca  \n  \nLearn about and practice the basics of writing professional emails for your job search and workplace communication. 
URL:https://gatewayassociation.ca/calendar/email-basics-37/
END:VEVENT
BEGIN:VEVENT
DTSTART;TZID=America/Denver:20240212T130000
DTEND;TZID=America/Denver:20240212T140000
DTSTAMP:20260420T163541
CREATED:20240123T220902Z
LAST-MODIFIED:20240123T220902Z
UID:252070-1707742800-1707746400@gatewayassociation.ca
SUMMARY:You TOO Can YouTube (1 of 4)
DESCRIPTION:Session: 1 of 4 \nDuration: 1 hr \nFacilitator: Toby \nPrivate – GTDI Program intake required prior to workshop: getdigital@gatewayassociation.ca \n\nLearn about being a YouTube viewer and a YouTube creator. Find out how to make your own YouTube Channel and what to consider when you are choosing videos to watch. Create YouTube content\, learn about what to consider when watching videos as well as how to save and organize videos.
URL:https://gatewayassociation.ca/calendar/you-too-can-youtube-1-of-4-6/
END:VEVENT
BEGIN:VEVENT
DTSTART;TZID=America/Denver:20240212T190000
DTEND;TZID=America/Denver:20240212T210000
DTSTAMP:20260420T163541
CREATED:20230720T171812Z
LAST-MODIFIED:20230803T143650Z
UID:250918-1707764400-1707771600@gatewayassociation.ca
SUMMARY:Families Forward\, Financial Resources
DESCRIPTION:Families Forward\, Financial Resources \nMonday\, February 12 \n7:00pm – 9:00pm | Online \n  \nMonthly meeting where families can connect with other families\, learn from one another\, and explore financial resources. \nFacilitators: Fiona at Fiona@GatewayAssociation.ca and Jacquie at Jacquie@Jacquie@GatewayAssociation.ca \nRegister HERE
URL:https://gatewayassociation.ca/calendar/families-forward-financial-resources-5/
CATEGORIES:FRC
END:VEVENT
BEGIN:VEVENT
DTSTART;TZID=America/Denver:20240213T130000
DTEND;TZID=America/Denver:20240213T140000
DTSTAMP:20260420T163541
CREATED:20231212T203426Z
LAST-MODIFIED:20231212T203426Z
UID:251891-1707829200-1707832800@gatewayassociation.ca
SUMMARY:Interview Prep 102: Common Interview Questions
DESCRIPTION:Interview Prep 102: Common Interview Questions \nLearn tips about how to effectively answer some of the most common interview questions! \n  \n This workshop is for registered participants only. To register\, please connect with us at Get-Work@GatewayAssociation.ca
URL:https://gatewayassociation.ca/calendar/interview-prep-102-common-interview-questions-2/
CATEGORIES:ERC
END:VEVENT
BEGIN:VEVENT
DTSTART;TZID=America/Denver:20240213T130000
DTEND;TZID=America/Denver:20240213T140000
DTSTAMP:20260420T163541
CREATED:20240123T220951Z
LAST-MODIFIED:20240123T220951Z
UID:252072-1707829200-1707832800@gatewayassociation.ca
SUMMARY:You TOO Can YouTube (2 of 4)
DESCRIPTION:Session: 2 of 4 \nDuration: 1 hr \nFacilitator: Toby \nPrivate – GTDI Program intake required prior to workshop: getdigital@gatewayassociation.ca \n\nLearn about being a YouTube viewer and a YouTube creator. Find out how to make your own YouTube Channel and what to consider when you are choosing videos to watch. Create YouTube content\, learn about what to consider when watching videos as well as how to save and organize videos.
URL:https://gatewayassociation.ca/calendar/you-too-can-youtube-2-of-4-6/
END:VEVENT
BEGIN:VEVENT
DTSTART;TZID=America/Denver:20240213T180000
DTEND;TZID=America/Denver:20240213T200000
DTSTAMP:20260420T163541
CREATED:20230724T125348Z
LAST-MODIFIED:20230724T125348Z
UID:250997-1707847200-1707854400@gatewayassociation.ca
SUMMARY:Visioning and Planning for Families with Children Up To 8 Years Old (3 of 4)
DESCRIPTION:Visioning and Planning for Families with Children Up To 8 Years Old \n4 part series runs from 6:00pm – 8:00pm | Online \nTuesday\, January 30 \nTuesday\, February 6 \nTuesday\, February\, 13 \nTuesday\, February\, 20 \n  \nJoin our 4-part workshop series that empowers parents/caregivers of children with disabilities from birth-8 years old with knowledge\, resources\, and a sense of direction for the future. \nWe will touch on a variety of topics including values and belonging in the community\, visioning and planning\, various transitions during early elementary school\, navigating various systems (FSCD) age appropriate for families with younger children as well as advocacy and having difficult conversations. \nFacilitator: Stacy at Stacy@GatewayAssociation.ca \nRegister HERE
URL:https://gatewayassociation.ca/calendar/visioning-and-planning-for-families-with-children-up-to-8-years-old-3-of-4/
CATEGORIES:FRC
END:VEVENT
BEGIN:VEVENT
DTSTART;TZID=America/Denver:20240213T190000
DTEND;TZID=America/Denver:20240213T210000
DTSTAMP:20260420T163541
CREATED:20230720T165330Z
LAST-MODIFIED:20230803T143329Z
UID:250902-1707850800-1707858000@gatewayassociation.ca
SUMMARY:Families Forward\, Under 18
DESCRIPTION:Families Forward\, Under 18 \nTuesday\, February 13 \n7:00pm – 9:00pm | Online \nMonthly meeting for families with children under 18 with disabilities. \nWhere families can connect with other families\, learn from one another\, and explore issues that are important (such as schooling\, leadership\, and community and government support). \nFacilitators: Yonique at Yonique@GatewayAssociation.ca and Stacy at Stacy@GatewayAssociation.ca \n  \nRegister here: https://www.eventbrite.ca/e/255535783407
URL:https://gatewayassociation.ca/calendar/families-forward-under-18-12/
CATEGORIES:FRC
END:VEVENT
BEGIN:VEVENT
DTSTART;TZID=America/Denver:20240214T100000
DTEND;TZID=America/Denver:20240214T150000
DTSTAMP:20260420T163541
CREATED:20231220T152355Z
LAST-MODIFIED:20231220T152355Z
UID:251994-1707904800-1707922800@gatewayassociation.ca
SUMMARY:DROP IN WEDNESDAYS  at the Calgary Employment Resource Centre
DESCRIPTION:DROP IN WEDNESDAYS \nat the Calgary Employment Resource Centre \nFor job seekers\, each Wednesday drop in any time between 10am and 3pm to connect with ERC team members to work on resumes\, interview skills\, job search and meet other job seekers! \n1206 20 AVE SE \nCalgary\, AB
URL:https://gatewayassociation.ca/calendar/drop-in-wednesdays-at-the-calgary-employment-resource-centre-8/
CATEGORIES:ERC
END:VEVENT
BEGIN:VEVENT
DTSTART;TZID=America/Denver:20240214T130000
DTEND;TZID=America/Denver:20240214T140000
DTSTAMP:20260420T163541
CREATED:20240123T221041Z
LAST-MODIFIED:20240123T221041Z
UID:252074-1707915600-1707919200@gatewayassociation.ca
SUMMARY:You TOO Can YouTube (3 of 4)
DESCRIPTION:Session: 3 of 4 \nDuration: 1 hr \nFacilitator: Toby \nPrivate – GTDI Program intake required prior to workshop: getdigital@gatewayassociation.ca \n\nLearn about being a YouTube viewer and a YouTube creator. Find out how to make your own YouTube Channel and what to consider when you are choosing videos to watch. Create YouTube content\, learn about what to consider when watching videos as well as how to save and organize videos.
URL:https://gatewayassociation.ca/calendar/you-too-can-youtube-3-of-4-6/
END:VEVENT
BEGIN:VEVENT
DTSTART;TZID=America/Denver:20240214T180000
DTEND;TZID=America/Denver:20240214T200000
DTSTAMP:20260420T163541
CREATED:20230724T130430Z
LAST-MODIFIED:20230724T130430Z
UID:251007-1707933600-1707940800@gatewayassociation.ca
SUMMARY:Visioning and Planning for Families with Children 9-13 Years Old  (2 of 4)
DESCRIPTION:Visioning and Planning for Families with Children 9-13 Years Old – 4-part series \nWednesday\, February 7 \nWednesday\, February 14 \nWednesday\, February 21 \nWednesday\, February 28 \n6:00pm – 8:00pm | Online \n  \nJoin our workshop series that empowers parents/caregivers of 9-13 year-olds with disabilities with knowledge\, resources and a sense of direction for the future\, while connecting with other families. \n  \nWe will touch on a variety of topics including values and belonging in the community\, visioning and planning\, various transitions during later elementary school\, IPPs\, navigating various systems (FSCD) age appropriate for families with “tween” age children as well as advocacy and having difficult conversations. \n  \nFacilitator: Stacy at Stacy@gatewayassociation.ca \nRegister HERE
URL:https://gatewayassociation.ca/calendar/visioning-and-planning-for-families-with-children-9-13-years-old-2-of-4/
CATEGORIES:FRC
END:VEVENT
BEGIN:VEVENT
DTSTART;TZID=America/Denver:20240215T100000
DTEND;TZID=America/Denver:20240215T120000
DTSTAMP:20260420T163541
CREATED:20231212T203528Z
LAST-MODIFIED:20231212T203528Z
UID:251893-1707991200-1707998400@gatewayassociation.ca
SUMMARY: Interview Roundtable: Learning and Laughing Together 
DESCRIPTION: Interview Roundtable: Learning and Laughing Together \nJoin us for a dynamic and interactive workshop designed to help you ace your next job interview. In our Interview Roundtable\, you’ll have the opportunity to connect with fellow job seekers and share your experiences and insights. Our experienced facilitators will guide you through real-life interview scenarios and help you develop the skills and confidence you need to succeed. \n This workshop is for registered participants only. To register\, please connect with us at Get-Work@GatewayAssociation.ca
URL:https://gatewayassociation.ca/calendar/interview-roundtable-learning-and-laughing-together-3/
CATEGORIES:ERC
END:VEVENT
BEGIN:VEVENT
DTSTART;TZID=America/Denver:20240215T110000
DTEND;TZID=America/Denver:20240215T120000
DTSTAMP:20260420T163541
CREATED:20240123T221239Z
LAST-MODIFIED:20240123T221239Z
UID:252078-1707994800-1707998400@gatewayassociation.ca
SUMMARY:Discord Tutorial
DESCRIPTION:Session 1 of 1  \nDuration 1 hr  \nFacilitator: Lee  \nPrivate – GTDI Program intake required prior to workshop: getdigital@gatewayassociation.ca  \n  \nStep by step tutorial for downloading and installing Discord – a free app that lets people chat using text\, voice or video. Discord is required for Online boardgames group. 
URL:https://gatewayassociation.ca/calendar/discord-tutorial-18/
END:VEVENT
BEGIN:VEVENT
DTSTART;TZID=America/Denver:20240215T130000
DTEND;TZID=America/Denver:20240215T140000
DTSTAMP:20260420T163541
CREATED:20231212T203619Z
LAST-MODIFIED:20231212T203619Z
UID:251895-1708002000-1708005600@gatewayassociation.ca
SUMMARY:Networking 102
DESCRIPTION:Networking 102 \nThis workshop will teach participants how to network online! We will go over  how to connect with people on LinkedIn\, sending cold emails\, using social media to connect with others and more! \n  \n This workshop is for registered participants only. To register\, please connect with us at Get-Work@GatewayAssociation.ca
URL:https://gatewayassociation.ca/calendar/networking-102/
CATEGORIES:ERC
END:VEVENT
BEGIN:VEVENT
DTSTART;TZID=America/Denver:20240215T130000
DTEND;TZID=America/Denver:20240215T140000
DTSTAMP:20260420T163541
CREATED:20240123T221122Z
LAST-MODIFIED:20240123T221122Z
UID:252076-1708002000-1708005600@gatewayassociation.ca
SUMMARY:You TOO Can YouTube (4 of 4)
DESCRIPTION:Session: 4 of 4 \nDuration: 1 hr \nFacilitator: Toby \nPrivate – GTDI Program intake required prior to workshop: getdigital@gatewayassociation.ca \n\nLearn about being a YouTube viewer and a YouTube creator. Find out how to make your own YouTube Channel and what to consider when you are choosing videos to watch. Create YouTube content\, learn about what to consider when watching videos as well as how to save and organize videos.
URL:https://gatewayassociation.ca/calendar/you-too-can-youtube-4-of-4-6/
END:VEVENT
BEGIN:VEVENT
DTSTART;TZID=America/Denver:20240217T090000
DTEND;TZID=America/Denver:20240217T100000
DTSTAMP:20260420T163541
CREATED:20240201T034901Z
LAST-MODIFIED:20240201T034901Z
UID:252131-1708160400-1708164000@gatewayassociation.ca
SUMMARY:FSCD 101
DESCRIPTION:FSCD 101 \n9:00am – 10:00am | Online \nSaturday\, February 17 \nThis workshop was created by Family Supports for Children with Disabilities (FSCD) to assist families to better understand how to utilize their FSCD agreement. \nWhile it was designed for families new to FSCD\, all families receiving supports from FSCD are welcome to attend as it will cover important items\, such as: the difference between Family Support Services (FSS) and Child Focused Services (CFS)\, understanding your FSCD agreement\, how to invoice for services\, and more. This workshop will be held monthly. \n  \nRegister here 
URL:https://gatewayassociation.ca/calendar/fscd-101/
CATEGORIES:FRC
END:VEVENT
BEGIN:VEVENT
DTSTART;TZID=America/Denver:20240220T110000
DTEND;TZID=America/Denver:20240220T120000
DTSTAMP:20260420T163541
CREATED:20240123T221425Z
LAST-MODIFIED:20240123T221425Z
UID:252080-1708426800-1708430400@gatewayassociation.ca
SUMMARY:Steam Tutorial
DESCRIPTION:Session 1 of 1  \nDuration 1 hr  \nFacilitator: Lee  \nPrivate – GTDI Program intake required prior to workshop: getdigital@gatewayassociation.ca  \n  \nStep by step tutorial for downloading and installing Steam – an online game platform. Steam is required for Online boardgames group. 
URL:https://gatewayassociation.ca/calendar/steam-tutorial-16/
END:VEVENT
BEGIN:VEVENT
DTSTART;TZID=America/Denver:20240220T130000
DTEND;TZID=America/Denver:20240220T150000
DTSTAMP:20260420T163541
CREATED:20240123T221822Z
LAST-MODIFIED:20240123T221822Z
UID:252086-1708434000-1708441200@gatewayassociation.ca
SUMMARY:LinkedIn Profiles (1 of 3)
DESCRIPTION:Session: 1 of 3 \nDuration: 1 hr \nFacilitator: Toby \nPrivate – GTDI Program intake required prior to workshop: getdigital@gatewayassociation.ca \n\nBuild your own LinkedIn profile! Share your skills\, goals\, and experiences\, create job alerts\, and grow your online network.
URL:https://gatewayassociation.ca/calendar/linkedin-profiles-1-of-3-4/
END:VEVENT
BEGIN:VEVENT
DTSTART;TZID=America/Denver:20240220T150000
DTEND;TZID=America/Denver:20240220T160000
DTSTAMP:20260420T163541
CREATED:20240123T222306Z
LAST-MODIFIED:20240123T222306Z
UID:252092-1708441200-1708444800@gatewayassociation.ca
SUMMARY:Zoom Basics
DESCRIPTION:Session: 1 of 1 \nDuration: 1 hr \nFacilitator: Toby \nPrivate – GTDI Program intake required prior to workshop: getdigital@gatewayassociation.ca \n\nLearn what you need to know to participate in online Zoom meetings. Explore all the cool features of the program\, practice your digital skills and build your zoom social skills.
URL:https://gatewayassociation.ca/calendar/zoom-basics-24/
END:VEVENT
BEGIN:VEVENT
DTSTART;TZID=America/Denver:20240220T180000
DTEND;TZID=America/Denver:20240220T200000
DTSTAMP:20260420T163541
CREATED:20230724T125444Z
LAST-MODIFIED:20230724T125444Z
UID:250999-1708452000-1708459200@gatewayassociation.ca
SUMMARY:Visioning and Planning for Families with Children Up To 8 Years Old ( 4 of 4)
DESCRIPTION:Visioning and Planning for Families with Children Up To 8 Years Old \n4 part series runs from 6:00pm – 8:00pm | Online \nTuesday\, January 30 \nTuesday\, February 6 \nTuesday\, February\, 13 \nTuesday\, February\, 20 \n  \nJoin our 4-part workshop series that empowers parents/caregivers of children with disabilities from birth-8 years old with knowledge\, resources\, and a sense of direction for the future. \nWe will touch on a variety of topics including values and belonging in the community\, visioning and planning\, various transitions during early elementary school\, navigating various systems (FSCD) age appropriate for families with younger children as well as advocacy and having difficult conversations. \nFacilitator: Stacy at Stacy@GatewayAssociation.ca \nRegister HERE
URL:https://gatewayassociation.ca/calendar/visioning-and-planning-for-families-with-children-up-to-8-years-old-4-of-4/
CATEGORIES:FRC
END:VEVENT
BEGIN:VEVENT
DTSTART;TZID=America/Denver:20240221T100000
DTEND;TZID=America/Denver:20240221T150000
DTSTAMP:20260420T163541
CREATED:20231220T152439Z
LAST-MODIFIED:20231220T152439Z
UID:251996-1708509600-1708527600@gatewayassociation.ca
SUMMARY:DROP IN WEDNESDAYS  at the Calgary Employment Resource Centre
DESCRIPTION:DROP IN WEDNESDAYS \nat the Calgary Employment Resource Centre \nFor job seekers\, each Wednesday drop in any time between 10am and 3pm to connect with ERC team members to work on resumes\, interview skills\, job search and meet other job seekers! \n1206 20 AVE SE \nCalgary\, AB
URL:https://gatewayassociation.ca/calendar/drop-in-wednesdays-at-the-calgary-employment-resource-centre-9/
CATEGORIES:ERC
END:VEVENT
BEGIN:VEVENT
DTSTART;TZID=America/Denver:20240221T110000
DTEND;TZID=America/Denver:20240221T120000
DTSTAMP:20260420T163541
CREATED:20240123T221526Z
LAST-MODIFIED:20240123T221526Z
UID:252082-1708513200-1708516800@gatewayassociation.ca
SUMMARY:Google Drive (1 of 2)
DESCRIPTION:Session: 1 of 2  \nDuration: 1  hr  \nFacilitator: Lee   \nPrivate – GTDI Program intake required prior to workshop: getdigital@gatewayassociation.ca  \n  \nLearn how to create a google accounts\, access google drive\, upload files\, create folders\, search for files. Group discussion on cloud storage\, strong passwords\, file naming conventions and keeping documents and folders organized.  
URL:https://gatewayassociation.ca/calendar/google-drive-1-of-2-8/
END:VEVENT
BEGIN:VEVENT
DTSTART;TZID=America/Denver:20240221T130000
DTEND;TZID=America/Denver:20240221T140000
DTSTAMP:20260420T163541
CREATED:20231212T203713Z
LAST-MODIFIED:20231212T203713Z
UID:251897-1708520400-1708524000@gatewayassociation.ca
SUMMARY:How to Read a Job Posting
DESCRIPTION:How to Read a Job Posting \nJoin this workshop to understand various elements of a job posting\, identify red flags\, and find the right match. This workshop intends to help people save their time by targeting jobs that fits their expectations. \n This workshop is for registered participants only. To register\, please connect with us at Get-Work@GatewayAssociation.ca
URL:https://gatewayassociation.ca/calendar/how-to-read-a-job-posting-8/
CATEGORIES:ERC
END:VEVENT
BEGIN:VEVENT
DTSTART;TZID=America/Denver:20240221T150000
DTEND;TZID=America/Denver:20240221T163000
DTSTAMP:20260420T163541
CREATED:20240123T222340Z
LAST-MODIFIED:20240123T222340Z
UID:252094-1708527600-1708533000@gatewayassociation.ca
SUMMARY:Online Boardgames
DESCRIPTION:Session: 1 of 1 \nDuration: 1.5 to 2 hr \nFacilitator: Lee \nPrivate – GTDI Program intake required prior to workshop signup: getdigital@gatewayassociation.ca \n\n**Requires Online Social Connections – Discord and Steam Tutorials as well as desktop or laptop computer.** \nCome hang out! Learn about setting up online accounts\, meet new friends\, socialize\, and have fun playing boardgames online. Meet new friends\, practise new skills\, have fun!
URL:https://gatewayassociation.ca/calendar/online-boardgames-29/
END:VEVENT
BEGIN:VEVENT
DTSTART;TZID=America/Denver:20240221T180000
DTEND;TZID=America/Denver:20240221T200000
DTSTAMP:20260420T163541
CREATED:20230724T130548Z
LAST-MODIFIED:20230724T130548Z
UID:251010-1708538400-1708545600@gatewayassociation.ca
SUMMARY:Visioning and Planning for Families with Children 9-13 Years Old (3 of 4)
DESCRIPTION:Visioning and Planning for Families with Children 9-13 Years Old – 4-part series \nWednesday\, February 7 \nWednesday\, February 14 \nWednesday\, February 21 \nWednesday\, February 28 \n6:00pm – 8:00pm | Online \n  \nJoin our workshop series that empowers parents/caregivers of 9-13 year-olds with disabilities with knowledge\, resources and a sense of direction for the future\, while connecting with other families. \n  \nWe will touch on a variety of topics including values and belonging in the community\, visioning and planning\, various transitions during later elementary school\, IPPs\, navigating various systems (FSCD) age appropriate for families with “tween” age children as well as advocacy and having difficult conversations. \n  \nFacilitator: Stacy at Stacy@gatewayassociation.ca \nRegister HERE
URL:https://gatewayassociation.ca/calendar/visioning-and-planning-for-families-with-children-9-13-years-old-3-of-4/
CATEGORIES:FRC
END:VEVENT
BEGIN:VEVENT
DTSTART;TZID=America/Denver:20240221T180000
DTEND;TZID=America/Denver:20240221T210000
DTSTAMP:20260420T163541
CREATED:20230724T130929Z
LAST-MODIFIED:20230724T130944Z
UID:251015-1708538400-1708549200@gatewayassociation.ca
SUMMARY:Abuse Prevention and Response Protocol (FMS Staff)
DESCRIPTION:Abuse Prevention and Response Protocol (FMS Staff) \nWednesday\, February 21 \n6:00pm – 9:00pm | Online \n  \nThis workshop\, for FMS staff\, provides an understanding of the protocol\, explores what can be done to reduce the risk of abuse\, identifies types of abuse\, and how to handle situations when abuse is suspected. \n  \nFacilitator: Facilitator: Betty at Betty@GatewayAssociation.ca \nRegister HERE
URL:https://gatewayassociation.ca/calendar/251015/
CATEGORIES:FRC
END:VEVENT
BEGIN:VEVENT
DTSTART;TZID=America/Denver:20240222T110000
DTEND;TZID=America/Denver:20240222T120000
DTSTAMP:20260420T163541
CREATED:20240123T221719Z
LAST-MODIFIED:20240123T221719Z
UID:252084-1708599600-1708603200@gatewayassociation.ca
SUMMARY:Google Drive (2 of 2)
DESCRIPTION:Session: 2 of 2  \nDuration: 1  hr  \nFacilitator: Lee   \nPrivate – GTDI Program intake required prior to workshop: getdigital@gatewayassociation.ca  \n  \nLearn how to create a google accounts\, access google drive\, upload files\, create folders\, search for files. Group discussion on cloud storage\, strong passwords\, file naming conventions and keeping documents and folders organized.  
URL:https://gatewayassociation.ca/calendar/google-drive-2-of-2-8/
END:VEVENT
BEGIN:VEVENT
DTSTART;TZID=America/Denver:20240222T130000
DTEND;TZID=America/Denver:20240222T140000
DTSTAMP:20260420T163541
CREATED:20231212T203755Z
LAST-MODIFIED:20231212T203755Z
UID:251899-1708606800-1708610400@gatewayassociation.ca
SUMMARY:Workplace Expectations
DESCRIPTION:Workplace Expectations \nYou’ve got the job\, now you must keep it! Talking about the everyday behaviors that are appropriate in the workplace: \n\nshowing up on time\nhow long is too long for socializing with coworkers\nbreaks – what does this mean\nmotivation and engagement\n\n \n This workshop is for registered participants only. To register\, please connect with us at Get-Work@GatewayAssociation.ca
URL:https://gatewayassociation.ca/calendar/workplace-expectations-12/
CATEGORIES:ERC
END:VEVENT
BEGIN:VEVENT
DTSTART;TZID=America/Denver:20240222T130000
DTEND;TZID=America/Denver:20240222T140000
DTSTAMP:20260420T163541
CREATED:20240123T222023Z
LAST-MODIFIED:20240123T222023Z
UID:252090-1708606800-1708610400@gatewayassociation.ca
SUMMARY:LinkedIn Profiles (3 of 3)
DESCRIPTION:Session: 3 of 3 \nDuration: 1 hr \nFacilitator: Toby \nPrivate – GTDI Program intake required prior to workshop: getdigital@gatewayassociation.ca \n\nBuild your own LinkedIn profile! Share your skills\, goals\, and experiences\, create job alerts\, and grow your online network.
URL:https://gatewayassociation.ca/calendar/linkedin-profiles-3-of-3-4/
END:VEVENT
BEGIN:VEVENT
DTSTART;TZID=America/Denver:20240226T110000
DTEND;TZID=America/Denver:20240226T120000
DTSTAMP:20260420T163541
CREATED:20240123T222424Z
LAST-MODIFIED:20240123T222424Z
UID:252096-1708945200-1708948800@gatewayassociation.ca
SUMMARY:Google Docs (1 of 2)
DESCRIPTION:Session: 1 of 2  \nDuration: 1 hr   \nFacilitator: Lee  \nPrivate – GTDI Program intake required prior to workshop: getdigital@gatewayassociation.ca  \n  \nIn this 2 session workshop series\, Participants will practice creating and sharing google documents\, explore the tools provided to help them write\, edit\, comment and chat. This workshop covers the Basics of google docs\, as well as file organization\, sharing\, and commenting.  
URL:https://gatewayassociation.ca/calendar/google-docs-1-of-2-7/
END:VEVENT
END:VCALENDAR