BEGIN:VCALENDAR
VERSION:2.0
PRODID:-//Gateway Association - ECPv6.15.20//NONSGML v1.0//EN
CALSCALE:GREGORIAN
METHOD:PUBLISH
X-WR-CALNAME:Gateway Association
X-ORIGINAL-URL:https://gatewayassociation.ca
X-WR-CALDESC:Events for Gateway Association
REFRESH-INTERVAL;VALUE=DURATION:PT1H
X-Robots-Tag:noindex
X-PUBLISHED-TTL:PT1H
BEGIN:VTIMEZONE
TZID:America/Denver
BEGIN:DAYLIGHT
TZOFFSETFROM:-0700
TZOFFSETTO:-0600
TZNAME:MDT
DTSTART:20220313T090000
END:DAYLIGHT
BEGIN:STANDARD
TZOFFSETFROM:-0600
TZOFFSETTO:-0700
TZNAME:MST
DTSTART:20221106T080000
END:STANDARD
BEGIN:DAYLIGHT
TZOFFSETFROM:-0700
TZOFFSETTO:-0600
TZNAME:MDT
DTSTART:20230312T090000
END:DAYLIGHT
BEGIN:STANDARD
TZOFFSETFROM:-0600
TZOFFSETTO:-0700
TZNAME:MST
DTSTART:20231105T080000
END:STANDARD
BEGIN:DAYLIGHT
TZOFFSETFROM:-0700
TZOFFSETTO:-0600
TZNAME:MDT
DTSTART:20240310T090000
END:DAYLIGHT
BEGIN:STANDARD
TZOFFSETFROM:-0600
TZOFFSETTO:-0700
TZNAME:MST
DTSTART:20241103T080000
END:STANDARD
END:VTIMEZONE
BEGIN:VEVENT
DTSTART;TZID=America/Denver:20230802T130000
DTEND;TZID=America/Denver:20230802T140000
DTSTAMP:20260420T194317
CREATED:20230620T172336Z
LAST-MODIFIED:20230620T172336Z
UID:250760-1690981200-1690984800@gatewayassociation.ca
SUMMARY:LinkedIn Profiles (3 of 3)
DESCRIPTION:Session: 3 of 3 \nDuration: 1 hr \nFacilitator: Toby \nPrivate – GTDI Program intake required prior to workshop: getdigital@gatewayassociation.ca \n\nBuild your own LinkedIn profile! Share your skills\, goals\, and experiences\, create job alerts\, and grow your online network.
URL:https://gatewayassociation.ca/calendar/linkedin-profiles-3-of-3/
END:VEVENT
BEGIN:VEVENT
DTSTART;TZID=America/Denver:20230802T110000
DTEND;TZID=America/Denver:20230802T120000
DTSTAMP:20260420T194317
CREATED:20230710T204723Z
LAST-MODIFIED:20230710T204723Z
UID:250787-1690974000-1690977600@gatewayassociation.ca
SUMMARY:ePorfolio Series ( 2 of 3)
DESCRIPTION:Session 2 of 3 \nDuration 1 hr \nFacilitator: Lee \nPrivate – GTDI Program intake required prior to workshop: getdigital@gatewayassociation.ca \nIn the ePortfolio workshop series\, participants will learn about the different types of portfolios\, how to use google sites\, and the basics of layout and design. Learners will choose the type of portfolio they want to build and the subject they want to focus on. They will select and add content to their sites along with descriptions\, statements about their motivation\, interests\, skills\, and hobbies. Learners will work on their own between classes.
URL:https://gatewayassociation.ca/calendar/eporfolio-series-2-of-3/
END:VEVENT
BEGIN:VEVENT
DTSTART;TZID=America/Denver:20230801T150000
DTEND;TZID=America/Denver:20230801T163000
DTSTAMP:20260420T194317
CREATED:20230710T204841Z
LAST-MODIFIED:20230710T211241Z
UID:250791-1690902000-1690907400@gatewayassociation.ca
SUMMARY:OSC Boardgames
DESCRIPTION:Session: 1 of 1 \nDuration: 1.5 to 2 hr \nFacilitator: Lee \nPrivate – GTDI Program intake required prior to workshop signup: getdigital@gatewayassociation.ca \n**Requires Online Social Connections – Discord and Steam Tutorials as well as desktop or laptop computer.** \nCome hang out! Learn about setting up online accounts\, meet new friends\, socialize\, and have fun playing boardgames online. Meet new friends\, practise new skills\, have fun!
URL:https://gatewayassociation.ca/calendar/osc-boardgames-47/
END:VEVENT
BEGIN:VEVENT
DTSTART;TZID=America/Denver:20230801T130000
DTEND;TZID=America/Denver:20230801T140000
DTSTAMP:20260420T194317
CREATED:20230620T172302Z
LAST-MODIFIED:20230620T172302Z
UID:250758-1690894800-1690898400@gatewayassociation.ca
SUMMARY:LinkedIn Profiles (2 of 3)
DESCRIPTION:Session: 2 of 3 \nDuration: 1 hr \nFacilitator: Toby \nPrivate – GTDI Program intake required prior to workshop: getdigital@gatewayassociation.ca \n\nBuild your own LinkedIn profile! Share your skills\, goals\, and experiences\, create job alerts\, and grow your online network.
URL:https://gatewayassociation.ca/calendar/linkedin-profiles-2-of-3/
END:VEVENT
BEGIN:VEVENT
DTSTART;TZID=America/Denver:20230801T110000
DTEND;TZID=America/Denver:20230801T120000
DTSTAMP:20260420T194317
CREATED:20230710T204641Z
LAST-MODIFIED:20230710T204641Z
UID:250785-1690887600-1690891200@gatewayassociation.ca
SUMMARY:ePortfolio Series ( 1 of 3)
DESCRIPTION:Session 1 of 3 \nDuration 1 hr \nFacilitator: Lee \nPrivate – GTDI Program intake required prior to workshop: getdigital@gatewayassociation.ca \nIn the ePortfolio workshop series\, participants will learn about the different types of portfolios\, how to use google sites\, and the basics of layout and design. Learners will choose the type of portfolio they want to build and the subject they want to focus on. They will select and add content to their sites along with descriptions\, statements about their motivation\, interests\, skills\, and hobbies. Learners will work on their own between classes.
URL:https://gatewayassociation.ca/calendar/eportfolio-series-1-of-3/
END:VEVENT
BEGIN:VEVENT
DTSTART;TZID=America/Denver:20230731T130000
DTEND;TZID=America/Denver:20230731T140000
DTSTAMP:20260420T194317
CREATED:20230620T172212Z
LAST-MODIFIED:20230620T172212Z
UID:250756-1690808400-1690812000@gatewayassociation.ca
SUMMARY:LinkedIn Profiles (1 of 3)
DESCRIPTION:Session: 1 of 3 \nDuration: 1 hr \nFacilitator: Toby \nPrivate – GTDI Program intake required prior to workshop: getdigital@gatewayassociation.ca \nBuild your own LinkedIn profile! Share your skills\, goals\, and experiences\, create job alerts\, and grow your online network.
URL:https://gatewayassociation.ca/calendar/linkedin-profiles-1-of-3/
END:VEVENT
BEGIN:VEVENT
DTSTART;TZID=America/Denver:20230727T130000
DTEND;TZID=America/Denver:20230727T143000
DTSTAMP:20260420T194317
CREATED:20230620T171437Z
LAST-MODIFIED:20230620T171437Z
UID:250748-1690462800-1690468200@gatewayassociation.ca
SUMMARY:Internet Basics (3 of 3)
DESCRIPTION:Session: 3 of 3 \nDuration: 1.5 hrs \nFacilitator: Toby \nPrivate – GTDI Program intake required prior to workshop: getdigital@gatewayassociation.ca \n\nThis 3 session workshop series (part 1 of the work simulation) helps learners find\, share\, and explore things online through a series of fun activities. Participants will use different google map features to find their way around town\, share their favourite places\, plan a vacation\, and compare different search engines. As a group\, learners will chat about fake news\, investigate stories on Snopes\, and chat about the media we take in everyday.
URL:https://gatewayassociation.ca/calendar/internet-basics-3-of-3/
END:VEVENT
BEGIN:VEVENT
DTSTART;TZID=America/Denver:20230727T110000
DTEND;TZID=America/Denver:20230727T120000
DTSTAMP:20260420T194317
CREATED:20230620T171703Z
LAST-MODIFIED:20230620T171703Z
UID:250752-1690455600-1690459200@gatewayassociation.ca
SUMMARY:Google Docs (2 of 2)
DESCRIPTION:Session: 2 of 2 \nDuration: 1 hr \nFacilitator: Lee \nPrivate – GTDI Program intake required prior to workshop: getdigital@gatewayassociation.ca \n\nIn this 2 session workshop series\, Participants will practice creating and sharing google documents\, explore the tools provided to help them write\, edit\, comment and chat. This workshop covers the Basics of google docs\, as well as file organization\, sharing\, and commenting.
URL:https://gatewayassociation.ca/calendar/google-docs-2-of-2/
END:VEVENT
BEGIN:VEVENT
DTSTART;TZID=America/Denver:20230726T150000
DTEND;TZID=America/Denver:20230726T163000
DTSTAMP:20260420T194317
CREATED:20230620T171803Z
LAST-MODIFIED:20230620T171803Z
UID:250754-1690383600-1690389000@gatewayassociation.ca
SUMMARY:OSC Boardgames
DESCRIPTION:Session: 1 of 1 \nDuration: 1.5 to 2 hr \nFacilitator: Lee \nPrivate – GTDI Program intake required prior to workshop signup: getdigital@gatewayassociation.ca . \n\n**Requires Online Social Connections – Discord and Steam Tutorials as well as desktop or laptop computer.** \n\nCome hang out! Learn about setting up online accounts\, meet new friends\, socialize\, and have fun playing boardgames online. Meet new friends\, practise new skills\, have fun!
URL:https://gatewayassociation.ca/calendar/osc-boardgames-46/
END:VEVENT
BEGIN:VEVENT
DTSTART;TZID=America/Denver:20230726T130000
DTEND;TZID=America/Denver:20230726T150000
DTSTAMP:20260420T194317
CREATED:20230620T173044Z
LAST-MODIFIED:20230620T173044Z
UID:250770-1690376400-1690383600@gatewayassociation.ca
SUMMARY:Digital Storytelling (5 of 5)
DESCRIPTION:Finding ways to help your story unfold!  \nWe all have stories\, and it’s important that they are told. When telling our stories\, we have different ways of going about it. Let’s work together so that each of us can discover new skills and find our own tools to tell our story.  \n  \nYou will work together for 5 weeks\, alongside others\, to share and develop your very own digital story. Each week we will bring in activities to help participants tell their story the way they want to tell it.  \n  \nThese activities will introduce creative ways to go about telling your story. These will include lots of digital tools that support audio and visual storytelling. When you finish the sessions\, you will achieve a Digital Storyteller Certificate that you can add to your resume to show your experience and be part of an online screening of your work.  \n  \nThese sessions are facilitated by Story Finders Heath Birkholz and Maigan van der Giessen from Gateway Association.   \n  \nTo sign up\, please contact getdigital@gatewayassociation.ca
URL:https://gatewayassociation.ca/calendar/digital-storytelling-5-of-5/
END:VEVENT
BEGIN:VEVENT
DTSTART;TZID=America/Denver:20230726T130000
DTEND;TZID=America/Denver:20230726T143000
DTSTAMP:20260420T194317
CREATED:20230620T171401Z
LAST-MODIFIED:20230620T171401Z
UID:250746-1690376400-1690381800@gatewayassociation.ca
SUMMARY:Internet Basics (2 of 3)
DESCRIPTION:Session: 2 of 3 \nDuration: 1.5 hrs \nFacilitator: Toby \nPrivate – GTDI Program intake required prior to workshop: getdigital@gatewayassociation.ca \n\nThis 3 session workshop series (part 1 of the work simulation) helps learners find\, share\, and explore things online through a series of fun activities. Participants will use different google map features to find their way around town\, share their favourite places\, plan a vacation\, and compare different search engines. As a group\, learners will chat about fake news\, investigate stories on Snopes\, and chat about the media we take in everyday.
URL:https://gatewayassociation.ca/calendar/internet-basics-2-of-3/
END:VEVENT
BEGIN:VEVENT
DTSTART;TZID=America/Denver:20230726T110000
DTEND;TZID=America/Denver:20230726T120000
DTSTAMP:20260420T194317
CREATED:20230620T171538Z
LAST-MODIFIED:20230620T171538Z
UID:250750-1690369200-1690372800@gatewayassociation.ca
SUMMARY:Google Docs (1 of 2)
DESCRIPTION:Session: 1 of 2 \nDuration: 1 hr \nFacilitator: Lee \nPrivate – GTDI Program intake required prior to workshop: getdigital@gatewayassociation.ca \nIn this 2 session workshop series\, Participants will practice creating and sharing google documents\, explore the tools provided to help them write\, edit\, comment and chat. This workshop covers the Basics of google docs\, as well as file organization\, sharing\, and commenting.
URL:https://gatewayassociation.ca/calendar/google-docs-1-of-2/
END:VEVENT
BEGIN:VEVENT
DTSTART;TZID=America/Denver:20230725T130000
DTEND;TZID=America/Denver:20230725T143000
DTSTAMP:20260420T194317
CREATED:20230620T171321Z
LAST-MODIFIED:20230620T171321Z
UID:250744-1690290000-1690295400@gatewayassociation.ca
SUMMARY:Internet Basics (1 of 3)
DESCRIPTION:Session: 1 of 3 \nDuration: 1.5 hrs \nFacilitator: Toby \nPrivate – GTDI Program intake required prior to workshop: getdigital@gatewayassociation.ca \n\nThis 3 session workshop series (part 1 of the work simulation) helps learners find\, share\, and explore things online through a series of fun activities. Participants will use different google map features to find their way around town\, share their favourite places\, plan a vacation\, and compare different search engines. As a group\, learners will chat about fake news\, investigate stories on Snopes\, and chat about the media we take in everyday.
URL:https://gatewayassociation.ca/calendar/internet-basics-1-of-3/
END:VEVENT
BEGIN:VEVENT
DTSTART;TZID=America/Denver:20230725T130000
DTEND;TZID=America/Denver:20230725T140000
DTSTAMP:20260420T194317
CREATED:20230622T195648Z
LAST-MODIFIED:20230622T195648Z
UID:250778-1690290000-1690293600@gatewayassociation.ca
SUMMARY:Interview Prep Workshop
DESCRIPTION:Join us in the Interview Prep Workshop where you will learn alongside your peers of what to do before\, during and after a job interview! \nJoin us! \nRegister at Get-Work@GatewayAssociation.ca
URL:https://gatewayassociation.ca/calendar/interview-prep-workshop-2/
CATEGORIES:ERC
END:VEVENT
BEGIN:VEVENT
DTSTART;TZID=America/Denver:20230724T130000
DTEND;TZID=America/Denver:20230724T150000
DTSTAMP:20260420T194317
CREATED:20230620T172959Z
LAST-MODIFIED:20230620T172959Z
UID:250768-1690203600-1690210800@gatewayassociation.ca
SUMMARY:Digital Storytelling (4 of 5)
DESCRIPTION:Finding ways to help your story unfold!  \nWe all have stories\, and it’s important that they are told. When telling our stories\, we have different ways of going about it. Let’s work together so that each of us can discover new skills and find our own tools to tell our story.  \n  \nYou will work together for 5 weeks\, alongside others\, to share and develop your very own digital story. Each week we will bring in activities to help participants tell their story the way they want to tell it.  \n  \nThese activities will introduce creative ways to go about telling your story. These will include lots of digital tools that support audio and visual storytelling. When you finish the sessions\, you will achieve a Digital Storyteller Certificate that you can add to your resume to show your experience and be part of an online screening of your work.  \n  \nThese sessions are facilitated by Story Finders Heath Birkholz and Maigan van der Giessen from Gateway Association.   \n  \nTo sign up\, please contact getdigital@gatewayassociation.ca
URL:https://gatewayassociation.ca/calendar/digital-storytelling-4-of-5/
END:VEVENT
BEGIN:VEVENT
DTSTART;TZID=America/Denver:20230721T130000
DTEND;TZID=America/Denver:20230721T150000
DTSTAMP:20260420T194317
CREATED:20230620T172911Z
LAST-MODIFIED:20230620T172911Z
UID:250766-1689944400-1689951600@gatewayassociation.ca
SUMMARY:Digital Storytelling (3 of 5)
DESCRIPTION:Finding ways to help your story unfold!  \nWe all have stories\, and it’s important that they are told. When telling our stories\, we have different ways of going about it. Let’s work together so that each of us can discover new skills and find our own tools to tell our story.  \n  \nYou will work together for 5 weeks\, alongside others\, to share and develop your very own digital story. Each week we will bring in activities to help participants tell their story the way they want to tell it.  \n  \nThese activities will introduce creative ways to go about telling your story. These will include lots of digital tools that support audio and visual storytelling. When you finish the sessions\, you will achieve a Digital Storyteller Certificate that you can add to your resume to show your experience and be part of an online screening of your work.  \n  \nThese sessions are facilitated by Story Finders Heath Birkholz and Maigan van der Giessen from Gateway Association.   \n  \nTo sign up\, please contact getdigital@gatewayassociation.ca
URL:https://gatewayassociation.ca/calendar/digital-storytelling-3-of-5/
END:VEVENT
BEGIN:VEVENT
DTSTART;TZID=America/Denver:20230720T110000
DTEND;TZID=America/Denver:20230720T120000
DTSTAMP:20260420T194317
CREATED:20230620T171222Z
LAST-MODIFIED:20230620T171222Z
UID:250742-1689850800-1689854400@gatewayassociation.ca
SUMMARY:Steam Tutorial
DESCRIPTION:Session 1 of 1 \nDuration 1 hr \nFacilitator: Lee \nPrivate – GTDI Program intake required prior to workshop: getdigital@gatewayassociation.ca \n\nStep by step tutorial for downloading and installing Steam – an online game platform. Steam is required for Online boardgames group.
URL:https://gatewayassociation.ca/calendar/steam-tutorial-13/
END:VEVENT
BEGIN:VEVENT
DTSTART;TZID=America/Denver:20230719T150000
DTEND;TZID=America/Denver:20230719T163000
DTSTAMP:20260420T194317
CREATED:20230620T171133Z
LAST-MODIFIED:20230620T171133Z
UID:250740-1689778800-1689784200@gatewayassociation.ca
SUMMARY:OSC Boardgames
DESCRIPTION:Session: 1 of 1 \nDuration: 1.5 to 2 hr \nFacilitator: Lee \nPrivate – GTDI Program intake required prior to workshop signup: getdigital@gatewayassociation.ca . \n\n**Requires Online Social Connections – Discord and Steam Tutorials as well as desktop or laptop computer.** \n\nCome hang out! Learn about setting up online accounts\, meet new friends\, socialize\, and have fun playing boardgames online. Meet new friends\, practise new skills\, have fun!
URL:https://gatewayassociation.ca/calendar/osc-boardgames-45/
END:VEVENT
BEGIN:VEVENT
DTSTART;TZID=America/Denver:20230719T130000
DTEND;TZID=America/Denver:20230719T150000
DTSTAMP:20260420T194317
CREATED:20230620T172824Z
LAST-MODIFIED:20230620T172824Z
UID:250764-1689771600-1689778800@gatewayassociation.ca
SUMMARY:Digital Storytelling (2 of 5)
DESCRIPTION:Finding ways to help your story unfold!  \nWe all have stories\, and it’s important that they are told. When telling our stories\, we have different ways of going about it. Let’s work together so that each of us can discover new skills and find our own tools to tell our story.   \nYou will work together for 5 weeks\, alongside others\, to share and develop your very own digital story. Each week we will bring in activities to help participants tell their story the way they want to tell it.   \nThese activities will introduce creative ways to go about telling your story. These will include lots of digital tools that support audio and visual storytelling. When you finish the sessions\, you will achieve a Digital Storyteller Certificate that you can add to your resume to show your experience and be part of an online screening of your work. \nThese sessions are facilitated by Story Finders Heath Birkholz and Maigan van der Giessen from Gateway Association.   \nTo sign up\, please contact getdigital@gatewayassociation.ca
URL:https://gatewayassociation.ca/calendar/digital-storytelling-2-of-5/
END:VEVENT
BEGIN:VEVENT
DTSTART;TZID=America/Denver:20230718T130000
DTEND;TZID=America/Denver:20230718T140000
DTSTAMP:20260420T194317
CREATED:20230620T171056Z
LAST-MODIFIED:20230620T171056Z
UID:250738-1689685200-1689688800@gatewayassociation.ca
SUMMARY:Explore Canva
DESCRIPTION:Session 1 of 1 \nDuration 1 hr \nFacilitator: Toby \nPrivate – GTDI Program intake required prior to workshop: getdigital@gatewayassociation.ca \n\nLet your imagination be your guide as you create your own posters\, flyers\, cards\, videos\, and more to share information important to you.
URL:https://gatewayassociation.ca/calendar/explore-canva-18/
END:VEVENT
BEGIN:VEVENT
DTSTART;TZID=America/Denver:20230718T110000
DTEND;TZID=America/Denver:20230718T120000
DTSTAMP:20260420T194317
CREATED:20230620T171019Z
LAST-MODIFIED:20230620T171019Z
UID:250736-1689678000-1689681600@gatewayassociation.ca
SUMMARY:Discord Tutorial
DESCRIPTION:Session 1 of 1 \nDuration 1 hr \nFacilitator: Lee \nPrivate – GTDI Program intake required prior to workshop: getdigital@gatewayassociation.ca \n\nStep by step tutorial for downloading and installing Discord – a free app that lets people chat using text\, voice or video. Discord is required for Online boardgames group.
URL:https://gatewayassociation.ca/calendar/discord-tutorial-13/
END:VEVENT
BEGIN:VEVENT
DTSTART;TZID=America/Denver:20230718T100000
DTEND;TZID=America/Denver:20230718T120000
DTSTAMP:20260420T194317
CREATED:20230620T173632Z
LAST-MODIFIED:20230620T173632Z
UID:250776-1689674400-1689681600@gatewayassociation.ca
SUMMARY:Interview Roundtable: Learning and Laughing Together - Practice
DESCRIPTION:Join us for a dynamic and interactive workshop designed to help you ace your next job interview. In our Interview Roundtable\, you’ll have the opportunity to connect with fellow job seekers and share your experiences and insights. Our experienced facilitators will guide you through real-life interview scenarios and help you develop the skills and confidence you need to succeed. Please bring a bagged lunch and stay for a visit! \nSpots are limited. To register\, please e-mail Marnie@gatewayassociation.ca. Registration will be first-come first-serve. \nPrivate in-person \nFacilitator: Marnie
URL:https://gatewayassociation.ca/calendar/interview-roundtable-learning-and-laughing-together-practice/
CATEGORIES:ERC
END:VEVENT
BEGIN:VEVENT
DTSTART;TZID=America/Denver:20230717T130000
DTEND;TZID=America/Denver:20230717T150000
DTSTAMP:20260420T194317
CREATED:20230620T172733Z
LAST-MODIFIED:20230620T172733Z
UID:250762-1689598800-1689606000@gatewayassociation.ca
SUMMARY:Digital Storytelling (1 of 5)
DESCRIPTION:Finding ways to help your story unfold!  \nWe all have stories\, and it’s important that they are told. When telling our stories\, we have different ways of going about it. Let’s work together so that each of us can discover new skills and find our own tools to tell our story.  \n  \nYou will work together for 5 weeks\, alongside others\, to share and develop your very own digital story. Each week we will bring in activities to help participants tell their story the way they want to tell it.   \nThese activities will introduce creative ways to go about telling your story. These will include lots of digital tools that support audio and visual storytelling. When you finish the sessions\, you will achieve a Digital Storyteller Certificate that you can add to your resume to show your experience and be part of an online screening of your work.   \nThese sessions are facilitated by Story Finders Heath Birkholz and Maigan van der Giessen from Gateway Association.   \n  \nTo sign up\, please contact getdigital@gatewayassociation.ca
URL:https://gatewayassociation.ca/calendar/digital-storytelling-1-of-5/
END:VEVENT
BEGIN:VEVENT
DTSTART;TZID=America/Denver:20230713T110000
DTEND;TZID=America/Denver:20230713T120000
DTSTAMP:20260420T194317
CREATED:20230620T170850Z
LAST-MODIFIED:20230620T170850Z
UID:250732-1689246000-1689249600@gatewayassociation.ca
SUMMARY:Google Drive (2 of 2)
DESCRIPTION:Session: 2 of 2 \nDuration: 1 hr \nFacilitator: Lee \nPrivate – GTDI Program intake required prior to workshop: getdigital@gatewayassociation.ca \n  \nLearn how to create a google accounts\, access google drive\, upload files\, create folders\, search for files. Group discussion on cloud storage\, strong passwords\, file naming conventions and keeping documents and folders organized.
URL:https://gatewayassociation.ca/calendar/google-drive-2-of-2/
END:VEVENT
BEGIN:VEVENT
DTSTART;TZID=America/Denver:20230712T150000
DTEND;TZID=America/Denver:20230712T163000
DTSTAMP:20260420T194317
CREATED:20230620T170933Z
LAST-MODIFIED:20230620T170933Z
UID:250734-1689174000-1689179400@gatewayassociation.ca
SUMMARY:OSC Boardgames
DESCRIPTION:Session: 1 of 1 \nDuration: 1.5 to 2 hr \nFacilitator: Lee \nPrivate – GTDI Program intake required prior to workshop signup: getdigital@gatewayassociation.ca . \n\n**Requires Online Social Connections – Discord and Steam Tutorials as well as desktop or laptop computer.** \n\nCome hang out! Learn about setting up online accounts\, meet new friends\, socialize\, and have fun playing boardgames online. Meet new friends\, practise new skills\, have fun!
URL:https://gatewayassociation.ca/calendar/osc-boardgames-44/
END:VEVENT
BEGIN:VEVENT
DTSTART;TZID=America/Denver:20230712T110000
DTEND;TZID=America/Denver:20230712T120000
DTSTAMP:20260420T194317
CREATED:20230620T170801Z
LAST-MODIFIED:20230620T170801Z
UID:250730-1689159600-1689163200@gatewayassociation.ca
SUMMARY:Google Drive (1 of 2)
DESCRIPTION:Session: 1 of 2 \nDuration: 1 hr \nFacilitator: Lee \nPrivate – GTDI Program intake required prior to workshop: getdigital@gatewayassociation.ca \n  \nLearn how to create a google accounts\, access google drive\, upload files\, create folders\, search for files. Group discussion on cloud storage\, strong passwords\, file naming conventions and keeping documents and folders organized.
URL:https://gatewayassociation.ca/calendar/google-drive-1-of-2/
END:VEVENT
BEGIN:VEVENT
DTSTART;TZID=America/Denver:20230711T130000
DTEND;TZID=America/Denver:20230711T150000
DTSTAMP:20260420T194317
CREATED:20230620T173522Z
LAST-MODIFIED:20230620T173522Z
UID:250774-1689080400-1689087600@gatewayassociation.ca
SUMMARY:Open Art Studio- IN PERSON\, Calgary office
DESCRIPTION:OPEN♥ART  \nAn open-hearted Art Studio experience  \nTuesday\, July 11\, 1:00-3:00 PM  \nFacilitated by Maigan van der Giessen  \nTHIS SUMMER\,  Gateway Association is offering an IN-PERSON art workshop in Calgary @ The Commons\, 1206 20 ave SE  \nOPEN♥ART is a chance to create alongside others\, share and experiment with different art forms\, and have fun. Each month we try different approaches to art-making to inspire your inner artist and bring us together in creativity.   \nArtists of all levels and abilities are WELCOME!  \nSign up at getdigital@gatewayassociation.ca 
URL:https://gatewayassociation.ca/calendar/open-art-studio-in-person-calgary-office/
CATEGORIES:ERC
END:VEVENT
BEGIN:VEVENT
DTSTART;TZID=America/Denver:20230711T100000
DTEND;TZID=America/Denver:20230711T130000
DTSTAMP:20260420T194317
CREATED:20230620T173356Z
LAST-MODIFIED:20230620T173356Z
UID:250772-1689069600-1689080400@gatewayassociation.ca
SUMMARY:Calgary Interview Roundtable: Learning and Laughing Together - Part One
DESCRIPTION:Join us for a dynamic and interactive workshop designed to help you ace your next job interview. In our Interview Roundtable\, you’ll have the opportunity to connect with fellow job seekers and share your experiences and insights. Our experienced facilitators will guide you through real-life interview scenarios and help you develop the skills and confidence you need to succeed. We would love to bring a bagged lunch and join us for Open Art from 1-3 pm. \nSpots are limited. To register\, please e-mail Marnie@gatewayassociation.ca. Registration will be first-come first-serve. \nPrivate in-person \nThis session will be co-facilitated by ERC participant\, Erin Fletcher\, and Career and Inclusion Consultant\, Marnie.
URL:https://gatewayassociation.ca/calendar/calgary-interview-roundtable-learning-and-laughing-together-part-one/
CATEGORIES:ERC
END:VEVENT
BEGIN:VEVENT
DTSTART;TZID=America/Denver:20230706T130000
DTEND;TZID=America/Denver:20230706T140000
DTSTAMP:20260420T194317
CREATED:20230620T170715Z
LAST-MODIFIED:20230620T170715Z
UID:250728-1688648400-1688652000@gatewayassociation.ca
SUMMARY:Zoom Basics
DESCRIPTION:Session: 1 of 1 \nDuration: 1 hr \nFacilitator: Toby \nPrivate – GTDI Program intake required prior to workshop: getdigital@gatewayassociation.ca \nLearn what you need to know to participate in online Zoom meetings. Explore all the cool features of the program\, practice your digital skills and build your zoom social skills.
URL:https://gatewayassociation.ca/calendar/zoom-basics-17/
END:VEVENT
BEGIN:VEVENT
DTSTART;TZID=America/Denver:20230706T110000
DTEND;TZID=America/Denver:20230706T120000
DTSTAMP:20260420T194317
CREATED:20230620T170200Z
LAST-MODIFIED:20230620T170200Z
UID:250726-1688641200-1688644800@gatewayassociation.ca
SUMMARY:Email Basics
DESCRIPTION:Session: 1 of 1 \nDuration: 1 hr \nFacilitator: Lee \nPrivate – GTDI Program intake required prior to workshop: getdigital@gatewayassociation.ca \n**For participants who have completed Email Basics\, and would like more practice** \nA session for participants who have take the Email Basics session and would like more practice in writing professional emails for their job search and workplace communication.
URL:https://gatewayassociation.ca/calendar/email-basics-31/
END:VEVENT
END:VCALENDAR