BEGIN:VCALENDAR
VERSION:2.0
PRODID:-//Gateway Association - ECPv6.15.20//NONSGML v1.0//EN
CALSCALE:GREGORIAN
METHOD:PUBLISH
X-ORIGINAL-URL:https://gatewayassociation.ca
X-WR-CALDESC:Events for Gateway Association
REFRESH-INTERVAL;VALUE=DURATION:PT1H
X-Robots-Tag:noindex
X-PUBLISHED-TTL:PT1H
BEGIN:VTIMEZONE
TZID:America/Denver
BEGIN:DAYLIGHT
TZOFFSETFROM:-0700
TZOFFSETTO:-0600
TZNAME:MDT
DTSTART:20230312T090000
END:DAYLIGHT
BEGIN:STANDARD
TZOFFSETFROM:-0600
TZOFFSETTO:-0700
TZNAME:MST
DTSTART:20231105T080000
END:STANDARD
BEGIN:DAYLIGHT
TZOFFSETFROM:-0700
TZOFFSETTO:-0600
TZNAME:MDT
DTSTART:20240310T090000
END:DAYLIGHT
BEGIN:STANDARD
TZOFFSETFROM:-0600
TZOFFSETTO:-0700
TZNAME:MST
DTSTART:20241103T080000
END:STANDARD
BEGIN:DAYLIGHT
TZOFFSETFROM:-0700
TZOFFSETTO:-0600
TZNAME:MDT
DTSTART:20250309T090000
END:DAYLIGHT
BEGIN:STANDARD
TZOFFSETFROM:-0600
TZOFFSETTO:-0700
TZNAME:MST
DTSTART:20251102T080000
END:STANDARD
END:VTIMEZONE
BEGIN:VEVENT
DTSTART;TZID=America/Denver:20240228T180000
DTEND;TZID=America/Denver:20240228T190000
DTSTAMP:20260420T222000
CREATED:20231220T155223Z
LAST-MODIFIED:20231220T162841Z
UID:252011-1709143200-1709146800@gatewayassociation.ca
SUMMARY:Employment Resource Centre Information Session
DESCRIPTION:Employment Resource Centre Information Session \nJoin Gateway Association for a virtual Employment Resource Centre information session. \nThis session is for job seekers with disability or mental health-based barriers to learn about how Gateway Association can support you with achieving your employment goals! \nL earn about individualized supports and group workshops that will help you with: \n\nCareer development and action plans\nResume building\nInterview skills\nWorkplace communication\nOnboarding and training\nJob search and finding the right job for you\nKeeping your job!\nA ND much more!\n\nRegister HERE \nFor additional accommodations or questions\, please connect with us at Get-Work@GatewayAssociation.ca
URL:https://gatewayassociation.ca/calendar/employment-resource-centre-information-session-2/
CATEGORIES:ERC
END:VEVENT
BEGIN:VEVENT
DTSTART;TZID=America/Denver:20240228T180000
DTEND;TZID=America/Denver:20240228T200000
DTSTAMP:20260420T222000
CREATED:20230724T130716Z
LAST-MODIFIED:20230724T130804Z
UID:251012-1709143200-1709150400@gatewayassociation.ca
SUMMARY:Visioning and Planning for Families with Children 9-13 Years Old (4 of 4)
DESCRIPTION:Visioning and Planning for Families with Children 9-13 Years Old – 4-part series \nWednesday\, February 7 \nWednesday\, February 14 \nWednesday\, February 21 \nWednesday\, February 28 \n6:00pm – 8:00pm | Online \n  \nJoin our workshop series that empowers parents/caregivers of 9-13 year-olds with disabilities with knowledge\, resources and a sense of direction for the future\, while connecting with other families. \n  \nWe will touch on a variety of topics including values and belonging in the community\, visioning and planning\, various transitions during later elementary school\, IPPs\, navigating various systems (FSCD) age appropriate for families with “tween” age children as well as advocacy and having difficult conversations. \n  \nFacilitator: Stacy at Stacy@gatewayassociation.ca \nRegister HERE
URL:https://gatewayassociation.ca/calendar/251012/
CATEGORIES:FRC
END:VEVENT
BEGIN:VEVENT
DTSTART;TZID=America/Denver:20240229T190000
DTEND;TZID=America/Denver:20240229T210000
DTSTAMP:20260420T222000
CREATED:20230720T173448Z
LAST-MODIFIED:20230803T144130Z
UID:250935-1709233200-1709240400@gatewayassociation.ca
SUMMARY:Families Forward\, Over 18
DESCRIPTION:Families Forward Over 18 \nThursday\, February 29 \n7:00pm – 9:00pm | Online \n  \nWhere families can connect with other families\, learn from one another\, and explore issues that are important (such as housing\, relationship building\, and community and government supports). \nFacilitator: Betty at Betty@GatewayAssociation.ca \nRegister HERE 
URL:https://gatewayassociation.ca/calendar/families-forward-over-18-13/
CATEGORIES:FRC
END:VEVENT
BEGIN:VEVENT
DTSTART;TZID=America/Denver:20240302T090000
DTEND;TZID=America/Denver:20240302T120000
DTSTAMP:20260420T222000
CREATED:20230724T131204Z
LAST-MODIFIED:20230724T131204Z
UID:251018-1709370000-1709380800@gatewayassociation.ca
SUMMARY:Abuse Prevention and Response Protocol (FMS Admin)
DESCRIPTION:Abuse Prevention and Response Protocol (FMS Admin) \nSaturday\, March 2 \n9:00am – 12:00pm | In-person \n  \n*This workshop is In-Person \n  \nThis workshop\, for FMS Administrators\, provides an understanding of the protocol\, explores what can be done to reduce the risk of abuse\, identifies types of abuse\, and how to handle situations when abuse is suspected. \nNote: This is a mandatory course for FMS Administrators under Family Managed Services with Disability Services. \n  \nFacilitator: Betty at Betty@GatewayAssociation.ca \nRegister HERE
URL:https://gatewayassociation.ca/calendar/abuse-prevention-and-response-protocol-fms-admin-9/
CATEGORIES:FRC
END:VEVENT
BEGIN:VEVENT
DTSTART;TZID=America/Denver:20240302T130000
DTEND;TZID=America/Denver:20240302T160000
DTSTAMP:20260420T222000
CREATED:20230724T131346Z
LAST-MODIFIED:20230724T131346Z
UID:251020-1709384400-1709395200@gatewayassociation.ca
SUMMARY: Finding the Right Staff (FMS Admin)
DESCRIPTION:Finding the Right Staff (FMS Admin) \nSaturday\, March 2 \n1:00pm – 4:00pm | In-Person \n  \nA workshop for Family Managed Services Administrators that looks at using your vision plan to identify appropriate supports to help achieve \nThis workshop\, for Family Managed Services Administrators only\, looks at using the Individual Support Plan to help your staff create valued roles and enhance community connections. \nDetails: \n  \nFacilitator:  Miriam at miriam@GatewayAssociation.ca \nRegister HERE
URL:https://gatewayassociation.ca/calendar/finding-the-right-staff-fms-admin-2/
CATEGORIES:FRC
END:VEVENT
BEGIN:VEVENT
DTSTART;TZID=America/Denver:20240305T130000
DTEND;TZID=America/Denver:20240305T140000
DTSTAMP:20260420T222000
CREATED:20231212T204053Z
LAST-MODIFIED:20231212T204053Z
UID:251903-1709643600-1709647200@gatewayassociation.ca
SUMMARY:Finding Your Purpose
DESCRIPTION:Finding Your Purpose \n Are you wondering what your purpose is? Stuck and not sure where to go? Then we have a workshop for you! Come join us for self exploration and learning. We will talk about what people need in life to grow and how we can access those resources. As well\, we will explore a personality test and leave the workshop with a deeper understanding of who we are and where we would like to go! \n  \n This workshop is for registered participants only. To register\, please connect with us at Get-Work@GatewayAssociation.ca
URL:https://gatewayassociation.ca/calendar/finding-your-purpose-6/
CATEGORIES:ERC
END:VEVENT
BEGIN:VEVENT
DTSTART;TZID=America/Denver:20240305T130000
DTEND;TZID=America/Denver:20240305T140000
DTSTAMP:20260420T222000
CREATED:20240207T225822Z
LAST-MODIFIED:20240207T225822Z
UID:252140-1709643600-1709647200@gatewayassociation.ca
SUMMARY:Zoom Basics
DESCRIPTION:Session: 1 of 1 \nDuration: 1 hr \nFacilitator: Toby \nPrivate – GTDI Program intake required prior to workshop: getdigital@gatewayassociation.ca \n\nLearn what you need to know to participate in online Zoom meetings. Explore all the cool features of the program\, practice your digital skills and build your zoom social skills.
URL:https://gatewayassociation.ca/calendar/zoom-basics-25/
END:VEVENT
BEGIN:VEVENT
DTSTART;TZID=America/Denver:20240306T100000
DTEND;TZID=America/Denver:20240306T150000
DTSTAMP:20260420T222000
CREATED:20231220T152559Z
LAST-MODIFIED:20231220T152559Z
UID:252000-1709719200-1709737200@gatewayassociation.ca
SUMMARY:DROP IN WEDNESDAYS  at the Calgary Employment Resource Centre
DESCRIPTION:DROP IN WEDNESDAYS \nat the Calgary Employment Resource Centre \nFor job seekers\, each Wednesday drop in any time between 10am and 3pm to connect with ERC team members to work on resumes\, interview skills\, job search and meet other job seekers! \n1206 20 AVE SE \nCalgary\, AB
URL:https://gatewayassociation.ca/calendar/drop-in-wednesdays-at-the-calgary-employment-resource-centre-11/
CATEGORIES:ERC
END:VEVENT
BEGIN:VEVENT
DTSTART;TZID=America/Denver:20240306T120000
DTEND;TZID=America/Denver:20240306T120000
DTSTAMP:20260420T222000
CREATED:20240207T225905Z
LAST-MODIFIED:20240207T225905Z
UID:252142-1709726400-1709726400@gatewayassociation.ca
SUMMARY:Discord Tutorial
DESCRIPTION:Session 1 of 1  \nDuration 1 hr  \nFacilitator: Lee  \nPrivate – GTDI Program intake required prior to workshop: getdigital@gatewayassociation.ca  \n  \nStep by step tutorial for downloading and installing Discord – a free app that lets people chat using text\, voice or video. Discord is required for Online boardgames group. 
URL:https://gatewayassociation.ca/calendar/discord-tutorial-19/
END:VEVENT
BEGIN:VEVENT
DTSTART;TZID=America/Denver:20240306T130000
DTEND;TZID=America/Denver:20240306T140000
DTSTAMP:20260420T222000
CREATED:20240207T225953Z
LAST-MODIFIED:20240207T225953Z
UID:252144-1709730000-1709733600@gatewayassociation.ca
SUMMARY:Explore Canva (1/2)
DESCRIPTION:Session 1 of 2  \nDuration 1 hr   \nFacilitator: Toby  \nPrivate – GTDI Program intake required prior to workshop: getdigital@gatewayassociation.ca  \n  \nLet your imagination be your guide as you create your own posters\, flyers\, cards\, videos\, and more to share information important to you. 
URL:https://gatewayassociation.ca/calendar/explore-canva-1-2-6/
END:VEVENT
BEGIN:VEVENT
DTSTART;TZID=America/Denver:20240306T150000
DTEND;TZID=America/Denver:20240306T163000
DTSTAMP:20260420T222000
CREATED:20240207T230106Z
LAST-MODIFIED:20240207T230106Z
UID:252148-1709737200-1709742600@gatewayassociation.ca
SUMMARY:Online Boardgames
DESCRIPTION:Session: 1 of 1 \nDuration: 1.5 to 2 hr \nFacilitator: Lee \nPrivate – GTDI Program intake required prior to workshop signup: getdigital@gatewayassociation.ca \n\n**Requires Online Social Connections – Discord and Steam Tutorials as well as desktop or laptop computer.** \nCome hang out! Learn about setting up online accounts\, meet new friends\, socialize\, and have fun playing boardgames online. Meet new friends\, practise new skills\, have fun!
URL:https://gatewayassociation.ca/calendar/online-boardgames-31/
END:VEVENT
BEGIN:VEVENT
DTSTART;TZID=America/Denver:20240307T110000
DTEND;TZID=America/Denver:20240307T120000
DTSTAMP:20260420T222000
CREATED:20240207T230139Z
LAST-MODIFIED:20240207T230139Z
UID:252150-1709809200-1709812800@gatewayassociation.ca
SUMMARY:Steam Tutorial
DESCRIPTION:Session 1 of 1  \nDuration 1 hr  \nFacilitator: Lee  \nPrivate – GTDI Program intake required prior to workshop: getdigital@gatewayassociation.ca  \n  \nStep by step tutorial for downloading and installing Steam – an online game platform. Steam is required for Online boardgames group. 
URL:https://gatewayassociation.ca/calendar/steam-tutorial-17/
END:VEVENT
BEGIN:VEVENT
DTSTART;TZID=America/Denver:20240307T130000
DTEND;TZID=America/Denver:20240307T140000
DTSTAMP:20260420T222000
CREATED:20231212T204151Z
LAST-MODIFIED:20231212T204151Z
UID:251905-1709816400-1709820000@gatewayassociation.ca
SUMMARY:Growth Mindset: Resiliency in Job Search
DESCRIPTION: Growth Mindset: Resiliency in Job Search \nJob search can be a long and daunting process for many. This workshop will introduce folks to the concept of having a “Growth Mindset” and help individuals create a positive/persistent mindset along with tips on how to stay motivated throughout this process. \n This workshop is for registered participants only. To register\, please connect with us at Get-Work@GatewayAssociation.ca
URL:https://gatewayassociation.ca/calendar/growth-mindset-resiliency-in-job-search-13/
CATEGORIES:ERC
END:VEVENT
BEGIN:VEVENT
DTSTART;TZID=America/Denver:20240307T130000
DTEND;TZID=America/Denver:20240307T140000
DTSTAMP:20260420T222000
CREATED:20240207T230025Z
LAST-MODIFIED:20240207T230025Z
UID:252146-1709816400-1709820000@gatewayassociation.ca
SUMMARY:Explore Canva (2/2)
DESCRIPTION:Session 2 of 2  \nDuration 1 hr   \nFacilitator: Toby  \nPrivate – GTDI Program intake required prior to workshop: getdigital@gatewayassociation.ca  \n  \nLet your imagination be your guide as you create your own posters\, flyers\, cards\, videos\, and more to share information important to you. 
URL:https://gatewayassociation.ca/calendar/explore-canva-2-2-8/
END:VEVENT
BEGIN:VEVENT
DTSTART;TZID=America/Denver:20240308T100000
DTEND;TZID=America/Denver:20240308T160000
DTSTAMP:20260420T222000
CREATED:20240213T134651Z
LAST-MODIFIED:20240213T134651Z
UID:252195-1709892000-1709913600@gatewayassociation.ca
SUMMARY:Empower 2024\, March 8 & 9
DESCRIPTION:Join us for *Empower 2024*​\, an Individual Support Planning event for families offered on March 8 (Friday) and March 9 (Saturday) 2024.\n\n\nThis event is designed to equip you and your family for a future that exceeds expectations and enriches lives. \nWho Should Attend: \n\nIndividuals with disabilities ages 15 to 18\nFamilies\, caregivers and advocates\n\nDate: \n\nFriday\, March 8\, 2024\nSaturday March 9\, 2024\n\n  \nYou Can’t Afford to Miss This! \nThis is a call to action\, a revolutionary moment to redefine what support for people with disabilities looks like. \nLearn to advocate for needs that are often misunderstood or overlooked. Self Advocacy Federation will be in attendance to chat about Advocacy! \nEquip yourself with tools to build a plan that reflects YOU – your dreams\, your strengths\, your life. \nWhat’s On the Agenda: \n\nIndividual Support Plans (ISP). We will call all those that are registered to book your ISP time slot.\nVisioning and Planning Workshop\nPresentations from our Digital Literacy Programs and Employment Resource Centre\nReal-life Testimonials\nOne-on-One Consultations\nCommunity Connection Resources\nAdvocacy Capacity Building\n\nAgenda \n\n\n\n11:00 Am – 12 Pm – Visioning & Planning Workshop\n12:00 Pm – 2 Pm – RDSP Breakout Room\n12:00 Pm – 2 Pm – Advocacy Capacity Building Breakout Room\n12:00 Pm – 2 Pm – Digital Literacy & Employment Breakout Room\n\n\n\nLocation: \nGateway Association \n201- 10941 120 Street NW Edmonton\, AB \nThe address for DATS drop off and elevator access is: 10930-119 Street N \nThe address for DATS drop off and elevator access is: 10930-119 Street NW \n\nSnacks\, light lunch and refreshments will be provided.\nYou’re welcome to bring your own food.\n\nLet’s seize the moment and craft a future that celebrates diversity\, acknowledges individuality\, and above all\, empowers. \nSeats are limited! Book now to secure your spot! \nFor any additional questions or accommodations\, please contact Info@gatewayassociation.ca
URL:https://gatewayassociation.ca/calendar/empower-2024-march-8-9/
CATEGORIES:FRC
END:VEVENT
BEGIN:VEVENT
DTSTART;TZID=America/Denver:20240309T090000
DTEND;TZID=America/Denver:20240309T160000
DTSTAMP:20260420T222000
CREATED:20230724T131534Z
LAST-MODIFIED:20230724T131534Z
UID:251022-1709974800-1710000000@gatewayassociation.ca
SUMMARY:Visioning and Planning for Families with Children 9-13 Years Old
DESCRIPTION:Visioning and Planning for Families with Children 9-13 Years Old \nSaturday\, March 9 \n9:00am – 4:00pm | Online \n  \nJoin our full-day workshop that empowers parents/caregivers of 9-13 year-olds with disabilities with knowledge\, resources and a sense of direction for the future\, while connecting with other families. \n  \nWe will touch on a variety of topics including values and belonging in the community\, visioning and planning\, various transitions during later elementary school\, IPPs\, navigating various systems (FSCD) age appropriate for families with “tween” age children as well as advocacy and having difficult conversations. \nFacilitator: Stacy at Stacy@GatewayAssociation.ca \nRegister HERE
URL:https://gatewayassociation.ca/calendar/visioning-and-planning-for-families-with-children-9-13-years-old-2/
CATEGORIES:FRC
END:VEVENT
BEGIN:VEVENT
DTSTART;TZID=America/Denver:20240311T110000
DTEND;TZID=America/Denver:20240311T120000
DTSTAMP:20260420T222000
CREATED:20240207T230227Z
LAST-MODIFIED:20240207T230227Z
UID:252152-1710154800-1710158400@gatewayassociation.ca
SUMMARY:Google Drive (1/2)
DESCRIPTION:Session: 1 of 2  \nDuration: 1  hr  \nFacilitator: Lee   \nPrivate – GTDI Program intake required prior to workshop: getdigital@gatewayassociation.ca  \n  \nLearn how to create a google accounts\, access google drive\, upload files\, create folders\, search for files. Group discussion on cloud storage\, strong passwords\, file naming conventions and keeping documents and folders organized.  
URL:https://gatewayassociation.ca/calendar/google-drive-1-2-3/
END:VEVENT
BEGIN:VEVENT
DTSTART;TZID=America/Denver:20240311T130000
DTEND;TZID=America/Denver:20240311T143000
DTSTAMP:20260420T222000
CREATED:20240207T230335Z
LAST-MODIFIED:20240207T230335Z
UID:252156-1710162000-1710167400@gatewayassociation.ca
SUMMARY:Internet Basics (1 of 4)
DESCRIPTION:Session 1 of 4  \nDuration 1.5 hr   \nFacilitator: Toby  \nPrivate – GTDI Program intake required prior to workshop: getdigital@gatewayassociation.ca  \n  \nThis 4 session workshop series (part 1 of the work simulation) helps learners find\, share\, and explore things online through a series of fun activities. Participants will use different google map features to find their way around town\, share their favourite places\, plan a vacation\, and compare different search engines. As a group\, learners will chat about fake news\, investigate stories on Snopes\, and chat about the media we take in everyday.  
URL:https://gatewayassociation.ca/calendar/internet-basics-1-of-4-4/
END:VEVENT
BEGIN:VEVENT
DTSTART;TZID=America/Denver:20240312T110000
DTEND;TZID=America/Denver:20240312T120000
DTSTAMP:20260420T222000
CREATED:20240207T230255Z
LAST-MODIFIED:20240207T230255Z
UID:252154-1710241200-1710244800@gatewayassociation.ca
SUMMARY:Google Drive (2/2)
DESCRIPTION:Session: 2 of 2  \nDuration: 1  hr  \nFacilitator: Lee   \nPrivate – GTDI Program intake required prior to workshop: getdigital@gatewayassociation.ca  \n  \nLearn how to create a google accounts\, access google drive\, upload files\, create folders\, search for files. Group discussion on cloud storage\, strong passwords\, file naming conventions and keeping documents and folders organized.  
URL:https://gatewayassociation.ca/calendar/google-drive-2-2-3/
END:VEVENT
BEGIN:VEVENT
DTSTART;TZID=America/Denver:20240312T130000
DTEND;TZID=America/Denver:20240312T143000
DTSTAMP:20260420T222000
CREATED:20240207T230410Z
LAST-MODIFIED:20240207T230410Z
UID:252158-1710248400-1710253800@gatewayassociation.ca
SUMMARY:Internet Basics (2 of 4)
DESCRIPTION:Session 2 of 4  \nDuration 1.5 hr   \nFacilitator: Toby  \nPrivate – GTDI Program intake required prior to workshop: getdigital@gatewayassociation.ca  \n  \nThis 4 session workshop series (part 1 of the work simulation) helps learners find\, share\, and explore things online through a series of fun activities. Participants will use different google map features to find their way around town\, share their favourite places\, plan a vacation\, and compare different search engines. As a group\, learners will chat about fake news\, investigate stories on Snopes\, and chat about the media we take in everyday.  
URL:https://gatewayassociation.ca/calendar/internet-basics-2-of-4-2/
END:VEVENT
BEGIN:VEVENT
DTSTART;TZID=America/Denver:20240312T190000
DTEND;TZID=America/Denver:20240312T210000
DTSTAMP:20260420T222000
CREATED:20230720T165816Z
LAST-MODIFIED:20230803T143413Z
UID:250904-1710270000-1710277200@gatewayassociation.ca
SUMMARY:Families Forward\, Under 18
DESCRIPTION:Families Forward\, Under 18 \nTuesday\, March 12 \n7:00pm – 9:00pm | Online \n  \nMonthly meeting for families with children under 18 with disabilities. \nWhere families can connect with other families\, learn from one another\, and explore issues that are important (such as schooling\, leadership\, and community and government support). \nFacilitators: Yonique at Yonique@GatewayAssociation.ca and Stacy at Stacy@GatewayAssociation.ca  \nRegister here: https://www.eventbrite.ca/e/255535783407
URL:https://gatewayassociation.ca/calendar/families-forward-under-18-13/
CATEGORIES:FRC
END:VEVENT
BEGIN:VEVENT
DTSTART;TZID=America/Denver:20240313T100000
DTEND;TZID=America/Denver:20240313T150000
DTSTAMP:20260420T222000
CREATED:20231220T152636Z
LAST-MODIFIED:20231220T152636Z
UID:252002-1710324000-1710342000@gatewayassociation.ca
SUMMARY:DROP IN WEDNESDAYS  at the Calgary Employment Resource Centre
DESCRIPTION:DROP IN WEDNESDAYS \nat the Calgary Employment Resource Centre \nFor job seekers\, each Wednesday drop in any time between 10am and 3pm to connect with ERC team members to work on resumes\, interview skills\, job search and meet other job seekers! \n1206 20 AVE SE \nCalgary\, AB
URL:https://gatewayassociation.ca/calendar/drop-in-wednesdays-at-the-calgary-employment-resource-centre-12/
CATEGORIES:ERC
END:VEVENT
BEGIN:VEVENT
DTSTART;TZID=America/Denver:20240313T110000
DTEND;TZID=America/Denver:20240313T120000
DTSTAMP:20260420T222000
CREATED:20240207T230705Z
LAST-MODIFIED:20240207T230705Z
UID:252165-1710327600-1710331200@gatewayassociation.ca
SUMMARY:Google Docs (1 of 2)
DESCRIPTION:Session: 1 of 2  \nDuration: 1 hr   \nFacilitator: Lee  \nPrivate – GTDI Program intake required prior to workshop: getdigital@gatewayassociation.ca  \n  \nIn this 2 session workshop series\, Participants will practice creating and sharing google documents\, explore the tools provided to help them write\, edit\, comment and chat. This workshop covers the Basics of google docs\, as well as file organization\, sharing\, and commenting.  
URL:https://gatewayassociation.ca/calendar/google-docs-1-of-2-8/
END:VEVENT
BEGIN:VEVENT
DTSTART;TZID=America/Denver:20240313T130000
DTEND;TZID=America/Denver:20240313T143000
DTSTAMP:20260420T222000
CREATED:20240207T230555Z
LAST-MODIFIED:20240207T230605Z
UID:252160-1710334800-1710340200@gatewayassociation.ca
SUMMARY:Internet Basics (3 of 4)
DESCRIPTION:Session 3 of 4  \nDuration 1.5 hr   \nFacilitator: Toby  \nPrivate – GTDI Program intake required prior to workshop: getdigital@gatewayassociation.ca  \n  \nThis 4 session workshop series (part 1 of the work simulation) helps learners find\, share\, and explore things online through a series of fun activities. Participants will use different google map features to find their way around town\, share their favourite places\, plan a vacation\, and compare different search engines. As a group\, learners will chat about fake news\, investigate stories on Snopes\, and chat about the media we take in everyday.  
URL:https://gatewayassociation.ca/calendar/internet-basics-3-of-4-2/
END:VEVENT
BEGIN:VEVENT
DTSTART;TZID=America/Denver:20240313T150000
DTEND;TZID=America/Denver:20240313T163000
DTSTAMP:20260420T222000
CREATED:20240207T230812Z
LAST-MODIFIED:20240207T230812Z
UID:252169-1710342000-1710347400@gatewayassociation.ca
SUMMARY:Online Boardgames
DESCRIPTION:Duration: 1.5 to 2 hr \nFacilitator: Lee \nPrivate – GTDI Program intake required prior to workshop signup: getdigital@gatewayassociation.ca \n\n**Requires Online Social Connections – Discord and Steam Tutorials as well as desktop or laptop computer.** \nCome hang out! Learn about setting up online accounts\, meet new friends\, socialize\, and have fun playing boardgames online. Meet new friends\, practise new skills\, have fun!
URL:https://gatewayassociation.ca/calendar/online-boardgames-32/
END:VEVENT
BEGIN:VEVENT
DTSTART;TZID=America/Denver:20240313T180000
DTEND;TZID=America/Denver:20240313T210000
DTSTAMP:20260420T222000
CREATED:20230724T131716Z
LAST-MODIFIED:20230724T131716Z
UID:251024-1710352800-1710363600@gatewayassociation.ca
SUMMARY:Persons with Developmental Disabilities (PDD) 101
DESCRIPTION:Persons with Developmental Disabilities (PDD) 101 \nWednesday\, March 13 \n6:00pm – 9:00pm | Online \n  \nThis workshop is an introduction to\, and overview of\, PDD for those who may be eligible. \nYou will gain an understanding of the PDD program\, options available for service provision\, and information to determine the best supports for your family. \n  \nFacilitator: Miriam at miriam@gatewayassociation.ca \nRegister HERE
URL:https://gatewayassociation.ca/calendar/persons-with-developmental-disabilities-pdd-101-8/
CATEGORIES:FRC
END:VEVENT
BEGIN:VEVENT
DTSTART;TZID=America/Denver:20240314T100000
DTEND;TZID=America/Denver:20240314T120000
DTSTAMP:20260420T222000
CREATED:20231212T204315Z
LAST-MODIFIED:20231212T204315Z
UID:251907-1710410400-1710417600@gatewayassociation.ca
SUMMARY:Interview Roundtable: Learning and Laughing Together
DESCRIPTION:Interview Roundtable: Learning and Laughing Together \nJoin us for a dynamic and interactive workshop designed to help you ace your next job interview. In our Interview Roundtable\, you’ll have the opportunity to connect with fellow job seekers and share your experiences and insights. Our experienced facilitators will guide you through real-life interview scenarios and help you develop the skills and confidence you need to succeed. \n  \nSpots are limited. To register\, please e-mail Get-Work@GatewayAssociation.ca
URL:https://gatewayassociation.ca/calendar/interview-roundtable-learning-and-laughing-together-4/
CATEGORIES:ERC
END:VEVENT
BEGIN:VEVENT
DTSTART;TZID=America/Denver:20240314T110000
DTEND;TZID=America/Denver:20240314T120000
DTSTAMP:20260420T222000
CREATED:20240207T230740Z
LAST-MODIFIED:20240207T230740Z
UID:252167-1710414000-1710417600@gatewayassociation.ca
SUMMARY:Google Docs (2 of 2)
DESCRIPTION:Session: 2 of 2  \nDuration: 1 hr   \nFacilitator: Lee  \nPrivate – GTDI Program intake required prior to workshop: getdigital@gatewayassociation.ca  \n  \nIn this 2 session workshop series\, Participants will practice creating and sharing google documents\, explore the tools provided to help them write\, edit\, comment and chat. This workshop covers the Basics of google docs\, as well as file organization\, sharing\, and commenting.  
URL:https://gatewayassociation.ca/calendar/google-docs-2-of-2-8/
END:VEVENT
BEGIN:VEVENT
DTSTART;TZID=America/Denver:20240314T130000
DTEND;TZID=America/Denver:20240314T140000
DTSTAMP:20260420T222000
CREATED:20231212T204416Z
LAST-MODIFIED:20231212T204416Z
UID:251909-1710421200-1710424800@gatewayassociation.ca
SUMMARY:Interview Prep: Before\, During & After
DESCRIPTION:Interview Prep: Before\, During & After \nIn this workshop\, you will learn about how to get ready for a job interview\, how to “shine’ in the interview and what to do after the interview to stand out and increase your chances of getting called back! \n  \n This workshop is for registered participants only. To register\, please connect with us at Get-Work@GatewayAssociation.ca
URL:https://gatewayassociation.ca/calendar/interview-prep-before-during-after-2/
CATEGORIES:ERC
END:VEVENT
BEGIN:VEVENT
DTSTART;TZID=America/Denver:20240314T130000
DTEND;TZID=America/Denver:20240314T143000
DTSTAMP:20260420T222000
CREATED:20240207T230634Z
LAST-MODIFIED:20240207T230634Z
UID:252163-1710421200-1710426600@gatewayassociation.ca
SUMMARY:Internet Basics (3 of 4)
DESCRIPTION:Session 4 of 4  \nDuration 1.5 hr   \nFacilitator: Toby  \nPrivate – GTDI Program intake required prior to workshop: getdigital@gatewayassociation.ca  \n  \nThis 4 session workshop series (part 1 of the work simulation) helps learners find\, share\, and explore things online through a series of fun activities. Participants will use different google map features to find their way around town\, share their favourite places\, plan a vacation\, and compare different search engines. As a group\, learners will chat about fake news\, investigate stories on Snopes\, and chat about the media we take in everyday.  
URL:https://gatewayassociation.ca/calendar/internet-basics-3-of-4-3/
END:VEVENT
END:VCALENDAR