BEGIN:VCALENDAR
VERSION:2.0
PRODID:-//Gateway Association - ECPv6.15.20//NONSGML v1.0//EN
CALSCALE:GREGORIAN
METHOD:PUBLISH
X-ORIGINAL-URL:https://gatewayassociation.ca
X-WR-CALDESC:Events for Gateway Association
REFRESH-INTERVAL;VALUE=DURATION:PT1H
X-Robots-Tag:noindex
X-PUBLISHED-TTL:PT1H
BEGIN:VTIMEZONE
TZID:America/Denver
BEGIN:DAYLIGHT
TZOFFSETFROM:-0700
TZOFFSETTO:-0600
TZNAME:MDT
DTSTART:20230312T090000
END:DAYLIGHT
BEGIN:STANDARD
TZOFFSETFROM:-0600
TZOFFSETTO:-0700
TZNAME:MST
DTSTART:20231105T080000
END:STANDARD
BEGIN:DAYLIGHT
TZOFFSETFROM:-0700
TZOFFSETTO:-0600
TZNAME:MDT
DTSTART:20240310T090000
END:DAYLIGHT
BEGIN:STANDARD
TZOFFSETFROM:-0600
TZOFFSETTO:-0700
TZNAME:MST
DTSTART:20241103T080000
END:STANDARD
BEGIN:DAYLIGHT
TZOFFSETFROM:-0700
TZOFFSETTO:-0600
TZNAME:MDT
DTSTART:20250309T090000
END:DAYLIGHT
BEGIN:STANDARD
TZOFFSETFROM:-0600
TZOFFSETTO:-0700
TZNAME:MST
DTSTART:20251102T080000
END:STANDARD
END:VTIMEZONE
BEGIN:VEVENT
DTSTART;TZID=America/Denver:20240826T130000
DTEND;TZID=America/Denver:20240826T140000
DTSTAMP:20260420T163802
CREATED:20240704T183927Z
LAST-MODIFIED:20240704T185108Z
UID:252819-1724677200-1724680800@gatewayassociation.ca
SUMMARY:Edmonton Employment Resource Centre Info Session
DESCRIPTION:Join Gateway Association for a virtual Employment Resource Centre information session. \nThis session is for job seekers with disability or mental health-based barriers to learn about how Gateway Association can support you with achieving your employment goals! \nLearn about individualized supports and group workshops that will help you with: \n\nCareer development and action plans\nResume building\nInterview skills\nWorkplace communication\nOnboarding and training\nJob search and finding the right job for you\nKeeping your job!\nAND much more!\n\nFor additional accommodations or questions\, please connect with us at employment@gatewayassociation.ca  \nRegister HERE
URL:https://gatewayassociation.ca/calendar/edmonton-employment-resource-centre-info-session-4/
CATEGORIES:ERC
END:VEVENT
BEGIN:VEVENT
DTSTART;TZID=America/Denver:20240826T130000
DTEND;TZID=America/Denver:20240826T140000
DTSTAMP:20260420T163802
CREATED:20240723T201807Z
LAST-MODIFIED:20240723T201857Z
UID:252975-1724677200-1724680800@gatewayassociation.ca
SUMMARY:Exploring Canva (1 of 2)
DESCRIPTION:Exploring Canva\nSession 1 of 2  \nDuration 1 hr   \nFacilitator: Toby  \nPrivate – GTDI Program intake required prior to workshop: getdigital@gatewayassociation.ca  \n  \nLet your imagination be your guide as you create your own posters\, flyers\, cards\, videos\, and more to share information important to you. 
URL:https://gatewayassociation.ca/calendar/exploring-canva-1-of-2/
END:VEVENT
BEGIN:VEVENT
DTSTART;TZID=America/Denver:20240827T110000
DTEND;TZID=America/Denver:20240827T120000
DTSTAMP:20260420T163802
CREATED:20240723T202256Z
LAST-MODIFIED:20240723T202256Z
UID:252980-1724756400-1724760000@gatewayassociation.ca
SUMMARY:Study Hall - ePortfolios
DESCRIPTION:Study Hall – ePortfolios\nSession 1 of 1  \nDuration 1 hr   \nFacilitator: Lee  \nPrivate – GTDI Program intake required prior to workshop: getdigital@gatewayassociation.ca  \n**Requires desktop or laptop computer. \nThis is an open work session for participants who  have already completed the ePortfolio Workshop series and would like to continue working on their portfolios.
URL:https://gatewayassociation.ca/calendar/study-hall-eportfolios-3/
END:VEVENT
BEGIN:VEVENT
DTSTART;TZID=America/Denver:20240827T130000
DTEND;TZID=America/Denver:20240827T140000
DTSTAMP:20260420T163802
CREATED:20240723T201950Z
LAST-MODIFIED:20240723T201950Z
UID:252978-1724763600-1724767200@gatewayassociation.ca
SUMMARY:Exploring Canva (2 of 2)
DESCRIPTION:Exploring Canva\nSession 2 of 2  \nDuration 1 hr   \nFacilitator: Toby  \nPrivate – GTDI Program intake required prior to workshop: getdigital@gatewayassociation.ca  \n  \nLet your imagination be your guide as you create your own posters\, flyers\, cards\, videos\, and more to share information important to you. 
URL:https://gatewayassociation.ca/calendar/exploring-canva-2-of-2/
END:VEVENT
BEGIN:VEVENT
DTSTART;TZID=America/Denver:20240827T180000
DTEND;TZID=America/Denver:20240827T190000
DTSTAMP:20260420T163802
CREATED:20240704T194321Z
LAST-MODIFIED:20240704T194321Z
UID:252843-1724781600-1724785200@gatewayassociation.ca
SUMMARY:Calgary Employment Resource Centre Information Session
DESCRIPTION:Calgary Employment Resource Centre Information Session \nJoin Gateway Association for a virtual Employment Resource Centre information session. \nThis session is for job seekers with disability or mental health-based barriers to learn about how Gateway Association can support you with achieving your employment goals! \nL earn about individualized supports and group workshops that will help you with: \n\nCareer development and action plans\nResume building\nInterview skills\nWorkplace communication\nOnboarding and training\nJob search and finding the right job for you\nKeeping your job!\nA ND much more!\n\nFor additional accommodations or questions\, please connect with us at Get-Work@GatewayAssociation.ca \n\n \nFacilitator: Courtney Lanouette \nTime: 6:00-6:45pm\, last Wednesday each month\nOpen to public \nRegister HERE
URL:https://gatewayassociation.ca/calendar/calgary-employment-resource-centre-information-session-2/
CATEGORIES:ERC
END:VEVENT
BEGIN:VEVENT
DTSTART;TZID=America/Denver:20240828T130000
DTEND;TZID=America/Denver:20240828T140000
DTSTAMP:20260420T163802
CREATED:20240723T202528Z
LAST-MODIFIED:20240723T202528Z
UID:252982-1724850000-1724853600@gatewayassociation.ca
SUMMARY:File Management & PDFs (1 of 2)
DESCRIPTION:File Management & PDFs\nSession 1 of 2 \nDuration 1 hr \nFacilitator: Toby \nPrivate – GTDI Program intake required prior to workshop: getdigital@gatewayassociation.ca \n\nIn this workshop participants will learn about saving files\, organizing and finding files\, converting documents to pdfs\, what a is pdf\, and how to use pdfs.
URL:https://gatewayassociation.ca/calendar/file-management-pdfs-1-of-2-2/
END:VEVENT
BEGIN:VEVENT
DTSTART;TZID=America/Denver:20240828T130000
DTEND;TZID=America/Denver:20240828T150000
DTSTAMP:20260420T163802
CREATED:20240704T195523Z
LAST-MODIFIED:20240704T195523Z
UID:252850-1724850000-1724857200@gatewayassociation.ca
SUMMARY:YYC Interview Roundtable
DESCRIPTION:Join us for a dynamic and interactive workshop designed to help you ace your next job interview. In our Interview Roundtable\, you’ll have the opportunity to connect with fellow job seekers and share your experiences and insights. Our experienced facilitators will guide you through real-life interview scenarios and help you develop the skills and confidence you need to succeed.   \nTo learn more and to register\, connect with nikkitta@gatewayassociation.ca
URL:https://gatewayassociation.ca/calendar/yyc-interview-roundtable/
CATEGORIES:ERC
END:VEVENT
BEGIN:VEVENT
DTSTART;TZID=America/Denver:20240828T143000
DTEND;TZID=America/Denver:20240828T153000
DTSTAMP:20260420T163802
CREATED:20240723T195915Z
LAST-MODIFIED:20240723T195915Z
UID:252951-1724855400-1724859000@gatewayassociation.ca
SUMMARY:Online Boardgames
DESCRIPTION:Online Boardgames\nSession: 1 of 1 \nDuration: 1.5 to 2 hr \nFacilitator: Lee \nPrivate – GTDI Program intake required prior to workshop signup: getdigital@gatewayassociation.ca \n**Requires Online Social Connections – Discord and Steam Tutorials as well as desktop or laptop computer.** \nCome hang out! Learn about setting up online accounts\, meet new friends\, socialize\, and have fun playing boardgames online. Meet new friends\, practice new skills\, have fun!
URL:https://gatewayassociation.ca/calendar/online-boardgames-51/
END:VEVENT
BEGIN:VEVENT
DTSTART;TZID=America/Denver:20240829T130000
DTEND;TZID=America/Denver:20240829T140000
DTSTAMP:20260420T163802
CREATED:20240723T202613Z
LAST-MODIFIED:20240723T202613Z
UID:252984-1724936400-1724940000@gatewayassociation.ca
SUMMARY:File Management & PDFs (2 of 2)
DESCRIPTION:File Management & PDFs\nSession 2 of 2 \nDuration 1 hr \nFacilitator: Toby \nPrivate – GTDI Program intake required prior to workshop: getdigital@gatewayassociation.ca \n\nIn this workshop participants will learn about saving files\, organizing and finding files\, converting documents to pdfs\, what a is pdf\, and how to use pdfs.
URL:https://gatewayassociation.ca/calendar/file-management-pdfs-2-of-2-2/
END:VEVENT
BEGIN:VEVENT
DTSTART;TZID=America/Denver:20240903T110000
DTEND;TZID=America/Denver:20240903T120000
DTSTAMP:20260420T163802
CREATED:20240816T160442Z
LAST-MODIFIED:20240816T160442Z
UID:253224-1725361200-1725364800@gatewayassociation.ca
SUMMARY:ePortfolios (1 of 3)
DESCRIPTION:ePortfolios \nSession 1 of 3 \nDuration 1 hr \nFacilitator: Lee \nPrivate – GTDI Program intake required prior to workshop: getdigital@gatewayassociation.ca \n\n**A desktop or laptop computer is required for this workshop.** \nIn the eportfolio workshop series\, participants will learn about the different types of portfolios\, how to use google sites\, and the basics of layout and design. Learners will choose the type of portfolio they want to build and the subject they want to focus on. They will select and add content to their sites along with descriptions\, statements about their motivation\, interests\, skills\, and hobbies. Learners will work on their own between classes.
URL:https://gatewayassociation.ca/calendar/eportfolios-1-of-3-2/
END:VEVENT
BEGIN:VEVENT
DTSTART;TZID=America/Denver:20240903T130000
DTEND;TZID=America/Denver:20240903T140000
DTSTAMP:20260420T163802
CREATED:20240812T165711Z
LAST-MODIFIED:20240812T165719Z
UID:253170-1725368400-1725372000@gatewayassociation.ca
SUMMARY:Workplace Communication - Positive Communication and Constructive Feedback 
DESCRIPTION:Workplace Communication 101 – Positive Communication and Constructive Feedback  \nDescription: Workplace Communication is made up of many essential skills\, such as\, what is okay to talk about at work with your coworkers? How to give and receive positive and constructive feedback? In this workshop\, we will talk about ways to help you to feel confident and comfortable with workplace communication. \nOnline or In-Person: ONLINE \nTo register or learn more\, please connect with us at employment@gatewayassociation.ca
URL:https://gatewayassociation.ca/calendar/workplace-communication-positive-communication-and-constructive-feedback/
CATEGORIES:ERC
END:VEVENT
BEGIN:VEVENT
DTSTART;TZID=America/Denver:20240903T130000
DTEND;TZID=America/Denver:20240903T140000
DTSTAMP:20260420T163802
CREATED:20240816T160944Z
LAST-MODIFIED:20240816T160944Z
UID:253230-1725368400-1725372000@gatewayassociation.ca
SUMMARY:File Management and PDFs (1 of 2)
DESCRIPTION:File Management and PDFs\nSession 1 of 2 \nDuration 1 hr \nFacilitator: Toby \nPrivate – GTDI Program intake required prior to workshop: getdigital@gatewayassociation.ca \n\nIn this workshop participants will learn about saving files\, organizing and finding files\, converting documents to pdfs\, what a is pdf\, and how to use pdfs.
URL:https://gatewayassociation.ca/calendar/file-management-and-pdfs-1-of-2-9/
END:VEVENT
BEGIN:VEVENT
DTSTART;TZID=America/Denver:20240904T110000
DTEND;TZID=America/Denver:20240904T120000
DTSTAMP:20260420T163802
CREATED:20240816T160758Z
LAST-MODIFIED:20240816T160758Z
UID:253226-1725447600-1725451200@gatewayassociation.ca
SUMMARY:ePortfolios (2 of 3)
DESCRIPTION:ePortfolios \nSession 2 of 3 \nDuration 1 hr \nFacilitator: Lee \nPrivate – GTDI Program intake required prior to workshop: getdigital@gatewayassociation.ca \n\n**A desktop or laptop computer is required for this workshop.** \nIn the eportfolio workshop series\, participants will learn about the different types of portfolios\, how to use google sites\, and the basics of layout and design. Learners will choose the type of portfolio they want to build and the subject they want to focus on. They will select and add content to their sites along with descriptions\, statements about their motivation\, interests\, skills\, and hobbies. Learners will work on their own between classes.
URL:https://gatewayassociation.ca/calendar/eportfolios-2-of-3-3/
END:VEVENT
BEGIN:VEVENT
DTSTART;TZID=America/Denver:20240904T130000
DTEND;TZID=America/Denver:20240904T140000
DTSTAMP:20260420T163802
CREATED:20240816T161025Z
LAST-MODIFIED:20240816T161025Z
UID:253232-1725454800-1725458400@gatewayassociation.ca
SUMMARY:File Management and PDFs (2 of 2)
DESCRIPTION:File Management and PDFs\nSession 2 of 2 \nDuration 1 hr \nFacilitator: Toby \nPrivate – GTDI Program intake required prior to workshop: getdigital@gatewayassociation.ca \nIn this workshop participants will learn about saving files\, organizing and finding files\, converting documents to pdfs\, what a is pdf\, and how to use pdfs.
URL:https://gatewayassociation.ca/calendar/file-management-and-pdfs-2-of-2-9/
END:VEVENT
BEGIN:VEVENT
DTSTART;TZID=America/Denver:20240904T140000
DTEND;TZID=America/Denver:20240904T150000
DTSTAMP:20260420T163802
CREATED:20240904T164136Z
LAST-MODIFIED:20240904T164402Z
UID:253327-1725458400-1725462000@gatewayassociation.ca
SUMMARY:Industry Information Session: Careers in Technology with Tech Recruiter Mônica Alves Maciel and CITI – Careers In Technology and Innovation founder Zac Novak
DESCRIPTION:Industry Information Session: Careers in Technology with Tech Recruiter Mônica Alves Maciel and CITI – Careers In Technology and Innovation founder Zac Novak\nHave you ever wondered what it might be like to work in the Tech industry? \nJoin us for a FREE interactive MentorAbility Industry Information Session with Tech Recruiter Mônica Alves Maciel and CITI – Careers In Technology and Innovation founder Zac Novak! Learn about current industry trends and opportunities for careers in Tech. \nThis event is offered to all MentorAbility participants – so if you are a job seeker who experiences disability-related barriers to employment or a supportive employment service provider who wants to learn more about the tech industry\, this event is for you! \nAbout: \nMônica Alves Maciel (she/her) is a Technical Recruiter at Teamit Inc.\, she helps to build high-performing remote teams for North American clients\, sourcing talent from Canada and Brazil. \nShe is passionate about diversity\, equity\, and inclusion (DEI)\, and uses her skills and experience to support newcomers to Canada to thrive in the workforce and better leverage themselves in the job market. \nZachary Novak (he/him) is the founder of Careers In Technology and Innovation – CITI. Since 2021\, CITI has supported over 300 professionals since 2021 find their next place in tech through community\, coaching and professional development training. \nPreviously Zac held Director of Community and Product Roles and spent 7 years in Investment banking. \nAccommodations: \nIf we can offer any accommodations during the event to make your participation easier\, please contact susannah@gatewayassociation.ca after you register to discuss what we can do! \nRegister HERE
URL:https://gatewayassociation.ca/calendar/industry-information-session-careers-in-technology-with-tech-recruiter-monica-alves-maciel-and-citi-careers-in-technology-and-innovation-founder-zac-novak/
CATEGORIES:ERC,MentorAbility Alberta
END:VEVENT
BEGIN:VEVENT
DTSTART;TZID=America/Denver:20240904T143000
DTEND;TZID=America/Denver:20240904T160000
DTSTAMP:20260420T163802
CREATED:20240812T170133Z
LAST-MODIFIED:20240812T170133Z
UID:253174-1725460200-1725465600@gatewayassociation.ca
SUMMARY:Importance of Job Searching and Applying
DESCRIPTION:
URL:https://gatewayassociation.ca/calendar/importance-of-job-searching-and-applying/
CATEGORIES:ERC
END:VEVENT
BEGIN:VEVENT
DTSTART;TZID=America/Denver:20240904T143000
DTEND;TZID=America/Denver:20240904T163000
DTSTAMP:20260420T163802
CREATED:20240816T161238Z
LAST-MODIFIED:20240816T161238Z
UID:253234-1725460200-1725467400@gatewayassociation.ca
SUMMARY:Online Boardgames
DESCRIPTION:Online Boardgames\nSession: 1 of 1 \nDuration: 1.5 to 2 hr \nFacilitator: Lee \nPrivate – GTDI Program intake required prior to workshop signup: getdigital@gatewayassociation.ca \n\n**Requires Online Social Connections – Discord and Steam Tutorials as well as desktop or laptop computer.** \nCome hang out! Learn about setting up online accounts\, meet new friends\, socialize\, and have fun playing boardgames online. Meet new friends\, practise new skills\, have fun!
URL:https://gatewayassociation.ca/calendar/online-boardgames-52/
END:VEVENT
BEGIN:VEVENT
DTSTART;TZID=America/Denver:20240905T110000
DTEND;TZID=America/Denver:20240905T120000
DTSTAMP:20260420T163802
CREATED:20240816T160838Z
LAST-MODIFIED:20240816T160838Z
UID:253228-1725534000-1725537600@gatewayassociation.ca
SUMMARY:ePortfolios (3 of 3)
DESCRIPTION:ePortfolios \nSession 3 of 3 \nDuration 1 hr \nFacilitator: Lee \nPrivate – GTDI Program intake required prior to workshop: getdigital@gatewayassociation.ca \n\n**A desktop or laptop computer is required for this workshop.** \nIn the eportfolio workshop series\, participants will learn about the different types of portfolios\, how to use google sites\, and the basics of layout and design. Learners will choose the type of portfolio they want to build and the subject they want to focus on. They will select and add content to their sites along with descriptions\, statements about their motivation\, interests\, skills\, and hobbies. Learners will work on their own between classes.
URL:https://gatewayassociation.ca/calendar/eportfolios-3-of-3-3/
END:VEVENT
BEGIN:VEVENT
DTSTART;TZID=America/Denver:20240905T130000
DTEND;TZID=America/Denver:20240905T140000
DTSTAMP:20260420T163802
CREATED:20240812T165857Z
LAST-MODIFIED:20240812T195432Z
UID:253172-1725541200-1725544800@gatewayassociation.ca
SUMMARY:Growth Mindset: Resiliency in Job Search  
DESCRIPTION:Growth Mindset: Resiliency in Job Search   \nDescription:  Job search can be a long and daunting process for many. This workshop will introduce folks to the concept of having a “Growth Mindset” and help individuals create a positive/persistent mindset along with tips on how to stay motivated throughout this process. \nOnline or In-Person: ONLINE \nTo register or learn more\, please connect with us at employment@gatewayassociation.ca
URL:https://gatewayassociation.ca/calendar/growth-mindset-resiliency-in-job-search-17/
CATEGORIES:ERC
END:VEVENT
BEGIN:VEVENT
DTSTART;TZID=America/Denver:20240909T110000
DTEND;TZID=America/Denver:20240909T120000
DTSTAMP:20260420T163802
CREATED:20240816T161350Z
LAST-MODIFIED:20240816T161350Z
UID:253236-1725879600-1725883200@gatewayassociation.ca
SUMMARY:Google Drive ( 1 of 2)
DESCRIPTION:Google Drive \nSession: 1 of 2  \nDuration: 1  hr  \nFacilitator: Lee   \nPrivate – GTDI Program intake required prior to workshop: getdigital@gatewayassociation.ca  \n  \nLearn how to create a google accounts\, access google drive\, upload files\, create folders\, search for files. Group discussion on cloud storage\, strong passwords\, file naming conventions and keeping documents and folders organized.  
URL:https://gatewayassociation.ca/calendar/google-drive-1-of-2-15/
END:VEVENT
BEGIN:VEVENT
DTSTART;TZID=America/Denver:20240909T130000
DTEND;TZID=America/Denver:20240909T140000
DTSTAMP:20260420T163802
CREATED:20240816T161727Z
LAST-MODIFIED:20240816T161727Z
UID:253244-1725886800-1725890400@gatewayassociation.ca
SUMMARY:Audio Editing with Audacity (1 of 3)
DESCRIPTION:Audio Editing with Audacity\nSession 1 of 3 \nDuration 1 hr \nFacilitator: Toby \nPrivate – GTDI Program intake required prior to workshop: getdigital@gatewayassociation.ca \n\nIn this 3 session workshop series participants will be guided through the steps to use Audacity software for basic audio editing. This series will focus on editing spoken dialogue.
URL:https://gatewayassociation.ca/calendar/audio-editing-with-audacity-1-of-3-8/
END:VEVENT
BEGIN:VEVENT
DTSTART;TZID=America/Denver:20240909T163000
DTEND;TZID=America/Denver:20240909T173000
DTSTAMP:20260420T163802
CREATED:20240704T184034Z
LAST-MODIFIED:20240704T184049Z
UID:252821-1725899400-1725903000@gatewayassociation.ca
SUMMARY:Edmonton Employment Resource Centre Info Session
DESCRIPTION:Join Gateway Association for a virtual Employment Resource Centre information session. \nThis session is for job seekers with disability or mental health-based barriers to learn about how Gateway Association can support you with achieving your employment goals! \nLearn about individualized supports and group workshops that will help you with: \n\nCareer development and action plans\nResume building\nInterview skills\nWorkplace communication\nOnboarding and training\nJob search and finding the right job for you\nKeeping your job!\nAND much more!\n\nFor additional accommodations or questions\, please connect with us at employment@gatewayassociation.ca  \nRegister HERE
URL:https://gatewayassociation.ca/calendar/edmonton-employment-resource-centre-info-session-5/
CATEGORIES:ERC
END:VEVENT
BEGIN:VEVENT
DTSTART;TZID=America/Denver:20240910T110000
DTEND;TZID=America/Denver:20240910T120000
DTSTAMP:20260420T163802
CREATED:20240816T161420Z
LAST-MODIFIED:20240816T161420Z
UID:253238-1725966000-1725969600@gatewayassociation.ca
SUMMARY:Google Drive (2 of 2)
DESCRIPTION:Google Drive \nSession: 2 of 2  \nDuration: 1  hr  \nFacilitator: Lee   \nPrivate – GTDI Program intake required prior to workshop: getdigital@gatewayassociation.ca  \n  \nLearn how to create a google accounts\, access google drive\, upload files\, create folders\, search for files. Group discussion on cloud storage\, strong passwords\, file naming conventions and keeping documents and folders organized.  
URL:https://gatewayassociation.ca/calendar/google-drive-2-of-2-13/
END:VEVENT
BEGIN:VEVENT
DTSTART;TZID=America/Denver:20240910T110000
DTEND;TZID=America/Denver:20240910T123000
DTSTAMP:20260420T163802
CREATED:20240812T170325Z
LAST-MODIFIED:20240812T170325Z
UID:253176-1725966000-1725971400@gatewayassociation.ca
SUMMARY:ETS Transit Training Day 1  
DESCRIPTION:ETS Transit Training Day 1   \nDescription: Join the Gateway EERC team in transit training. This is going to be a 2 day event where you will learn about the Edmonton transit system and how to use it. \nOnline or In-Person: In-Person YEG \nTo learn more and register\, please connect with us at employment@gatewayassociation.ca
URL:https://gatewayassociation.ca/calendar/ets-transit-training-day-1/
CATEGORIES:ERC
END:VEVENT
BEGIN:VEVENT
DTSTART;TZID=America/Denver:20240910T130000
DTEND;TZID=America/Denver:20240910T140000
DTSTAMP:20260420T163802
CREATED:20240812T170452Z
LAST-MODIFIED:20240812T170452Z
UID:253178-1725973200-1725976800@gatewayassociation.ca
SUMMARY:Finding Your Purpose
DESCRIPTION:Finding Your Purpose  \nDescription: Are you wondering what your purpose is? Stuck and not sure where to go? Then we have a workshop for you! Come join us for self exploration and learning. We will talk about what people need in life to grow and how we can access those resources. As well\, we will explore a personality test and leave the workshop with a deeper understanding of who we are and where we would like to go! \nOnline or In-Person: ONLINE \nTo register or learn more\, please connect with us at Get-Work@GatewayAssociation.ca
URL:https://gatewayassociation.ca/calendar/finding-your-purpose-10/
CATEGORIES:ERC
END:VEVENT
BEGIN:VEVENT
DTSTART;TZID=America/Denver:20240910T130000
DTEND;TZID=America/Denver:20240910T140000
DTSTAMP:20260420T163802
CREATED:20240816T161802Z
LAST-MODIFIED:20240816T161802Z
UID:253246-1725973200-1725976800@gatewayassociation.ca
SUMMARY:Audio Editing with Audacity (2 of 3)
DESCRIPTION:Audio Editing with Audacity\nSession 2 of 3 \nDuration 1 hr \nFacilitator: Toby \nPrivate – GTDI Program intake required prior to workshop: getdigital@gatewayassociation.ca \n\nIn this 3 session workshop series participants will be guided through the steps to use Audacity software for basic audio editing. This series will focus on editing spoken dialogue.
URL:https://gatewayassociation.ca/calendar/audio-editing-with-audacity-2-of-3-9/
END:VEVENT
BEGIN:VEVENT
DTSTART;TZID=America/Denver:20240910T180000
DTEND;TZID=America/Denver:20240910T200000
DTSTAMP:20260420T163802
CREATED:20240722T152028Z
LAST-MODIFIED:20240725T185004Z
UID:252887-1725991200-1725998400@gatewayassociation.ca
SUMMARY:Accounts and Claims
DESCRIPTION:Accounts and Claims\nTuesday\, September 10 \n6:00 pm – 8:00 pm | Online \nA 1-hour workshop is tailored for families with FSCD agreements looking to optimize their use of the OCR system. This workshop intended to facilitate an open dialogue on utilizing the OCR system effectively. \nThe training has been developed by FSCD to address four significant challenges facing system users. They are: \n\nUnderstanding the Agreement\nAccessing OCR\nCreating a Successful claim; and\nRecord keeping and preparing for reviews\n\n  \nA Service Roadmap has also been developed to give users a high-level overview of the entire process\, with helpful links at each step to provide further details. \n  \nQuestions? Contact Li (Facilitator) by email Li@gatewayassociation.ca \nRegister here: https://www.eventbrite.ca/e/accounts-and-claims-tickets-948025990257?aff=oddtdtcreator
URL:https://gatewayassociation.ca/calendar/accounts-and-claims-2/
CATEGORIES:FRC
END:VEVENT
BEGIN:VEVENT
DTSTART;TZID=America/Denver:20240911T110000
DTEND;TZID=America/Denver:20240911T120000
DTSTAMP:20260420T163802
CREATED:20240816T161520Z
LAST-MODIFIED:20240816T161520Z
UID:253240-1726052400-1726056000@gatewayassociation.ca
SUMMARY:Google Docs (1 of 2)
DESCRIPTION:Google Docs\nSession: 1 of 2  \nDuration: 1 hr   \nFacilitator: Lee  \nPrivate – GTDI Program intake required prior to workshop: getdigital@gatewayassociation.ca  \n  \nIn this 2 session workshop series\, Participants will practice creating and sharing google documents\, explore the tools provided to help them write\, edit\, comment and chat. This workshop covers the Basics of google docs\, as well as file organization\, sharing\, and commenting.  
URL:https://gatewayassociation.ca/calendar/google-docs-1-of-2-14/
END:VEVENT
BEGIN:VEVENT
DTSTART;TZID=America/Denver:20240911T130000
DTEND;TZID=America/Denver:20240911T140000
DTSTAMP:20260420T163802
CREATED:20240816T161835Z
LAST-MODIFIED:20240816T161835Z
UID:253248-1726059600-1726063200@gatewayassociation.ca
SUMMARY:Audio Editing with Audacity (3 of 3)
DESCRIPTION:Audio Editing with Audacity\nSession 3 of 3 \nDuration 1 hr \nFacilitator: Toby \nPrivate – GTDI Program intake required prior to workshop: getdigital@gatewayassociation.ca \n\nIn this 3 session workshop series participants will be guided through the steps to use Audacity software for basic audio editing. This series will focus on editing spoken dialogue.
URL:https://gatewayassociation.ca/calendar/audio-editing-with-audacity-3-of-3-9/
END:VEVENT
BEGIN:VEVENT
DTSTART;TZID=America/Denver:20240911T150000
DTEND;TZID=America/Denver:20240911T160000
DTSTAMP:20260420T163802
CREATED:20240816T161922Z
LAST-MODIFIED:20240816T161922Z
UID:253250-1726066800-1726070400@gatewayassociation.ca
SUMMARY:Zoom Basics
DESCRIPTION:Zoom Basics\nSession: 1 of 1 \nDuration: 1 hr \nFacilitator: Toby \nPrivate – GTDI Program intake required prior to workshop: getdigital@gatewayassociation.ca \n\nLearn what you need to know to participate in online Zoom meetings. Explore all the cool features of the program\, practice your digital skills and build your zoom social skills.
URL:https://gatewayassociation.ca/calendar/zoom-basics-30/
END:VEVENT
END:VCALENDAR