BEGIN:VCALENDAR
VERSION:2.0
PRODID:-//Gateway Association - ECPv6.15.20//NONSGML v1.0//EN
CALSCALE:GREGORIAN
METHOD:PUBLISH
X-WR-CALNAME:Gateway Association
X-ORIGINAL-URL:https://gatewayassociation.ca
X-WR-CALDESC:Events for Gateway Association
REFRESH-INTERVAL;VALUE=DURATION:PT1H
X-Robots-Tag:noindex
X-PUBLISHED-TTL:PT1H
BEGIN:VTIMEZONE
TZID:America/Denver
BEGIN:DAYLIGHT
TZOFFSETFROM:-0700
TZOFFSETTO:-0600
TZNAME:MDT
DTSTART:20220313T090000
END:DAYLIGHT
BEGIN:STANDARD
TZOFFSETFROM:-0600
TZOFFSETTO:-0700
TZNAME:MST
DTSTART:20221106T080000
END:STANDARD
BEGIN:DAYLIGHT
TZOFFSETFROM:-0700
TZOFFSETTO:-0600
TZNAME:MDT
DTSTART:20230312T090000
END:DAYLIGHT
BEGIN:STANDARD
TZOFFSETFROM:-0600
TZOFFSETTO:-0700
TZNAME:MST
DTSTART:20231105T080000
END:STANDARD
BEGIN:DAYLIGHT
TZOFFSETFROM:-0700
TZOFFSETTO:-0600
TZNAME:MDT
DTSTART:20240310T090000
END:DAYLIGHT
BEGIN:STANDARD
TZOFFSETFROM:-0600
TZOFFSETTO:-0700
TZNAME:MST
DTSTART:20241103T080000
END:STANDARD
END:VTIMEZONE
BEGIN:VEVENT
DTSTART;TZID=America/Denver:20230627T130000
DTEND;TZID=America/Denver:20230627T140000
DTSTAMP:20260420T214949
CREATED:20230511T161831Z
LAST-MODIFIED:20230511T161831Z
UID:250578-1687870800-1687874400@gatewayassociation.ca
SUMMARY:Workplace Expectations
DESCRIPTION:Description: You’ve got the job\, now you must keep it! Talking about the everyday behaviors that are appropriate in the workplace: \n\nshowing up on time\nhow long is too long for socializing with coworkers\nbreaks – what does this mean\nmotivation and engagement\n\nFor questions\, accommodation requests and to register\, please connect with us at Get-Work@GatewayAssociation.ca
URL:https://gatewayassociation.ca/calendar/workplace-expectations-8/
CATEGORIES:ERC
END:VEVENT
BEGIN:VEVENT
DTSTART;TZID=America/Denver:20230627T130000
DTEND;TZID=America/Denver:20230627T140000
DTSTAMP:20260420T214949
CREATED:20230510T123710Z
LAST-MODIFIED:20230510T123710Z
UID:250556-1687870800-1687874400@gatewayassociation.ca
SUMMARY:File Management and PDFs (2/2)
DESCRIPTION:Session 2 of 2 \nDuration 1 hr \nFacilitator: Toby \nPrivate – GTDI Program intake required prior to workshop: getdigital@gatewayassociation.ca \nIn this workshop participants will learn about saving files\, organizing and finding files\, converting documents to pdfs\, what a is pdf\, and how to use pdfs.
URL:https://gatewayassociation.ca/calendar/file-management-and-pdfs-2-2-4/
END:VEVENT
BEGIN:VEVENT
DTSTART;TZID=America/Denver:20230627T110000
DTEND;TZID=America/Denver:20230627T120000
DTSTAMP:20260420T214949
CREATED:20230510T123755Z
LAST-MODIFIED:20230510T123755Z
UID:250558-1687863600-1687867200@gatewayassociation.ca
SUMMARY:Intro to Google Docs (1/2)
DESCRIPTION:Session: 1 of 2 \nDuration: 1 hr \nFacilitator: Lee \nPrivate – GTDI Program intake required prior to workshop: getdigital@gatewayassociation.ca \nIn this 2 session workshop series\, Participants will practice creating and sharing google documents\, explore the tools provided to help them write\, edit\, comment and chat. This workshop covers the Basics of google docs\, as well as file organization\, sharing\, and commenting.
URL:https://gatewayassociation.ca/calendar/intro-to-google-docs-1-2/
END:VEVENT
BEGIN:VEVENT
DTSTART;TZID=America/Denver:20230626T130000
DTEND;TZID=America/Denver:20230626T140000
DTSTAMP:20260420T214949
CREATED:20230510T123633Z
LAST-MODIFIED:20230510T123633Z
UID:250554-1687784400-1687788000@gatewayassociation.ca
SUMMARY:File Management and PDFs (1/2)
DESCRIPTION:Session 1 of 2 \nDuration 1 hr \nFacilitator: Toby \nPrivate – GTDI Program intake required prior to workshop: getdigital@gatewayassociation.ca \nIn this workshop participants will learn about saving files\, organizing and finding files\, converting documents to pdfs\, what a is pdf\, and how to use pdfs.
URL:https://gatewayassociation.ca/calendar/file-management-and-pdfs-1-2-4/
END:VEVENT
BEGIN:VEVENT
DTSTART;TZID=America/Denver:20230622T160000
DTEND;TZID=America/Denver:20230622T180000
DTSTAMP:20260420T214949
CREATED:20230531T173931Z
LAST-MODIFIED:20230531T173931Z
UID:250708-1687449600-1687456800@gatewayassociation.ca
SUMMARY:Learn Python Series (4/5)
DESCRIPTION:Note: Participants must attend all sessions in the series. \n  \nPrerequisite: Be comfortable with Scratch or be prepared to watch along as this class will move at a faster pace\, has a less visual interface and is more complex comparatively \nIn this series of workshops\, we will advance on the object oriented programming (OOP) and coding fundamentals introduced in Scratch classes. We will begin coding using an actual language instead of the building blocks which are no code/pre-programmed which we’ve used thus far. The Python programming language is an easy to learn language with less restrictive syntax preventing many errors that will trip new learners up. \n  \n“The Python interpreter and the extensive standard library are freely available in source or binary form for all major platforms from the Python web site\, https://www.python.org/\, and may be freely distributed. The same site also contains distributions of and pointers to many free third party Python modules\, programs and tools\, and additional documentation.” \n  \n*Note Instructor may/may not be able to help students with technical issues in part due to the virtual environment and not having control over hardware setup. Instructor will be teaching in a Windows environment although Python is available and can be used on Mac\, the commands\, permissions\, and support level available may vary.  \n  \nRegister HERE
URL:https://gatewayassociation.ca/calendar/learn-python-series-4-5/
END:VEVENT
BEGIN:VEVENT
DTSTART;TZID=America/Denver:20230622T130000
DTEND;TZID=America/Denver:20230622T140000
DTSTAMP:20260420T214949
CREATED:20230511T161700Z
LAST-MODIFIED:20230511T161700Z
UID:250576-1687438800-1687442400@gatewayassociation.ca
SUMMARY:Growth Mindset; Resiliency in Job Search
DESCRIPTION:Growth Mindset – Resiliency in Job Search  \nJob search can be a long and daunting process for many. This workshop will help individuals create a positive and persistent mindset along with tips on how to stay motivated.  \nFor questions\, accommodation requests and to register\, please connect with us at Get-Work@GatewayAssocition.ca
URL:https://gatewayassociation.ca/calendar/growth-mindset-resiliency-in-job-search-8/
CATEGORIES:ERC
END:VEVENT
BEGIN:VEVENT
DTSTART;TZID=America/Denver:20230622T130000
DTEND;TZID=America/Denver:20230622T140000
DTSTAMP:20260420T214949
CREATED:20230510T123518Z
LAST-MODIFIED:20230510T123518Z
UID:250552-1687438800-1687442400@gatewayassociation.ca
SUMMARY:Steam Tutorial
DESCRIPTION:Session 1 of 1 \nDuration 1 hr \nFacilitator: Lee \nPrivate – GTDI Program intake required prior to workshop: getdigital@gatewayassociation.ca \nStep by step tutorial for downloading and installing Steam – an online game platform. Steam is required for Online boardgames group.
URL:https://gatewayassociation.ca/calendar/steam-tutorial-12/
END:VEVENT
BEGIN:VEVENT
DTSTART;TZID=America/Denver:20230622T130000
DTEND;TZID=America/Denver:20230622T140000
DTSTAMP:20260420T214949
CREATED:20230510T123347Z
LAST-MODIFIED:20230510T123347Z
UID:250548-1687438800-1687442400@gatewayassociation.ca
SUMMARY:You TOO Can YouTube Series (4/4)
DESCRIPTION:Session: 4 of 4 \nDuration: 1 hr \nFacilitator: Toby \nPrivate – GTDI Program intake required prior to workshop: getdigital@gatewayassociation.ca \n\nLearn about being a YouTube viewer and a YouTube creator. Find out how to make your own YouTube Channel and what to consider when you are choosing videos to watch. Create YouTube content\, learn about what to consider when watching videos as well as how to save and organize videos.
URL:https://gatewayassociation.ca/calendar/you-too-can-youtube-series-4-4-5/
END:VEVENT
BEGIN:VEVENT
DTSTART;TZID=America/Denver:20230621T150000
DTEND;TZID=America/Denver:20230621T163000
DTSTAMP:20260420T214949
CREATED:20230509T190052Z
LAST-MODIFIED:20230509T190052Z
UID:250524-1687359600-1687365000@gatewayassociation.ca
SUMMARY:OSC Boardgames
DESCRIPTION:Session: 1 of 1 \nDuration: 1.5 to 2 hr \nFacilitator: Lee \nPrivate – GTDI Program intake required prior to workshop signup: getdigital@gatewayassociation.ca . \n**Requires Online Social Connections – Discord and Steam Tutorials as well as desktop or laptop computer.** \nCome hang out! Learn about setting up online accounts\, meet new friends\, socialize\, and have fun playing boardgames online. Meet new friends\, practise new skills\, have fun!
URL:https://gatewayassociation.ca/calendar/osc-boardgames-41/
END:VEVENT
BEGIN:VEVENT
DTSTART;TZID=America/Denver:20230621T130000
DTEND;TZID=America/Denver:20230621T140000
DTSTAMP:20260420T214949
CREATED:20230510T123308Z
LAST-MODIFIED:20230510T123308Z
UID:250546-1687352400-1687356000@gatewayassociation.ca
SUMMARY:You TOO Can YouTube Series (3/4)
DESCRIPTION:Session: 3 of 4 \nDuration: 1 hr \nFacilitator: Toby \nPrivate – GTDI Program intake required prior to workshop: getdigital@gatewayassociation.ca \n\nLearn about being a YouTube viewer and a YouTube creator. Find out how to make your own YouTube Channel and what to consider when you are choosing videos to watch. Create YouTube content\, learn about what to consider when watching videos as well as how to save and organize videos.
URL:https://gatewayassociation.ca/calendar/you-too-can-youtube-series-3-4-6/
END:VEVENT
BEGIN:VEVENT
DTSTART;TZID=America/Denver:20230620T130000
DTEND;TZID=America/Denver:20230620T140000
DTSTAMP:20260420T214949
CREATED:20230511T161518Z
LAST-MODIFIED:20230511T161518Z
UID:250574-1687266000-1687269600@gatewayassociation.ca
SUMMARY:Interview Prep Workshop
DESCRIPTION:Join us in this fun and engaging workshop where you will learn what to do before\, during and after job interviews! \n 
URL:https://gatewayassociation.ca/calendar/interview-prep-workshop/
CATEGORIES:ERC
END:VEVENT
BEGIN:VEVENT
DTSTART;TZID=America/Denver:20230620T130000
DTEND;TZID=America/Denver:20230620T140000
DTSTAMP:20260420T214949
CREATED:20230510T123222Z
LAST-MODIFIED:20230510T123222Z
UID:250544-1687266000-1687269600@gatewayassociation.ca
SUMMARY:You TOO Can YouTube Series (2/4)
DESCRIPTION:Session: 2 of 4 \nDuration: 1 hr \nFacilitator: Toby \nPrivate – GTDI Program intake required prior to workshop: getdigital@gatewayassociation.ca \n\nLearn about being a YouTube viewer and a YouTube creator. Find out how to make your own YouTube Channel and what to consider when you are choosing videos to watch. Create YouTube content\, learn about what to consider when watching videos as well as how to save and organize videos.
URL:https://gatewayassociation.ca/calendar/you-too-can-youtube-series-2-4-6/
END:VEVENT
BEGIN:VEVENT
DTSTART;TZID=America/Denver:20230620T110000
DTEND;TZID=America/Denver:20230620T120000
DTSTAMP:20260420T214949
CREATED:20230510T123435Z
LAST-MODIFIED:20230510T123435Z
UID:250550-1687258800-1687262400@gatewayassociation.ca
SUMMARY:Email Basics
DESCRIPTION:Session: 1 of 1 \nDuration: 1 hr \nFacilitator: Lee \nPrivate – GTDI Program intake required prior to workshop: getdigital@gatewayassociation.ca \nLearn about and practice the basics of writing professional emails for your job search and workplace communication.
URL:https://gatewayassociation.ca/calendar/email-basics-30/
END:VEVENT
BEGIN:VEVENT
DTSTART;TZID=America/Denver:20230619T130000
DTEND;TZID=America/Denver:20230619T140000
DTSTAMP:20260420T214949
CREATED:20230510T123146Z
LAST-MODIFIED:20230510T123146Z
UID:250542-1687179600-1687183200@gatewayassociation.ca
SUMMARY:You TOO Can YouTube Series (1/4)
DESCRIPTION:Session: 1 of 4 \nDuration: 1 hr \nFacilitator: Toby \nPrivate – GTDI Program intake required prior to workshop: getdigital@gatewayassociation.ca \nLearn about being a YouTube viewer and a YouTube creator. Find out how to make your own YouTube Channel and what to consider when you are choosing videos to watch. Create YouTube content\, learn about what to consider when watching videos as well as how to save and organize videos.
URL:https://gatewayassociation.ca/calendar/you-too-can-youtube-series-1-4-5/
END:VEVENT
BEGIN:VEVENT
DTSTART;TZID=America/Denver:20230615T160000
DTEND;TZID=America/Denver:20230615T180000
DTSTAMP:20260420T214949
CREATED:20230531T173827Z
LAST-MODIFIED:20230531T173827Z
UID:250706-1686844800-1686852000@gatewayassociation.ca
SUMMARY:Learn Python Series (3/5)
DESCRIPTION:Note: Participants must attend all sessions in the series. \n  \nPrerequisite: Be comfortable with Scratch or be prepared to watch along as this class will move at a faster pace\, has a less visual interface and is more complex comparatively \nIn this series of workshops\, we will advance on the object oriented programming (OOP) and coding fundamentals introduced in Scratch classes. We will begin coding using an actual language instead of the building blocks which are no code/pre-programmed which we’ve used thus far. The Python programming language is an easy to learn language with less restrictive syntax preventing many errors that will trip new learners up. \n  \n“The Python interpreter and the extensive standard library are freely available in source or binary form for all major platforms from the Python web site\, https://www.python.org/\, and may be freely distributed. The same site also contains distributions of and pointers to many free third party Python modules\, programs and tools\, and additional documentation.” \n  \n*Note Instructor may/may not be able to help students with technical issues in part due to the virtual environment and not having control over hardware setup. Instructor will be teaching in a Windows environment although Python is available and can be used on Mac\, the commands\, permissions\, and support level available may vary.  \n  \nRegister HERE
URL:https://gatewayassociation.ca/calendar/learn-python-series-3-5/
END:VEVENT
BEGIN:VEVENT
DTSTART;TZID=America/Denver:20230615T130000
DTEND;TZID=America/Denver:20230615T140000
DTSTAMP:20260420T214949
CREATED:20230509T191536Z
LAST-MODIFIED:20230509T191536Z
UID:250540-1686834000-1686837600@gatewayassociation.ca
SUMMARY:LinkedIn Profiles (3/3)
DESCRIPTION:Session: 3 of 3 \nDuration: 1 hr \nFacilitator: Toby \nPrivate – GTDI Program intake required prior to workshop: getdigital@gatewayassociation.ca \nBuild your own LinkedIn profile! Share your skills\, goals\, and experiences\, create job alerts\, and grow your online network.
URL:https://gatewayassociation.ca/calendar/linkedin-profiles-3-3-3/
END:VEVENT
BEGIN:VEVENT
DTSTART;TZID=America/Denver:20230615T110000
DTEND;TZID=America/Denver:20230615T120000
DTSTAMP:20260420T214949
CREATED:20230509T190706Z
LAST-MODIFIED:20230509T190706Z
UID:250534-1686826800-1686830400@gatewayassociation.ca
SUMMARY:Discord Tutorial
DESCRIPTION:Session 1 of 1 \nDuration 1 hr \nFacilitator: Lee \nPrivate – GTDI Program intake required prior to workshop: getdigital@gatewayassociation.ca \nStep by step tutorial for downloading and installing Discord – a free app that lets people chat using text\, voice or video. Discord is required for Online boardgames group.
URL:https://gatewayassociation.ca/calendar/discord-tutorial-12/
END:VEVENT
BEGIN:VEVENT
DTSTART;TZID=America/Denver:20230614T150000
DTEND;TZID=America/Denver:20230614T163000
DTSTAMP:20260420T214949
CREATED:20230509T185956Z
LAST-MODIFIED:20230509T190025Z
UID:250522-1686754800-1686760200@gatewayassociation.ca
SUMMARY:OSC Boardgames
DESCRIPTION:Session: 1 of 1 \nDuration: 1.5 to 2 hr \nFacilitator: Lee \nPrivate – GTDI Program intake required prior to workshop signup: getdigital@gatewayassociation.ca . \n**Requires Online Social Connections – Discord and Steam Tutorials as well as desktop or laptop computer.** \nCome hang out! Learn about setting up online accounts\, meet new friends\, socialize\, and have fun playing boardgames online. Meet new friends\, practise new skills\, have fun!
URL:https://gatewayassociation.ca/calendar/osc-boardgames-40/
END:VEVENT
BEGIN:VEVENT
DTSTART;TZID=America/Denver:20230614T130000
DTEND;TZID=America/Denver:20230614T140000
DTSTAMP:20260420T214949
CREATED:20230511T161402Z
LAST-MODIFIED:20230511T161402Z
UID:250572-1686747600-1686751200@gatewayassociation.ca
SUMMARY:How to Read a Job Posting
DESCRIPTION:Join this workshop to understand various elements of a job posting\, identify red flags\, and find the right match. This workshop intends to help people save their time by targeting jobs that fits their expectations. \nFacilitated by Ricardo and Zehra
URL:https://gatewayassociation.ca/calendar/how-to-read-a-job-posting-4/
CATEGORIES:ERC
END:VEVENT
BEGIN:VEVENT
DTSTART;TZID=America/Denver:20230614T130000
DTEND;TZID=America/Denver:20230614T140000
DTSTAMP:20260420T214949
CREATED:20230509T191455Z
LAST-MODIFIED:20230509T191455Z
UID:250538-1686747600-1686751200@gatewayassociation.ca
SUMMARY:LinkedIn Profiles (2/3)
DESCRIPTION:Session: 2 of 3 \nDuration: 1 hr \nFacilitator: Toby \nPrivate – GTDI Program intake required prior to workshop: getdigital@gatewayassociation.ca \nBuild your own LinkedIn profile! Share your skills\, goals\, and experiences\, create job alerts\, and grow your online network.
URL:https://gatewayassociation.ca/calendar/linkedin-profiles-2-3-3/
END:VEVENT
BEGIN:VEVENT
DTSTART;TZID=America/Denver:20230614T110000
DTEND;TZID=America/Denver:20230614T120000
DTSTAMP:20260420T214949
CREATED:20230509T190426Z
LAST-MODIFIED:20230509T190426Z
UID:250532-1686740400-1686744000@gatewayassociation.ca
SUMMARY:Intro to Google Drive (2/2)
DESCRIPTION:Session: 2 of 2 \nDuration: 1 hr \nFacilitator: Lee \nPrivate – GTDI Program intake required prior to workshop: getdigital@gatewayassociation.ca \nLearn how to create a google accounts\, access google drive\, upload files\, create folders\, search for files. Group discussion on cloud storage\, strong passwords\, file naming conventions and keeping documents and folders organized.
URL:https://gatewayassociation.ca/calendar/intro-to-google-drive-2-2/
END:VEVENT
BEGIN:VEVENT
DTSTART;TZID=America/Denver:20230614T023000
DTEND;TZID=America/Denver:20230614T160000
DTSTAMP:20260420T214949
CREATED:20230601T035821Z
LAST-MODIFIED:20230601T035821Z
UID:250712-1686709800-1686758400@gatewayassociation.ca
SUMMARY:Open Art Studio; All Things Green
DESCRIPTION:Open Art Studio: ALL THATS GREEN June 14\, 2023 2:30-4 PM \nSummer is almost here! There are so many things that are green and growing all around us. What happens if we get creative\, using only one or two colours? How many shades of green are there? This week\, try challenging yourself by creating summer-inspired artwork\, using shades of green! You might discover your new favourite colour.  \nArt Supplies Required (your choice):   \nPaper/canvas/tablet/computer; Pencil/pen/marker/paints\, or crayons  \n  \nSign up here: https://forms.gle/xAkcxmATzrjJjckr8
URL:https://gatewayassociation.ca/calendar/open-art-studio-all-things-green/
END:VEVENT
BEGIN:VEVENT
DTSTART;TZID=America/Denver:20230613T130000
DTEND;TZID=America/Denver:20230613T140000
DTSTAMP:20260420T214949
CREATED:20230509T191422Z
LAST-MODIFIED:20230509T191422Z
UID:250536-1686661200-1686664800@gatewayassociation.ca
SUMMARY:LinkedIn Profiles (1/3)
DESCRIPTION:Session: 1 of 3 \nDuration: 1 hr \nFacilitator: Toby \nPrivate – GTDI Program intake required prior to workshop: getdigital@gatewayassociation.ca \nBuild your own LinkedIn profile! Share your skills\, goals\, and experiences\, create job alerts\, and grow your online network.
URL:https://gatewayassociation.ca/calendar/linkedin-profiles-1-3-3/
END:VEVENT
BEGIN:VEVENT
DTSTART;TZID=America/Denver:20230613T110000
DTEND;TZID=America/Denver:20230613T120000
DTSTAMP:20260420T214949
CREATED:20230509T190345Z
LAST-MODIFIED:20230509T190345Z
UID:250530-1686654000-1686657600@gatewayassociation.ca
SUMMARY:Intro to Google Drive (1/2)
DESCRIPTION:Session: 1 of 2 \nDuration: 1 hr \nFacilitator: Lee \nPrivate – GTDI Program intake required prior to workshop: getdigital@gatewayassociation.ca \n\nLearn how to create a google accounts\, access google drive\, upload files\, create folders\, search for files. Group discussion on cloud storage\, strong passwords\, file naming conventions and keeping documents and folders organized.
URL:https://gatewayassociation.ca/calendar/intro-to-google-drive-1-2/
END:VEVENT
BEGIN:VEVENT
DTSTART;TZID=America/Denver:20230612T130000
DTEND;TZID=America/Denver:20230612T140000
DTSTAMP:20260420T214949
CREATED:20230509T190231Z
LAST-MODIFIED:20230509T190231Z
UID:250528-1686574800-1686578400@gatewayassociation.ca
SUMMARY:LinkedIn Learning
DESCRIPTION:Session 1 of 1 \nDuration 1 hr \nFacilitator: Toby \nPrivate – GTDI Program intake required prior to workshop: getdigital@gatewayassociation.ca \n***Requires an active library membership.** \nExplore LinkedIn website as a group\, learn how to: create an account\, search for course\, save and organize courses\, and customize your profile.
URL:https://gatewayassociation.ca/calendar/linkedin-learning-16/
END:VEVENT
BEGIN:VEVENT
DTSTART;TZID=America/Denver:20230610T090000
DTEND;TZID=America/Denver:20230610T160000
DTSTAMP:20260420T214949
CREATED:20230504T153554Z
LAST-MODIFIED:20230504T153554Z
UID:250489-1686387600-1686412800@gatewayassociation.ca
SUMMARY:Transition Planning for Adulthood Weekend Blitz (2/2)
DESCRIPTION:Transition Planning for Adulthood Weekend Blitz \nFriday\, June 9 \n6pm – 9pm | Zoom \n& \nSaturday\, June 10 \n9am – 4pm | Zoom \nWeekend Blitz covers the 4-part workshop series exploring the critical transition to adulthood for 16-20 year-olds and how to create a plan for the future. \nJoin our Weekend Blitz! Covering the 4-part workshop series that engages families in building knowledge when navigating this critical time for 16-20 year olds. This workshop series includes topics on: life transitions\, valued roles in the community\, visioning and planning\, and navigating the systems. \nNote: Must attend both days of the Weekend Blitz workshops to get a certificate. \nRegister HERE 
URL:https://gatewayassociation.ca/calendar/transition-planning-for-adulthood-weekend-blitz-2-2/
CATEGORIES:FRC
END:VEVENT
BEGIN:VEVENT
DTSTART;TZID=America/Denver:20230609T180000
DTEND;TZID=America/Denver:20230609T210000
DTSTAMP:20260420T214949
CREATED:20230504T153243Z
LAST-MODIFIED:20230504T153243Z
UID:250487-1686333600-1686344400@gatewayassociation.ca
SUMMARY:Transition Planning for Adulthood Weekend Blitz
DESCRIPTION:Transition Planning for Adulthood Weekend Blitz \nFriday\, June 9 \n6pm – 9pm | Zoom \n& \nSaturday\, June 10 \n9am – 4pm | Zoom \nWeekend Blitz covers the 4-part workshop series exploring the critical transition to adulthood for 16-20 year-olds and how to create a plan for the future. \nJoin our Weekend Blitz! Covering the 4-part workshop series that engages families in building knowledge when navigating this critical time for 16-20 year olds. This workshop series includes topics on: life transitions\, valued roles in the community\, visioning and planning\, and navigating the systems. \nNote: Must attend both days of the Weekend Blitz workshops to get a certificate. \nRegister HERE
URL:https://gatewayassociation.ca/calendar/transition-planning-for-adulthood-weekend-blitz-2/
CATEGORIES:FRC
END:VEVENT
BEGIN:VEVENT
DTSTART;TZID=America/Denver:20230608T130000
DTEND;TZID=America/Denver:20230608T140000
DTSTAMP:20260420T214949
CREATED:20230509T185841Z
LAST-MODIFIED:20230509T185841Z
UID:250518-1686229200-1686232800@gatewayassociation.ca
SUMMARY:Audio Editing with Audacity (3/3)
DESCRIPTION:Session 3 of 3 \nDuration 1 hr \nFacilitator: Toby \nPrivate – GTDI Program intake required prior to workshop: getdigital@gatewayassociation.ca \n\nIn this 3 session workshop series participants will be guided through the steps to use Audacity software for basic audio editing. This series will focus on editing spoken dialogue.
URL:https://gatewayassociation.ca/calendar/audio-editing-with-audacity-3-3-4/
END:VEVENT
BEGIN:VEVENT
DTSTART;TZID=America/Denver:20230608T110000
DTEND;TZID=America/Denver:20230608T120000
DTSTAMP:20260420T214949
CREATED:20230509T185204Z
LAST-MODIFIED:20230509T185204Z
UID:250511-1686222000-1686225600@gatewayassociation.ca
SUMMARY:ePortfolio Series (3/3)
DESCRIPTION:Session 3 of 3 \nDuration 1 hr \nFacilitator: Lee \nPrivate – GTDI Program intake required prior to workshop: getdigital@gatewayassociation.ca \nIn the eportfolio workshop series\, participants will learn about the different types of portfolios\, how to use google sites\, and the basics of layout and design. Learners will choose the type of portfolio they want to build and the subject they want to focus on. They will select and add content to their sites along with descriptions\, statements about their motivation\, interests\, skills\, and hobbies. Learners will work on their own between classes.
URL:https://gatewayassociation.ca/calendar/eportfolio-series-3-3-7/
END:VEVENT
BEGIN:VEVENT
DTSTART;TZID=America/Denver:20230607T180000
DTEND;TZID=America/Denver:20230607T210000
DTSTAMP:20260420T214949
CREATED:20221028T172935Z
LAST-MODIFIED:20221028T172935Z
UID:249165-1686160800-1686171600@gatewayassociation.ca
SUMMARY:Abuse Prevention and Response Protocol (FMS Admin)
DESCRIPTION:Abuse Prevention and Response Protocol (FMS Admin)     \nWednesday\, June 7 \n6pm – 9pm | Zoom \nA workshop that explores ways to reduce the risk of abuse and how to handle suspicions of abuse (for Family Managed Services Administrators). \nThis workshop\, for FMS Administrators\, provides an understanding of the protocol\, explores what can be done to reduce the risk of abuse\, identifies types of abuse\, and how to handle situations when abuse is suspected. \nNote: This is a mandatory course for FMS Administrators under Family Managed Services with Disability Services. \nFor accommodations and questions\, please connect with Betty@GatewayAssociation.ca \nRegister HERE
URL:https://gatewayassociation.ca/calendar/abuse-prevention-and-response-protocol-fms-admin-5/
CATEGORIES:FRC
END:VEVENT
END:VCALENDAR