BEGIN:VCALENDAR
VERSION:2.0
PRODID:-//Gateway Association - ECPv6.15.20//NONSGML v1.0//EN
CALSCALE:GREGORIAN
METHOD:PUBLISH
X-WR-CALNAME:Gateway Association
X-ORIGINAL-URL:https://gatewayassociation.ca
X-WR-CALDESC:Events for Gateway Association
REFRESH-INTERVAL;VALUE=DURATION:PT1H
X-Robots-Tag:noindex
X-PUBLISHED-TTL:PT1H
BEGIN:VTIMEZONE
TZID:America/Denver
BEGIN:DAYLIGHT
TZOFFSETFROM:-0700
TZOFFSETTO:-0600
TZNAME:MDT
DTSTART:20220313T090000
END:DAYLIGHT
BEGIN:STANDARD
TZOFFSETFROM:-0600
TZOFFSETTO:-0700
TZNAME:MST
DTSTART:20221106T080000
END:STANDARD
BEGIN:DAYLIGHT
TZOFFSETFROM:-0700
TZOFFSETTO:-0600
TZNAME:MDT
DTSTART:20230312T090000
END:DAYLIGHT
BEGIN:STANDARD
TZOFFSETFROM:-0600
TZOFFSETTO:-0700
TZNAME:MST
DTSTART:20231105T080000
END:STANDARD
BEGIN:DAYLIGHT
TZOFFSETFROM:-0700
TZOFFSETTO:-0600
TZNAME:MDT
DTSTART:20240310T090000
END:DAYLIGHT
BEGIN:STANDARD
TZOFFSETFROM:-0600
TZOFFSETTO:-0700
TZNAME:MST
DTSTART:20241103T080000
END:STANDARD
END:VTIMEZONE
BEGIN:VEVENT
DTSTART;TZID=America/Denver:20230427T190000
DTEND;TZID=America/Denver:20230427T210000
DTSTAMP:20260421T103827
CREATED:20221028T161840Z
LAST-MODIFIED:20230417T114716Z
UID:249146-1682622000-1682629200@gatewayassociation.ca
SUMMARY:In Person- Families Forward\, Over 18
DESCRIPTION:Families Forward\, Over 18     \nThursday\, April 27 \n7pm – 9pm | Zoom \nMonthly meeting for families with loved ones over 18 with disabilities. Where families can connect with other families\, learn from one another\, and explore issues that are important\, such as housing\, relationship building\, and community and government supports. \nThis month’s theme: Exploring FMS Respite Opportunities \nJoin us this month in-person to share opportunities to use your Family Managed Services respite hours and discuss what’s available in our community. Susan Kenneth will join us to talk about the safe place and space she has created in her home for activities including Art\, music\, pet therapy and community connections for her son. \nRegister HERE \nFor accommodations and questions\, please connect with Betty@GatewayAssociation.ca
URL:https://gatewayassociation.ca/calendar/families-forward-over-18-6/
CATEGORIES:FRC
END:VEVENT
BEGIN:VEVENT
DTSTART;TZID=America/Denver:20230427T160000
DTEND;TZID=America/Denver:20230427T180000
DTSTAMP:20260421T103827
CREATED:20230315T203602Z
LAST-MODIFIED:20230315T203602Z
UID:249942-1682611200-1682618400@gatewayassociation.ca
SUMMARY:Practice Session- Basic Game Designing with Scratch
DESCRIPTION:Scratch\, is a beginner-level programming environment. It was developed at the MIT Media Lab and shared as an open-source (and FREE) resource for people to dip their toes into the world of code. No computer science or coding experience is required just bring your imagination.  Participants will be able to create stories\, games\, and animations they can share with their family & friends or other like-minded people around the world. It can also be a great introduction or gateway to the theory and logic needed in more complex programming languages and environments \n  \nSession 4 (Practice): Additional exercises will be taught to practice game-designing skills with online help to debug and opportunities to share. \nSign up HERE
URL:https://gatewayassociation.ca/calendar/practice-session-basic-game-designing-with-scratch/
END:VEVENT
BEGIN:VEVENT
DTSTART;TZID=America/Denver:20230427T130000
DTEND;TZID=America/Denver:20230427T140000
DTSTAMP:20260421T103827
CREATED:20230313T185331Z
LAST-MODIFIED:20230313T185331Z
UID:249926-1682600400-1682604000@gatewayassociation.ca
SUMMARY:Growth Mindset- Resiliency in Job Search
DESCRIPTION:Growth Mindset – Resiliency in Job Search  \nJob search can be a long and daunting process for many. This workshop will help individuals create a positive and persistent mindset along with tips on how to stay motivated. \nFor more information\, questions and to register\, click HERE
URL:https://gatewayassociation.ca/calendar/growth-mindset-resiliency-in-job-search-6/
CATEGORIES:ERC
END:VEVENT
BEGIN:VEVENT
DTSTART;TZID=America/Denver:20230427T130000
DTEND;TZID=America/Denver:20230427T140000
DTSTAMP:20260421T103827
CREATED:20230313T184226Z
LAST-MODIFIED:20230313T184226Z
UID:249910-1682600400-1682604000@gatewayassociation.ca
SUMMARY:LinkedIn Profiles Series (3/3)
DESCRIPTION:Session: 3 of 3 \nDuration: 1 hr \nFacilitator: Toby \nPrivate – GTDI Program intake required prior to workshop: getdigital@gatewayassociation.ca \n\nBuild your own LinkedIn profile! Share your skills\, goals\, and experiences\, create job alerts\, and grow your online network
URL:https://gatewayassociation.ca/calendar/linkedin-profiles-series-3-3/
END:VEVENT
BEGIN:VEVENT
DTSTART;TZID=America/Denver:20230426T150000
DTEND;TZID=America/Denver:20230426T163000
DTSTAMP:20260421T103827
CREATED:20230313T181123Z
LAST-MODIFIED:20230313T181123Z
UID:249866-1682521200-1682526600@gatewayassociation.ca
SUMMARY:OSC Boardgames
DESCRIPTION:Session: 1 of 1 \nDuration: 1.5 to 2 hr \nFacilitator: Lee \nPrivate – GTDI Program intake required prior to workshop signup: getdigital@gatewayassociation.ca . \n**Requires Online Social Connections – Discord and Steam Tutorials as well as desktop or laptop computer.** \nCome hang out! Learn about setting up online accounts\, meet new friends\, socialize\, and have fun playing boardgames online. Meet new friends\, practice new skills\, have fun!
URL:https://gatewayassociation.ca/calendar/osc-boardgames-34/
END:VEVENT
BEGIN:VEVENT
DTSTART;TZID=America/Denver:20230426T130000
DTEND;TZID=America/Denver:20230426T140000
DTSTAMP:20260421T103827
CREATED:20230313T185204Z
LAST-MODIFIED:20230313T185204Z
UID:249924-1682514000-1682517600@gatewayassociation.ca
SUMMARY:How to Read a Job Posting
DESCRIPTION:Join this workshop to understand various elements of a job posting\, identify red flags\, and find the right match. This workshop intends to help people save their time by targeting jobs that fits their expectations \nFor more information\, questions and to register\, click HERE
URL:https://gatewayassociation.ca/calendar/how-to-read-a-job-posting-2/
CATEGORIES:ERC
END:VEVENT
BEGIN:VEVENT
DTSTART;TZID=America/Denver:20230426T130000
DTEND;TZID=America/Denver:20230426T140000
DTSTAMP:20260421T103827
CREATED:20230313T184152Z
LAST-MODIFIED:20230313T184152Z
UID:249908-1682514000-1682517600@gatewayassociation.ca
SUMMARY:LinkedIn Profiles Series (2/3)
DESCRIPTION:Session: 2 of 3 \nDuration: 1 hr \nFacilitator: Toby \nPrivate – GTDI Program intake required prior to workshop: getdigital@gatewayassociation.ca \n\nBuild your own LinkedIn profile! Share your skills\, goals\, and experiences\, create job alerts\, and grow your online network
URL:https://gatewayassociation.ca/calendar/linkedin-profiles-series-2-3-2/
END:VEVENT
BEGIN:VEVENT
DTSTART;TZID=America/Denver:20230426T080000
DTEND;TZID=America/Denver:20230426T170000
DTSTAMP:20260421T103827
CREATED:20221027T201306Z
LAST-MODIFIED:20221027T201306Z
UID:249119-1682496000-1682528400@gatewayassociation.ca
SUMMARY:Visioning and Planning for Families with Children Birth-8 Years Old (3 of 4)
DESCRIPTION:Visioning and Planning for Families with Children Birth-8 Years Old \nWednesdays \nApril 12 \nApril 19 \nApril 26 \nMay 3 \n6pm – 8pm | Zoom \nA 4-part workshop series that empowers families of children with disabilities up to 8 years old with knowledge\, resources\, and more. \nJoin our 4-part workshop series that empowers parents/caregivers of children with disabilities from birth-8 years old with knowledge\, resources\, and a sense of direction for the future. \nWe will touch on a variety of topics including values and belonging in the community\, visioning and planning\, various transitions during early elementary school\, navigating various systems age appropriate for families with younger children as well as advocacy and having difficult conversations. \nFor accommodations and questions\, please connect with Stacy@GatewayAssociation.ca \nRegister HERE
URL:https://gatewayassociation.ca/calendar/visioning-and-planning-for-families-with-children-birth-8-years-old-3-of-4/
CATEGORIES:FRC
END:VEVENT
BEGIN:VEVENT
DTSTART;TZID=America/Denver:20230425T160000
DTEND;TZID=America/Denver:20230425T180000
DTSTAMP:20260421T103827
CREATED:20230315T203437Z
LAST-MODIFIED:20230315T203437Z
UID:249940-1682438400-1682445600@gatewayassociation.ca
SUMMARY:Basic Game Designing in Scratch
DESCRIPTION:Scratch\, is a beginner-level programming environment. It was developed at the MIT Media Lab and shared as an open-source (and FREE) resource for people to dip their toes into the world of code. No computer science or coding experience is required just bring your imagination.  Participants will be able to create stories\, games\, and animations they can share with their family & friends or other like-minded people around the world. It can also be a great introduction or gateway to the theory and logic needed in more complex programming languages and environment. \n  \nSession 4: In this workshop\, we will start with some game “theory”. What makes a good game and what are the different building blocks needed to create one? What are the different types of games and how those decisions might affect the game’s target audience and the design tools needed? We will take your scratch animation and storytelling skills to the next level by applying these new ideas in order to build a basic interactive computer game. \nRegister HERE
URL:https://gatewayassociation.ca/calendar/basic-game-designing-in-scratch/
END:VEVENT
BEGIN:VEVENT
DTSTART;TZID=America/Denver:20230425T130000
DTEND;TZID=America/Denver:20230425T140000
DTSTAMP:20260421T103827
CREATED:20230313T185107Z
LAST-MODIFIED:20230313T185107Z
UID:249922-1682427600-1682431200@gatewayassociation.ca
SUMMARY:Finding Your Purpose; Career Exploration
DESCRIPTION:In this workshop\, we will discuss how considering own interests and abilities along with researching job market trends and income can yield success and job satisfaction! \nFor more info\, questions and to register\, click HERE
URL:https://gatewayassociation.ca/calendar/finding-your-purpose-career-exploration-8/
CATEGORIES:ERC
END:VEVENT
BEGIN:VEVENT
DTSTART;TZID=America/Denver:20230425T130000
DTEND;TZID=America/Denver:20230425T140000
DTSTAMP:20260421T103827
CREATED:20230313T184109Z
LAST-MODIFIED:20230313T184109Z
UID:249906-1682427600-1682431200@gatewayassociation.ca
SUMMARY:LinkedIn Profiles Series (1/3)
DESCRIPTION:Session: 1 of 3 \nDuration: 1 hr \nFacilitator: Toby \nPrivate – GTDI Program intake required prior to workshop: getdigital@gatewayassociation.ca \n\nBuild your own LinkedIn profile! Share your skills\, goals\, and experiences\, create job alerts\, and grow your online network
URL:https://gatewayassociation.ca/calendar/linkedin-profiles-series-1-3-3/
END:VEVENT
BEGIN:VEVENT
DTSTART;TZID=America/Denver:20230425T110000
DTEND;TZID=America/Denver:20230425T120000
DTSTAMP:20260421T103827
CREATED:20230313T183712Z
LAST-MODIFIED:20230313T183712Z
UID:249898-1682420400-1682424000@gatewayassociation.ca
SUMMARY:Steam Tutorial
DESCRIPTION:Session 1 of 1 \nDuration 1 hr \nFacilitator: Lee \nPrivate – GTDI Program intake required prior to workshop: getdigital@gatewayassociation.ca \n\nStep by step tutorial for downloading and installing Steam – an online game platform. Steam is required for Online boardgames group
URL:https://gatewayassociation.ca/calendar/steam-tutorial-10/
END:VEVENT
BEGIN:VEVENT
DTSTART;TZID=America/Denver:20230425T023000
DTEND;TZID=America/Denver:20230425T033000
DTSTAMP:20260421T103827
CREATED:20230313T183934Z
LAST-MODIFIED:20230313T183934Z
UID:249902-1682389800-1682393400@gatewayassociation.ca
SUMMARY:File Management and PDFs (2/2)
DESCRIPTION:Session 2 of 2 \nDuration 1 hr \nFacilitator: Toby \nPrivate – GTDI Program intake required prior to workshop: getdigital@gatewayassociation.ca \n\nIn this workshop participants will learn about saving files\, organizing and finding files\, converting documents to pdfs\, what a is pdf\, and how to use pdfs.
URL:https://gatewayassociation.ca/calendar/file-management-and-pdfs-2-2-2/
END:VEVENT
BEGIN:VEVENT
DTSTART;TZID=America/Denver:20230424T143000
DTEND;TZID=America/Denver:20230424T153000
DTSTAMP:20260421T103827
CREATED:20230313T183801Z
LAST-MODIFIED:20230313T183801Z
UID:249900-1682346600-1682350200@gatewayassociation.ca
SUMMARY:File Management and PDFs (1/2)
DESCRIPTION:Session 1 of 2 \nDuration 1 hr \nFacilitator: Toby \nPrivate – GTDI Program intake required prior to workshop: getdigital@gatewayassociation.ca \n\nIn this workshop participants will learn about saving files\, organizing and finding files\, converting documents to pdfs\, what a is pdf\, and how to use pdfs.
URL:https://gatewayassociation.ca/calendar/file-management-and-pdfs-1-2-2/
END:VEVENT
BEGIN:VEVENT
DTSTART;TZID=America/Denver:20230422T130000
DTEND;TZID=America/Denver:20230422T160000
DTSTAMP:20260421T103827
CREATED:20221028T161612Z
LAST-MODIFIED:20230327T165157Z
UID:249144-1682168400-1682179200@gatewayassociation.ca
SUMMARY:In Person- Persons with Developmental Disabilities (PDD) 101
DESCRIPTION:Persons with Developmental Disabilities (PDD) 101 \nSaturday\, April 22 \n1pm -4pm | In person event \n\n\nLocation: Gateway Association \nSuite 201\, 10941 120 Street Edmonton\, AB \n\nThis workshop is an introduction to\, and overview of\, PDD for those who may be eligible. \nYou will gain an understanding of the PDD program\, options available for service provision\, and information to determine the best supports for your family. \n  \nThis workshop will provide you with: \n1. An understanding of the PDD program’s role in supporting adults with developmental disabilities \n2. Knowledge of available options for service provision – Family Managed Supports (FMS) and PDD Service Providers (agency) \n3. Information to guide you in determining which type of service provision will best suit your family and adult child’s needs. \n\nDetails: \nThis is an in-person event located at: \nGateway Association \nSuite 201\, 10941 120 Street Edmonton\, AB \nAddress for DATS drop off\, barrier free parking\, and lift is 10930 119 Street \nMap and additional information will be sent in an email \n  \nRegister HERE
URL:https://gatewayassociation.ca/calendar/persons-with-developmental-disabilities-pdd-101-6/
CATEGORIES:FRC
END:VEVENT
BEGIN:VEVENT
DTSTART;TZID=America/Denver:20230420T160000
DTEND;TZID=America/Denver:20230420T180000
DTSTAMP:20260421T103827
CREATED:20230315T203328Z
LAST-MODIFIED:20230315T204241Z
UID:249938-1682006400-1682013600@gatewayassociation.ca
SUMMARY:Practice Session- Storytelling with Scratch
DESCRIPTION:Scratch\, is a beginner-level programming environment. It was developed at the MIT Media Lab and shared as an open-source (and FREE) resource for people to dip their toes into the world of code. No computer science or coding experience is required just bring your imagination.  Participants will be able to create stories\, games\, and animations they can share with their family & friends or other like-minded people around the world. It can also be a great introduction or gateway to the theory and logic needed in more complex programming languages and environments. \n  \nSession 3 (practice): Additional exercises will be taught to practice animating & storytelling skills with online help to debug and opportunities to share. \nSign up HERE
URL:https://gatewayassociation.ca/calendar/practice-session-storytelling-with-scratch/
END:VEVENT
BEGIN:VEVENT
DTSTART;TZID=America/Denver:20230420T130000
DTEND;TZID=America/Denver:20230420T150000
DTSTAMP:20260421T103827
CREATED:20230313T182923Z
LAST-MODIFIED:20230313T182923Z
UID:249892-1681995600-1682002800@gatewayassociation.ca
SUMMARY:Look Stuff Up Online Series (4/4)
DESCRIPTION:Session: 4 of 4 \nDuration: 1 hr \nFacilitator: Toby \nPrivate – GTDI Program intake required prior to workshop: getdigital@gatewayassociation.ca \n\nThis 3 session workshop series helps learners find\, share\, and explore things online through a series of fun activities. Participants will use different google map features to find their way around town\, share their favourite places\, plan a vacation\, and compare different search engines. As a group\, learners will chat about fake news\, investigate stories on Snopes\, and chat about the media we take in everyday.
URL:https://gatewayassociation.ca/calendar/look-stuff-up-online-series-4-4-4/
END:VEVENT
BEGIN:VEVENT
DTSTART;TZID=America/Denver:20230420T130000
DTEND;TZID=America/Denver:20230420T140000
DTSTAMP:20260421T103827
CREATED:20230313T184945Z
LAST-MODIFIED:20230313T184945Z
UID:249920-1681995600-1681999200@gatewayassociation.ca
SUMMARY:Interview Preparation Workshop
DESCRIPTION:Join us in this 1 hour workshop and learn what to do before\, during and after the job interview and MUCH more! \nFor more information\, questions and to register\, click HERE
URL:https://gatewayassociation.ca/calendar/interview-preparation-workshop-16/
CATEGORIES:ERC
END:VEVENT
BEGIN:VEVENT
DTSTART;TZID=America/Denver:20230419T190000
DTEND;TZID=America/Denver:20230419T210000
DTSTAMP:20260421T103827
CREATED:20221027T213906Z
LAST-MODIFIED:20221027T213906Z
UID:249129-1681930800-1681938000@gatewayassociation.ca
SUMMARY:Families Forward\, I have an ISP? Now what?
DESCRIPTION:Families Forward\, I have an ISP? Now what? \nWednesday\, April 19 \n7pm – 9pm | Zoom \n\nMonthly meeting for families with loved ones with disabilities who have completed an Individual Support Plan. \nWhere families can connect with other families and share resources for individuals with disabilities. We will explore ISP strategies and outcomes. \nFor accommodations and questions\, please connect with Kristina@GatewayAssociation.ca \nRegister HERE
URL:https://gatewayassociation.ca/calendar/families-forward-i-have-an-isp-now-what-5/
CATEGORIES:FRC
END:VEVENT
BEGIN:VEVENT
DTSTART;TZID=America/Denver:20230419T190000
DTEND;TZID=America/Denver:20230419T200000
DTSTAMP:20260421T103827
CREATED:20230316T155708Z
LAST-MODIFIED:20230316T155708Z
UID:249951-1681930800-1681934400@gatewayassociation.ca
SUMMARY:Registered Disability Savings Plan 2-Part Series
DESCRIPTION:Considering opening an RDSP but want to learn more about it? Gateway Association’s RDSP Coordinators will be hosting a FREE\, 2 part presentation series on April 12th an 19th at the Edmonton Public Library\, Woodcroft Location! \nIf you are interested in attending the sessions either IN PERSON or ONLINE\, connect with us HERE
URL:https://gatewayassociation.ca/calendar/registered-disability-savings-plan-2-part-series-2/
LOCATION:EPL\, 13420 114 Ave\, Edmonton\, Alberta\, T5M 2Y5\, Canada
CATEGORIES:ERC,FRC,MentorAbility Alberta
END:VEVENT
BEGIN:VEVENT
DTSTART;TZID=America/Denver:20230419T180000
DTEND;TZID=America/Denver:20230419T200000
DTSTAMP:20260421T103827
CREATED:20221027T201148Z
LAST-MODIFIED:20221027T201148Z
UID:249117-1681927200-1681934400@gatewayassociation.ca
SUMMARY:Visioning and Planning for Families with Children Birth-8 Years Old  (2 of 4)
DESCRIPTION:Visioning and Planning for Families with Children Birth-8 Years Old \nWednesdays \nApril 12 \nApril 19 \nApril 26 \nMay 3 \n6pm – 8pm | Zoom \nA 4-part workshop series that empowers families of children with disabilities up to 8 years old with knowledge\, resources\, and more. \nJoin our 4-part workshop series that empowers parents/caregivers of children with disabilities from birth-8 years old with knowledge\, resources\, and a sense of direction for the future. \nWe will touch on a variety of topics including values and belonging in the community\, visioning and planning\, various transitions during early elementary school\, navigating various systems age appropriate for families with younger children as well as advocacy and having difficult conversations. \nFor accommodations and questions\, please connect with Stacy@GatewayAssociation.ca \nRegister HERE
URL:https://gatewayassociation.ca/calendar/visioning-and-planning-for-families-with-children-birth-8-years-old-2-of-4/
CATEGORIES:FRC
END:VEVENT
BEGIN:VEVENT
DTSTART;TZID=America/Denver:20230419T150000
DTEND;TZID=America/Denver:20230419T163000
DTSTAMP:20260421T103827
CREATED:20230313T181055Z
LAST-MODIFIED:20230313T181055Z
UID:249864-1681916400-1681921800@gatewayassociation.ca
SUMMARY:OSC Boardgames
DESCRIPTION:Session: 1 of 1 \nDuration: 1.5 to 2 hr \nFacilitator: Lee \nPrivate – GTDI Program intake required prior to workshop signup: getdigital@gatewayassociation.ca . \n**Requires Online Social Connections – Discord and Steam Tutorials as well as desktop or laptop computer.** \nCome hang out! Learn about setting up online accounts\, meet new friends\, socialize\, and have fun playing boardgames online. Meet new friends\, practice new skills\, have fun!
URL:https://gatewayassociation.ca/calendar/osc-boardgames-33/
END:VEVENT
BEGIN:VEVENT
DTSTART;TZID=America/Denver:20230419T140000
DTEND;TZID=America/Denver:20230419T160000
DTSTAMP:20260421T103827
CREATED:20230313T184816Z
LAST-MODIFIED:20230313T184816Z
UID:249918-1681912800-1681920000@gatewayassociation.ca
SUMMARY:(Calgary) Interview Roundtable; Learning and Laughing Together - In Person
DESCRIPTION:This is an in-person event held in Calgary \nJoin us for a dynamic and interactive workshop designed to help you ace your next job interview. In our Interview Roundtable\, you’ll have the opportunity to connect with fellow job seekers and share your experiences and insights. Our experienced facilitators will guide you through real-life interview scenarios and help you develop the skills and confidence you need to succeed. \nSpots are limited. To register\, please e-mail zehra@gatewayassociation.ca. Registration will be first-come first-serve
URL:https://gatewayassociation.ca/calendar/calgary-interview-roundtable-learning-and-laughing-together-in-person/
CATEGORIES:ERC
END:VEVENT
BEGIN:VEVENT
DTSTART;TZID=America/Denver:20230419T130000
DTEND;TZID=America/Denver:20230419T140000
DTSTAMP:20260421T103827
CREATED:20230313T182842Z
LAST-MODIFIED:20230313T182842Z
UID:249890-1681909200-1681912800@gatewayassociation.ca
SUMMARY:Look Stuff Up Online Series (3/4)
DESCRIPTION:Session: 3 of 4 \nDuration: 1 hr \nFacilitator: Toby \nPrivate – GTDI Program intake required prior to workshop: getdigital@gatewayassociation.ca \n\nThis 3 session workshop series helps learners find\, share\, and explore things online through a series of fun activities. Participants will use different google map features to find their way around town\, share their favourite places\, plan a vacation\, and compare different search engines. As a group\, learners will chat about fake news\, investigate stories on Snopes\, and chat about the media we take in everyday.
URL:https://gatewayassociation.ca/calendar/look-stuff-up-online-series-3-4-3/
END:VEVENT
BEGIN:VEVENT
DTSTART;TZID=America/Denver:20230419T110000
DTEND;TZID=America/Denver:20230419T120000
DTSTAMP:20260421T103827
CREATED:20230313T183532Z
LAST-MODIFIED:20230313T184018Z
UID:249896-1681902000-1681905600@gatewayassociation.ca
SUMMARY:Google Docs (2/2)
DESCRIPTION:Session: 2 of 2 \nDuration: 1 hr \nFacilitator: Lee \nPrivate – GTDI Program intake required prior to workshop: getdigital@gatewayassociation.ca \n  \nLearn how to create a google accounts\, access google drive\, upload files\, create folders\, search for files. Group discussion on cloud storage\, strong passwords\, file naming conventions and keeping documents and folders organized.
URL:https://gatewayassociation.ca/calendar/google-drive-2-2/
END:VEVENT
BEGIN:VEVENT
DTSTART;TZID=America/Denver:20230418T160000
DTEND;TZID=America/Denver:20230418T180000
DTSTAMP:20260421T103827
CREATED:20230315T202805Z
LAST-MODIFIED:20230315T204213Z
UID:249936-1681833600-1681840800@gatewayassociation.ca
SUMMARY:Storytelling with Scratch
DESCRIPTION:Scratch\, is a beginner-level programming environment. It was developed at the MIT Media Lab and shared as an open-source (and FREE) resource for people to dip their toes into the world of code. No computer science or coding experience is required just bring your imagination.  Participants will be able to create stories\, games\, and animations they can share with their family & friends or other like-minded people around the world. It can also be a great introduction or gateway to the theory and logic needed in more complex programming languages and environments. \n  \nSession 3: This workshop will go into how we can use storyboarding or a planned narrative to guide our animated project to a more meaningful outcome. Participants will consider the characters\, the scene\, and the intended message to craft how the story will start\, what major events happen\, and how the story will end. We will then take this outline and animate it in Scratch using skills learned in previous classes and maybe even some new tricks too. \nSign up HERE
URL:https://gatewayassociation.ca/calendar/storytelling-with-scratch/
END:VEVENT
BEGIN:VEVENT
DTSTART;TZID=America/Denver:20230418T130000
DTEND;TZID=America/Denver:20230418T140000
DTSTAMP:20260421T103827
CREATED:20230313T184640Z
LAST-MODIFIED:20230313T184640Z
UID:249916-1681822800-1681826400@gatewayassociation.ca
SUMMARY:Networking; Using Your Connections
DESCRIPTION:Building sustaining personal networks is a great way to connect with employers. This session will describe ways to create a personal network and using existing relationships that can lead to career paths and new opportunities. \nFor more info\, questions and to register\, click HERE
URL:https://gatewayassociation.ca/calendar/networking-using-your-connections-6/
CATEGORIES:ERC
END:VEVENT
BEGIN:VEVENT
DTSTART;TZID=America/Denver:20230418T130000
DTEND;TZID=America/Denver:20230418T140000
DTSTAMP:20260421T103827
CREATED:20230313T182805Z
LAST-MODIFIED:20230313T182805Z
UID:249888-1681822800-1681826400@gatewayassociation.ca
SUMMARY:Look Stuff Up Online Series (2/4)
DESCRIPTION:Session: 2 of 4 \nDuration: 1 hr \nFacilitator: Toby \nPrivate – GTDI Program intake required prior to workshop: getdigital@gatewayassociation.ca \n\nThis 3 session workshop series helps learners find\, share\, and explore things online through a series of fun activities. Participants will use different google map features to find their way around town\, share their favourite places\, plan a vacation\, and compare different search engines. As a group\, learners will chat about fake news\, investigate stories on Snopes\, and chat about the media we take in everyday.
URL:https://gatewayassociation.ca/calendar/look-stuff-up-online-series-2-4-5/
END:VEVENT
BEGIN:VEVENT
DTSTART;TZID=America/Denver:20230418T110000
DTEND;TZID=America/Denver:20230418T120000
DTSTAMP:20260421T103827
CREATED:20230313T183456Z
LAST-MODIFIED:20230313T184011Z
UID:249894-1681815600-1681819200@gatewayassociation.ca
SUMMARY:Google Docs (1/2)
DESCRIPTION:Session: 1 of 2 \nDuration: 1 hr \nFacilitator: Lee \nPrivate – GTDI Program intake required prior to workshop: getdigital@gatewayassociation.ca \n  \nLearn how to create a google accounts\, access google drive\, upload files\, create folders\, search for files. Group discussion on cloud storage\, strong passwords\, file naming conventions and keeping documents and folders organized.
URL:https://gatewayassociation.ca/calendar/google-drive-1-2/
END:VEVENT
BEGIN:VEVENT
DTSTART;TZID=America/Denver:20230417T130000
DTEND;TZID=America/Denver:20230417T140000
DTSTAMP:20260421T103827
CREATED:20230313T182721Z
LAST-MODIFIED:20230313T182721Z
UID:249886-1681736400-1681740000@gatewayassociation.ca
SUMMARY:Look Stuff Up Online Series (1/4)
DESCRIPTION:Session: 1 of 4 \nDuration: 1 hr \nFacilitator: Toby \nPrivate – GTDI Program intake required prior to workshop: getdigital@gatewayassociation.ca \nThis 3 session workshop series helps learners find\, share\, and explore things online through a series of fun activities. Participants will use different google map features to find their way around town\, share their favourite places\, plan a vacation\, and compare different search engines. As a group\, learners will chat about fake news\, investigate stories on Snopes\, and chat about the media we take in everyday.
URL:https://gatewayassociation.ca/calendar/look-stuff-up-online-series-1-4-4/
END:VEVENT
END:VCALENDAR