BEGIN:VCALENDAR
VERSION:2.0
PRODID:-//Gateway Association - ECPv6.15.20//NONSGML v1.0//EN
CALSCALE:GREGORIAN
METHOD:PUBLISH
X-WR-CALNAME:Gateway Association
X-ORIGINAL-URL:https://gatewayassociation.ca
X-WR-CALDESC:Events for Gateway Association
REFRESH-INTERVAL;VALUE=DURATION:PT1H
X-Robots-Tag:noindex
X-PUBLISHED-TTL:PT1H
BEGIN:VTIMEZONE
TZID:America/Denver
BEGIN:DAYLIGHT
TZOFFSETFROM:-0700
TZOFFSETTO:-0600
TZNAME:MDT
DTSTART:20220313T090000
END:DAYLIGHT
BEGIN:STANDARD
TZOFFSETFROM:-0600
TZOFFSETTO:-0700
TZNAME:MST
DTSTART:20221106T080000
END:STANDARD
BEGIN:DAYLIGHT
TZOFFSETFROM:-0700
TZOFFSETTO:-0600
TZNAME:MDT
DTSTART:20230312T090000
END:DAYLIGHT
BEGIN:STANDARD
TZOFFSETFROM:-0600
TZOFFSETTO:-0700
TZNAME:MST
DTSTART:20231105T080000
END:STANDARD
BEGIN:DAYLIGHT
TZOFFSETFROM:-0700
TZOFFSETTO:-0600
TZNAME:MDT
DTSTART:20240310T090000
END:DAYLIGHT
BEGIN:STANDARD
TZOFFSETFROM:-0600
TZOFFSETTO:-0700
TZNAME:MST
DTSTART:20241103T080000
END:STANDARD
END:VTIMEZONE
BEGIN:VEVENT
DTSTART;TZID=America/Denver:20231107T110000
DTEND;TZID=America/Denver:20231107T120000
DTSTAMP:20260419T150653
CREATED:20230817T153601Z
LAST-MODIFIED:20230817T153601Z
UID:251308-1699354800-1699358400@gatewayassociation.ca
SUMMARY:Google Drive (2 of 2)
DESCRIPTION:Session: 2 of 2 \nDuration: 1 hr \nFacilitator: Lee \nPrivate – GTDI Program intake required prior to workshop: getdigital@gatewayassociation.ca \n  \nLearn how to create a google accounts\, access google drive\, upload files\, create folders\, search for files. Group discussion on cloud storage\, strong passwords\, file naming conventions and keeping documents and folders organized.
URL:https://gatewayassociation.ca/calendar/google-drive-2-of-2-5/
END:VEVENT
BEGIN:VEVENT
DTSTART;TZID=America/Denver:20231106T130000
DTEND;TZID=America/Denver:20231106T140000
DTSTAMP:20260419T150653
CREATED:20230817T153818Z
LAST-MODIFIED:20230817T153818Z
UID:251314-1699275600-1699279200@gatewayassociation.ca
SUMMARY:LinkedIn Learning
DESCRIPTION:Session 1 of 1 \nDuration 1 hr \nFacilitator: Toby \nPrivate – GTDI Program intake required prior to workshop: getdigital@gatewayassociation.ca \n\n***Requires an active library membership.** \nExplore LinkedIn website as a group\, learn how to: create an account\, search for course\, save and organize courses\, and customize your profile.
URL:https://gatewayassociation.ca/calendar/linkedin-learning-20/
END:VEVENT
BEGIN:VEVENT
DTSTART;TZID=America/Denver:20231106T110000
DTEND;TZID=America/Denver:20231106T120000
DTSTAMP:20260419T150653
CREATED:20230817T142425Z
LAST-MODIFIED:20230817T142425Z
UID:251306-1699268400-1699272000@gatewayassociation.ca
SUMMARY:Google Drive (1 of 2)
DESCRIPTION:Session: 1 of 2 \nDuration: 1 hr \nFacilitator: Lee \nPrivate – GTDI Program intake required prior to workshop: getdigital@gatewayassociation.ca \n  \nLearn how to create a google accounts\, access google drive\, upload files\, create folders\, search for files. Group discussion on cloud storage\, strong passwords\, file naming conventions and keeping documents and folders organized.
URL:https://gatewayassociation.ca/calendar/google-drive-1-of-2-5/
END:VEVENT
BEGIN:VEVENT
DTSTART;TZID=America/Denver:20231104T090000
DTEND;TZID=America/Denver:20231104T120000
DTSTAMP:20260419T150653
CREATED:20230720T182625Z
LAST-MODIFIED:20230720T182625Z
UID:250965-1699088400-1699099200@gatewayassociation.ca
SUMMARY:Finding the Right Staff (FMS Admin)
DESCRIPTION:Finding the Right Staff (FMS Admin) \nSaturday\, November 4 \n9:00am – 12:00pm | Online \n  \nA workshop for Family Managed Services Administrators that looks at using your vision plan to identify appropriate supports to help achieve \nThis workshop\, for Family Managed Services Administrators only\, looks at using the Individual Support Plan to help your staff create valued roles and enhance community connections. \nDetails: \n  \nFacilitator:  Miriam at miriam@GatewayAssociation.ca \nRegister HERE
URL:https://gatewayassociation.ca/calendar/finding-the-right-staff-fms-admin/
CATEGORIES:FRC
END:VEVENT
BEGIN:VEVENT
DTSTART;TZID=America/Denver:20231102T143000
DTEND;TZID=America/Denver:20231102T153000
DTSTAMP:20260419T150653
CREATED:20230816T182742Z
LAST-MODIFIED:20230816T182742Z
UID:251242-1698935400-1698939000@gatewayassociation.ca
SUMMARY:Explore Canva (2 of 2)
DESCRIPTION:Session 2 of 2 \nDuration 1 hr \nFacilitator: Toby \nPrivate – GTDI Program intake required prior to workshop: getdigital@gatewayassociation.ca \n\nLet your imagination be your guide as you create your own posters\, flyers\, cards\, videos\, and more to share information important to you.
URL:https://gatewayassociation.ca/calendar/explore-canva-2-of-2-4/
END:VEVENT
BEGIN:VEVENT
DTSTART;TZID=America/Denver:20231102T130000
DTEND;TZID=America/Denver:20231102T140000
DTSTAMP:20260419T150653
CREATED:20230816T182513Z
LAST-MODIFIED:20230816T182513Z
UID:251236-1698930000-1698933600@gatewayassociation.ca
SUMMARY:Audio Editing with Audacity (3 of 3)
DESCRIPTION:Session 3 of 3 \nDuration 1 hr \nFacilitator: Toby \nPrivate – GTDI Program intake required prior to workshop: getdigital@gatewayassociation.ca \n\nIn this 3 session workshop series participants will be guided through the steps to use Audacity software for basic audio editing. This series will focus on editing spoken dialogue.
URL:https://gatewayassociation.ca/calendar/audio-editing-with-audacity-3-of-3-3/
END:VEVENT
BEGIN:VEVENT
DTSTART;TZID=America/Denver:20231102T100000
DTEND;TZID=America/Denver:20231102T113000
DTSTAMP:20260419T150653
CREATED:20230816T162817Z
LAST-MODIFIED:20230816T162817Z
UID:251197-1698919200-1698924600@gatewayassociation.ca
SUMMARY:Build a Website Series (9 of 9)
DESCRIPTION:Session: 9 of 9 \nDuration: 1.5 hours \nClasses are on Tues to Thurs for 1.5 hours per session. \nFacilitator: Lee \nPrivate – GTDI Program intake required prior to workshop: getdigital@gatewayassociation.ca \n\nBuild a Website is Part 3 of the Work Simulation. Completion of Part 1: Internet Basics\, and Part 2: Social Media Basics is recommended prior to taking this 3 week course. \nIncrease your digital and social media skills\, as you work in a team to build a website for an imaginary company. This is a tech-based work simulation\, where learners are ‘hired’ into positions at an imaginary tech company and work together to build a website for a simulated client. \nThis course covers basic: use of internet vocabulary and social media\, as well as web design while giving you experience with working on a team\, engaging with peers\, and giving presentations. Learn to design and build a website\, create and give presentations\, and practice your teamwork skills.
URL:https://gatewayassociation.ca/calendar/build-a-website-series-9-of-9/
END:VEVENT
BEGIN:VEVENT
DTSTART;TZID=America/Denver:20231101T150000
DTEND;TZID=America/Denver:20231101T163000
DTSTAMP:20260419T150653
CREATED:20230816T183133Z
LAST-MODIFIED:20230816T183133Z
UID:251244-1698850800-1698856200@gatewayassociation.ca
SUMMARY:Online Boardgames
DESCRIPTION:Session: 1 of 1 \nDuration: 1.5 to 2 hr \nFacilitator: Lee \nPrivate – GTDI Program intake required prior to workshop signup: getdigital@gatewayassociation.ca \n\n**Requires Online Social Connections – Discord and Steam Tutorials as well as desktop or laptop computer.** \nCome hang out! Learn about setting up online accounts\, meet new friends\, socialize\, and have fun playing boardgames online. Meet new friends\, practise new skills\, have fun!
URL:https://gatewayassociation.ca/calendar/online-boardgames-18/
END:VEVENT
BEGIN:VEVENT
DTSTART;TZID=America/Denver:20231101T143000
DTEND;TZID=America/Denver:20231101T153000
DTSTAMP:20260419T150653
CREATED:20230816T182649Z
LAST-MODIFIED:20230816T182649Z
UID:251240-1698849000-1698852600@gatewayassociation.ca
SUMMARY:Explore Canva (1 of 2)
DESCRIPTION:Session 1 of 2 \nDuration 1 hr \nFacilitator: Toby \nPrivate – GTDI Program intake required prior to workshop: getdigital@gatewayassociation.ca \n\nLet your imagination be your guide as you create your own posters\, flyers\, cards\, videos\, and more to share information important to you.
URL:https://gatewayassociation.ca/calendar/explore-canva-1-of-2-4/
END:VEVENT
BEGIN:VEVENT
DTSTART;TZID=America/Denver:20231101T130000
DTEND;TZID=America/Denver:20231101T140000
DTSTAMP:20260419T150653
CREATED:20230816T182435Z
LAST-MODIFIED:20230816T182435Z
UID:251234-1698843600-1698847200@gatewayassociation.ca
SUMMARY:Audio Editing with Audacity (2 of 3)
DESCRIPTION:Session 2 of 3 \nDuration 1 hr \nFacilitator: Toby \nPrivate – GTDI Program intake required prior to workshop: getdigital@gatewayassociation.ca \n\nIn this 3 session workshop series participants will be guided through the steps to use Audacity software for basic audio editing. This series will focus on editing spoken dialogue.
URL:https://gatewayassociation.ca/calendar/audio-editing-with-audacity-2-of-3-3/
END:VEVENT
BEGIN:VEVENT
DTSTART;TZID=America/Denver:20231101T100000
DTEND;TZID=America/Denver:20231101T150000
DTSTAMP:20260419T150653
CREATED:20231024T173238Z
LAST-MODIFIED:20231024T173238Z
UID:251622-1698832800-1698850800@gatewayassociation.ca
SUMMARY:DROP IN- Calgary Employment Resource Centre
DESCRIPTION:DROP IN Wednesdays at the Calgary Employment Resource Centre \nFor job seekers\, each Wednesday drop in any time between 10am and 3pm to connect with ERC team members to work on resumes\, interview skills\, job search and meet other job seekers! \n1206 20 AVE SE \nCalgary\, AB
URL:https://gatewayassociation.ca/calendar/drop-in-calgary-employment-resource-centre/
CATEGORIES:ERC
END:VEVENT
BEGIN:VEVENT
DTSTART;TZID=America/Denver:20231101T100000
DTEND;TZID=America/Denver:20231101T113000
DTSTAMP:20260419T150653
CREATED:20230816T162743Z
LAST-MODIFIED:20230816T162743Z
UID:251195-1698832800-1698838200@gatewayassociation.ca
SUMMARY:Build a Website Series (8 of 9)
DESCRIPTION:Session: 8 of 9 \nDuration: 1.5 hours \nClasses are on Tues to Thurs for 1.5 hours per session. \nFacilitator: Lee \nPrivate – GTDI Program intake required prior to workshop: getdigital@gatewayassociation.ca \n\nBuild a Website is Part 3 of the Work Simulation. Completion of Part 1: Internet Basics\, and Part 2: Social Media Basics is recommended prior to taking this 3 week course. \nIncrease your digital and social media skills\, as you work in a team to build a website for an imaginary company. This is a tech-based work simulation\, where learners are ‘hired’ into positions at an imaginary tech company and work together to build a website for a simulated client. \nThis course covers basic: use of internet vocabulary and social media\, as well as web design while giving you experience with working on a team\, engaging with peers\, and giving presentations. Learn to design and build a website\, create and give presentations\, and practice your teamwork skills.
URL:https://gatewayassociation.ca/calendar/build-a-website-series-8-of-9/
END:VEVENT
BEGIN:VEVENT
DTSTART;TZID=America/Denver:20231031T143000
DTEND;TZID=America/Denver:20231031T153000
DTSTAMP:20260419T150653
CREATED:20230816T182559Z
LAST-MODIFIED:20230816T182559Z
UID:251238-1698762600-1698766200@gatewayassociation.ca
SUMMARY:Zoom Basics
DESCRIPTION:Session: 1 of 1 \nDuration: 1 hr \nFacilitator: Toby \nPrivate – GTDI Program intake required prior to workshop: getdigital@gatewayassociation.ca \n\nLearn what you need to know to participate in online Zoom meetings. Explore all the cool features of the program\, practice your digital skills and build your zoom social skills.
URL:https://gatewayassociation.ca/calendar/zoom-basics-21/
END:VEVENT
BEGIN:VEVENT
DTSTART;TZID=America/Denver:20231031T130000
DTEND;TZID=America/Denver:20231031T140000
DTSTAMP:20260419T150653
CREATED:20230816T182341Z
LAST-MODIFIED:20230816T182341Z
UID:251232-1698757200-1698760800@gatewayassociation.ca
SUMMARY:Audio Editing with Audacity (1 of 3)
DESCRIPTION:Session 1 of 3 \nDuration 1 hr \nFacilitator: Toby \nPrivate – GTDI Program intake required prior to workshop: getdigital@gatewayassociation.ca \n\nIn this 3 session workshop series participants will be guided through the steps to use Audacity software for basic audio editing. This series will focus on editing spoken dialogue.
URL:https://gatewayassociation.ca/calendar/audio-editing-with-audacity-1-of-3-3/
END:VEVENT
BEGIN:VEVENT
DTSTART;TZID=America/Denver:20231031T100000
DTEND;TZID=America/Denver:20231031T113000
DTSTAMP:20260419T150653
CREATED:20230816T162701Z
LAST-MODIFIED:20230816T162701Z
UID:251193-1698746400-1698751800@gatewayassociation.ca
SUMMARY:Build a Website Series (7 of 9)
DESCRIPTION:Session: 7 of 9 \nDuration: 1.5 hours \nClasses are on Tues to Thurs for 1.5 hours per session. \nFacilitator: Lee \nPrivate – GTDI Program intake required prior to workshop: getdigital@gatewayassociation.ca \n\nBuild a Website is Part 3 of the Work Simulation. Completion of Part 1: Internet Basics\, and Part 2: Social Media Basics is recommended prior to taking this 3 week course. \nIncrease your digital and social media skills\, as you work in a team to build a website for an imaginary company. This is a tech-based work simulation\, where learners are ‘hired’ into positions at an imaginary tech company and work together to build a website for a simulated client. \nThis course covers basic: use of internet vocabulary and social media\, as well as web design while giving you experience with working on a team\, engaging with peers\, and giving presentations. Learn to design and build a website\, create and give presentations\, and practice your teamwork skills.
URL:https://gatewayassociation.ca/calendar/build-a-website-series-7-of-9/
END:VEVENT
BEGIN:VEVENT
DTSTART;TZID=America/Denver:20231028T090000
DTEND;TZID=America/Denver:20231028T180000
DTSTAMP:20260419T150653
CREATED:20230912T214931Z
LAST-MODIFIED:20230912T214931Z
UID:251465-1698483600-1698516000@gatewayassociation.ca
SUMMARY:Gateway FRC Hosts EMPOWER 2023 (Day 2)
DESCRIPTION:DAY 2 \nJoin us for Empower 2023\, an Individual Support Planning event for families.  \nThis event is designed to equip you and your family for a future that exceeds expectations and enriches lives. \nDate:  \nFriday\, October 27\, 2023 \n9:00am – 6:00pm \nIn person   \nLocation:  \nGateway Association  \n201 – 10941 120 street NW\, Edmonton\, AB \nThe address for DATS drop off and elevator access is: 10930-119 Street NW \n\nQuestions? Please email info@gatewayassociation.ca\n\n\nEventbrite Link: https://www.eventbrite.ca/e/714753606277?aff=oddtdtcreator
URL:https://gatewayassociation.ca/calendar/gateway-frc-hosts-empower-2023-day-2/
CATEGORIES:FRC
END:VEVENT
BEGIN:VEVENT
DTSTART;TZID=America/Denver:20231027T090000
DTEND;TZID=America/Denver:20231027T180000
DTSTAMP:20260419T150653
CREATED:20230912T214830Z
LAST-MODIFIED:20230912T214830Z
UID:251463-1698397200-1698429600@gatewayassociation.ca
SUMMARY:Gateway FRC Hosts EMPOWER 2023 (Day 1)
DESCRIPTION:DAY 1  \nJoin us for Empower 2023\, an Individual Support Planning event for families.  \nThis event is designed to equip you and your family for a future that exceeds expectations and enriches lives. \nDate:  \nFriday\, October 27\, 2023 \n9:00am – 6:00pm \nIn person   \nLocation:  \nGateway Association  \n201 – 10941 120 street NW\, Edmonton\, AB \nThe address for DATS drop off and elevator access is: 10930-119 Street NW \n\nQuestions? Please email info@gatewayassociation.ca\n\n\nEventbrite Link: https://www.eventbrite.ca/e/714753606277?aff=oddtdtcreator
URL:https://gatewayassociation.ca/calendar/gateway-frc-hosts-empower-2023-day-1/
CATEGORIES:FRC
END:VEVENT
BEGIN:VEVENT
DTSTART;TZID=America/Denver:20231026T190000
DTEND;TZID=America/Denver:20231026T210000
DTSTAMP:20260419T150653
CREATED:20230720T172547Z
LAST-MODIFIED:20230829T164753Z
UID:250928-1698346800-1698354000@gatewayassociation.ca
SUMMARY:Families Forward\, Over 18
DESCRIPTION:Families Forward Over 18 \nThursday\, October 26 \n7:00pm – 9:00pm | Online \n  \nWhere families can connect with other families\, learn from one another\, and explore issues that are important (such as housing\, relationship building\, and community and government supports). \nOct 26\, 2023 Topic: \nVOICES OF ALBERTANS WITH DISABILITIES: Presentation of VAD services \n“A provincial\, cross disability organization of individuals with physical\, mental\, sensory\, learning and intellectual disabilities\, dedicated to improving the quality of life of people with disabilities through their efforts\, services and programs”. Join us to hear how VAD can help you access and apply for benefits such as AISH\, CPPD\, DTC\, and more! \n  \nFacilitator: Betty at Betty@GatewayAssociation.ca \nRegister HERE
URL:https://gatewayassociation.ca/calendar/families-forward-over-18-10/
CATEGORIES:FRC
END:VEVENT
BEGIN:VEVENT
DTSTART;TZID=America/Denver:20231026T130000
DTEND;TZID=America/Denver:20231026T140000
DTSTAMP:20260419T150653
CREATED:20230816T181313Z
LAST-MODIFIED:20230816T181323Z
UID:251221-1698325200-1698328800@gatewayassociation.ca
SUMMARY:You TOO Can YouTube (4 of 4)
DESCRIPTION:Session: 4 of 4 \nDuration: 1 hr \nFacilitator: Toby \nPrivate – GTDI Program intake required prior to workshop: getdigital@gatewayassociation.ca \nLearn about being a YouTube viewer and a YouTube creator. Find out how to make your own YouTube Channel and what to consider when you are choosing videos to watch. Create YouTube content\, learn about what to consider when watching videos as well as how to save and organize videos.
URL:https://gatewayassociation.ca/calendar/you-too-can-youtube-4-of-4-3/
END:VEVENT
BEGIN:VEVENT
DTSTART;TZID=America/Denver:20231026T110000
DTEND;TZID=America/Denver:20231026T120000
DTSTAMP:20260419T150653
CREATED:20231017T184411Z
LAST-MODIFIED:20231017T184411Z
UID:251563-1698318000-1698321600@gatewayassociation.ca
SUMMARY:Workplace Mental Wellness
DESCRIPTION:Join us along with Right From the Start for a session all about workplace mental wellness. \nHosted at the Canmore Public Library on October 26th from 11am-12pm. \nFollowing the session\, Gateway team members will be there to connect with you to share about services and supports available through Gateway for both employers and service providers! \n  \n 
URL:https://gatewayassociation.ca/calendar/workplace-mental-wellness/
CATEGORIES:ERC
END:VEVENT
BEGIN:VEVENT
DTSTART;TZID=America/Denver:20231026T100000
DTEND;TZID=America/Denver:20231026T113000
DTSTAMP:20260419T150653
CREATED:20230816T162427Z
LAST-MODIFIED:20230816T162427Z
UID:251191-1698314400-1698319800@gatewayassociation.ca
SUMMARY:Build a Website Series (6 of 9)
DESCRIPTION:Session: 6 of 9 \nDuration: 1.5 hours \nClasses are on Tues to Thurs for 1.5 hours per session. \nFacilitator: Lee \nPrivate – GTDI Program intake required prior to workshop: getdigital@gatewayassociation.ca \n\nBuild a Website is Part 3 of the Work Simulation. Completion of Part 1: Internet Basics\, and Part 2: Social Media Basics is recommended prior to taking this 3 week course. \nIncrease your digital and social media skills\, as you work in a team to build a website for an imaginary company. This is a tech-based work simulation\, where learners are ‘hired’ into positions at an imaginary tech company and work together to build a website for a simulated client. \nThis course covers basic: use of internet vocabulary and social media\, as well as web design while giving you experience with working on a team\, engaging with peers\, and giving presentations. Learn to design and build a website\, create and give presentations\, and practice your teamwork skills.
URL:https://gatewayassociation.ca/calendar/build-a-website-series-6-of-9/
END:VEVENT
BEGIN:VEVENT
DTSTART;TZID=America/Denver:20231025T163000
DTEND;TZID=America/Denver:20231025T183000
DTSTAMP:20260419T150653
CREATED:20231010T171032Z
LAST-MODIFIED:20231010T171032Z
UID:251560-1698251400-1698258600@gatewayassociation.ca
SUMMARY:Cheers to Inclusion YEG
DESCRIPTION:What is Cheers to Inclusion? \nCheers to Inclusion is a MentorAbility DEAM initiative that originated in Halifax as a way for businesses\, employers\, and service providers to casually gather\, connect about inclusion practices in the workplace and show their support for DEAM. And because the craft brewing industry has notoriously been a very inclusive community\, it made sense to start these events in an inclusive space within the industry! \nGateway Association is excited to host this years 2023 DEAM Cheers to Inclusion event in Edmonton at Asymmetrical Brewing! \nWho is Cheers to Inclusion for? \nCheers to Inclusion is for employers at any point in their inclusion journey\, service providers\, self-advocates and community members who want want to connect about creating more accessible and inclusive workforces and communities for persons experiencing disability! \n\nThe Details: \nWednesday\, October 25th\, 2023 \n@ Asymmetrical Brewing \n11821 105 Ave NW\, Edmonton\, AB \n4:30pm-6:30pm + \n\nDrop in or stay for the whole event! \nCan’t wait to see you there! \nREGISTER HERE
URL:https://gatewayassociation.ca/calendar/cheers-to-inclusion-yeg/
CATEGORIES:ERC,MentorAbility Alberta
END:VEVENT
BEGIN:VEVENT
DTSTART;TZID=America/Denver:20231025T150000
DTEND;TZID=America/Denver:20231025T163000
DTSTAMP:20260419T150653
CREATED:20230816T181916Z
LAST-MODIFIED:20230816T181916Z
UID:251230-1698246000-1698251400@gatewayassociation.ca
SUMMARY:Online Boardgames
DESCRIPTION:Session: 1 of 1 \nDuration: 1.5 to 2 hr \nFacilitator: Lee \nPrivate – GTDI Program intake required prior to workshop signup: getdigital@gatewayassociation.ca \n\n**Requires Online Social Connections – Discord and Steam Tutorials as well as desktop or laptop computer.** \nCome hang out! Learn about setting up online accounts\, meet new friends\, socialize\, and have fun playing boardgames online. Meet new friends\, practise new skills\, have fun!
URL:https://gatewayassociation.ca/calendar/online-boardgames-17/
END:VEVENT
BEGIN:VEVENT
DTSTART;TZID=America/Denver:20231025T143000
DTEND;TZID=America/Denver:20231025T153000
DTSTAMP:20260419T150653
CREATED:20230816T181838Z
LAST-MODIFIED:20230816T181838Z
UID:251228-1698244200-1698247800@gatewayassociation.ca
SUMMARY:LinkedIn Profiles (3 of 3)
DESCRIPTION:Session: 3 of 3 \nDuration: 1 hr \nFacilitator: Toby \nPrivate – GTDI Program intake required prior to workshop: getdigital@gatewayassociation.ca \n\nBuild your own LinkedIn profile! Share your skills\, goals\, and experiences\, create job alerts\, and grow your online network.
URL:https://gatewayassociation.ca/calendar/linkedin-profiles-3-of-3-2/
END:VEVENT
BEGIN:VEVENT
DTSTART;TZID=America/Denver:20231025T130000
DTEND;TZID=America/Denver:20231025T140000
DTSTAMP:20260419T150653
CREATED:20230816T181226Z
LAST-MODIFIED:20230816T181226Z
UID:251219-1698238800-1698242400@gatewayassociation.ca
SUMMARY:You TOO Can YouTube (3 of 4)
DESCRIPTION:Session: 3 of 4 \nDuration: 1 hr \nFacilitator: Toby \nPrivate – GTDI Program intake required prior to workshop: getdigital@gatewayassociation.ca \n\nLearn about being a YouTube viewer and a YouTube creator. Find out how to make your own YouTube Channel and what to consider when you are choosing videos to watch. Create YouTube content\, learn about what to consider when watching videos as well as how to save and organize videos.
URL:https://gatewayassociation.ca/calendar/you-too-can-youtube-3-of-4-3/
END:VEVENT
BEGIN:VEVENT
DTSTART;TZID=America/Denver:20231025T100000
DTEND;TZID=America/Denver:20231025T113000
DTSTAMP:20260419T150653
CREATED:20230816T162327Z
LAST-MODIFIED:20230816T162327Z
UID:251189-1698228000-1698233400@gatewayassociation.ca
SUMMARY:Build a Website Series (5 of 9)
DESCRIPTION:Session: 5 of 9 \nDuration: 1.5 hours \nClasses are on Tues to Thurs for 1.5 hours per session. \nFacilitator: Lee \nPrivate – GTDI Program intake required prior to workshop: getdigital@gatewayassociation.ca \n\nBuild a Website is Part 3 of the Work Simulation. Completion of Part 1: Internet Basics\, and Part 2: Social Media Basics is recommended prior to taking this 3 week course. \nIncrease your digital and social media skills\, as you work in a team to build a website for an imaginary company. This is a tech-based work simulation\, where learners are ‘hired’ into positions at an imaginary tech company and work together to build a website for a simulated client. \nThis course covers basic: use of internet vocabulary and social media\, as well as web design while giving you experience with working on a team\, engaging with peers\, and giving presentations. Learn to design and build a website\, create and give presentations\, and practice your teamwork skills.
URL:https://gatewayassociation.ca/calendar/build-a-website-series-5-of-9/
END:VEVENT
BEGIN:VEVENT
DTSTART;TZID=America/Denver:20231024T143000
DTEND;TZID=America/Denver:20231024T153000
DTSTAMP:20260419T150653
CREATED:20230816T181749Z
LAST-MODIFIED:20230816T181749Z
UID:251226-1698157800-1698161400@gatewayassociation.ca
SUMMARY:LinkedIn Profiles (2 of 3)
DESCRIPTION:Session: 2 of 3 \nDuration: 1 hr \nFacilitator: Toby \nPrivate – GTDI Program intake required prior to workshop: getdigital@gatewayassociation.ca \n\nBuild your own LinkedIn profile! Share your skills\, goals\, and experiences\, create job alerts\, and grow your online network.
URL:https://gatewayassociation.ca/calendar/linkedin-profiles-2-of-3-2/
END:VEVENT
BEGIN:VEVENT
DTSTART;TZID=America/Denver:20231024T130000
DTEND;TZID=America/Denver:20231024T140000
DTSTAMP:20260419T150653
CREATED:20230816T181147Z
LAST-MODIFIED:20230816T181147Z
UID:251217-1698152400-1698156000@gatewayassociation.ca
SUMMARY:You TOO Can YouTube (2 of 4)
DESCRIPTION:Session: 2 of 4 \nDuration: 1 hr \nFacilitator: Toby \nPrivate – GTDI Program intake required prior to workshop: getdigital@gatewayassociation.ca \n\nLearn about being a YouTube viewer and a YouTube creator. Find out how to make your own YouTube Channel and what to consider when you are choosing videos to watch. Create YouTube content\, learn about what to consider when watching videos as well as how to save and organize videos.
URL:https://gatewayassociation.ca/calendar/you-too-can-youtube-2-of-4-3/
END:VEVENT
BEGIN:VEVENT
DTSTART;TZID=America/Denver:20231024T100000
DTEND;TZID=America/Denver:20231024T113000
DTSTAMP:20260419T150653
CREATED:20230816T162247Z
LAST-MODIFIED:20230816T162247Z
UID:251187-1698141600-1698147000@gatewayassociation.ca
SUMMARY:Build a Website Series (4 of 9)
DESCRIPTION:Session: 4 of 9 \nDuration: 1.5 hours \nClasses are on Tues to Thurs for 1.5 hours per session. \nFacilitator: Lee \nPrivate – GTDI Program intake required prior to workshop: getdigital@gatewayassociation.ca \n\nBuild a Website is Part 3 of the Work Simulation. Completion of Part 1: Internet Basics\, and Part 2: Social Media Basics is recommended prior to taking this 3 week course. \nIncrease your digital and social media skills\, as you work in a team to build a website for an imaginary company. This is a tech-based work simulation\, where learners are ‘hired’ into positions at an imaginary tech company and work together to build a website for a simulated client. \nThis course covers basic: use of internet vocabulary and social media\, as well as web design while giving you experience with working on a team\, engaging with peers\, and giving presentations. Learn to design and build a website\, create and give presentations\, and practice your teamwork skills.
URL:https://gatewayassociation.ca/calendar/build-a-website-series-4-of-9/
END:VEVENT
BEGIN:VEVENT
DTSTART;TZID=America/Denver:20231023T180000
DTEND;TZID=America/Denver:20231023T210000
DTSTAMP:20260419T150653
CREATED:20230720T182514Z
LAST-MODIFIED:20230720T182514Z
UID:250963-1698084000-1698094800@gatewayassociation.ca
SUMMARY:Abuse Prevention and Response Protocol (FMS Admin)
DESCRIPTION:Abuse Prevention and Response Protocol (FMS Admin) \nMonday\, October 23 \n6:00pm – 9:00pm | Online \n  \nThis workshop\, for FMS Administrators\, provides an understanding of the protocol\, explores what can be done to reduce the risk of abuse\, identifies types of abuse\, and how to handle situations when abuse is suspected. \n  \nNote: This is a mandatory course for FMS Administrators under Family Managed Services with Disability Services. \n  \nFacilitator: Betty at Betty@GatewayAssociation.ca \nRegister HERE
URL:https://gatewayassociation.ca/calendar/abuse-prevention-and-response-protocol-fms-admin-7/
CATEGORIES:FRC
END:VEVENT
END:VCALENDAR