BEGIN:VCALENDAR
VERSION:2.0
PRODID:-//Gateway Association - ECPv6.15.20//NONSGML v1.0//EN
CALSCALE:GREGORIAN
METHOD:PUBLISH
X-WR-CALNAME:Gateway Association
X-ORIGINAL-URL:https://gatewayassociation.ca
X-WR-CALDESC:Events for Gateway Association
REFRESH-INTERVAL;VALUE=DURATION:PT1H
X-Robots-Tag:noindex
X-PUBLISHED-TTL:PT1H
BEGIN:VTIMEZONE
TZID:America/Denver
BEGIN:DAYLIGHT
TZOFFSETFROM:-0700
TZOFFSETTO:-0600
TZNAME:MDT
DTSTART:20230312T090000
END:DAYLIGHT
BEGIN:STANDARD
TZOFFSETFROM:-0600
TZOFFSETTO:-0700
TZNAME:MST
DTSTART:20231105T080000
END:STANDARD
BEGIN:DAYLIGHT
TZOFFSETFROM:-0700
TZOFFSETTO:-0600
TZNAME:MDT
DTSTART:20240310T090000
END:DAYLIGHT
BEGIN:STANDARD
TZOFFSETFROM:-0600
TZOFFSETTO:-0700
TZNAME:MST
DTSTART:20241103T080000
END:STANDARD
BEGIN:DAYLIGHT
TZOFFSETFROM:-0700
TZOFFSETTO:-0600
TZNAME:MDT
DTSTART:20250309T090000
END:DAYLIGHT
BEGIN:STANDARD
TZOFFSETFROM:-0600
TZOFFSETTO:-0700
TZNAME:MST
DTSTART:20251102T080000
END:STANDARD
END:VTIMEZONE
BEGIN:VEVENT
DTSTART;TZID=America/Denver:20240425T110000
DTEND;TZID=America/Denver:20240425T120000
DTSTAMP:20260419T165551
CREATED:20240326T215345Z
LAST-MODIFIED:20240326T215425Z
UID:252250-1714042800-1714046400@gatewayassociation.ca
SUMMARY:Google Docs (2 of 2)
DESCRIPTION:Session: 2 of 2  \nDuration: 1 hr   \nFacilitator: Lee  \nPrivate – GTDI Program intake required prior to workshop: getdigital@gatewayassociation.ca  \n  \nIn this 2 session workshop series\, Participants will practice creating and sharing google documents\, explore the tools provided to help them write\, edit\, comment and chat. This workshop covers the Basics of google docs\, as well as file organization\, sharing\, and commenting.  
URL:https://gatewayassociation.ca/calendar/google-docs-2-of-2-9/
END:VEVENT
BEGIN:VEVENT
DTSTART;TZID=America/Denver:20240424T130000
DTEND;TZID=America/Denver:20240424T140000
DTSTAMP:20260419T165551
CREATED:20240326T215623Z
LAST-MODIFIED:20240326T215623Z
UID:252256-1713963600-1713967200@gatewayassociation.ca
SUMMARY:LinkedIn Profiles (3 of 3)
DESCRIPTION:Session: 3 of 3 \nDuration: 1 hr \nFacilitator: Toby \nPrivate – GTDI Program intake required prior to workshop: getdigital@gatewayassociation.ca \n\nBuild your own LinkedIn profile! Share your skills\, goals\, and experiences\, create job alerts\, and grow your online network.
URL:https://gatewayassociation.ca/calendar/linkedin-profiles-3-of-3-5/
END:VEVENT
BEGIN:VEVENT
DTSTART;TZID=America/Denver:20240424T130000
DTEND;TZID=America/Denver:20240424T140000
DTSTAMP:20260419T165551
CREATED:20231212T210056Z
LAST-MODIFIED:20231212T210056Z
UID:251934-1713963600-1713967200@gatewayassociation.ca
SUMMARY: How to Read a Job Posting
DESCRIPTION: How to Read a Job Posting \n Join this workshop to understand various elements of a job posting\, identify red flags\, and find the right match. This workshop intends to help people save their time by targeting jobs that fits their expectations. \nThis workshop is for registered participants only. To register\, please connect with us at Get-Work@GatewayAssociation.ca
URL:https://gatewayassociation.ca/calendar/how-to-read-a-job-posting-9/
CATEGORIES:ERC
END:VEVENT
BEGIN:VEVENT
DTSTART;TZID=America/Denver:20240424T110000
DTEND;TZID=America/Denver:20240424T120000
DTSTAMP:20260419T165551
CREATED:20240326T215314Z
LAST-MODIFIED:20240326T215314Z
UID:252248-1713956400-1713960000@gatewayassociation.ca
SUMMARY:Google Docs (1 of 2)
DESCRIPTION:Session: 1 of 2  \nDuration: 1 hr   \nFacilitator: Lee  \nPrivate – GTDI Program intake required prior to workshop: getdigital@gatewayassociation.ca  \n  \nIn this 2 session workshop series\, Participants will practice creating and sharing google documents\, explore the tools provided to help them write\, edit\, comment and chat. This workshop covers the Basics of google docs\, as well as file organization\, sharing\, and commenting.  
URL:https://gatewayassociation.ca/calendar/google-docs-1-of-2-9/
END:VEVENT
BEGIN:VEVENT
DTSTART;TZID=America/Denver:20240424T100000
DTEND;TZID=America/Denver:20240424T150000
DTSTAMP:20260419T165551
CREATED:20231220T160112Z
LAST-MODIFIED:20231220T160112Z
UID:252021-1713952800-1713970800@gatewayassociation.ca
SUMMARY:DROP IN WEDNESDAYS  at the Calgary Employment Resource Centre
DESCRIPTION:DROP IN WEDNESDAYS \nat the Calgary Employment Resource Centre \nFor job seekers\, each Wednesday drop in any time between 10am and 3pm to connect with ERC team members to work on resumes\, interview skills\, job search and meet other job seekers! \n1206 20 AVE SE \nCalgary\, AB
URL:https://gatewayassociation.ca/calendar/drop-in-wednesdays-at-the-calgary-employment-resource-centre-18/
CATEGORIES:ERC
END:VEVENT
BEGIN:VEVENT
DTSTART;TZID=America/Denver:20240423T180000
DTEND;TZID=America/Denver:20240423T210000
DTSTAMP:20260419T165551
CREATED:20230724T132137Z
LAST-MODIFIED:20230724T132137Z
UID:251030-1713895200-1713906000@gatewayassociation.ca
SUMMARY:Transition Planning for Adulthood  (Part 2 of 3)
DESCRIPTION:Transition Planning for Adulthood – 3 part series \nTuesday\, April 16 \nTuesday\, April 23 \nTuesday\, April 30 \n6:00pm – 9:00pm | Online \n  \nJoin our 3-part workshop series that engages families in building knowledge when navigating this critical time for 14-20 year olds. This workshop series includes topics on: life transitions\, valued roles in the community\, visioning and planning\, and navigating the systems.  \nFacilitator: Shelley at Shelley@GatewayAssociation.ca \nRegister HERE
URL:https://gatewayassociation.ca/calendar/transition-planning-for-adulthood-part-2-of-3/
CATEGORIES:FRC
END:VEVENT
BEGIN:VEVENT
DTSTART;TZID=America/Denver:20240423T130000
DTEND;TZID=America/Denver:20240423T140000
DTSTAMP:20260419T165551
CREATED:20240326T215552Z
LAST-MODIFIED:20240326T215552Z
UID:252254-1713877200-1713880800@gatewayassociation.ca
SUMMARY:LinkedIn Profiles (2 of 3)
DESCRIPTION:Session: 2 of 3 \nDuration: 1 hr \nFacilitator: Toby \nPrivate – GTDI Program intake required prior to workshop: getdigital@gatewayassociation.ca \n\nBuild your own LinkedIn profile! Share your skills\, goals\, and experiences\, create job alerts\, and grow your online network.
URL:https://gatewayassociation.ca/calendar/linkedin-profiles-2-of-3-5/
END:VEVENT
BEGIN:VEVENT
DTSTART;TZID=America/Denver:20240423T130000
DTEND;TZID=America/Denver:20240423T140000
DTSTAMP:20260419T165551
CREATED:20231212T205928Z
LAST-MODIFIED:20231212T205928Z
UID:251932-1713877200-1713880800@gatewayassociation.ca
SUMMARY:Workplace Communication 102 - Conflict Resolution
DESCRIPTION:Workplace Communication 102 – Conflict Resolution \nWorkplace Communication is made up of many essential skills\, including how to deal with conflict.  Conflict can be difficult to navigate and hard to understand.  In this workshop\, we will talk about conflict in the workplace and learn strategies to resolve conflict. \nThis workshop is for registered participants only. To register\, please connect with us at Get-Work@GatewayAssociation.ca
URL:https://gatewayassociation.ca/calendar/workplace-communication-102-conflict-resolution-3/
CATEGORIES:ERC
END:VEVENT
BEGIN:VEVENT
DTSTART;TZID=America/Denver:20240423T110000
DTEND;TZID=America/Denver:20240423T120000
DTSTAMP:20260419T165551
CREATED:20240326T215234Z
LAST-MODIFIED:20240326T215234Z
UID:252246-1713870000-1713873600@gatewayassociation.ca
SUMMARY:Google Drive (2 of 2)
DESCRIPTION:Session: 2 of 2  \nDuration: 1  hr  \nFacilitator: Lee   \nPrivate – GTDI Program intake required prior to workshop: getdigital@gatewayassociation.ca  \n  \nLearn how to create a google accounts\, access google drive\, upload files\, create folders\, search for files. Group discussion on cloud storage\, strong passwords\, file naming conventions and keeping documents and folders organized.  
URL:https://gatewayassociation.ca/calendar/google-drive-2-of-2-9/
END:VEVENT
BEGIN:VEVENT
DTSTART;TZID=America/Denver:20240422T130000
DTEND;TZID=America/Denver:20240422T140000
DTSTAMP:20260419T165551
CREATED:20240326T215520Z
LAST-MODIFIED:20240326T215520Z
UID:252252-1713790800-1713794400@gatewayassociation.ca
SUMMARY:LinkedIn Profiles (1 of 3)
DESCRIPTION:Session: 1 of 3 \nDuration: 1 hr \nFacilitator: Toby \nPrivate – GTDI Program intake required prior to workshop: getdigital@gatewayassociation.ca \n\nBuild your own LinkedIn profile! Share your skills\, goals\, and experiences\, create job alerts\, and grow your online network.
URL:https://gatewayassociation.ca/calendar/linkedin-profiles-1-of-3-5/
END:VEVENT
BEGIN:VEVENT
DTSTART;TZID=America/Denver:20240422T110000
DTEND;TZID=America/Denver:20240422T120000
DTSTAMP:20260419T165551
CREATED:20240326T215157Z
LAST-MODIFIED:20240326T215157Z
UID:252244-1713783600-1713787200@gatewayassociation.ca
SUMMARY:Google Drive (1 of 2)
DESCRIPTION:Session: 1 of 2  \nDuration: 1  hr  \nFacilitator: Lee   \nPrivate – GTDI Program intake required prior to workshop: getdigital@gatewayassociation.ca  \n  \nLearn how to create a google accounts\, access google drive\, upload files\, create folders\, search for files. Group discussion on cloud storage\, strong passwords\, file naming conventions and keeping documents and folders organized.  
URL:https://gatewayassociation.ca/calendar/google-drive-1-of-2-9/
END:VEVENT
BEGIN:VEVENT
DTSTART;TZID=America/Denver:20240422T090000
DTEND;TZID=America/Denver:20240422T120000
DTSTAMP:20260419T165551
CREATED:20230724T132428Z
LAST-MODIFIED:20230724T132428Z
UID:251034-1713776400-1713787200@gatewayassociation.ca
SUMMARY:Abuse Prevention and Response Protocol (FMS Admin)
DESCRIPTION:Abuse Prevention and Response Protocol (FMS Admin) \nMonday\, April 22 \n9:00am – 12:00pm | Online \n  \nThis workshop\, for FMS Administrators\, provides an understanding of the protocol\, explores what can be done to reduce the risk of abuse\, identifies types of abuse\, and how to handle situations when abuse is suspected. \nNote: This is a mandatory course for FMS Administrators under Family Managed Services with Disability Services. \n  \nFacilitator: Betty at Betty@GatewayAssociation.ca \nRegister HERE
URL:https://gatewayassociation.ca/calendar/abuse-prevention-and-response-protocol-fms-admin-10/
CATEGORIES:FRC
END:VEVENT
BEGIN:VEVENT
DTSTART;TZID=America/Denver:20240420T090000
DTEND;TZID=America/Denver:20240420T100000
DTSTAMP:20260419T165551
CREATED:20240201T035212Z
LAST-MODIFIED:20240201T035212Z
UID:252135-1713603600-1713607200@gatewayassociation.ca
SUMMARY:FSCD 101
DESCRIPTION:FSCD 101 \n9:00am – 10:00am | Online \nSaturday\, April 20 \nThis workshop was created by Family Supports for Children with Disabilities (FSCD) to assist families to better understand how to utilize their FSCD agreement. \nWhile it was designed for families new to FSCD\, all families receiving supports from FSCD are welcome to attend as it will cover important items\, such as: the difference between Family Support Services (FSS) and Child Focused Services (CFS)\, understanding your FSCD agreement\, how to invoice for services\, and more. This workshop will be held monthly. \n  \nRegister here: https://www.eventbrite.ca/e/family-support-for-children-with-disabilities-fscd-101-tickets-815891672957
URL:https://gatewayassociation.ca/calendar/fscd-101-3/
CATEGORIES:FRC
END:VEVENT
BEGIN:VEVENT
DTSTART;TZID=America/Denver:20240418T130000
DTEND;TZID=America/Denver:20240418T140000
DTSTAMP:20260419T165551
CREATED:20240326T214648Z
LAST-MODIFIED:20240326T214648Z
UID:252236-1713445200-1713448800@gatewayassociation.ca
SUMMARY:You TOO Can YouTube (4 of 4)
DESCRIPTION:Session: 4 of 4 \nDuration: 1 hr \nFacilitator: Toby \nPrivate – GTDI Program intake required prior to workshop: getdigital@gatewayassociation.ca \n\nLearn about being a YouTube viewer and a YouTube creator. Find out how to make your own YouTube Channel and what to consider when you are choosing videos to watch. Create YouTube content\, learn about what to consider when watching videos as well as how to save and organize videos.
URL:https://gatewayassociation.ca/calendar/you-too-can-youtube-4-of-4-7/
END:VEVENT
BEGIN:VEVENT
DTSTART;TZID=America/Denver:20240418T130000
DTEND;TZID=America/Denver:20240418T140000
DTSTAMP:20260419T165551
CREATED:20231212T205833Z
LAST-MODIFIED:20231212T205833Z
UID:251930-1713445200-1713448800@gatewayassociation.ca
SUMMARY:Workplace Expectations
DESCRIPTION:Workplace Expectations \nYou’ve got the job\, now you must keep it! Talking about the everyday behaviors that are appropriate in the workplace: \n\nshowing up on time\nhow long is too long for socializing with coworkers\nbreaks – what does this mean\nmotivation and engagement\n\n \nThis workshop is for registered participants only. To register\, please connect with us at Get-Work@GatewayAssociation.ca
URL:https://gatewayassociation.ca/calendar/workplace-expectations-14/
CATEGORIES:ERC
END:VEVENT
BEGIN:VEVENT
DTSTART;TZID=America/Denver:20240418T110000
DTEND;TZID=America/Denver:20240418T120000
DTSTAMP:20260419T165551
CREATED:20240326T214929Z
LAST-MODIFIED:20240326T214929Z
UID:252240-1713438000-1713441600@gatewayassociation.ca
SUMMARY:Steam Tutorial
DESCRIPTION:Session 1 of 1  \nDuration 1 hr  \nFacilitator: Lee  \nPrivate – GTDI Program intake required prior to workshop: getdigital@gatewayassociation.ca  \n  \nStep by step tutorial for downloading and installing Steam – an online game platform. Steam is required for Online boardgames group. 
URL:https://gatewayassociation.ca/calendar/steam-tutorial-18/
END:VEVENT
BEGIN:VEVENT
DTSTART;TZID=America/Denver:20240417T150000
DTEND;TZID=America/Denver:20240417T163000
DTSTAMP:20260419T165551
CREATED:20240326T215012Z
LAST-MODIFIED:20240326T215012Z
UID:252242-1713366000-1713371400@gatewayassociation.ca
SUMMARY:Online Boardgames
DESCRIPTION:Session: 1 of 1 \nDuration: 1.5 to 2 hr \nFacilitator: Lee \nPrivate – GTDI Program intake required prior to workshop signup: getdigital@gatewayassociation.ca \n\n**Requires Online Social Connections – Discord and Steam Tutorials as well as desktop or laptop computer.** \nCome hang out! Learn about setting up online accounts\, meet new friends\, socialize\, and have fun playing boardgames online. Meet new friends\, practise new skills\, have fun!
URL:https://gatewayassociation.ca/calendar/online-boardgames-35/
END:VEVENT
BEGIN:VEVENT
DTSTART;TZID=America/Denver:20240417T130000
DTEND;TZID=America/Denver:20240417T140000
DTSTAMP:20260419T165551
CREATED:20240326T214614Z
LAST-MODIFIED:20240326T214614Z
UID:252234-1713358800-1713362400@gatewayassociation.ca
SUMMARY:You TOO Can YouTube (3 of 4)
DESCRIPTION:Session: 3 of 4 \nDuration: 1 hr \nFacilitator: Toby \nPrivate – GTDI Program intake required prior to workshop: getdigital@gatewayassociation.ca \n\nLearn about being a YouTube viewer and a YouTube creator. Find out how to make your own YouTube Channel and what to consider when you are choosing videos to watch. Create YouTube content\, learn about what to consider when watching videos as well as how to save and organize videos.
URL:https://gatewayassociation.ca/calendar/you-too-can-youtube-3-of-4-7/
END:VEVENT
BEGIN:VEVENT
DTSTART;TZID=America/Denver:20240417T100000
DTEND;TZID=America/Denver:20240417T150000
DTSTAMP:20260419T165551
CREATED:20231220T160044Z
LAST-MODIFIED:20231220T160044Z
UID:252019-1713348000-1713366000@gatewayassociation.ca
SUMMARY:DROP IN WEDNESDAYS  at the Calgary Employment Resource Centre
DESCRIPTION:DROP IN WEDNESDAYS \nat the Calgary Employment Resource Centre \nFor job seekers\, each Wednesday drop in any time between 10am and 3pm to connect with ERC team members to work on resumes\, interview skills\, job search and meet other job seekers! \n1206 20 AVE SE \nCalgary\, AB
URL:https://gatewayassociation.ca/calendar/drop-in-wednesdays-at-the-calgary-employment-resource-centre-17/
CATEGORIES:ERC
END:VEVENT
BEGIN:VEVENT
DTSTART;TZID=America/Denver:20240416T180000
DTEND;TZID=America/Denver:20240416T210000
DTSTAMP:20260419T165551
CREATED:20230724T132021Z
LAST-MODIFIED:20230724T132021Z
UID:251028-1713290400-1713301200@gatewayassociation.ca
SUMMARY:Transition Planning for Adulthood  (Part 1 of 3)
DESCRIPTION:Transition Planning for Adulthood – 3 part series \nTuesday\, April 16 \nTuesday\, April 23 \nTuesday\, April 30 \n6:00pm – 9:00pm | Online \n  \nJoin our 3-part workshop series that engages families in building knowledge when navigating this critical time for 14-20 year olds. This workshop series includes topics on: life transitions\, valued roles in the community\, visioning and planning\, and navigating the systems.  \nFacilitator: Shelley at Shelley@GatewayAssociation.ca \nRegister HERE
URL:https://gatewayassociation.ca/calendar/transition-planning-for-adulthood-part-1-of-3/
CATEGORIES:FRC
END:VEVENT
BEGIN:VEVENT
DTSTART;TZID=America/Denver:20240416T130000
DTEND;TZID=America/Denver:20240416T140000
DTSTAMP:20260419T165551
CREATED:20240326T214533Z
LAST-MODIFIED:20240326T214533Z
UID:252232-1713272400-1713276000@gatewayassociation.ca
SUMMARY:You TOO Can YouTube (2 of 4)
DESCRIPTION:Session: 2 of 4 \nDuration: 1 hr \nFacilitator: Toby \nPrivate – GTDI Program intake required prior to workshop: getdigital@gatewayassociation.ca \n\nLearn about being a YouTube viewer and a YouTube creator. Find out how to make your own YouTube Channel and what to consider when you are choosing videos to watch. Create YouTube content\, learn about what to consider when watching videos as well as how to save and organize videos.
URL:https://gatewayassociation.ca/calendar/you-too-can-youtube-2-of-4-7/
END:VEVENT
BEGIN:VEVENT
DTSTART;TZID=America/Denver:20240416T130000
DTEND;TZID=America/Denver:20240416T140000
DTSTAMP:20260419T165551
CREATED:20231212T205741Z
LAST-MODIFIED:20231212T205741Z
UID:251928-1713272400-1713276000@gatewayassociation.ca
SUMMARY:Networking 102
DESCRIPTION:Networking 102 \n This workshop will teach participants how to network online! We will go over  how to connect with people on LinkedIn\, sending cold emails\, using social media to connect with others and more! \nThis workshop is for registered participants only. To register\, please connect with us at Get-Work@GatewayAssociation.ca
URL:https://gatewayassociation.ca/calendar/networking-102-2/
CATEGORIES:ERC
END:VEVENT
BEGIN:VEVENT
DTSTART;TZID=America/Denver:20240416T110000
DTEND;TZID=America/Denver:20240416T120000
DTSTAMP:20260419T165551
CREATED:20240326T214849Z
LAST-MODIFIED:20240326T214849Z
UID:252238-1713265200-1713268800@gatewayassociation.ca
SUMMARY:Discord Tutorial
DESCRIPTION:Session 1 of 1  \nDuration 1 hr  \nFacilitator: Lee  \nPrivate – GTDI Program intake required prior to workshop: getdigital@gatewayassociation.ca  \n  \nStep by step tutorial for downloading and installing Discord – a free app that lets people chat using text\, voice or video. Discord is required for Online boardgames group. 
URL:https://gatewayassociation.ca/calendar/discord-tutorial-20/
END:VEVENT
BEGIN:VEVENT
DTSTART;TZID=America/Denver:20240415T190000
DTEND;TZID=America/Denver:20240415T210000
DTSTAMP:20260419T165551
CREATED:20230720T172203Z
LAST-MODIFIED:20230803T143808Z
UID:250922-1713207600-1713214800@gatewayassociation.ca
SUMMARY:Families Forward\, Financial Resources
DESCRIPTION:Families Forward\, Financial Resources \nMonday\, April 15 \n7:00pm – 9:00pm | Online \n  \nMonthly meeting where families can connect with other families\, learn from one another\, and explore financial resources. \nFacilitators: Fiona at Fiona@GatewayAssociation.ca and Jacquie at Jacquie@Jacquie@GatewayAssociation.ca \nRegister HERE 
URL:https://gatewayassociation.ca/calendar/families-forward-financial-resources-7/
CATEGORIES:FRC
END:VEVENT
BEGIN:VEVENT
DTSTART;TZID=America/Denver:20240415T130000
DTEND;TZID=America/Denver:20240415T140000
DTSTAMP:20260419T165551
CREATED:20240326T214452Z
LAST-MODIFIED:20240326T214452Z
UID:252230-1713186000-1713189600@gatewayassociation.ca
SUMMARY:YouTOO Can YouTube (1 of 4)
DESCRIPTION:Session: 1 of 4 \nDuration: 1 hr \nFacilitator: Toby \nPrivate – GTDI Program intake required prior to workshop: getdigital@gatewayassociation.ca \n\nLearn about being a YouTube viewer and a YouTube creator. Find out how to make your own YouTube Channel and what to consider when you are choosing videos to watch. Create YouTube content\, learn about what to consider when watching videos as well as how to save and organize videos.
URL:https://gatewayassociation.ca/calendar/youtoo-can-youtube-1-of-4/
END:VEVENT
BEGIN:VEVENT
DTSTART;TZID=America/Denver:20240411T130000
DTEND;TZID=America/Denver:20240411T140000
DTSTAMP:20260419T165551
CREATED:20240326T214308Z
LAST-MODIFIED:20240326T214308Z
UID:252226-1712840400-1712844000@gatewayassociation.ca
SUMMARY:LinkedIn Learning
DESCRIPTION:Session 1 of 1  \nDuration 1 hr   \nFacilitator: Toby  \nPrivate – GTDI Program intake required prior to workshop: getdigital@gatewayassociation.ca  \n  \n***Requires an active library membership.**  \nExplore LinkedIn website as a group\, learn how to: create an account\, search for course\, save and organize courses\, and customize your profile.  
URL:https://gatewayassociation.ca/calendar/linkedin-learning-23/
END:VEVENT
BEGIN:VEVENT
DTSTART;TZID=America/Denver:20240411T130000
DTEND;TZID=America/Denver:20240411T140000
DTSTAMP:20260419T165551
CREATED:20231212T205650Z
LAST-MODIFIED:20231212T205650Z
UID:251926-1712840400-1712844000@gatewayassociation.ca
SUMMARY:Interview Prep: Common Interview Questions
DESCRIPTION:Interview Prep: Common Interview Questions \nLearn tips about how to effectively answer some of the most common interview questions! \n  \nThis workshop is for registered participants only. To register\, please connect with us at Get-Work@GatewayAssociation.ca
URL:https://gatewayassociation.ca/calendar/interview-prep-common-interview-questions/
CATEGORIES:ERC
END:VEVENT
BEGIN:VEVENT
DTSTART;TZID=America/Denver:20240411T110000
DTEND;TZID=America/Denver:20240411T120000
DTSTAMP:20260419T165551
CREATED:20240326T214359Z
LAST-MODIFIED:20240326T214359Z
UID:252228-1712833200-1712836800@gatewayassociation.ca
SUMMARY:Study Hall - ePortfolio
DESCRIPTION:Session 1 of 1  \nDuration 1 hr   \nFacilitator: Lee  \nPrivate – GTDI Program intake required prior to workshop: getdigital@gatewayassociation.ca  \n**Requires desktop or laptop computer. (tablets may work – contact facilitator prior to session)** \n  \nThis is an open work session for participants who  have already completed the ePortfolio Workshop series and would like to continue working on their portfolios.
URL:https://gatewayassociation.ca/calendar/study-hall-eportfolio/
END:VEVENT
BEGIN:VEVENT
DTSTART;TZID=America/Denver:20240411T100000
DTEND;TZID=America/Denver:20240411T120000
DTSTAMP:20260419T165551
CREATED:20231212T205549Z
LAST-MODIFIED:20231212T205549Z
UID:251924-1712829600-1712836800@gatewayassociation.ca
SUMMARY: Interview Roundtable: Learning and Laughing Together
DESCRIPTION: Interview Roundtable: Learning and Laughing Together \nJoin us for a dynamic and interactive workshop designed to help you ace your next job interview. In our Interview Roundtable\, you’ll have the opportunity to connect with fellow job seekers and share your experiences and insights. Our experienced facilitators will guide you through real-life interview scenarios and help you develop the skills and confidence you need to succeed. \n  \nSpots are limited. To register\, please connect with us at Get-Work@GatewayAssociation.ca
URL:https://gatewayassociation.ca/calendar/interview-roundtable-learning-and-laughing-together-5/
CATEGORIES:ERC
END:VEVENT
BEGIN:VEVENT
DTSTART;TZID=America/Denver:20240410T110000
DTEND;TZID=America/Denver:20240410T120000
DTSTAMP:20260419T165551
CREATED:20240326T213807Z
LAST-MODIFIED:20240326T213807Z
UID:252216-1712746800-1712750400@gatewayassociation.ca
SUMMARY:ePortfolio Series (3 of 3)
DESCRIPTION:Session 3 of 3  \nDuration 1 hr   \nFacilitator: Lee  \nPrivate – GTDI Program intake required prior to workshop: getdigital@gatewayassociation.ca  \n**Requires desktop or laptop computer. (tablets may work – contact facilitator prior to session)** \n  \nIn the eportfolio workshop series\, participants will learn about the different types of portfolios\, how to use google sites\, and the basics of layout and design. Learners will choose the type of portfolio they want to build and the subject they want to focus on. They will select and add content to their sites along with descriptions\, statements about their motivation\, interests\, skills\, and hobbies. Learners will work on their own between classes. 
URL:https://gatewayassociation.ca/calendar/eportfolio-series-3-of-3-8/
END:VEVENT
END:VCALENDAR