BEGIN:VCALENDAR
VERSION:2.0
PRODID:-//Gateway Association - ECPv6.15.20//NONSGML v1.0//EN
CALSCALE:GREGORIAN
METHOD:PUBLISH
X-WR-CALNAME:Gateway Association
X-ORIGINAL-URL:https://gatewayassociation.ca
X-WR-CALDESC:Events for Gateway Association
REFRESH-INTERVAL;VALUE=DURATION:PT1H
X-Robots-Tag:noindex
X-PUBLISHED-TTL:PT1H
BEGIN:VTIMEZONE
TZID:America/Denver
BEGIN:DAYLIGHT
TZOFFSETFROM:-0700
TZOFFSETTO:-0600
TZNAME:MDT
DTSTART:20230312T090000
END:DAYLIGHT
BEGIN:STANDARD
TZOFFSETFROM:-0600
TZOFFSETTO:-0700
TZNAME:MST
DTSTART:20231105T080000
END:STANDARD
BEGIN:DAYLIGHT
TZOFFSETFROM:-0700
TZOFFSETTO:-0600
TZNAME:MDT
DTSTART:20240310T090000
END:DAYLIGHT
BEGIN:STANDARD
TZOFFSETFROM:-0600
TZOFFSETTO:-0700
TZNAME:MST
DTSTART:20241103T080000
END:STANDARD
BEGIN:DAYLIGHT
TZOFFSETFROM:-0700
TZOFFSETTO:-0600
TZNAME:MDT
DTSTART:20250309T090000
END:DAYLIGHT
BEGIN:STANDARD
TZOFFSETFROM:-0600
TZOFFSETTO:-0700
TZNAME:MST
DTSTART:20251102T080000
END:STANDARD
END:VTIMEZONE
BEGIN:VEVENT
DTSTART;TZID=America/Denver:20241121T130000
DTEND;TZID=America/Denver:20241121T140000
DTSTAMP:20260421T194512
CREATED:20241008T155705Z
LAST-MODIFIED:20241008T155705Z
UID:253885-1732194000-1732197600@gatewayassociation.ca
SUMMARY:You TOO Can YouTube (4 of 4)
DESCRIPTION:You TOO Can YouTube\nSession: 4 of 4 \nDuration: 1 hr \nFacilitator: Toby \nPrivate – GTDI Program intake required prior to workshop: getdigital@gatewayassociation.ca \nLearn about being a YouTube viewer and a YouTube creator. Find out how to make your own YouTube Channel and what to consider when you are choosing videos to watch. Create YouTube content\, learn about what to consider when watching videos as well as how to save and organize videos.
URL:https://gatewayassociation.ca/calendar/you-too-can-youtube-4-of-4-11/
END:VEVENT
BEGIN:VEVENT
DTSTART;TZID=America/Denver:20241121T110000
DTEND;TZID=America/Denver:20241121T120000
DTSTAMP:20260421T194512
CREATED:20241022T155639Z
LAST-MODIFIED:20241022T155639Z
UID:254029-1732186800-1732190400@gatewayassociation.ca
SUMMARY:Steam Tutorial
DESCRIPTION:Steam Tutorial\nSession 1 of 1  \nDuration 1 hr  \nFacilitator: Lee  \nPrivate – GTDI Program intake required prior to workshop: getdigital@gatewayassociation.ca  \n  \nStep by step tutorial for downloading and installing Steam – an online game platform. Steam is required for Online boardgames group. 
URL:https://gatewayassociation.ca/calendar/steam-tutorial-22/
END:VEVENT
BEGIN:VEVENT
DTSTART;TZID=America/Denver:20241120T180000
DTEND;TZID=America/Denver:20241120T210000
DTSTAMP:20260421T194512
CREATED:20240830T174947Z
LAST-MODIFIED:20240830T174947Z
UID:253321-1732125600-1732136400@gatewayassociation.ca
SUMMARY:Finding the Right Staff (FMS)
DESCRIPTION:Finding the Right Staff (FMS)    \nWednesday\, November 20 \n6:00 pm – 9:00 pm | Online\n  \nA workshop for Family Managed Services Administrators covering your roles and responsibilities as an employer. \n\nThis workshop\, for Family Managed Services Administrators only\,  looks at using your vision plan to identify appropriate supports to help achieve your family member’s goals. You will learn how the Individual Support Plan is used to help your staff create valued roles and enhance community connections. \n  \nThis workshop will provide you with: \n1. Your role and responsibilities as a Funds Administrator/Family Managed Services Administrator \n2. Interviewing and hiring staff \n3. Conflict resolution and staff retention \n  \nQuestions? Contact Miriam at Miriam@GatewayAssociation.ca \nRegister here: https://www.eventbrite.ca/e/finding-the-right-staff-fms-tickets-996552614697?aff=oddtdtcreator
URL:https://gatewayassociation.ca/calendar/finding-the-right-staff-fms-3/
CATEGORIES:FRC
END:VEVENT
BEGIN:VEVENT
DTSTART;TZID=America/Denver:20241120T180000
DTEND;TZID=America/Denver:20241120T200000
DTSTAMP:20260421T194512
CREATED:20240812T190334Z
LAST-MODIFIED:20240812T190413Z
UID:253198-1732125600-1732132800@gatewayassociation.ca
SUMMARY:Visioning and Planning 9-13 Year Olds\, (3 of 3)
DESCRIPTION:Visioning and Planning 9-13 year olds\n\nWednesdays\nNovember 6\nNovember 13\nNovember 20\n\n\n6:00 pm – 8:00 pm\n\nA 3-part workshop series  that empowers families of 9 – 13 year-olds with disabilities with knowledge\, resources\, and more.\n\nThis workshop is for parents/caregivers of 9-13 year-olds with disabilities with knowledge\, resources\, and a sense of direction for the future.\n\nWe will touch on a variety of topics including values and belonging in the community\, visioning and planning\, various transitions during  later elementary school\, IPPs\, navigating various systems (FSCD) age appropriate for families with “tween” age children as well as advocacy and having difficult conversations.\n\nQuestions? Stacy (facilitator) at Stacy@GatewayAssociation.ca\n\nEventbrite Link: https://www.eventbrite.ca/e/visioning-and-planning-for-families-with-children-9-13-years-old-tickets-980257906787?aff=oddtdtcreator
URL:https://gatewayassociation.ca/calendar/visioning-and-planning-9-13-year-olds-3-of-3/
CATEGORIES:FRC
END:VEVENT
BEGIN:VEVENT
DTSTART;TZID=America/Denver:20241120T143000
DTEND;TZID=America/Denver:20241120T163000
DTSTAMP:20260421T194512
CREATED:20241008T155918Z
LAST-MODIFIED:20241008T155918Z
UID:253891-1732113000-1732120200@gatewayassociation.ca
SUMMARY:Online Boardgames
DESCRIPTION:Online Boardgames\nSession: 1 of 1 \nDuration: 1.5 to 2 hr \nFacilitator: Lee \nPrivate – GTDI Program intake required prior to workshop signup: getdigital@gatewayassociation.ca \n\n**Requires Online Social Connections – Discord and Steam Tutorials as well as desktop or laptop computer.** \nCome hang out! Learn about setting up online accounts\, meet new friends\, socialize\, and have fun playing boardgames online. Meet new friends\, practise new skills\, have fun!
URL:https://gatewayassociation.ca/calendar/online-boardgames-62/
END:VEVENT
BEGIN:VEVENT
DTSTART;TZID=America/Denver:20241120T140000
DTEND;TZID=America/Denver:20241120T160000
DTSTAMP:20260421T194512
CREATED:20240917T183037Z
LAST-MODIFIED:20240917T183037Z
UID:253620-1732111200-1732118400@gatewayassociation.ca
SUMMARY:MentorAbility Industry Information Session: Careers in Neurorecovery with Bean Gill
DESCRIPTION:MentorAbility Industry Information Session: Careers in Neurorecovery with Bean Gill\nMentorAbility Alberta is offering ongoing FREE interactive Industry Information Sessions! These information sessions give participants the opportunity to learn more about prospective industries\, recruitment requirements and qualifications\, and the next steps they may need to take to achieve their employment goals. \n  \nBean Gill is an Inclusion Warrior\, Paralysis Recovery Pioneer\, and Change Maker who defies the odds. In 2012\, she faced a sudden spinal injury while on vacation\, leaving her paralyzed from the waist down. Determined not to succumb to despair\, Bean chose to persevere. Bean co-founded ReYu Paralysis Recovery Center\, an advocacy group called Wheels of Change\, stars in a docuseries called PUSH\, and is passionate about disability etiquette. \nPlease welcome the one and only\, Bean Gill. \nIn this session\, attendees can expect: \n– Learn about ReYu\, our origin\, our culture\, and our attitude towards ppl with disabilities \n– Brief rundown on our programs with a couple of before and after videos to show how effective our program is and that neurorecovery is REAL \n– A typical day at ReYu and what stands out about the members of our team \n– Steps to get into the field of neurorecovery \n– End with questions from the audience \n  \nThis event is offered to all MentorAbility participants – so if you are a job seeker who experiences disability-related barriers to employment or a supportive employment service provider who wants to learn more about the industry\, this event is for you! \nIf we can offer any accommodations during the event to make your participation easier or answer any questions you have about the event ahead of time\, please contact jamie@gatewayassociation.ca after you register to discuss. \nThis event will be recorded. \nRegister HERE
URL:https://gatewayassociation.ca/calendar/mentorability-industry-information-session-careers-in-neurorecovery-with-bean-gill/
CATEGORIES:ERC,MentorAbility Alberta
END:VEVENT
BEGIN:VEVENT
DTSTART;TZID=America/Denver:20241120T130000
DTEND;TZID=America/Denver:20241120T140000
DTSTAMP:20260421T194512
CREATED:20241008T155625Z
LAST-MODIFIED:20241008T155625Z
UID:253883-1732107600-1732111200@gatewayassociation.ca
SUMMARY:You TOO Can YouTube (3 of 4)
DESCRIPTION:You TOO Can YouTube\nSession: 3 of 4 \nDuration: 1 hr \nFacilitator: Toby \nPrivate – GTDI Program intake required prior to workshop: getdigital@gatewayassociation.ca \nLearn about being a YouTube viewer and a YouTube creator. Find out how to make your own YouTube Channel and what to consider when you are choosing videos to watch. Create YouTube content\, learn about what to consider when watching videos as well as how to save and organize videos.
URL:https://gatewayassociation.ca/calendar/you-too-can-youtube-3-of-4-11/
END:VEVENT
BEGIN:VEVENT
DTSTART;TZID=America/Denver:20241120T100000
DTEND;TZID=America/Denver:20241120T150000
DTSTAMP:20260421T194512
CREATED:20241008T185722Z
LAST-MODIFIED:20241008T185722Z
UID:253923-1732096800-1732114800@gatewayassociation.ca
SUMMARY:Calgary Drop-In Wednesdays
DESCRIPTION:Drop In Wednesday CERC\nFor job seekers\, each Wednesday drop in any time between 10am and 3pm to connect with ERC team members to work on resumes\, interview skills\, job search and meet other job seekers!
URL:https://gatewayassociation.ca/calendar/calgary-drop-in-wednesdays-7/
CATEGORIES:ERC
END:VEVENT
BEGIN:VEVENT
DTSTART;TZID=America/Denver:20241120T100000
DTEND;TZID=America/Denver:20241120T120000
DTSTAMP:20260421T194512
CREATED:20241008T192733Z
LAST-MODIFIED:20241008T192733Z
UID:253937-1732096800-1732104000@gatewayassociation.ca
SUMMARY:(Calgary) Interview Roundtable; Learning and Laughing Together
DESCRIPTION:Interview Roundtable: Learning and Laughing Together – Practice\n\nJoin us for a dynamic and interactive workshop designed to help you ace your next job interview. In our Interview Roundtable\, you’ll have the opportunity to connect with fellow job seekers and share your experiences and insights. Our experienced facilitators will guide you through real-life interview scenarios and help you develop the skills and confidence you need to succeed.   \nOnline or In-Person: IN-PERSON – YYC \nTo learn more and to register\, please connect with us at Get-Work@GatewayAssociation.ca
URL:https://gatewayassociation.ca/calendar/calgary-interview-roundtable-learning-and-laughing-together-2/
CATEGORIES:ERC
END:VEVENT
BEGIN:VEVENT
DTSTART;TZID=America/Denver:20241119T150000
DTEND;TZID=America/Denver:20241119T160000
DTSTAMP:20260421T194512
CREATED:20241008T155837Z
LAST-MODIFIED:20241008T155837Z
UID:253889-1732028400-1732032000@gatewayassociation.ca
SUMMARY:Google Photo Basics (2 of 2)
DESCRIPTION:Google Photo Basics\nSession: 2 of 2  \nDuration: 1 hr   \nFacilitator: Toby  \nPrivate – GTDI Program intake required prior to workshop: getdigital@gatewayassociation.ca 
URL:https://gatewayassociation.ca/calendar/google-photo-basics-2-of-2/
END:VEVENT
BEGIN:VEVENT
DTSTART;TZID=America/Denver:20241119T130000
DTEND;TZID=America/Denver:20241119T140000
DTSTAMP:20260421T194512
CREATED:20241008T192559Z
LAST-MODIFIED:20241008T192559Z
UID:253935-1732021200-1732024800@gatewayassociation.ca
SUMMARY:Networking; Using Our Connections
DESCRIPTION:Networking: Using Our Connections\nDescription: In this workshop participants will be learning how to network! This workshop is on Zoom. You will dive in to where do we have connections already and where can we build our network using social media platforms.\n\nOnline or In-Person: Online – Zoom\n\nTo learn more and to register\, please connect with us at Employment@GatewayAssociation.ca
URL:https://gatewayassociation.ca/calendar/networking-using-our-connections-2/
CATEGORIES:ERC
END:VEVENT
BEGIN:VEVENT
DTSTART;TZID=America/Denver:20241119T130000
DTEND;TZID=America/Denver:20241119T140000
DTSTAMP:20260421T194512
CREATED:20241008T155515Z
LAST-MODIFIED:20241008T155515Z
UID:253881-1732021200-1732024800@gatewayassociation.ca
SUMMARY:You TOO Can YouTube (2 of 4)
DESCRIPTION:You TOO Can YouTube\nSession: 2 of 4 \nDuration: 1 hr \nFacilitator: Toby \nPrivate – GTDI Program intake required prior to workshop: getdigital@gatewayassociation.ca \nLearn about being a YouTube viewer and a YouTube creator. Find out how to make your own YouTube Channel and what to consider when you are choosing videos to watch. Create YouTube content\, learn about what to consider when watching videos as well as how to save and organize videos.
URL:https://gatewayassociation.ca/calendar/you-too-can-youtube-2-of-4-11/
END:VEVENT
BEGIN:VEVENT
DTSTART;TZID=America/Denver:20241119T110000
DTEND;TZID=America/Denver:20241119T120000
DTSTAMP:20260421T194512
CREATED:20241022T155515Z
LAST-MODIFIED:20241022T155515Z
UID:254026-1732014000-1732017600@gatewayassociation.ca
SUMMARY:Discord Tutorial
DESCRIPTION:Discord Tutorial\nSession 1 of 1  \nDuration 1 hr  \nFacilitator: Lee  \nPrivate – GTDI Program intake required prior to workshop: getdigital@gatewayassociation.ca  \n  \nStep by step tutorial for downloading and installing Discord – a free app that lets people chat using text\, voice or video. Discord is required for Online boardgames group. 
URL:https://gatewayassociation.ca/calendar/discord-tutorial-27/
END:VEVENT
BEGIN:VEVENT
DTSTART;TZID=America/Denver:20241118T150000
DTEND;TZID=America/Denver:20241118T160000
DTSTAMP:20260421T194512
CREATED:20241008T155759Z
LAST-MODIFIED:20241008T155759Z
UID:253887-1731942000-1731945600@gatewayassociation.ca
SUMMARY:Google Photo Basics (1 of 2)
DESCRIPTION:Google Photo Basics\nSession: 1 of 2  \nDuration: 1 hr   \nFacilitator: Toby  \nPrivate – GTDI Program intake required prior to workshop: getdigital@gatewayassociation.ca 
URL:https://gatewayassociation.ca/calendar/google-photo-basics-1-of-2/
END:VEVENT
BEGIN:VEVENT
DTSTART;TZID=America/Denver:20241118T130000
DTEND;TZID=America/Denver:20241118T140000
DTSTAMP:20260421T194512
CREATED:20241008T154955Z
LAST-MODIFIED:20241008T154955Z
UID:253879-1731934800-1731938400@gatewayassociation.ca
SUMMARY:You TOO Can YouTube (1 o 4)
DESCRIPTION:You TOO Can YouTube\nSession: 1 of 4 \nDuration: 1 hr \nFacilitator: Toby \nPrivate – GTDI Program intake required prior to workshop: getdigital@gatewayassociation.ca \n\nLearn about being a YouTube viewer and a YouTube creator. Find out how to make your own YouTube Channel and what to consider when you are choosing videos to watch. Create YouTube content\, learn about what to consider when watching videos as well as how to save and organize videos.
URL:https://gatewayassociation.ca/calendar/you-too-can-youtube-1-o-4/
END:VEVENT
BEGIN:VEVENT
DTSTART;TZID=America/Denver:20241118T110000
DTEND;TZID=America/Denver:20241118T120000
DTSTAMP:20260421T194512
CREATED:20241008T153556Z
LAST-MODIFIED:20241008T153556Z
UID:253871-1731927600-1731931200@gatewayassociation.ca
SUMMARY:Email Basics
DESCRIPTION:Email Basics\nSession: 1 of 1  \nDuration: 1 hr   \nFacilitator: Lee  \nPrivate – GTDI Program intake required prior to workshop: getdigital@gatewayassociation.ca  \n  \nLearn about and practice the basics of writing professional emails for your job search and workplace communication. 
URL:https://gatewayassociation.ca/calendar/email-basics-45/
END:VEVENT
BEGIN:VEVENT
DTSTART;TZID=America/Denver:20241116T090000
DTEND;TZID=America/Denver:20241116T100000
DTSTAMP:20260421T194512
CREATED:20240812T190615Z
LAST-MODIFIED:20240812T190615Z
UID:253202-1731747600-1731751200@gatewayassociation.ca
SUMMARY:FSCD 101
DESCRIPTION:FSCD 101 \nSaturday\, November 16  \n9:00 am – 10:00 am | Online  \n  \nFSCD 101 is an introduction to the Family Support for Children with Disabilities (FSCD) program.  \nThe presentation will support families with understanding how to utilize their FSCD agreement and is intended for families that have received their first FSCD agreement.  \nPrior to attending the session\, it would be helpful for families to review the Family Package\, sent to you by the Family Support Services (FSS) team\, as we will be referencing this document throughout the session. \nTopics we will be going over include: \n\nthe different types of services and supports\nreviewing an example agreement\nrecords-keeping and invoicing requirements\nand more.\n\n  \nQuestions? Jacquie (Facilitator) at jacque@gatewayassociation.ca \nEventbrite Link: https://www.eventbrite.ca/e/980453602117?aff=oddtdtcreator
URL:https://gatewayassociation.ca/calendar/fscd-101-10/
CATEGORIES:FRC
END:VEVENT
BEGIN:VEVENT
DTSTART;TZID=America/Denver:20241114T150000
DTEND;TZID=America/Denver:20241114T160000
DTSTAMP:20260421T194512
CREATED:20241008T152908Z
LAST-MODIFIED:20241022T154337Z
UID:253863-1731596400-1731600000@gatewayassociation.ca
SUMMARY:Audio Editing with Audacity (3 of 3)
DESCRIPTION:Audio Editing with Audacity\nSession 3 of 3 \nDuration 1 hr \nFacilitator: Toby \nPrivate – GTDI Program intake required prior to workshop: getdigital@gatewayassociation.ca \nIn this 3 session workshop series participants will be guided through the steps to use Audacity software for basic audio editing. This series will focus on editing spoken dialogue.
URL:https://gatewayassociation.ca/calendar/audio-editing-with-audacity-3-of-3-11/
END:VEVENT
BEGIN:VEVENT
DTSTART;TZID=America/Denver:20241114T130000
DTEND;TZID=America/Denver:20241114T140000
DTSTAMP:20260421T194512
CREATED:20241008T192421Z
LAST-MODIFIED:20241008T192447Z
UID:253931-1731589200-1731592800@gatewayassociation.ca
SUMMARY:Workplace Expectations
DESCRIPTION:Workplace Expectations\nYou’ve got the job\, now you must keep it! Talking about the everyday behaviors that are appropriate in the workplace:\n\n\nshowing up on time\n\n\nhow long is too long for socializing with coworkers\n\n\nbreaks – what does this mean\n\n\nmotivation and engagement\n\n\nOnline or In-Person: ONLINE\n\nFor more information and to register\, please connect with us at Employment@GatewayAssociation.ca
URL:https://gatewayassociation.ca/calendar/253931/
CATEGORIES:ERC
END:VEVENT
BEGIN:VEVENT
DTSTART;TZID=America/Denver:20241114T130000
DTEND;TZID=America/Denver:20241114T140000
DTSTAMP:20260421T194512
CREATED:20241008T154403Z
LAST-MODIFIED:20241022T155313Z
UID:253877-1731589200-1731592800@gatewayassociation.ca
SUMMARY:LinkedIn Profiles (3 of 3)
DESCRIPTION:LinkedIn Profiles\nSession: 3 of 3 \nDuration: 1 hr \nFacilitator: Lee \nPrivate – GTDI Program intake required prior to workshop: getdigital@gatewayassociation.ca \nBuild your own LinkedIn profile! Share your skills\, goals\, and experiences\, create job alerts\, and grow your online network.
URL:https://gatewayassociation.ca/calendar/linkedin-profiles-3-of-3-10/
END:VEVENT
BEGIN:VEVENT
DTSTART;TZID=America/Denver:20241114T110000
DTEND;TZID=America/Denver:20241114T120000
DTSTAMP:20260421T194512
CREATED:20241008T152406Z
LAST-MODIFIED:20241008T152406Z
UID:253857-1731582000-1731585600@gatewayassociation.ca
SUMMARY:ePortfolios (3 of 3)
DESCRIPTION:ePortfolios\nSession 3 of 3 \nDuration 1 hr \nFacilitator: Lee \nPrivate – GTDI Program intake required prior to workshop: getdigital@gatewayassociation.ca \n\n**A desktop or laptop computer is required for this workshop.** \nIn the eportfolio workshop series\, participants will learn about the different types of portfolios\, how to use google sites\, and the basics of layout and design. Learners will choose the type of portfolio they want to build and the subject they want to focus on. They will select and add content to their sites along with descriptions\, statements about their motivation\, interests\, skills\, and hobbies. Learners will work on their own between classes.
URL:https://gatewayassociation.ca/calendar/eportfolios-3-of-3-4/
END:VEVENT
BEGIN:VEVENT
DTSTART;TZID=America/Denver:20241113T183000
DTEND;TZID=America/Denver:20241113T203000
DTSTAMP:20260421T194512
CREATED:20240812T190505Z
LAST-MODIFIED:20240812T190505Z
UID:253200-1731522600-1731529800@gatewayassociation.ca
SUMMARY:Families Forward 
DESCRIPTION:Families Forward\nWednesday\, November 13 \n6:30 pm – 8:30 pm | Online \n  \nHave questions regarding FSCD/FSS? Do you have your agreement in place? Are you looking for next steps or need to ask some questions? Join us to chat about questions that may come out of the FSCD 101 workshop and/or if you’re new to using Disability Services in Alberta. We will host a safe space to ask questions and if we aren’t sure about the answer\, we’ll help provide tips on where to go to find out. \n  \nQuestions? Contact Yonique at yonique@GatewayAssociation.ca \nEventbrite Link: https://www.eventbrite.ca/e/families-forward-tickets-981828695057?aff=oddtdtcreator
URL:https://gatewayassociation.ca/calendar/families-forward-3/
CATEGORIES:FRC
END:VEVENT
BEGIN:VEVENT
DTSTART;TZID=America/Denver:20241113T180000
DTEND;TZID=America/Denver:20241113T200000
DTSTAMP:20260421T194512
CREATED:20240812T190219Z
LAST-MODIFIED:20240812T190219Z
UID:253196-1731520800-1731528000@gatewayassociation.ca
SUMMARY:Visioning and Planning 9-13 Year Olds\, (2 of 3)
DESCRIPTION:Visioning and Planning 9-13 year olds\n\nWednesdays\nNovember 6\nNovember 13\nNovember 20\n\n\n6:00 pm – 8:00 pm\n\nA 3-part workshop series  that empowers families of 9 – 13 year-olds with disabilities with knowledge\, resources\, and more.\n\nThis workshop is for parents/caregivers of 9-13 year-olds with disabilities with knowledge\, resources\, and a sense of direction for the future.\n\nWe will touch on a variety of topics including values and belonging in the community\, visioning and planning\, various transitions during  later elementary school\, IPPs\, navigating various systems (FSCD) age appropriate for families with “tween” age children as well as advocacy and having difficult conversations.\n\nQuestions? Stacy (facilitator) at Stacy@GatewayAssociation.ca\n\nEventbrite Link: https://www.eventbrite.ca/e/visioning-and-planning-for-families-with-children-9-13-years-old-tickets-980257906787?aff=oddtdtcreator
URL:https://gatewayassociation.ca/calendar/visioning-and-planning-9-13-year-olds-2-of-3/
CATEGORIES:FRC
END:VEVENT
BEGIN:VEVENT
DTSTART;TZID=America/Denver:20241113T150000
DTEND;TZID=America/Denver:20241113T160000
DTSTAMP:20260421T194512
CREATED:20241008T152807Z
LAST-MODIFIED:20241022T153410Z
UID:253861-1731510000-1731513600@gatewayassociation.ca
SUMMARY:Audio Editing with Audacity (2 of 3)
DESCRIPTION:Audio Editing with Audacity\nSession 2 of 3 \nDuration 1 hr \nFacilitator: Toby \nPrivate – GTDI Program intake required prior to workshop: getdigital@gatewayassociation.ca \nIn this 3 session workshop series participants will be guided through the steps to use Audacity software for basic audio editing. This series will focus on editing spoken dialogue.
URL:https://gatewayassociation.ca/calendar/audio-editing-with-audacity-2-of-3-11/
END:VEVENT
BEGIN:VEVENT
DTSTART;TZID=America/Denver:20241113T130000
DTEND;TZID=America/Denver:20241113T140000
DTSTAMP:20260421T194512
CREATED:20241008T154217Z
LAST-MODIFIED:20241022T155240Z
UID:253875-1731502800-1731506400@gatewayassociation.ca
SUMMARY:LinkedIn Profiles (2 of 3)
DESCRIPTION:LinkedIn Profiles\nSession: 2 of 3 \nDuration: 1 hr \nFacilitator: Lee \nPrivate – GTDI Program intake required prior to workshop: getdigital@gatewayassociation.ca \nBuild your own LinkedIn profile! Share your skills\, goals\, and experiences\, create job alerts\, and grow your online network.
URL:https://gatewayassociation.ca/calendar/linkedin-profiles-2-of-3-10/
END:VEVENT
BEGIN:VEVENT
DTSTART;TZID=America/Denver:20241113T110000
DTEND;TZID=America/Denver:20241113T120000
DTSTAMP:20260421T194512
CREATED:20241008T152253Z
LAST-MODIFIED:20241008T152253Z
UID:253855-1731495600-1731499200@gatewayassociation.ca
SUMMARY:ePortfolios (2 of 3)
DESCRIPTION:ePortfolios\nSession 2 of 3 \nDuration 1 hr \nFacilitator: Lee \nPrivate – GTDI Program intake required prior to workshop: getdigital@gatewayassociation.ca \n\n**A desktop or laptop computer is required for this workshop.** \nIn the eportfolio workshop series\, participants will learn about the different types of portfolios\, how to use google sites\, and the basics of layout and design. Learners will choose the type of portfolio they want to build and the subject they want to focus on. They will select and add content to their sites along with descriptions\, statements about their motivation\, interests\, skills\, and hobbies. Learners will work on their own between classes.
URL:https://gatewayassociation.ca/calendar/eportfolios-2-of-3-4/
END:VEVENT
BEGIN:VEVENT
DTSTART;TZID=America/Denver:20241113T100000
DTEND;TZID=America/Denver:20241113T150000
DTSTAMP:20260421T194512
CREATED:20241008T185652Z
LAST-MODIFIED:20241008T185652Z
UID:253920-1731492000-1731510000@gatewayassociation.ca
SUMMARY:Calgary Drop-In Wednesday
DESCRIPTION:Drop In Wednesday CERC\nFor job seekers\, each Wednesday drop in any time between 10am and 3pm to connect with ERC team members to work on resumes\, interview skills\, job search and meet other job seekers!
URL:https://gatewayassociation.ca/calendar/calgary-drop-in-wednesday/
CATEGORIES:ERC
END:VEVENT
BEGIN:VEVENT
DTSTART;TZID=America/Denver:20241112T150000
DTEND;TZID=America/Denver:20241112T160000
DTSTAMP:20260421T194512
CREATED:20241008T152720Z
LAST-MODIFIED:20241022T152806Z
UID:253859-1731423600-1731427200@gatewayassociation.ca
SUMMARY:Audio Editing with Audacity (1 of 3)
DESCRIPTION:Audio Editing with Audacity\nSession 1 of 3 \nDuration 1 hr \nFacilitator: Toby \nPrivate – GTDI Program intake required prior to workshop: getdigital@gatewayassociation.ca \nIn this 3 session workshop series participants will be guided through the steps to use Audacity software for basic audio editing. This series will focus on editing spoken dialogue.
URL:https://gatewayassociation.ca/calendar/audio-editing-with-audacity-1-of-3-10/
END:VEVENT
BEGIN:VEVENT
DTSTART;TZID=America/Denver:20241112T130000
DTEND;TZID=America/Denver:20241112T140000
DTSTAMP:20260421T194512
CREATED:20241008T192257Z
LAST-MODIFIED:20241008T192257Z
UID:253929-1731416400-1731420000@gatewayassociation.ca
SUMMARY:Workplace Communication 101
DESCRIPTION:Workplace Communication 101 – Positive Communication and Constructive Feedback\n Workplace Communication is made up of many essential skills\, such as\, what is okay to talk about at work with your coworkers? How to give and receive positive and constructive feedback? In this workshop\, we will talk about ways to help you to feel confident and comfortable with workplace communication.\n\nOnline or In-Person: ONLINE\n\nTo learn more and to register\, please connect with us at Employment@GatewayAssociation.ca
URL:https://gatewayassociation.ca/calendar/workplace-communication-101/
CATEGORIES:ERC
END:VEVENT
BEGIN:VEVENT
DTSTART;TZID=America/Denver:20241112T130000
DTEND;TZID=America/Denver:20241112T140000
DTSTAMP:20260421T194512
CREATED:20241008T153958Z
LAST-MODIFIED:20241022T155205Z
UID:253873-1731416400-1731420000@gatewayassociation.ca
SUMMARY:LinkedIn Profiles (1 of 3)
DESCRIPTION:LinkedIn Profiles\nSession: 1 of 3 \nDuration: 1 hr \nFacilitator: Lee \nPrivate – GTDI Program intake required prior to workshop: getdigital@gatewayassociation.ca \nBuild your own LinkedIn profile! Share your skills\, goals\, and experiences\, create job alerts\, and grow your online network.
URL:https://gatewayassociation.ca/calendar/linkedin-profiles-1-of-3-10/
END:VEVENT
END:VCALENDAR