BEGIN:VCALENDAR
VERSION:2.0
PRODID:-//Gateway Association - ECPv6.15.20//NONSGML v1.0//EN
CALSCALE:GREGORIAN
METHOD:PUBLISH
X-WR-CALNAME:Gateway Association
X-ORIGINAL-URL:https://gatewayassociation.ca
X-WR-CALDESC:Events for Gateway Association
REFRESH-INTERVAL;VALUE=DURATION:PT1H
X-Robots-Tag:noindex
X-PUBLISHED-TTL:PT1H
BEGIN:VTIMEZONE
TZID:America/Denver
BEGIN:DAYLIGHT
TZOFFSETFROM:-0700
TZOFFSETTO:-0600
TZNAME:MDT
DTSTART:20210314T090000
END:DAYLIGHT
BEGIN:STANDARD
TZOFFSETFROM:-0600
TZOFFSETTO:-0700
TZNAME:MST
DTSTART:20211107T080000
END:STANDARD
BEGIN:DAYLIGHT
TZOFFSETFROM:-0700
TZOFFSETTO:-0600
TZNAME:MDT
DTSTART:20220313T090000
END:DAYLIGHT
BEGIN:STANDARD
TZOFFSETFROM:-0600
TZOFFSETTO:-0700
TZNAME:MST
DTSTART:20221106T080000
END:STANDARD
BEGIN:DAYLIGHT
TZOFFSETFROM:-0700
TZOFFSETTO:-0600
TZNAME:MDT
DTSTART:20230312T090000
END:DAYLIGHT
BEGIN:STANDARD
TZOFFSETFROM:-0600
TZOFFSETTO:-0700
TZNAME:MST
DTSTART:20231105T080000
END:STANDARD
END:VTIMEZONE
BEGIN:VEVENT
DTSTART;TZID=America/Denver:20221115T100000
DTEND;TZID=America/Denver:20221115T110000
DTSTAMP:20260421T192825
CREATED:20221019T144153Z
LAST-MODIFIED:20221019T144153Z
UID:249019-1668506400-1668510000@gatewayassociation.ca
SUMMARY:Email Basics
DESCRIPTION:Learn about and practice the basics of writing professional emails for your job search and workplace communication. \nFor questions and to register\, please connect with us at GetDigital@GatewayAssociation.ca
URL:https://gatewayassociation.ca/calendar/email-basics-19/
END:VEVENT
BEGIN:VEVENT
DTSTART;TZID=America/Denver:20221115T100000
DTEND;TZID=America/Denver:20221115T120000
DTSTAMP:20260421T192825
CREATED:20220915T175843Z
LAST-MODIFIED:20221108T185657Z
UID:248865-1668506400-1668513600@gatewayassociation.ca
SUMMARY:Work Simulation Part 2\, Week 1
DESCRIPTION:Oct 18th to Nov 24rd – This is a 6-week course. \nClasses are on Tues to Thurs for 2 hours per session \nIncrease your digital and social skills\, as you work in a team to build a website for an imaginary company. This is a tech-based work simulation\, where learners are ‘hired’ into positions at an imaginary tech company and work together to build a website for a simulated client. \nThis course covers basic: internet vocabulary\, web design\, and use of google apps while giving you experience with working on a team\, engaging with peers\, and giving presentations. Learn to design and build a website\, create and give presentations\, and practice your interview skills. \nTo learn more or to register\, please connect with us at GetDigital@GatewayAssociation.ca
URL:https://gatewayassociation.ca/calendar/work-simulation-week-5/
END:VEVENT
BEGIN:VEVENT
DTSTART;TZID=America/Denver:20221115T110000
DTEND;TZID=America/Denver:20221115T120000
DTSTAMP:20260421T192825
CREATED:20221019T143235Z
LAST-MODIFIED:20221019T143235Z
UID:249011-1668510000-1668513600@gatewayassociation.ca
SUMMARY:ePortfolio Series (2/4)
DESCRIPTION:Learners will work on their own between classes. In the eportfolio workshop\, participants will learn about the different types of portfolios\, how to use google sites\, and the basics of layout and design. Learners will choose the type of portfolio they want to build and the subject they want to focus on. They will select and add content to their sites along with descriptions\, statements about their motivation\, interests\, skills\, and hobbies. \nFor questions and to register\, please connect with us at GetDigital@GatewayAssociation.ca
URL:https://gatewayassociation.ca/calendar/eportfolio-series-2-4-6/
END:VEVENT
BEGIN:VEVENT
DTSTART;TZID=America/Denver:20221115T130000
DTEND;TZID=America/Denver:20221115T140000
DTSTAMP:20260421T192825
CREATED:20221019T134351Z
LAST-MODIFIED:20221019T134351Z
UID:248963-1668517200-1668520800@gatewayassociation.ca
SUMMARY:Networking: Using Your Connections
DESCRIPTION:Building sustaining personal networks is a great way to connect with employers. This session will describe ways to create a personal network and using existing relationships that can lead to career paths and new opportunities. \nTo register and for any accommodations\, please connect with us at Get-Work@GatewayAssociation.ca
URL:https://gatewayassociation.ca/calendar/networking-using-your-connections-2/
CATEGORIES:ERC
END:VEVENT
BEGIN:VEVENT
DTSTART;TZID=America/Denver:20221116T100000
DTEND;TZID=America/Denver:20221116T120000
DTSTAMP:20260421T192825
CREATED:20220915T184637Z
LAST-MODIFIED:20221108T185719Z
UID:248925-1668592800-1668600000@gatewayassociation.ca
SUMMARY:Work Simulation Part 2\, Week 1
DESCRIPTION:Oct 18th to Nov 24rd – This is a 6-week course. \nClasses are on Tues to Thurs for 2 hours per session \nIncrease your digital and social skills\, as you work in a team to build a website for an imaginary company. This is a tech-based work simulation\, where learners are ‘hired’ into positions at an imaginary tech company and work together to build a website for a simulated client. \nThis course covers basic: internet vocabulary\, web design\, and use of google apps while giving you experience with working on a team\, engaging with peers\, and giving presentations. Learn to design and build a website\, create and give presentations\, and practice your interview skills. \nTo learn more or to register\, please connect with us at GetDigital@GatewayAssociation.ca
URL:https://gatewayassociation.ca/calendar/work-simulation-week-5-3/
END:VEVENT
BEGIN:VEVENT
DTSTART;TZID=America/Denver:20221116T110000
DTEND;TZID=America/Denver:20221116T120000
DTSTAMP:20260421T192825
CREATED:20221019T143326Z
LAST-MODIFIED:20221019T143326Z
UID:249013-1668596400-1668600000@gatewayassociation.ca
SUMMARY:ePortfolio Series (3/4)
DESCRIPTION:Learners will work on their own between classes. In the eportfolio workshop\, participants will learn about the different types of portfolios\, how to use google sites\, and the basics of layout and design. Learners will choose the type of portfolio they want to build and the subject they want to focus on. They will select and add content to their sites along with descriptions\, statements about their motivation\, interests\, skills\, and hobbies. \nFor questions and to register\, please connect with us at GetDigital@GatewayAssociation.ca
URL:https://gatewayassociation.ca/calendar/eportfolio-series-3-4-5/
END:VEVENT
BEGIN:VEVENT
DTSTART;TZID=America/Denver:20221116T140000
DTEND;TZID=America/Denver:20221116T143000
DTSTAMP:20260421T192825
CREATED:20220907T204336Z
LAST-MODIFIED:20220907T204336Z
UID:248747-1668607200-1668609000@gatewayassociation.ca
SUMMARY:Family Resource Centre (FRC) Info Session
DESCRIPTION:
URL:https://gatewayassociation.ca/calendar/family-resource-centre-frc-info-session-3/
CATEGORIES:FRC
END:VEVENT
BEGIN:VEVENT
DTSTART;TZID=America/Denver:20221116T143000
DTEND;TZID=America/Denver:20221116T160000
DTSTAMP:20260421T192825
CREATED:20221019T135629Z
LAST-MODIFIED:20221019T135629Z
UID:248975-1668609000-1668614400@gatewayassociation.ca
SUMMARY:Open Art Studio w/ Maigan: Friendly Portraits
DESCRIPTION:Join OPEN♥ART for a chance to create alongside others\, share and experiment with different art forms. Each month will include a different approach to art-making that aims to inspire your inner artist and bring us together in creativity.   \nArtists of all levels and abilities are WELCOME!  \nReach out with any accommodation or questions you may have to   maigan@gatewayassociation.ca  \n\nExperiment #3: FRIENDLY PORTRAITS November 16\, 2022  \nDrawing faces and portraits can be fun when you let go of self-judgement and free your imagination. Whether you are experienced or a beginner there’s always room to “face” your fears and try creating a portrait. We will randomly assign each participant to another\, offering opportunities to make friendly portraits of each other. Self- portraits are also an option too 😃  \nArt Supplies Required (your choice):   \nPaper/canvas/tablet/computer; Pencil/pen/marker/paints\, or crayons  \nSign up: https://forms.office.com/r/wmz7sXZUwd
URL:https://gatewayassociation.ca/calendar/open-art-studio-w-maigan-friendly-portraits/
END:VEVENT
BEGIN:VEVENT
DTSTART;TZID=America/Denver:20221116T180000
DTEND;TZID=America/Denver:20221116T200000
DTSTAMP:20260421T192825
CREATED:20220907T193726Z
LAST-MODIFIED:20220907T193726Z
UID:248719-1668621600-1668628800@gatewayassociation.ca
SUMMARY:Visioning and Planning for Families with Children 9-12 Years Old\, Session 1 of 4
DESCRIPTION:Visioning and Planning for Families with Children 9-12 Years Old 4 part series \nSession 1 of 4 \nWednesdays: \nNovember 16 \nNovember 23 \nNovember 30 \nDecember 7 \n\n6pm – 8pm | Zoom \nA 4-part workshop series that empowers families of 9-12 year-olds with disabilities with knowledge\, resources\, and more. \nJoin our 4-part workshop series that empowers parents/caregivers of 9-12 year-olds with developmental disabilities with knowledge\, resources\, and a sense of direction for the future. \nWe will touch on a variety of topics including values and belonging in the community\, visioning and planning\, various transitions during later elementary school\, navigating various systems age appropriate for families with “tween” age children as well as advocacy and having difficult conversations \nFor any accommodation requirements\, please connect with Stacy@GatewayAssociation.ca for assistance
URL:https://gatewayassociation.ca/calendar/visioning-and-planning-for-families-with-children-9-12-years-old-session-1-of-4/
CATEGORIES:FRC
END:VEVENT
BEGIN:VEVENT
DTSTART;TZID=America/Denver:20221116T190000
DTEND;TZID=America/Denver:20221116T210000
DTSTAMP:20260421T192825
CREATED:20220907T194924Z
LAST-MODIFIED:20220907T194924Z
UID:248727-1668625200-1668632400@gatewayassociation.ca
SUMMARY:Families Forward: I have and ISP\, Now What?
DESCRIPTION:Wednesday\, November 16 \n7pm – 9pm | Zoom \nMonthly meeting for families with loved ones with disabilities who have completed an Individual Support Plan. Where families can connect with other families and share resources for individuals with disabilities. We will explore ISP strategies and outcomes \nFor any accommodation requirements\, please reach out to Kristina@GatewayAssociation.ca for assistance
URL:https://gatewayassociation.ca/calendar/families-forward-i-have-and-isp-now-what-2/
CATEGORIES:FRC
END:VEVENT
BEGIN:VEVENT
DTSTART;TZID=America/Denver:20221117T100000
DTEND;TZID=America/Denver:20221117T120000
DTSTAMP:20260421T192825
CREATED:20220915T175947Z
LAST-MODIFIED:20221108T185736Z
UID:248867-1668679200-1668686400@gatewayassociation.ca
SUMMARY:Work Simulation Part 2\, Week 1
DESCRIPTION:Oct 18th to Nov 24rd – This is a 6-week course. \nClasses are on Tues to Thurs for 2 hours per session \nIncrease your digital and social skills\, as you work in a team to build a website for an imaginary company. This is a tech-based work simulation\, where learners are ‘hired’ into positions at an imaginary tech company and work together to build a website for a simulated client. \nThis course covers basic: internet vocabulary\, web design\, and use of google apps while giving you experience with working on a team\, engaging with peers\, and giving presentations. Learn to design and build a website\, create and give presentations\, and practice your interview skills. \nTo learn more or to register\, please connect with us at GetDigital@GatewayAssociation.ca
URL:https://gatewayassociation.ca/calendar/work-simulation-week-5-2/
END:VEVENT
BEGIN:VEVENT
DTSTART;TZID=America/Denver:20221117T110000
DTEND;TZID=America/Denver:20221117T120000
DTSTAMP:20260421T192825
CREATED:20221019T143421Z
LAST-MODIFIED:20221019T143421Z
UID:249015-1668682800-1668686400@gatewayassociation.ca
SUMMARY:ePortfolio (4/4)
DESCRIPTION:Learners will work on their own between classes. In the eportfolio workshop\, participants will learn about the different types of portfolios\, how to use google sites\, and the basics of layout and design. Learners will choose the type of portfolio they want to build and the subject they want to focus on. They will select and add content to their sites along with descriptions\, statements about their motivation\, interests\, skills\, and hobbies. \nFor questions and to register\, please connect with us at GetDigital@GatewayAssociation.ca
URL:https://gatewayassociation.ca/calendar/eportfolio-4-4/
END:VEVENT
BEGIN:VEVENT
DTSTART;TZID=America/Denver:20221117T130000
DTEND;TZID=America/Denver:20221117T140000
DTSTAMP:20260421T192825
CREATED:20221019T134501Z
LAST-MODIFIED:20221019T134501Z
UID:248965-1668690000-1668693600@gatewayassociation.ca
SUMMARY:Interview Preparation Workshop
DESCRIPTION:What to do before\, during and after the job interview \n  \nTo register and for any accommodation needs\, please connect with us at Get-Work@GatewayAssociation.ca
URL:https://gatewayassociation.ca/calendar/interview-preparation-workshop-12/
CATEGORIES:ERC
END:VEVENT
BEGIN:VEVENT
DTSTART;TZID=America/Denver:20221117T130000
DTEND;TZID=America/Denver:20221117T140000
DTSTAMP:20260421T192825
CREATED:20221019T144323Z
LAST-MODIFIED:20221019T144323Z
UID:249021-1668690000-1668693600@gatewayassociation.ca
SUMMARY:Navigating Indeed
DESCRIPTION:For questions and to register\, please connect with us at GetDigital@GatewayAssociation.ca
URL:https://gatewayassociation.ca/calendar/navigating-indeed-2/
END:VEVENT
BEGIN:VEVENT
DTSTART;TZID=America/Denver:20221117T180000
DTEND;TZID=America/Denver:20221117T210000
DTSTAMP:20260421T192825
CREATED:20220907T192647Z
LAST-MODIFIED:20220907T192647Z
UID:248710-1668708000-1668718800@gatewayassociation.ca
SUMMARY:Transition Planning for Adulthood 4 part series: Session 3 of 4
DESCRIPTION:Transition Planning for Adulthood 4 part series: Part 3 of 4      \nThursdays \nNovember 3 \nNovember 10 \nNovember 17 \nNovember 24 \n6pm – 9pm | Zoom \nA 4-part workshop series exploring the critical transition to adulthood for 16-20 year-olds and how to create a plan for the future. \nJoin our 4-part workshop series that engages families in building knowledge when navigating this critical time for 16-20 year olds. \nThis workshop series includes topics on: life transitions\, valued roles in the community\, visioning and planning\, and navigating the systems. \nNote: All four workshops must be taken consecutively. \nFor accommodation requirements\, please reach out to Yonique@GatewayAssociation.ca for assistance
URL:https://gatewayassociation.ca/calendar/transition-planning-for-adulthood-4-part-series-session-3-of-4/
CATEGORIES:FRC
END:VEVENT
BEGIN:VEVENT
DTSTART;TZID=America/Denver:20221119T090000
DTEND;TZID=America/Denver:20221119T120000
DTSTAMP:20260421T192825
CREATED:20220907T195036Z
LAST-MODIFIED:20220907T195036Z
UID:248729-1668848400-1668859200@gatewayassociation.ca
SUMMARY:Finding the Right Staff (FMS)
DESCRIPTION:Finding the Right Staff (FMS)              \nSaturday\, November 19 \n9am – 12pm | Zoom \nA workshop for Family Managed Services Administrators that looks at using your vision plan to identify appropriate supports to help achieve your family member’s goals. \nThis workshop\, for Family Managed Services Administrators only\, looks at using the Individual Support Plan to help your staff create valued roles and enhance community connections
URL:https://gatewayassociation.ca/calendar/finding-the-right-staff-fms/
CATEGORIES:FRC
END:VEVENT
BEGIN:VEVENT
DTSTART;TZID=America/Denver:20221121T130000
DTEND;TZID=America/Denver:20221121T140000
DTSTAMP:20260421T192825
CREATED:20221019T144627Z
LAST-MODIFIED:20221019T144627Z
UID:249023-1669035600-1669039200@gatewayassociation.ca
SUMMARY:LinkedIn Profile Series (1/4)
DESCRIPTION:This is a 4 part series \nBuild your own LinkedIn profile! Share your skills\, goals\, and experiences\, create job alerts\, and grow your online network. \nFor questions and to register\, please connect with us at GetDigital@GatewayAssociation.ca
URL:https://gatewayassociation.ca/calendar/linkedin-profile-series-1-4-2/
END:VEVENT
BEGIN:VEVENT
DTSTART;TZID=America/Denver:20221122T100000
DTEND;TZID=America/Denver:20221122T110000
DTSTAMP:20260421T192825
CREATED:20221019T145002Z
LAST-MODIFIED:20221019T145002Z
UID:249032-1669111200-1669114800@gatewayassociation.ca
SUMMARY:Email Basics Level 2- Extra Practice
DESCRIPTION:**For participants who have completed Email Basics\, and would like more practice** \n\nA session for participants who have take the Email Basics session and would like more practice in writing professional emails for their job search and workplace communication \nFor questions and to register\, please connect with us at GetDigital@GatewayAssociaition.ca
URL:https://gatewayassociation.ca/calendar/email-basics-level-2-extra-practice/
END:VEVENT
BEGIN:VEVENT
DTSTART;TZID=America/Denver:20221122T100000
DTEND;TZID=America/Denver:20221122T110000
DTSTAMP:20260421T192825
CREATED:20221028T152714Z
LAST-MODIFIED:20221028T152714Z
UID:249132-1669111200-1669114800@gatewayassociation.ca
SUMMARY:Navigating the Gateway App Workshop
DESCRIPTION:Join Rabia from the Gateway to Digital Inclusion APP Team to learn how to navigate our APP. Together\, we will explore all the different channels\, participate in engaging activities\, and meet other community folks! \n 
URL:https://gatewayassociation.ca/calendar/navigating-the-gateway-app-workshop-2/
END:VEVENT
BEGIN:VEVENT
DTSTART;TZID=America/Denver:20221122T100000
DTEND;TZID=America/Denver:20221122T120000
DTSTAMP:20260421T192825
CREATED:20220915T180025Z
LAST-MODIFIED:20221108T185809Z
UID:248869-1669111200-1669118400@gatewayassociation.ca
SUMMARY:Work Simulation Part 2\, Week 2
DESCRIPTION:Oct 18th to Nov 24rd – This is a 6-week course. \nClasses are on Tues to Thurs for 2 hours per session \nIncrease your digital and social skills\, as you work in a team to build a website for an imaginary company. This is a tech-based work simulation\, where learners are ‘hired’ into positions at an imaginary tech company and work together to build a website for a simulated client. \nThis course covers basic: internet vocabulary\, web design\, and use of google apps while giving you experience with working on a team\, engaging with peers\, and giving presentations. Learn to design and build a website\, create and give presentations\, and practice your interview skills. \nTo learn more or to register\, please connect with us at GetDigital@GatewayAssociation.ca
URL:https://gatewayassociation.ca/calendar/work-simulation-week-6/
END:VEVENT
BEGIN:VEVENT
DTSTART;TZID=America/Denver:20221122T130000
DTEND;TZID=America/Denver:20221122T140000
DTSTAMP:20260421T192825
CREATED:20221019T134929Z
LAST-MODIFIED:20221019T134929Z
UID:248967-1669122000-1669125600@gatewayassociation.ca
SUMMARY:Workplace Expectations
DESCRIPTION:You’ve got the job\, now you must keep it! Talking about the everyday behaviors that are appropriate in the workplace: \n\nshowing up on time\nhow long is too long for socializing with coworkers\nbreaks – what does this mean\nmotivation and engagement\n\nTo register and for any accommodation needs\, please connect with us at Get-Work@GatewayAssociation.ca
URL:https://gatewayassociation.ca/calendar/workplace-expectations-2/
CATEGORIES:ERC
END:VEVENT
BEGIN:VEVENT
DTSTART;TZID=America/Denver:20221122T130000
DTEND;TZID=America/Denver:20221122T140000
DTSTAMP:20260421T192825
CREATED:20221019T144656Z
LAST-MODIFIED:20221019T144715Z
UID:249025-1669122000-1669125600@gatewayassociation.ca
SUMMARY:LinkedIn Profile Series (2/4)
DESCRIPTION:This is a 4 part series \nBuild your own LinkedIn profile! Share your skills\, goals\, and experiences\, create job alerts\, and grow your online network. \nFor questions and to register\, please connect with us at GetDigital@GatewayAssociation.ca
URL:https://gatewayassociation.ca/calendar/linkedin-profile-series-2/
END:VEVENT
BEGIN:VEVENT
DTSTART;TZID=America/Denver:20221122T140000
DTEND;TZID=America/Denver:20221122T153000
DTSTAMP:20260421T192825
CREATED:20221028T153256Z
LAST-MODIFIED:20221028T153256Z
UID:249136-1669125600-1669131000@gatewayassociation.ca
SUMMARY:Your Story\, Your Dance
DESCRIPTION:Facilitated by Harmanie Rose and Heath Birkholz \nThrough these sessions we are looking into discovering your story through dance\, and how that tells where you are from\, and who you are\, and what you love about you! The way each of us express our way of dancing is the exact technique required! Join Your Dance/ Your Story as we explore through using improvisational dance skills in telling our stories together. We will be sharing and experimenting with different forms of dance to tell our stories of how we want to be seen. Each week we will include a different approach to using dance to share our storytelling and unfold our creativity by learning from each other. \nDancers of all levels and abilities are WELCOME! \nReach out with any accommodation or questions you may have to: heath@gatewayassociation.ca \nSign up HERE \n  \nEvery Tuesday starting November 15 @ 2 PM weekly via zoom (and on the Gateway APP) \nSession #1: Beginning our Stories | November 15\, 2022 \nWe will explore how we can dance together and create our movements as a community. By discovering and learning from one another to begin our story. \nRequired (your choice): \nSpace to move in with comfortable clothes \nSession #2: Show and Tell November 22\, 2022 \nWith our community support\, we are going to source movements from the objects and memories that are meaningful to us to add strength to the stories we are creating. \nRequired (your choice): \nA meaningful object or memory\, a space to move in with comfortable clothes \nSession #3: Back to the Future November 29\, 2022 \nRevisiting the dancing that makes your story joyful and how certain struggles and moments of grief helped you towards that joyfulness. What are the different ways that you can offer to tell your story through your dance? \nRequired (your choice): \nSpace to move with comfortable clothes \nSession #4: Come together\, right now December 6\, 2022 \nRequired (your choice): \nSpace to move in with comfortable clothes \nSession #5: Shaping the big reveal! December 13\, 2022 \nRequired (your choice): \nSpace to move in with comfortable clothes
URL:https://gatewayassociation.ca/calendar/your-story-your-dance-2/
END:VEVENT
BEGIN:VEVENT
DTSTART;TZID=America/Denver:20221122T180000
DTEND;TZID=America/Denver:20221122T210000
DTSTAMP:20260421T192825
CREATED:20220907T195241Z
LAST-MODIFIED:20220907T195241Z
UID:248731-1669140000-1669150800@gatewayassociation.ca
SUMMARY:Persons with Developmental Disabilities (PDD) 101
DESCRIPTION:Persons with Developmental Disabilities (PDD) 101 \nTuesday\, November 22 \n 6pm – 9pm | Zoom \nA workshop for caregivers to develop knowledge of Alberta’s government service known as Persons with Developmental Disabilities (PDD). \nThis workshop is an introduction to\, and overview of\, PDD for those who may be eligible. You will gain an understanding of the PDD program\, options available for service provision\, and information to determine the best supports for your family \nFor any accommodation requirements\, please reach out to Miriam@GatewayAssociation.ca for assistance
URL:https://gatewayassociation.ca/calendar/persons-with-developmental-disabilities-pdd-101-4/
CATEGORIES:FRC
END:VEVENT
BEGIN:VEVENT
DTSTART;TZID=America/Denver:20221123T100000
DTEND;TZID=America/Denver:20221123T120000
DTSTAMP:20260421T192825
CREATED:20220915T184711Z
LAST-MODIFIED:20221108T185830Z
UID:248927-1669197600-1669204800@gatewayassociation.ca
SUMMARY:Work Simulation Part 2\, Week 2
DESCRIPTION:Oct 18th to Nov 24rd – This is a 6-week course. \nClasses are on Tues to Thurs for 2 hours per session \nIncrease your digital and social skills\, as you work in a team to build a website for an imaginary company. This is a tech-based work simulation\, where learners are ‘hired’ into positions at an imaginary tech company and work together to build a website for a simulated client. \nThis course covers basic: internet vocabulary\, web design\, and use of google apps while giving you experience with working on a team\, engaging with peers\, and giving presentations. Learn to design and build a website\, create and give presentations\, and practice your interview skills. \nTo learn more or to register\, please connect with us at GetDigital@GatewayAssociation.ca
URL:https://gatewayassociation.ca/calendar/work-simulation-week-6-3/
END:VEVENT
BEGIN:VEVENT
DTSTART;TZID=America/Denver:20221123T130000
DTEND;TZID=America/Denver:20221123T140000
DTSTAMP:20260421T192825
CREATED:20221019T144806Z
LAST-MODIFIED:20221019T144806Z
UID:249028-1669208400-1669212000@gatewayassociation.ca
SUMMARY:LinkedIn Profile Series (3/4)
DESCRIPTION:This is a 4 part series \nBuild your own LinkedIn profile! Share your skills\, goals\, and experiences\, create job alerts\, and grow your online network. \nFor questions and to register\, please connect with us at GetDigital@GatewayAssociation.ca
URL:https://gatewayassociation.ca/calendar/linkedin-profile-series-3-4-2/
END:VEVENT
BEGIN:VEVENT
DTSTART;TZID=America/Denver:20221123T150000
DTEND;TZID=America/Denver:20221123T163000
DTSTAMP:20260421T192825
CREATED:20221019T140849Z
LAST-MODIFIED:20221019T140849Z
UID:248983-1669215600-1669221000@gatewayassociation.ca
SUMMARY:OSC Boardgames
DESCRIPTION:**Requires Online Social Connections – Discord and Steam Tutorials as well as desktop or laptop computer.** \nCome hang out! Learn about setting up online accounts\, meet new friends\, socialize\, and have fun playing boardgames online. Meet new friends\, practise new skills\, have fun! \nFor questions and to register\, please connect with us at GetDigital@GatewayAssociation.ca
URL:https://gatewayassociation.ca/calendar/osc-boardgames-14/
END:VEVENT
BEGIN:VEVENT
DTSTART;TZID=America/Denver:20221123T180000
DTEND;TZID=America/Denver:20221123T200000
DTSTAMP:20260421T192825
CREATED:20220907T194100Z
LAST-MODIFIED:20220907T194100Z
UID:248721-1669226400-1669233600@gatewayassociation.ca
SUMMARY:Visioning and Planning for Families with Children 9-12 Years Old 4 part series: Session 2 of 4
DESCRIPTION:Visioning and Planning for Families with Children 9-12 Years Old 4 part series \nSession 2 of 4 \nWednesdays: \nNovember 16 \nNovember 23 \nNovember 30 \nDecember 7 \n6pm – 8pm | Zoom \nA 4-part workshop series that empowers families of 9-12 year-olds with disabilities with knowledge\, resources\, and more. \nJoin our 4-part workshop series that empowers parents/caregivers of 9-12 year-olds with developmental disabilities with knowledge\, resources\, and a sense of direction for the future. \nWe will touch on a variety of topics including values and belonging in the community\, visioning and planning\, various transitions during later elementary school\, navigating various systems age appropriate for families with “tween” age children as well as advocacy and having difficult conversations \nFor any accommodation requirements\, please connect with Stacy@GatewayAssociation.ca for assistance
URL:https://gatewayassociation.ca/calendar/visioning-and-planning-for-families-with-children-9-12-years-old-4-part-series-session-2-of-4/
CATEGORIES:FRC
END:VEVENT
BEGIN:VEVENT
DTSTART;TZID=America/Denver:20221123T190000
DTEND;TZID=America/Denver:20221123T210000
DTSTAMP:20260421T192825
CREATED:20220907T195416Z
LAST-MODIFIED:20220921T211128Z
UID:248733-1669230000-1669237200@gatewayassociation.ca
SUMMARY:Abuse Prevention and Response Protocol (FMS Admin)
DESCRIPTION:Abuse Prevention and Response Protocol (FMS Admin) \nWednesday\, November 23 \n7pm – 9pm | Zoom \nA workshop that explores ways to reduce the risk of abuse and how to handle suspicions of abuse (for Family Managed Services Administrators). \nThis workshop\, for FMS Administrators\, provides an understanding of the protocol\, explores what can be done to reduce the risk of abuse\, identifies types of abuse\, and how to handle situations when abuse is suspected. \nNote: This is a mandatory course for FMS Administrators under Family Managed Services with Disability Services \nFor any accommodation requirements\, please reach out to Betty@GatewayAssociation.ca for assistance
URL:https://gatewayassociation.ca/calendar/abuse-prevention-and-response-protocol-fms-admin-2/
CATEGORIES:FRC
END:VEVENT
BEGIN:VEVENT
DTSTART;TZID=America/Denver:20221124T080000
DTEND;TZID=America/Denver:20221124T170000
DTSTAMP:20260421T192825
CREATED:20220907T193203Z
LAST-MODIFIED:20220907T203322Z
UID:248713-1669276800-1669309200@gatewayassociation.ca
SUMMARY:Transition Planning for Adulthood 4 part series: Session 4 of 4
DESCRIPTION:Transition Planning for Adulthood 4 part series: Part 4 of 4      \nThursdays \nNovember 3 \nNovember 10 \nNovember 17 \nNovember 24 \n6pm – 9pm | Zoom \nA 4-part workshop series exploring the critical transition to adulthood for 16-20 year-olds and how to create a plan for the future. \nJoin our 4-part workshop series that engages families in building knowledge when navigating this critical time for 16-20 year olds. \nThis workshop series includes topics on: life transitions\, valued roles in the community\, visioning and planning\, and navigating the systems. \nNote: All four workshops must be taken consecutively. \nFor accommodation requirements\, please reach out to Yonique@GatewayAssociation.ca for assistance
URL:https://gatewayassociation.ca/calendar/transition-planning-for-adulthood-4-part-series-session-4-of-4/
CATEGORIES:FRC
END:VEVENT
END:VCALENDAR