BEGIN:VCALENDAR
VERSION:2.0
PRODID:-//Gateway Association - ECPv6.15.20//NONSGML v1.0//EN
CALSCALE:GREGORIAN
METHOD:PUBLISH
X-WR-CALNAME:Gateway Association
X-ORIGINAL-URL:https://gatewayassociation.ca
X-WR-CALDESC:Events for Gateway Association
REFRESH-INTERVAL;VALUE=DURATION:PT1H
X-Robots-Tag:noindex
X-PUBLISHED-TTL:PT1H
BEGIN:VTIMEZONE
TZID:America/Denver
BEGIN:DAYLIGHT
TZOFFSETFROM:-0700
TZOFFSETTO:-0600
TZNAME:MDT
DTSTART:20230312T090000
END:DAYLIGHT
BEGIN:STANDARD
TZOFFSETFROM:-0600
TZOFFSETTO:-0700
TZNAME:MST
DTSTART:20231105T080000
END:STANDARD
BEGIN:DAYLIGHT
TZOFFSETFROM:-0700
TZOFFSETTO:-0600
TZNAME:MDT
DTSTART:20240310T090000
END:DAYLIGHT
BEGIN:STANDARD
TZOFFSETFROM:-0600
TZOFFSETTO:-0700
TZNAME:MST
DTSTART:20241103T080000
END:STANDARD
BEGIN:DAYLIGHT
TZOFFSETFROM:-0700
TZOFFSETTO:-0600
TZNAME:MDT
DTSTART:20250309T090000
END:DAYLIGHT
BEGIN:STANDARD
TZOFFSETFROM:-0600
TZOFFSETTO:-0700
TZNAME:MST
DTSTART:20251102T080000
END:STANDARD
END:VTIMEZONE
BEGIN:VEVENT
DTSTART;TZID=America/Denver:20241204T143000
DTEND;TZID=America/Denver:20241204T163000
DTSTAMP:20260421T173115
CREATED:20241105T221517Z
LAST-MODIFIED:20241105T221517Z
UID:254181-1733322600-1733329800@gatewayassociation.ca
SUMMARY:Online Boardgames
DESCRIPTION:Online Boardgames\nSession: 1 of 1 \nDuration: 1.5 to 2 hr \nFacilitator: Lee \nPrivate – GTDI Program intake required prior to workshop signup: getdigital@gatewayassociation.ca \n\n**Requires Online Social Connections – Discord and Steam Tutorials as well as desktop or laptop computer.** \nCome hang out! Learn about setting up online accounts\, meet new friends\, socialize\, and have fun playing boardgames online. Meet new friends\, practise new skills\, have fun!
URL:https://gatewayassociation.ca/calendar/online-boardgames-61/
END:VEVENT
BEGIN:VEVENT
DTSTART;TZID=America/Denver:20241204T140000
DTEND;TZID=America/Denver:20241204T150000
DTSTAMP:20260421T173115
CREATED:20241125T201305Z
LAST-MODIFIED:20241125T201305Z
UID:254314-1733320800-1733324400@gatewayassociation.ca
SUMMARY:MentorAbility Industry Information Session: Careers in Marketing and Design with Relish
DESCRIPTION:MentorAbility Alberta is offering ongoing FREE interactive Industry Information Sessions! These information sessions give participants the opportunity to learn more about prospective industries\, recruitment requirements and qualifications\, and the next steps they may need to take to achieve their employment goals. \nJoin use to hear all about careers in Marketing and Design with Suzanne Braun of Relish Ideas. Relish is a full-service marketing communications and interactive agency specializing in strategic\, immersive brand experiences across traditional and digital platforms. As a certified B Corporation\, Relish is a 29-member\, 51% female-owned and led team based in Calgary and Winnipeg\, driven by creativity\, innovation\, and impact. \nSuzanne Braun\, an experienced entrepreneur\, is the Founder and Managing Partner Relish Ideas. Under her leadership\, Relish became a Certified B Corporation in 2017\, committing to the highest standards of social and environmental performance\, transparency\, and accountability. Suzanne plays a pivotal role in helping clients design\, launch\, and manage brand experiences across platforms\, bringing her passion for people and projects to every initiative. In addition to her work at Relish\, Suzanne has a rich background in technology commercialization. She co-founded and served as CEO of Quipped Interactive Learning Tools from 2014 to 2019 and now acts as a fractional CMO for two tech startups. A graduate of Impact8 and VentureOut accelerators\, Suzanne has been recognized as an RBC Social Impact Entrepreneur. Dedicated to social innovation\, she directed the Manitoba Open Innovation Challenge\, tackling early childhood literacy and numeracy issues\, and holds credentials in Innovation Engineering\, digital behaviour psychology\, product management\, and UX design. \nThis event is offered to all MentorAbility participants – so if you are a job seeker who experiences disability-related barriers to employment or a supportive employment service provider who wants to learn more about the industry\, this event is for you! \nIf we can offer any accommodations during the event to make your participation easier or answer any questions you have about the event ahead of time\, please contact susannah@gatewayassociation.ca after you register to discuss. \nThis event will be recorded. \nRegister HERE
URL:https://gatewayassociation.ca/calendar/mentorability-industry-information-session-careers-in-marketing-and-design-with-relish/
CATEGORIES:ERC,MentorAbility Alberta
END:VEVENT
BEGIN:VEVENT
DTSTART;TZID=America/Denver:20241204T130000
DTEND;TZID=America/Denver:20241204T140000
DTSTAMP:20260421T173115
CREATED:20241105T221353Z
LAST-MODIFIED:20241105T221353Z
UID:254177-1733317200-1733320800@gatewayassociation.ca
SUMMARY:Google Slides (2 of 3)
DESCRIPTION:Google Slides\nVirtual  \nSession: 2 of 3 \nDuration: 1 hr \nFacilitator: Toby \nPrivate – GTDI Program intake required prior to workshop: getdigital@gatewayassociation.ca \nLearn how to make your own presentations using Google Slides. We will go through what Google Slides is\, how to access it\, and how to create and modify your own presentation. We will look at using tools like Animation\, Transitions\, different formatting options\, and creating and using Themes.
URL:https://gatewayassociation.ca/calendar/google-slides-2-of-3-2/
END:VEVENT
BEGIN:VEVENT
DTSTART;TZID=America/Denver:20241204T100000
DTEND;TZID=America/Denver:20241204T120000
DTSTAMP:20260421T173115
CREATED:20241008T194733Z
LAST-MODIFIED:20241008T194733Z
UID:253946-1733306400-1733313600@gatewayassociation.ca
SUMMARY:Interview Roundtable: Learning and Laughing Together
DESCRIPTION:Interview Roundtable: Learning and Laughing Together – Practice\n\nJoin us for a dynamic and interactive workshop designed to help you ace your next job interview. In our Interview Roundtable\, you’ll have the opportunity to connect with fellow job seekers and share your experiences and insights. Our experienced facilitators will guide you through real-life interview scenarios and help you develop the skills and confidence you need to succeed.   \nOnline or In-Person: IN-PERSON – YYC \nTo learn more or to register\, please connect with us at Get-Work@GatewayAssociation.ca
URL:https://gatewayassociation.ca/calendar/interview-roundtable-learning-and-laughing-together-8/
CATEGORIES:ERC
END:VEVENT
BEGIN:VEVENT
DTSTART;TZID=America/Denver:20241203T130000
DTEND;TZID=America/Denver:20241203T140000
DTSTAMP:20260421T173115
CREATED:20241113T175856Z
LAST-MODIFIED:20241113T175856Z
UID:254236-1733230800-1733234400@gatewayassociation.ca
SUMMARY:Mindset Matters: Boost Your Job Search!
DESCRIPTION:Mindset Matters: Boost Your Job Search!\nAs offered in Career360 in October\, this workshop will help you build a positive mindset to improve your job search. Learn how to overcome self-doubt and embrace challenges. Whether you’re starting fresh or changing careers\, discover how the right mindset can lead you to success!\n\nTo learn more and to register\, please connect with us at Get-Work@GatewayAssociation.ca
URL:https://gatewayassociation.ca/calendar/mindset-matters-boost-your-job-search/
CATEGORIES:ERC
END:VEVENT
BEGIN:VEVENT
DTSTART;TZID=America/Denver:20241203T130000
DTEND;TZID=America/Denver:20241203T140000
DTSTAMP:20260421T173115
CREATED:20241105T221307Z
LAST-MODIFIED:20241105T221307Z
UID:254175-1733230800-1733234400@gatewayassociation.ca
SUMMARY:Google Slides (1 of 3)
DESCRIPTION:Google Slides\nVirtual  \nSession: 1 of 3 \nDuration: 1 hr \nFacilitator: Toby \nPrivate – GTDI Program intake required prior to workshop: getdigital@gatewayassociation.ca \n\nLearn how to make your own presentations using Google Slides. We will go through what Google Slides is\, how to access it\, and how to create and modify your own presentation. We will look at using tools like Animation\, Transitions\, different formatting options\, and creating and using Themes.
URL:https://gatewayassociation.ca/calendar/google-slides-1-of-3-2/
END:VEVENT
BEGIN:VEVENT
DTSTART;TZID=America/Denver:20241203T110000
DTEND;TZID=America/Denver:20241203T120000
DTSTAMP:20260421T173115
CREATED:20241105T220902Z
LAST-MODIFIED:20241105T220902Z
UID:254167-1733223600-1733227200@gatewayassociation.ca
SUMMARY:Google Drive (2 of 2)
DESCRIPTION:Google Drive\nSession: 2 of 2  \nDuration: 1  hr  \nFacilitator: Lee   \nPrivate – GTDI Program intake required prior to workshop: getdigital@gatewayassociation.ca  \n  \nLearn how to create a google accounts\, access google drive\, upload files\, create folders\, search for files. Group discussion on cloud storage\, strong passwords\, file naming conventions and keeping documents and folders organized.  
URL:https://gatewayassociation.ca/calendar/google-drive-2-of-2-16/
END:VEVENT
BEGIN:VEVENT
DTSTART;TZID=America/Denver:20241203T100000
DTEND;TZID=America/Denver:20241203T110000
DTSTAMP:20260421T173115
CREATED:20241105T221212Z
LAST-MODIFIED:20241105T221212Z
UID:254173-1733220000-1733223600@gatewayassociation.ca
SUMMARY:Email Basics
DESCRIPTION:Session: 1 of 1  \nDuration: 1 hr   \nFacilitator: Lee  \nPrivate – GTDI Program intake required prior to workshop: getdigital@gatewayassociation.ca  \n  \nLearn about and practice the basics of writing professional emails for your job search and workplace communication. 
URL:https://gatewayassociation.ca/calendar/email-basics-46/
END:VEVENT
BEGIN:VEVENT
DTSTART;TZID=America/Denver:20241202T150000
DTEND;TZID=America/Denver:20241202T160000
DTSTAMP:20260421T173115
CREATED:20241105T221134Z
LAST-MODIFIED:20241105T221134Z
UID:254171-1733151600-1733155200@gatewayassociation.ca
SUMMARY:LinkedIn Learning
DESCRIPTION:LinkedIn Learning\nSession 1 of 1  \nDuration 1 hr   \nFacilitator: Toby  \nPrivate – GTDI Program intake required prior to workshop: getdigital@gatewayassociation.ca  \n  \n***Requires an active library membership.**  \nExplore LinkedIn website as a group\, learn how to: create an account\, search for course\, save and organize courses\, and customize your profile.  
URL:https://gatewayassociation.ca/calendar/linkedin-learning-28/
END:VEVENT
BEGIN:VEVENT
DTSTART;TZID=America/Denver:20241202T130000
DTEND;TZID=America/Denver:20241202T140000
DTSTAMP:20260421T173115
CREATED:20241105T221050Z
LAST-MODIFIED:20241105T221050Z
UID:254169-1733144400-1733148000@gatewayassociation.ca
SUMMARY:Zoom Basics
DESCRIPTION:Zoom Basics\nSession: 1 of 1 \nDuration: 1 hr \nFacilitator: Toby \nPrivate – GTDI Program intake required prior to workshop: getdigital@gatewayassociation.ca \n\nLearn what you need to know to participate in online Zoom meetings. Explore all the cool features of the program\, practice your digital skills and build your zoom social skills.
URL:https://gatewayassociation.ca/calendar/zoom-basics-32/
END:VEVENT
BEGIN:VEVENT
DTSTART;TZID=America/Denver:20241202T110000
DTEND;TZID=America/Denver:20241202T120000
DTSTAMP:20260421T173115
CREATED:20241105T220824Z
LAST-MODIFIED:20241105T220824Z
UID:254165-1733137200-1733140800@gatewayassociation.ca
SUMMARY:Google Drive (1 of 2)
DESCRIPTION:Google Drive\nSession: 1 of 2  \nDuration: 1  hr  \nFacilitator: Lee   \nPrivate – GTDI Program intake required prior to workshop: getdigital@gatewayassociation.ca  \n  \nLearn how to create a google accounts\, access google drive\, upload files\, create folders\, search for files. Group discussion on cloud storage\, strong passwords\, file naming conventions and keeping documents and folders organized.  
URL:https://gatewayassociation.ca/calendar/google-drive-1-of-2-18/
END:VEVENT
BEGIN:VEVENT
DTSTART;TZID=America/Denver:20241128T180000
DTEND;TZID=America/Denver:20241128T210000
DTSTAMP:20260421T173115
CREATED:20240812T191454Z
LAST-MODIFIED:20240812T191454Z
UID:253214-1732816800-1732827600@gatewayassociation.ca
SUMMARY:FMS Admin: Abuse Prevention and Response Protocol     
DESCRIPTION:FMS Admin: Abuse Prevention and Response Protocol\nThursday\, November 28 \n6:00 pm – 9:00 pm | Online \n  \nA workshop that explores ways to reduce the risk of abuse and how to handle suspicions of abuse (for Family Managed Services Administrators). \n  \nThis workshop\, for FMS Administrators\, provides an understanding of the protocol\, explores what can be done to reduce the risk of abuse\, identifies types of abuse\, and how to handle situations when abuse is suspected. \n  \nNote: This is a mandatory course for FMS Administrators under Family Managed Services with Disability Services. \n  \nQuestions? Contact Betty (Facilitator) at Betty@GatewayAssociation.ca \nEventbrite link: https://www.eventbrite.ca/e/fms-admin-abuse-prevention-and-response-protocol-tickets-981853338767?aff=oddtdtcreator
URL:https://gatewayassociation.ca/calendar/fms-admin-abuse-prevention-and-response-protocol-3/
CATEGORIES:FRC
END:VEVENT
BEGIN:VEVENT
DTSTART;TZID=America/Denver:20241128T180000
DTEND;TZID=America/Denver:20241128T210000
DTSTAMP:20260421T173115
CREATED:20240812T191006Z
LAST-MODIFIED:20240812T191006Z
UID:253206-1732816800-1732827600@gatewayassociation.ca
SUMMARY:Transition Planning to Adulthood (2 of 3)
DESCRIPTION:Transition Planning to Adulthood:\nThursday \nNovember 21 \nNovember 28  \nDecember 5 \n  \n6:00 pm – 9:00 pm \nOnline \n  \nPart 1: Life Transitions \nPart 2: Valued Roles\, Visioning\, and Planning \nPart 3: Navigating the Systemss\n  \nA 3-part workshop series exploring the critical transition to adulthood for 14-20 year-olds and how to create a plan for the future. \n  \nThis is a workshop series for parents/caregivers that engages families in building knowledge when navigating this critical time for 14-20 year olds. \n  \nThis workshop series includes topics on: life transitions\, valued roles in the community\, visioning and planning\, and navigating the systems.   Note: All three workshops must be taken consecutively. \n  \nQuestions? \nShelley (Facilitator) at Shelley@GatewayAssociation.ca \nEventbrite link: https://www.eventbrite.ca/e/transition-planning-to-adulthood-tickets-981835776237?aff=oddtdtcreator
URL:https://gatewayassociation.ca/calendar/transition-planning-to-adulthood-2-of-3-2/
CATEGORIES:FRC
END:VEVENT
BEGIN:VEVENT
DTSTART;TZID=America/Denver:20241128T130000
DTEND;TZID=America/Denver:20241128T140000
DTSTAMP:20260421T173115
CREATED:20241008T193701Z
LAST-MODIFIED:20241008T193715Z
UID:253941-1732798800-1732802400@gatewayassociation.ca
SUMMARY:Interview Prep 102: Common Interview Questions
DESCRIPTION:Interview Prep 102: Common Interview Questions\nLearn tips about how to effectively answer some of the most common interview questions!\n\nOnline or In-Person: ONLINE\n\nTo learn more and to register\, please connect with us at Employment@GatewayAssociation.ca
URL:https://gatewayassociation.ca/calendar/253941/
CATEGORIES:ERC
END:VEVENT
BEGIN:VEVENT
DTSTART;TZID=America/Denver:20241128T130000
DTEND;TZID=America/Denver:20241128T140000
DTSTAMP:20260421T173115
CREATED:20241008T181332Z
LAST-MODIFIED:20241008T181332Z
UID:253906-1732798800-1732802400@gatewayassociation.ca
SUMMARY:Google Photo Editing (2 of 2)
DESCRIPTION:Google Photo Editing\nSession: 2 of 2  \nDuration: 1 hr   \nFacilitator: Toby  \nPrivate – GTDI Program intake required prior to workshop: getdigital@gatewayassociation.ca 
URL:https://gatewayassociation.ca/calendar/google-photo-editing-2-of-2/
END:VEVENT
BEGIN:VEVENT
DTSTART;TZID=America/Denver:20241127T160000
DTEND;TZID=America/Denver:20241127T170000
DTSTAMP:20260421T173115
CREATED:20241008T184620Z
LAST-MODIFIED:20241008T184620Z
UID:253914-1732723200-1732726800@gatewayassociation.ca
SUMMARY:Calgary Employment Resource Centre Info Session
DESCRIPTION:Calgary Employment Resource Centre Information Session\nJoin Gateway Association for a virtual Employment Resource Centre information session. \nThis session is for job seekers with disability or mental health-based barriers to learn about how Gateway Association can support you with achieving your employment goals! \nL earn about individualized supports and group workshops that will help you with: \n\nCareer development and action plans\nResume building\nInterview skills\nWorkplace communication\nOnboarding and training\nJob search and finding the right job for you\nKeeping your job!\nA ND much more!\n\nFor additional accommodations or questions\, please connect with us at Get-Work@GatewayAssociation.ca \nRegister HERE
URL:https://gatewayassociation.ca/calendar/calgary-employment-resource-centre-info-session/
END:VEVENT
BEGIN:VEVENT
DTSTART;TZID=America/Denver:20241127T143000
DTEND;TZID=America/Denver:20241127T163000
DTSTAMP:20260421T173115
CREATED:20241008T181424Z
LAST-MODIFIED:20241008T181424Z
UID:253908-1732717800-1732725000@gatewayassociation.ca
SUMMARY:Online Boardgames
DESCRIPTION:Online Boardgames\nSession: 1 of 1 \nDuration: 1.5 to 2 hr \nFacilitator: Lee \nPrivate – GTDI Program intake required prior to workshop signup: getdigital@gatewayassociation.ca \n\n**Requires Online Social Connections – Discord and Steam Tutorials as well as desktop or laptop computer.** \nCome hang out! Learn about setting up online accounts\, meet new friends\, socialize\, and have fun playing boardgames online. Meet new friends\, practise new skills\, have fun!
URL:https://gatewayassociation.ca/calendar/online-boardgames-63/
END:VEVENT
BEGIN:VEVENT
DTSTART;TZID=America/Denver:20241127T130000
DTEND;TZID=America/Denver:20241127T140000
DTSTAMP:20260421T173115
CREATED:20241008T181248Z
LAST-MODIFIED:20241008T181248Z
UID:253904-1732712400-1732716000@gatewayassociation.ca
SUMMARY:Google Photo Editing (1 of 2)
DESCRIPTION:Google Photo Editing\nSession: 1 of 2  \nDuration: 1 hr   \nFacilitator: Toby  \nPrivate – GTDI Program intake required prior to workshop: getdigital@gatewayassociation.ca 
URL:https://gatewayassociation.ca/calendar/google-photo-editing-1-of-2/
END:VEVENT
BEGIN:VEVENT
DTSTART;TZID=America/Denver:20241127T110000
DTEND;TZID=America/Denver:20241127T120000
DTSTAMP:20260421T173115
CREATED:20241022T160547Z
LAST-MODIFIED:20241022T160547Z
UID:254031-1732705200-1732708800@gatewayassociation.ca
SUMMARY:Study Hall - ePortfolios
DESCRIPTION:Study Hall – ePortfolios\nSession 1 of 1  \nDuration 1 hr   \nFacilitator: Lee  \nPrivate – GTDI Program intake required prior to workshop: getdigital@gatewayassociation.ca  \n**Requires desktop or laptop computer. \n  \nThis is an open work session for participants who  have already completed the ePortfolio Workshop series and would like to continue working on their portfolios.
URL:https://gatewayassociation.ca/calendar/study-hall-eportfolios-6/
END:VEVENT
BEGIN:VEVENT
DTSTART;TZID=America/Denver:20241127T100000
DTEND;TZID=America/Denver:20241127T150000
DTSTAMP:20260421T173115
CREATED:20241008T185805Z
LAST-MODIFIED:20241008T185805Z
UID:253925-1732701600-1732719600@gatewayassociation.ca
SUMMARY:Calgary Drop-In Wednesdays
DESCRIPTION:Drop In Wednesday CERC\nFor job seekers\, each Wednesday drop in any time between 10am and 3pm to connect with ERC team members to work on resumes\, interview skills\, job search and meet other job seekers!
URL:https://gatewayassociation.ca/calendar/calgary-drop-in-wednesdays-8/
CATEGORIES:ERC
END:VEVENT
BEGIN:VEVENT
DTSTART;TZID=America/Denver:20241126T180000
DTEND;TZID=America/Denver:20241126T200000
DTSTAMP:20260421T173115
CREATED:20240812T191356Z
LAST-MODIFIED:20241015T221800Z
UID:253212-1732644000-1732651200@gatewayassociation.ca
SUMMARY:Accounts and Claims
DESCRIPTION:Accounts and Claims\nTuesday\, November 26 \n6:00 pm – 8:00 pm | Online \n  \nA 2-hour workshop is tailored for families with FSCD agreements looking to optimize their use of the OCR system. This workshop intended to facilitate an open dialogue on utilizing the OCR system effectively. \n  \nThe training has been developed by FSCD to address four significant challenges facing system users. They are: \n  \n\nUnderstanding the Agreement\nAccessing OCR\nCreating a Successful claim; and\nRecord keeping and preparing for reviews\n\n  \nA Service Roadmap has also been developed to give users a high-level overview of the entire process\, with helpful links at each step to provide further details. \n  \nQuestions? Contact Li (Facilitator) by email Li@gatewayassociation.ca \nEventbrite Link: https://www.eventbrite.ca/e/accounts-and-claims-tickets-981848684847?aff=oddtdtcreator
URL:https://gatewayassociation.ca/calendar/accounts-and-claims-4/
CATEGORIES:FRC
END:VEVENT
BEGIN:VEVENT
DTSTART;TZID=America/Denver:20241126T130000
DTEND;TZID=America/Denver:20241126T140000
DTSTAMP:20260421T173115
CREATED:20241008T181053Z
LAST-MODIFIED:20241008T181053Z
UID:253902-1732626000-1732629600@gatewayassociation.ca
SUMMARY:File Management and PDFs (2 of 2)
DESCRIPTION:File Management and PDFs\nSession 2 of 2 \nDuration 1 hr \nFacilitator: Toby \nPrivate – GTDI Program intake required prior to workshop: getdigital@gatewayassociation.ca \n\nIn this workshop participants will learn about saving files\, organizing and finding files\, converting documents to pdfs\, what a is pdf\, and how to use pdfs.
URL:https://gatewayassociation.ca/calendar/file-management-and-pdfs-2-of-2-10/
END:VEVENT
BEGIN:VEVENT
DTSTART;TZID=America/Denver:20241126T110000
DTEND;TZID=America/Denver:20241126T120000
DTSTAMP:20260421T173115
CREATED:20241008T180911Z
LAST-MODIFIED:20241022T160346Z
UID:253897-1732618800-1732622400@gatewayassociation.ca
SUMMARY:Explore Canva (2 of 2)
DESCRIPTION:Explore Canva\nSession 2 of 2  \nDuration 1 hr   \nFacilitator: Lee  \nPrivate – GTDI Program intake required prior to workshop: getdigital@gatewayassociation.ca  \n  \nLet your imagination be your guide as you create your own posters\, flyers\, cards\, videos\, and more to share information important to you. 
URL:https://gatewayassociation.ca/calendar/explore-canva-2-of-2-11/
END:VEVENT
BEGIN:VEVENT
DTSTART;TZID=America/Denver:20241125T180000
DTEND;TZID=America/Denver:20241125T210000
DTSTAMP:20260421T173115
CREATED:20240830T174735Z
LAST-MODIFIED:20240830T174735Z
UID:253319-1732557600-1732568400@gatewayassociation.ca
SUMMARY:FMS Staff: More Than Just a Job
DESCRIPTION:FMS Staff: More Than Just a Job\nMonday\, November 25 \n6:00 pm – 9:00 pm | online \n  \nA workshop for Family Managed Services staff that explores ways to reduce the risk of abuse and to help identify and incorporate personal values in your work with persons with disabilities. \n  \nThis workshop\, for Family Managed Services (FMS) staff\, will help you identify your values and how they apply to your work in supporting others. You will learn how to keep people safe while growing independence\, and building relationships both within the support network and within the community. You will gain skills and tools to excel in your role. \n  \nQuestions? Contact Betty (Facilitator) at Betty@GatewayAssociation.ca \nRegister here: https://www.eventbrite.ca/e/fms-staff-more-than-just-a-job-tickets-996529595847?aff=oddtdtcreator
URL:https://gatewayassociation.ca/calendar/fms-staff-more-than-just-a-job/
CATEGORIES:FRC
END:VEVENT
BEGIN:VEVENT
DTSTART;TZID=America/Denver:20241125T163000
DTEND;TZID=America/Denver:20241125T173000
DTSTAMP:20260421T173115
CREATED:20241008T182326Z
LAST-MODIFIED:20241008T182326Z
UID:253912-1732552200-1732555800@gatewayassociation.ca
SUMMARY:Edmonton Employment Resource Centre Information Session
DESCRIPTION:Edmonton Employment Resource Centre Information Session\nJoin Gateway Association for a virtual Employment Resource Centre information session. \nThis session is for job seekers with disability or mental health-based barriers to learn about how Gateway Association can support you with achieving your employment goals! \nL earn about individualized supports and group workshops that will help you with: \nFor additional accommodations or questions\, please connect with us at employment@gatewayassociation.ca \n\n\n\nCareer development and action plans\nResume building\nInterview skills\nWorkplace communication\nOnboarding and training\nJob search and finding the right job for you\nKeeping your job!\nAND much more!\n\n\n\nRegister Here
URL:https://gatewayassociation.ca/calendar/edmonton-employment-resource-centre-information-session-4/
CATEGORIES:ERC
END:VEVENT
BEGIN:VEVENT
DTSTART;TZID=America/Denver:20241125T150000
DTEND;TZID=America/Denver:20241125T160000
DTSTAMP:20260421T173115
CREATED:20241022T160648Z
LAST-MODIFIED:20241022T160648Z
UID:254033-1732546800-1732550400@gatewayassociation.ca
SUMMARY:LinkedIn Learning
DESCRIPTION:LinkedIn Learning\nSession 1 of 1  \nDuration 1 hr   \nFacilitator: Toby  \nPrivate – GTDI Program intake required prior to workshop: getdigital@gatewayassociation.ca  \n  \n***Requires an active library membership.**  \nExplore LinkedIn website as a group\, learn how to: create an account\, search for course\, save and organize courses\, and customize your profile.  
URL:https://gatewayassociation.ca/calendar/linkedin-learning-27/
END:VEVENT
BEGIN:VEVENT
DTSTART;TZID=America/Denver:20241125T130000
DTEND;TZID=America/Denver:20241125T140000
DTSTAMP:20260421T173115
CREATED:20241008T181014Z
LAST-MODIFIED:20241008T181014Z
UID:253900-1732539600-1732543200@gatewayassociation.ca
SUMMARY:File Management and PDFs (1 of 2)
DESCRIPTION:File Management and PDFs\nSession 1 of 2 \nDuration 1 hr \nFacilitator: Toby \nPrivate – GTDI Program intake required prior to workshop: getdigital@gatewayassociation.ca \n\nIn this workshop participants will learn about saving files\, organizing and finding files\, converting documents to pdfs\, what a is pdf\, and how to use pdfs.
URL:https://gatewayassociation.ca/calendar/file-management-and-pdfs-1-of-2-10/
END:VEVENT
BEGIN:VEVENT
DTSTART;TZID=America/Denver:20241125T110000
DTEND;TZID=America/Denver:20241125T120000
DTSTAMP:20260421T173115
CREATED:20241008T194430Z
LAST-MODIFIED:20241008T194430Z
UID:253944-1732532400-1732536000@gatewayassociation.ca
SUMMARY:Edmonton Employment Resource Centre Info Session
DESCRIPTION:Edmonton Employment Resource Centre Info Session\nJoin Gateway Association for a virtual Employment Resource Centre information session. \nThis session is for job seekers with disability or mental health-based barriers to learn about how Gateway Association can support you with achieving your employment goals! \nL earn about individualized supports and group workshops that will help you with: \nFor additional accommodations or questions\, please connect with us at employment@gatewayassociation.ca \n\n\n\nCareer development and action plans\nResume building\nInterview skills\nWorkplace communication\nOnboarding and training\nJob search and finding the right job for you\nKeeping your job!\nAND much more!\n\n\n\nRegister HERE
URL:https://gatewayassociation.ca/calendar/edmonton-employment-resource-centre-info-session-7/
CATEGORIES:ERC
END:VEVENT
BEGIN:VEVENT
DTSTART;TZID=America/Denver:20241125T110000
DTEND;TZID=America/Denver:20241125T120000
DTSTAMP:20260421T173115
CREATED:20241008T180838Z
LAST-MODIFIED:20241022T155833Z
UID:253895-1732532400-1732536000@gatewayassociation.ca
SUMMARY:Explore Canva (1 of 2)
DESCRIPTION:Explore Canva\nSession 1 of 2  \nDuration 1 hr   \nFacilitator: Lee  \nPrivate – GTDI Program intake required prior to workshop: getdigital@gatewayassociation.ca  \n  \nLet your imagination be your guide as you create your own posters\, flyers\, cards\, videos\, and more to share information important to you. 
URL:https://gatewayassociation.ca/calendar/explore-canva-1-of-2-13/
END:VEVENT
BEGIN:VEVENT
DTSTART;TZID=America/Denver:20241123T090000
DTEND;TZID=America/Denver:20241123T120000
DTSTAMP:20260421T173115
CREATED:20240812T191301Z
LAST-MODIFIED:20240812T191301Z
UID:253210-1732352400-1732363200@gatewayassociation.ca
SUMMARY:PDD 101   
DESCRIPTION:PDD 101\n\nA workshop for caregivers to develop knowledge of Alberta’s government service known as Persons with Developmental Disabilities (PDD).\n\nSaturday\, November 23\n9:00 am  – 12:00 pm | Online\n\n\n“This workshop is an introduction to\, and overview of\, PDD for those who may be eligible. You will gain an understanding of the PDD program\, options available for service provision\, and information to determine the best supports for your family.\n\n This workshop will provide you with:\n1. An understanding of the PDD program’s role in supporting adults with developmental disabilities\n2. Knowledge of available options for service provision – Family Managed Supports (FMS) and PDD Service Providers (agency)\n3. Information to guide you in determining which type of service provision will best suit your family and adult child’s needs”\n\nQuestions?  contact Miriam (facilitator) at miriam@gatewayassociation.ca\n\nEventbrite Link: https://www.eventbrite.ca/e/persons-with-developmental-disabilities-pdd-101-tickets-981843509367?aff=oddtdtcreator
URL:https://gatewayassociation.ca/calendar/pdd-101-4/
CATEGORIES:FRC
END:VEVENT
END:VCALENDAR