BEGIN:VCALENDAR
VERSION:2.0
PRODID:-//Gateway Association - ECPv6.15.20//NONSGML v1.0//EN
CALSCALE:GREGORIAN
METHOD:PUBLISH
X-WR-CALNAME:Gateway Association
X-ORIGINAL-URL:https://gatewayassociation.ca
X-WR-CALDESC:Events for Gateway Association
REFRESH-INTERVAL;VALUE=DURATION:PT1H
X-Robots-Tag:noindex
X-PUBLISHED-TTL:PT1H
BEGIN:VTIMEZONE
TZID:America/Denver
BEGIN:DAYLIGHT
TZOFFSETFROM:-0700
TZOFFSETTO:-0600
TZNAME:MDT
DTSTART:20230312T090000
END:DAYLIGHT
BEGIN:STANDARD
TZOFFSETFROM:-0600
TZOFFSETTO:-0700
TZNAME:MST
DTSTART:20231105T080000
END:STANDARD
BEGIN:DAYLIGHT
TZOFFSETFROM:-0700
TZOFFSETTO:-0600
TZNAME:MDT
DTSTART:20240310T090000
END:DAYLIGHT
BEGIN:STANDARD
TZOFFSETFROM:-0600
TZOFFSETTO:-0700
TZNAME:MST
DTSTART:20241103T080000
END:STANDARD
BEGIN:DAYLIGHT
TZOFFSETFROM:-0700
TZOFFSETTO:-0600
TZNAME:MDT
DTSTART:20250309T090000
END:DAYLIGHT
BEGIN:STANDARD
TZOFFSETFROM:-0600
TZOFFSETTO:-0700
TZNAME:MST
DTSTART:20251102T080000
END:STANDARD
END:VTIMEZONE
BEGIN:VEVENT
DTSTART;TZID=America/Denver:20240521T110000
DTEND;TZID=America/Denver:20240521T120000
DTSTAMP:20260419T164706
CREATED:20240424T204056Z
LAST-MODIFIED:20240424T204056Z
UID:252477-1716289200-1716292800@gatewayassociation.ca
SUMMARY:Email Basics
DESCRIPTION:Session: 1 of 1  \nDuration: 1 hr   \nFacilitator: Lee  \nPrivate – GTDI Program intake required prior to workshop: getdigital@gatewayassociation.ca  \n  \nLearn about and practice the basics of writing professional emails for your job search and workplace communication. 
URL:https://gatewayassociation.ca/calendar/email-basics-40/
END:VEVENT
BEGIN:VEVENT
DTSTART;TZID=America/Denver:20240522T100000
DTEND;TZID=America/Denver:20240522T150000
DTSTAMP:20260419T164706
CREATED:20240424T200051Z
LAST-MODIFIED:20240424T200051Z
UID:252424-1716372000-1716390000@gatewayassociation.ca
SUMMARY:DROP IN WEDNESDAYS at the Calgary Employment Resource Centre
DESCRIPTION:DROP IN WEDNESDAYS \nat the Calgary Employment Resource Centre \nFor job seekers\, each Wednesday drop in any time between 10am and 3pm to connect with ERC team members to work on resumes\, interview skills\, job search and meet other job seekers! \n1206 20 AVE SE \nCalgary\, AB
URL:https://gatewayassociation.ca/calendar/drop-in-wednesdays-at-the-calgary-employment-resource-centre-20/
CATEGORIES:ERC
END:VEVENT
BEGIN:VEVENT
DTSTART;TZID=America/Denver:20240522T130000
DTEND;TZID=America/Denver:20240522T143000
DTSTAMP:20260419T164706
CREATED:20240424T204138Z
LAST-MODIFIED:20240424T204138Z
UID:252479-1716382800-1716388200@gatewayassociation.ca
SUMMARY:LinkedIn Profiles (1 of 2)
DESCRIPTION:Session: 1 of 2 \nDuration: 1.5 hr \nFacilitator: Toby \nPrivate – GTDI Program intake required prior to workshop: getdigital@gatewayassociation.ca \n\nBuild your own LinkedIn profile! Share your skills\, goals\, and experiences\, create job alerts\, and grow your online network.
URL:https://gatewayassociation.ca/calendar/linkedin-profiles-1-of-2/
END:VEVENT
BEGIN:VEVENT
DTSTART;TZID=America/Denver:20240522T143000
DTEND;TZID=America/Denver:20240522T163000
DTSTAMP:20260419T164706
CREATED:20240424T202234Z
LAST-MODIFIED:20240424T202234Z
UID:252450-1716388200-1716395400@gatewayassociation.ca
SUMMARY:Online Boardgames
DESCRIPTION:Session: 1 of 1 \nDuration: 1.5 to 2 hr \nFacilitator: Lee \nPrivate – GTDI Program intake required prior to workshop signup: getdigital@gatewayassociation.ca \n\n**Requires Online Social Connections – Discord and Steam Tutorials as well as desktop or laptop computer.** \nCome hang out! Learn about setting up online accounts\, meet new friends\, socialize\, and have fun playing boardgames online. Meet new friends\, practise new skills\, have fun!
URL:https://gatewayassociation.ca/calendar/online-boardgames-39/
END:VEVENT
BEGIN:VEVENT
DTSTART;TZID=America/Denver:20240523T130000
DTEND;TZID=America/Denver:20240523T140000
DTSTAMP:20260419T164706
CREATED:20240424T190309Z
LAST-MODIFIED:20240424T190309Z
UID:252411-1716469200-1716472800@gatewayassociation.ca
SUMMARY:Workplace Communication 101 - Positive Communication and Constructive Feedback
DESCRIPTION:Workplace Communication 101 – Positive Communication and Constructive Feedback \n\n Workplace Communication is made up of many essential skills\, such as\, what is okay to talk about at work with your coworkers? How to give and receive positive and constructive feedback? In this workshop\, we will talk about ways to help you to feel confident and comfortable with workplace communication. \n This workshop is for registered participants only. To register\, please connect with us at Get-Work@GatewayAssociation.ca\n\nOnline or In-Person: ONLINE
URL:https://gatewayassociation.ca/calendar/workplace-communication-101-positive-communication-and-constructive-feedback-4/
CATEGORIES:ERC
END:VEVENT
BEGIN:VEVENT
DTSTART;TZID=America/Denver:20240523T130000
DTEND;TZID=America/Denver:20240523T143000
DTSTAMP:20260419T164706
CREATED:20240424T204216Z
LAST-MODIFIED:20240424T204216Z
UID:252481-1716469200-1716474600@gatewayassociation.ca
SUMMARY:LinkedIn Profiles (2 of 2)
DESCRIPTION:Session: 2 of 2 \nDuration: 1.5 hr \nFacilitator: Toby \nPrivate – GTDI Program intake required prior to workshop: getdigital@gatewayassociation.ca \n\nBuild your own LinkedIn profile! Share your skills\, goals\, and experiences\, create job alerts\, and grow your online network.
URL:https://gatewayassociation.ca/calendar/linkedin-profiles-2-of-2/
END:VEVENT
BEGIN:VEVENT
DTSTART;TZID=America/Denver:20240523T190000
DTEND;TZID=America/Denver:20240523T210000
DTSTAMP:20260419T164706
CREATED:20230720T173824Z
LAST-MODIFIED:20230802T221635Z
UID:250941-1716490800-1716498000@gatewayassociation.ca
SUMMARY:Families Forward\, Over 18
DESCRIPTION:Families Forward Over 18 \nThursday\, May 23 \n7:00pm – 9:00pm | Online \n  \nWhere families can connect with other families\, learn from one another\, and explore issues that are important (such as housing\, relationship building\, and community and government supports). \nFacilitator: Betty at Betty@GatewayAssociation.ca \nRegister HERE  
URL:https://gatewayassociation.ca/calendar/families-forward-over-18-16/
CATEGORIES:FRC
END:VEVENT
BEGIN:VEVENT
DTSTART;TZID=America/Denver:20240525T090000
DTEND;TZID=America/Denver:20240525T120000
DTSTAMP:20260419T164706
CREATED:20240507T151525Z
LAST-MODIFIED:20240507T151525Z
UID:252556-1716627600-1716638400@gatewayassociation.ca
SUMMARY:Persons with Developmental Disabilities (PDD) 101
DESCRIPTION:PDD 101\nSaturday\, May 25          \n9:00 am  – 12:00 pm | Online      \nA workshop for caregivers to develop knowledge of Alberta’s government service known as Persons with Developmental Disabilities (PDD). \nFacilitator Miriam at Miriam@GatewayAssociation.ca \n\nRegister here: \nhttps://www.eventbrite.ca/e/persons-with-developmental-disabilities-pdd-101-tickets-900049230477?aff=oddtdtcreator       
URL:https://gatewayassociation.ca/calendar/persons-with-developmental-disabilities-pdd-101-10/
CATEGORIES:FRC
END:VEVENT
BEGIN:VEVENT
DTSTART;TZID=America/Denver:20240527T110000
DTEND;TZID=America/Denver:20240527T120000
DTSTAMP:20260419T164706
CREATED:20240424T204320Z
LAST-MODIFIED:20240424T204320Z
UID:252483-1716807600-1716811200@gatewayassociation.ca
SUMMARY:ePortfolios (1 of 3)
DESCRIPTION:Session 1 of 3 \nDuration 1 hr \nFacilitator: Lee \nPrivate – GTDI Program intake required prior to workshop: getdigital@gatewayassociation.ca \n\n**A desktop or laptop computer is required for this workshop.** \nIn the eportfolio workshop series\, participants will learn about the different types of portfolios\, how to use google sites\, and the basics of layout and design. Learners will choose the type of portfolio they want to build and the subject they want to focus on. They will select and add content to their sites along with descriptions\, statements about their motivation\, interests\, skills\, and hobbies. Learners will work on their own between classes.
URL:https://gatewayassociation.ca/calendar/eportfolios-1-of-3/
END:VEVENT
BEGIN:VEVENT
DTSTART;TZID=America/Denver:20240527T130000
DTEND;TZID=America/Denver:20240527T143000
DTSTAMP:20260419T164706
CREATED:20240424T204804Z
LAST-MODIFIED:20240424T204804Z
UID:252489-1716814800-1716820200@gatewayassociation.ca
SUMMARY:Social Media Basics (1 of 4)
DESCRIPTION:Session 1 of 4  \nDuration 1.5 hr   \nFacilitator: Toby  \nPrivate – GTDI Program intake required prior to workshop: getdigital@gatewayassociation.ca  \n  \nSocial Media Basics is Part 2 of the Work Simulation. Completion of Part 1: Internet Basics is recommended prior to taking this 4 session workshop series.  \nIncrease your understanding and use of social media! In this workshop we will go through understanding different types of social media and their uses\, creating material for social media\, and managing your social media.  
URL:https://gatewayassociation.ca/calendar/social-media-basics-1-of-4-2/
END:VEVENT
BEGIN:VEVENT
DTSTART;TZID=America/Denver:20240527T180000
DTEND;TZID=America/Denver:20240527T210000
DTSTAMP:20260419T164706
CREATED:20230724T133401Z
LAST-MODIFIED:20230724T133401Z
UID:251042-1716832800-1716843600@gatewayassociation.ca
SUMMARY:Transition Planning for Adulthood (Part 1 of 3)
DESCRIPTION:Transition Planning for Adulthood – 3 part series \nMonday\, May 27 \nMonday\, June 3 \nMonday\, June 10 \n6:00pm – 9:00pm | Online \n  \nJoin our 3-part workshop series that engages families in building knowledge when navigating this critical time for 14-20 year olds. This workshop series includes topics on: life transitions\, valued roles in the community\, visioning and planning\, and navigating the systems.  \n Note: All three workshops must be taken consecutively.   \n  \nFacilitator: Shelley at Shelley@GatewayAssociation.ca \nRegister HERE
URL:https://gatewayassociation.ca/calendar/transition-planning-for-adulthood-part-1-of-3-2/
CATEGORIES:FRC
END:VEVENT
BEGIN:VEVENT
DTSTART;TZID=America/Denver:20240528T110000
DTEND;TZID=America/Denver:20240528T120000
DTSTAMP:20260419T164706
CREATED:20240424T204352Z
LAST-MODIFIED:20240424T204352Z
UID:252485-1716894000-1716897600@gatewayassociation.ca
SUMMARY:ePortfolios (2 of 3)
DESCRIPTION:Session 2 of 3 \nDuration 1 hr \nFacilitator: Lee \nPrivate – GTDI Program intake required prior to workshop: getdigital@gatewayassociation.ca \n\n**A desktop or laptop computer is required for this workshop.** \nIn the eportfolio workshop series\, participants will learn about the different types of portfolios\, how to use google sites\, and the basics of layout and design. Learners will choose the type of portfolio they want to build and the subject they want to focus on. They will select and add content to their sites along with descriptions\, statements about their motivation\, interests\, skills\, and hobbies. Learners will work on their own between classes.
URL:https://gatewayassociation.ca/calendar/eportfolios-2-of-3/
END:VEVENT
BEGIN:VEVENT
DTSTART;TZID=America/Denver:20240528T130000
DTEND;TZID=America/Denver:20240528T140000
DTSTAMP:20260419T164706
CREATED:20240424T190400Z
LAST-MODIFIED:20240424T192822Z
UID:252413-1716901200-1716904800@gatewayassociation.ca
SUMMARY:Networking: Using Our Connections
DESCRIPTION:Networking: Using Our Connections \nONLINE \nIn this workshop participants will be learning how to network! This workshop is on Zoom. \nYou will dive in to where do we have connections already and where can we build our network using social media platforms. \nThis workshop is for registered participants only. To register\, please connect with us at Get-Work@GatewayAssociation.ca
URL:https://gatewayassociation.ca/calendar/252413/
CATEGORIES:ERC
END:VEVENT
BEGIN:VEVENT
DTSTART;TZID=America/Denver:20240528T130000
DTEND;TZID=America/Denver:20240528T143000
DTSTAMP:20260419T164706
CREATED:20240424T204836Z
LAST-MODIFIED:20240424T204836Z
UID:252491-1716901200-1716906600@gatewayassociation.ca
SUMMARY:Social Media Basics (2 of 4)
DESCRIPTION:Session 2 of 4  \nDuration 1.5 hr   \nFacilitator: Toby  \nPrivate – GTDI Program intake required prior to workshop: getdigital@gatewayassociation.ca  \n  \nSocial Media Basics is Part 2 of the Work Simulation. Completion of Part 1: Internet Basics is recommended prior to taking this 4 session workshop series.  \nIncrease your understanding and use of social media! In this workshop we will go through understanding different types of social media and their uses\, creating material for social media\, and managing your social media.  
URL:https://gatewayassociation.ca/calendar/social-media-basics-2-of-4-2/
END:VEVENT
BEGIN:VEVENT
DTSTART;TZID=America/Denver:20240529T100000
DTEND;TZID=America/Denver:20240529T150000
DTSTAMP:20260419T164706
CREATED:20240424T200157Z
LAST-MODIFIED:20240424T200157Z
UID:252426-1716976800-1716994800@gatewayassociation.ca
SUMMARY:DROP IN WEDNESDAY at the Calgary Employment Resource Centre
DESCRIPTION:DROP IN WEDNESDAYS \nat the Calgary Employment Resource Centre \nFor job seekers\, each Wednesday drop in any time between 10am and 3pm to connect with ERC team members to work on resumes\, interview skills\, job search and meet other job seekers! \n1206 20 AVE SE \nCalgary\, AB
URL:https://gatewayassociation.ca/calendar/drop-in-wednesday-at-the-calgary-employment-resource-centre-3/
CATEGORIES:ERC
END:VEVENT
BEGIN:VEVENT
DTSTART;TZID=America/Denver:20240529T110000
DTEND;TZID=America/Denver:20240529T120000
DTSTAMP:20260419T164706
CREATED:20240424T204430Z
LAST-MODIFIED:20240424T204430Z
UID:252487-1716980400-1716984000@gatewayassociation.ca
SUMMARY:ePortfolios (3 of 3)
DESCRIPTION:Session 3 of 3 \nDuration 1 hr \nFacilitator: Lee \nPrivate – GTDI Program intake required prior to workshop: getdigital@gatewayassociation.ca \n\n**A desktop or laptop computer is required for this workshop.** \nIn the eportfolio workshop series\, participants will learn about the different types of portfolios\, how to use google sites\, and the basics of layout and design. Learners will choose the type of portfolio they want to build and the subject they want to focus on. They will select and add content to their sites along with descriptions\, statements about their motivation\, interests\, skills\, and hobbies. Learners will work on their own between classes.
URL:https://gatewayassociation.ca/calendar/eportfolios-3-of-3/
END:VEVENT
BEGIN:VEVENT
DTSTART;TZID=America/Denver:20240529T130000
DTEND;TZID=America/Denver:20240529T143000
DTSTAMP:20260419T164706
CREATED:20240424T204913Z
LAST-MODIFIED:20240424T204913Z
UID:252493-1716987600-1716993000@gatewayassociation.ca
SUMMARY:Social Media Basics (3 of 4)
DESCRIPTION:Session 3 of 4  \nDuration 1.5 hr   \nFacilitator: Toby  \nPrivate – GTDI Program intake required prior to workshop: getdigital@gatewayassociation.ca  \n  \nSocial Media Basics is Part 2 of the Work Simulation. Completion of Part 1: Internet Basics is recommended prior to taking this 4 session workshop series.  \nIncrease your understanding and use of social media! In this workshop we will go through understanding different types of social media and their uses\, creating material for social media\, and managing your social media.  
URL:https://gatewayassociation.ca/calendar/social-media-basics-3-of-4-2/
END:VEVENT
BEGIN:VEVENT
DTSTART;TZID=America/Denver:20240529T143000
DTEND;TZID=America/Denver:20240529T163000
DTSTAMP:20260419T164706
CREATED:20240424T202304Z
LAST-MODIFIED:20240424T202304Z
UID:252452-1716993000-1717000200@gatewayassociation.ca
SUMMARY:Online Boardgames
DESCRIPTION:Session: 1 of 1 \nDuration: 1.5 to 2 hr \nFacilitator: Lee \nPrivate – GTDI Program intake required prior to workshop signup: getdigital@gatewayassociation.ca \n\n**Requires Online Social Connections – Discord and Steam Tutorials as well as desktop or laptop computer.** \nCome hang out! Learn about setting up online accounts\, meet new friends\, socialize\, and have fun playing boardgames online. Meet new friends\, practise new skills\, have fun!
URL:https://gatewayassociation.ca/calendar/online-boardgames-40/
END:VEVENT
BEGIN:VEVENT
DTSTART;TZID=America/Denver:20240529T180000
DTEND;TZID=America/Denver:20240529T190000
DTSTAMP:20260419T164706
CREATED:20240424T194509Z
LAST-MODIFIED:20240424T194509Z
UID:252416-1717005600-1717009200@gatewayassociation.ca
SUMMARY:Employment Resource Centre Information Session
DESCRIPTION:Employment Resource Centre Information Session \nJoin Gateway Association for a virtual Employment Resource Centre information session. \nThis session is for job seekers with disability or mental health-based barriers to learn about how Gateway Association can support you with achieving your employment goals! \nL earn about individualized supports and group workshops that will help you with: \n\nCareer development and action plans\nResume building\nInterview skills\nWorkplace communication\nOnboarding and training\nJob search and finding the right job for you\nKeeping your job!\nA ND much more!\n\nRegister here: https://www.eventbrite.ca/e/890536818597?aff=oddtdtcreator \nFor additional accommodations or questions\, please connect with us at Get-Work@GatewayAssociation.ca \n\n \nFacilitator: Courtney Lanouette \nTime: 6:00-6:45pm\, last Wednesday each month
URL:https://gatewayassociation.ca/calendar/employment-resource-centre-information-session-4/
CATEGORIES:ERC,FRC,MentorAbility Alberta
END:VEVENT
BEGIN:VEVENT
DTSTART;TZID=America/Denver:20240530T130000
DTEND;TZID=America/Denver:20240530T143000
DTSTAMP:20260419T164706
CREATED:20240424T204952Z
LAST-MODIFIED:20240424T204952Z
UID:252495-1717074000-1717079400@gatewayassociation.ca
SUMMARY:Social Media Basics (4 of 4)
DESCRIPTION:Session 4 of 4  \nDuration 1.5 hr   \nFacilitator: Toby  \nPrivate – GTDI Program intake required prior to workshop: getdigital@gatewayassociation.ca  \n  \nSocial Media Basics is Part 2 of the Work Simulation. Completion of Part 1: Internet Basics is recommended prior to taking this 4 session workshop series.  \nIncrease your understanding and use of social media! In this workshop we will go through understanding different types of social media and their uses\, creating material for social media\, and managing your social media.  
URL:https://gatewayassociation.ca/calendar/social-media-basics-4-of-4-4/
END:VEVENT
BEGIN:VEVENT
DTSTART;TZID=America/Denver:20240603T110000
DTEND;TZID=America/Denver:20240603T120000
DTSTAMP:20260419T164706
CREATED:20240523T163650Z
LAST-MODIFIED:20240523T163650Z
UID:252602-1717412400-1717416000@gatewayassociation.ca
SUMMARY:Google Drive (1 of 2)
DESCRIPTION:Session: 1 of 2  \nDuration: 1  hr  \nFacilitator: Lee   \nPrivate – GTDI Program intake required prior to workshop: getdigital@gatewayassociation.ca  \n  \nLearn how to create a google accounts\, access google drive\, upload files\, create folders\, search for files. Group discussion on cloud storage\, strong passwords\, file naming conventions and keeping documents and folders organized.  
URL:https://gatewayassociation.ca/calendar/google-drive-1-of-2-11/
END:VEVENT
BEGIN:VEVENT
DTSTART;TZID=America/Denver:20240603T130000
DTEND;TZID=America/Denver:20240603T140000
DTSTAMP:20260419T164706
CREATED:20240523T164020Z
LAST-MODIFIED:20240523T164020Z
UID:252610-1717419600-1717423200@gatewayassociation.ca
SUMMARY:Audio Editing with Audacity (1 of 3)
DESCRIPTION:Session 1 of 3 \nDuration 1 hr \nFacilitator: Toby \nPrivate – GTDI Program intake required prior to workshop: getdigital@gatewayassociation.ca \n\nIn this 3 session workshop series participants will be guided through the steps to use Audacity software for basic audio editing. This series will focus on editing spoken dialogue.
URL:https://gatewayassociation.ca/calendar/audio-editing-with-audacity-1-of-3-6/
END:VEVENT
BEGIN:VEVENT
DTSTART;TZID=America/Denver:20240603T180000
DTEND;TZID=America/Denver:20240603T210000
DTSTAMP:20260419T164706
CREATED:20230724T133511Z
LAST-MODIFIED:20230724T133511Z
UID:251044-1717437600-1717448400@gatewayassociation.ca
SUMMARY:Transition Planning for Adulthood – (Part 2 of 3)
DESCRIPTION:Transition Planning for Adulthood – 3 part series \nMonday\, May 27 \nMonday\, June 3 \nMonday\, June 10 \n6:00pm – 9:00pm | Online \n  \nJoin our 3-part workshop series that engages families in building knowledge when navigating this critical time for 14-20 year olds. This workshop series includes topics on: life transitions\, valued roles in the community\, visioning and planning\, and navigating the systems.  \n Note: All three workshops must be taken consecutively.   \n  \nFacilitator: Shelley at Shelley@GatewayAssociation.ca \nRegister HERE
URL:https://gatewayassociation.ca/calendar/transition-planning-for-adulthood-part-2-of-3-2/
CATEGORIES:FRC
END:VEVENT
BEGIN:VEVENT
DTSTART;TZID=America/Denver:20240604T110000
DTEND;TZID=America/Denver:20240604T120000
DTSTAMP:20260419T164706
CREATED:20240523T163726Z
LAST-MODIFIED:20240523T163726Z
UID:252604-1717498800-1717502400@gatewayassociation.ca
SUMMARY:Google Drive (2 of 2)
DESCRIPTION:Session: 2 of 2  \nDuration: 1  hr  \nFacilitator: Lee   \nPrivate – GTDI Program intake required prior to workshop: getdigital@gatewayassociation.ca  \n  \nLearn how to create a google accounts\, access google drive\, upload files\, create folders\, search for files. Group discussion on cloud storage\, strong passwords\, file naming conventions and keeping documents and folders organized.  
URL:https://gatewayassociation.ca/calendar/google-drive-2-of-2-11/
END:VEVENT
BEGIN:VEVENT
DTSTART;TZID=America/Denver:20240604T130000
DTEND;TZID=America/Denver:20240604T140000
DTSTAMP:20260419T164706
CREATED:20240523T152645Z
LAST-MODIFIED:20240523T152645Z
UID:252582-1717506000-1717509600@gatewayassociation.ca
SUMMARY:Growth Mindset: Resiliency in Job Search
DESCRIPTION:Job search can be a long and daunting process for many. This workshop will introduce folks to the concept of having a “Growth Mindset” and help individuals create a positive/persistent mindset along with tips on how to stay motivated throughout this process. \nThis workshop is for registered participants only. To register\, please connect with us at Get-Work@GatewayAssociation.ca
URL:https://gatewayassociation.ca/calendar/growth-mindset-resiliency-in-job-search-16/
CATEGORIES:ERC
END:VEVENT
BEGIN:VEVENT
DTSTART;TZID=America/Denver:20240604T130000
DTEND;TZID=America/Denver:20240604T140000
DTSTAMP:20260419T164706
CREATED:20240523T164118Z
LAST-MODIFIED:20240523T164118Z
UID:252612-1717506000-1717509600@gatewayassociation.ca
SUMMARY:Audio Editing with Audacity (2 of 3)
DESCRIPTION:Session 2 of 3 \nDuration 1 hr \nFacilitator: Toby \nPrivate – GTDI Program intake required prior to workshop: getdigital@gatewayassociation.ca \n\nIn this 3 session workshop series participants will be guided through the steps to use Audacity software for basic audio editing. This series will focus on editing spoken dialogue.
URL:https://gatewayassociation.ca/calendar/audio-editing-with-audacity-2-of-3-7/
END:VEVENT
BEGIN:VEVENT
DTSTART;TZID=America/Denver:20240605T100000
DTEND;TZID=America/Denver:20240605T150000
DTSTAMP:20260419T164706
CREATED:20240424T200305Z
LAST-MODIFIED:20240424T200305Z
UID:252428-1717581600-1717599600@gatewayassociation.ca
SUMMARY:DROP IN WEDNESDAYS at the Calgary Employment Resource Centre
DESCRIPTION:DROP IN WEDNESDAYS \nat the Calgary Employment Resource Centre \nFor job seekers\, each Wednesday drop in any time between 10am and 3pm to connect with ERC team members to work on resumes\, interview skills\, job search and meet other job seekers! \n1206 20 AVE SE \nCalgary\, AB
URL:https://gatewayassociation.ca/calendar/drop-in-wednesdays-at-the-calgary-employment-resource-centre-21/
CATEGORIES:ERC
END:VEVENT
BEGIN:VEVENT
DTSTART;TZID=America/Denver:20240605T110000
DTEND;TZID=America/Denver:20240605T120000
DTSTAMP:20260419T164706
CREATED:20240523T163824Z
LAST-MODIFIED:20240523T163824Z
UID:252606-1717585200-1717588800@gatewayassociation.ca
SUMMARY:Google Docs (1 of 2)
DESCRIPTION:Session: 1 of 2  \nDuration: 1 hr   \nFacilitator: Lee  \nPrivate – GTDI Program intake required prior to workshop: getdigital@gatewayassociation.ca  \n  \nIn this 2 session workshop series\, Participants will practice creating and sharing google documents\, explore the tools provided to help them write\, edit\, comment and chat. This workshop covers the Basics of google docs\, as well as file organization\, sharing\, and commenting.  
URL:https://gatewayassociation.ca/calendar/google-docs-1-of-2-11/
END:VEVENT
BEGIN:VEVENT
DTSTART;TZID=America/Denver:20240605T130000
DTEND;TZID=America/Denver:20240605T140000
DTSTAMP:20260419T164706
CREATED:20240523T164157Z
LAST-MODIFIED:20240523T164157Z
UID:252614-1717592400-1717596000@gatewayassociation.ca
SUMMARY:Audio Editing with Audacity (3 of 3)
DESCRIPTION:Session 3 of 3 \nDuration 1 hr \nFacilitator: Toby \nPrivate – GTDI Program intake required prior to workshop: getdigital@gatewayassociation.ca \n\nIn this 3 session workshop series participants will be guided through the steps to use Audacity software for basic audio editing. This series will focus on editing spoken dialogue.
URL:https://gatewayassociation.ca/calendar/audio-editing-with-audacity-3-of-3-7/
END:VEVENT
BEGIN:VEVENT
DTSTART;TZID=America/Denver:20240605T143000
DTEND;TZID=America/Denver:20240605T163000
DTSTAMP:20260419T164706
CREATED:20240523T164237Z
LAST-MODIFIED:20240523T164237Z
UID:252616-1717597800-1717605000@gatewayassociation.ca
SUMMARY:Online Boardgames
DESCRIPTION:Session: 1 of 1 \nDuration: 1.5 to 2 hr \nFacilitator: Lee \nPrivate – GTDI Program intake required prior to workshop signup: getdigital@gatewayassociation.ca \n\n**Requires Online Social Connections – Discord and Steam Tutorials as well as desktop or laptop computer.** \nCome hang out! Learn about setting up online accounts\, meet new friends\, socialize\, and have fun playing boardgames online. Meet new friends\, practise new skills\, have fun!
URL:https://gatewayassociation.ca/calendar/online-boardgames-41/
END:VEVENT
END:VCALENDAR