BEGIN:VCALENDAR
VERSION:2.0
PRODID:-//Gateway Association - ECPv6.15.20//NONSGML v1.0//EN
CALSCALE:GREGORIAN
METHOD:PUBLISH
X-ORIGINAL-URL:https://gatewayassociation.ca
X-WR-CALDESC:Events for Gateway Association
REFRESH-INTERVAL;VALUE=DURATION:PT1H
X-Robots-Tag:noindex
X-PUBLISHED-TTL:PT1H
BEGIN:VTIMEZONE
TZID:America/Denver
BEGIN:DAYLIGHT
TZOFFSETFROM:-0700
TZOFFSETTO:-0600
TZNAME:MDT
DTSTART:20210314T090000
END:DAYLIGHT
BEGIN:STANDARD
TZOFFSETFROM:-0600
TZOFFSETTO:-0700
TZNAME:MST
DTSTART:20211107T080000
END:STANDARD
BEGIN:DAYLIGHT
TZOFFSETFROM:-0700
TZOFFSETTO:-0600
TZNAME:MDT
DTSTART:20220313T090000
END:DAYLIGHT
BEGIN:STANDARD
TZOFFSETFROM:-0600
TZOFFSETTO:-0700
TZNAME:MST
DTSTART:20221106T080000
END:STANDARD
BEGIN:DAYLIGHT
TZOFFSETFROM:-0700
TZOFFSETTO:-0600
TZNAME:MDT
DTSTART:20230312T090000
END:DAYLIGHT
BEGIN:STANDARD
TZOFFSETFROM:-0600
TZOFFSETTO:-0700
TZNAME:MST
DTSTART:20231105T080000
END:STANDARD
END:VTIMEZONE
BEGIN:VEVENT
DTSTART;TZID=America/Denver:20220919T110000
DTEND;TZID=America/Denver:20220919T120000
DTSTAMP:20260421T152721
CREATED:20220816T141344Z
LAST-MODIFIED:20220816T141427Z
UID:248553-1663585200-1663588800@gatewayassociation.ca
SUMMARY:ePortfolio Series (1/4)
DESCRIPTION:Learners will work on their own between classes. In the eportfolio workshop\, participants will learn about the different types of portfolios\, how to use google sites\, and the basics of layout and design. Learners will choose the type of portfolio they want to build and the subject they want to focus on. They will select and add content to their sites along with descriptions\, statements about their motivation\, interests\, skills\, and hobbies. \nFor questions and to register\, please connect with us at GetDigital@GatewayAssociation.ca
URL:https://gatewayassociation.ca/calendar/248553/
END:VEVENT
BEGIN:VEVENT
DTSTART;TZID=America/Denver:20220919T110000
DTEND;TZID=America/Denver:20220919T120000
DTSTAMP:20260421T152721
CREATED:20220816T141945Z
LAST-MODIFIED:20220816T141945Z
UID:248563-1663585200-1663588800@gatewayassociation.ca
SUMMARY:LinkedIn Learning
DESCRIPTION:***Requires an active library membership.** \nExplore LinkedIn website as a group\, learn how to: create an account\, search for course\, save and organize courses\, and customize your profile. \nFor questions and to register\, please connect with us at GetDigital@GatewayAssociation.ca
URL:https://gatewayassociation.ca/calendar/linkedin-learning-8/
END:VEVENT
BEGIN:VEVENT
DTSTART;TZID=America/Denver:20220919T130000
DTEND;TZID=America/Denver:20220919T160000
DTSTAMP:20260421T152721
CREATED:20220823T213416Z
LAST-MODIFIED:20220823T213416Z
UID:248614-1663592400-1663603200@gatewayassociation.ca
SUMMARY:WHIMIS Training
DESCRIPTION:Learn how to handle controlled products in the workplace and receive your WHMIS Certification! \nThis is a private course- if you would like to learn more or to register\, please connect with Gene@GatewayAssociation.ca
URL:https://gatewayassociation.ca/calendar/whimis-training/
CATEGORIES:ERC
END:VEVENT
BEGIN:VEVENT
DTSTART;TZID=America/Denver:20220919T150000
DTEND;TZID=America/Denver:20220919T163000
DTSTAMP:20260421T152721
CREATED:20220831T160627Z
LAST-MODIFIED:20220831T180941Z
UID:248626-1663599600-1663605000@gatewayassociation.ca
SUMMARY:Gateway to Advocacy: Focus on Food Security
DESCRIPTION:It’s so easy to forget all the hidden costs and complexities that come along with the food we eat. What does it mean to be aware of the food we consume\, where it comes from and how to make sure everyone has access to fresh\, good quality options?    \nJoin this 90 min session\, featuring a variety of panelists who will share their own experiences and involvement in food-related community initiatives\, while shining a light on The Alex (YYC) and Multicultural Health Brokers (YEG).  Come learn about some innovative Alberta-based food projects that lead by example when it comes to addressing local food insecurity and community care.  
URL:https://gatewayassociation.ca/calendar/gateway-to-advocacy-focus-on-food-security/
END:VEVENT
BEGIN:VEVENT
DTSTART;TZID=America/Denver:20220920T100000
DTEND;TZID=America/Denver:20220920T110000
DTSTAMP:20260421T152721
CREATED:20220816T134428Z
LAST-MODIFIED:20220816T134428Z
UID:248547-1663668000-1663671600@gatewayassociation.ca
SUMMARY:You Too Can YouTube Series (2/4)
DESCRIPTION:Learn about being a YouTube viewer and a YouTube creator. Find out how to make your own YouTube Channel and what to consider when you are choosing videos to watch. Create YouTube content\, learn about what to consider when watching videos as well as how to save and organize videos. \nFor questions and to register\, connect with us at GetDigital@GatewayAssociation.ca
URL:https://gatewayassociation.ca/calendar/you-too-can-youtube-series-2-4/
END:VEVENT
BEGIN:VEVENT
DTSTART;TZID=America/Denver:20220920T110000
DTEND;TZID=America/Denver:20220920T120000
DTSTAMP:20260421T152721
CREATED:20220816T141553Z
LAST-MODIFIED:20220816T141553Z
UID:248556-1663671600-1663675200@gatewayassociation.ca
SUMMARY:ePortfolio Series (2/4)
DESCRIPTION:Learners will work on their own between classes. In the eportfolio workshop\, participants will learn about the different types of portfolios\, how to use google sites\, and the basics of layout and design. Learners will choose the type of portfolio they want to build and the subject they want to focus on. They will select and add content to their sites along with descriptions\, statements about their motivation\, interests\, skills\, and hobbies. \nFor questions and to register\, please connect with us at GetDigital@GatewayAssociation.ca
URL:https://gatewayassociation.ca/calendar/eportfolio-series-2-4-3/
END:VEVENT
BEGIN:VEVENT
DTSTART;TZID=America/Denver:20220920T130000
DTEND;TZID=America/Denver:20220920T140000
DTSTAMP:20260421T152721
CREATED:20220823T204021Z
LAST-MODIFIED:20220823T205147Z
UID:248606-1663678800-1663682400@gatewayassociation.ca
SUMMARY:Networking; Using your Connections
DESCRIPTION:Description: Building sustaining personal networks is a great way to connect with employers. This session will describe ways to create a personal network and using existing relationships that can lead to career paths and new opportunities \nFor question\, accommodation requirements and to register\, please connect with us at Get-Work@GatewayAssociation.ca
URL:https://gatewayassociation.ca/calendar/networking-using-your-connections/
CATEGORIES:ERC
END:VEVENT
BEGIN:VEVENT
DTSTART;TZID=America/Denver:20220920T150000
DTEND;TZID=America/Denver:20220920T160000
DTSTAMP:20260421T152721
CREATED:20220915T173628Z
LAST-MODIFIED:20220915T173628Z
UID:248827-1663686000-1663689600@gatewayassociation.ca
SUMMARY:GTDI Program Info Session
DESCRIPTION:Have you or someone you know wanted to increase your basic digital skills to work\, learn\, or have fun? Have you wanted to find ways to connect to work\, friends\, family\, or supports online? \nWe can help! \nDigital Literacy is your Gateway to connecting\, working\, learning\, sharing\, growing\, and creating online. \nThe Gateway to Digital Inclusion Program offers courses and workshops on basic digital skills\, online social connections\, an App to help you learn about and engage with the digital world\, and more …. \nJoin us on Tuesdays for an interactive information session about the Gateway to Digital Inclusion Program. \nWhat will be included in the session: \n– What the program offers \n– Details about the workshops\, courses\, and groups \n– Who is eligible for the program \n– How our services work \nYou will have a chance to: \n– Meet some of our team members \n– Find out how to apply \n– Ask any question you might have \n\nSee you on Tuesday! \n\nIf you require any accommodations for attending the information session\, please contact us prior to the event to make arrangements. \nThank you \nThe Gateway to Digital Inclusion Team \ngetdigital@gatewayassociation.ca
URL:https://gatewayassociation.ca/calendar/gtdi-program-info-session/
END:VEVENT
BEGIN:VEVENT
DTSTART;TZID=America/Denver:20220921T100000
DTEND;TZID=America/Denver:20220921T110000
DTSTAMP:20260421T152721
CREATED:20220816T134527Z
LAST-MODIFIED:20220816T134527Z
UID:248549-1663754400-1663758000@gatewayassociation.ca
SUMMARY:You Too Can YouTube Series (3/4)
DESCRIPTION:Learn about being a YouTube viewer and a YouTube creator. Find out how to make your own YouTube Channel and what to consider when you are choosing videos to watch. Create YouTube content\, learn about what to consider when watching videos as well as how to save and organize videos. \nFor questions and to register\, connect with us at GetDigital@GatewayAssociation.ca
URL:https://gatewayassociation.ca/calendar/you-too-can-youtube-series-3-4/
END:VEVENT
BEGIN:VEVENT
DTSTART;TZID=America/Denver:20220921T100000
DTEND;TZID=America/Denver:20220921T223000
DTSTAMP:20260421T152721
CREATED:20220907T204127Z
LAST-MODIFIED:20220907T204127Z
UID:248741-1663754400-1663799400@gatewayassociation.ca
SUMMARY:Family Resource Centre (FRC) Info Session
DESCRIPTION:
URL:https://gatewayassociation.ca/calendar/family-resource-centre-frc-info-session/
CATEGORIES:FRC
END:VEVENT
BEGIN:VEVENT
DTSTART;TZID=America/Denver:20220921T110000
DTEND;TZID=America/Denver:20220921T120000
DTSTAMP:20260421T152721
CREATED:20220816T141630Z
LAST-MODIFIED:20220816T141742Z
UID:248558-1663758000-1663761600@gatewayassociation.ca
SUMMARY:ePortfolio Series (3/4)
DESCRIPTION:Learners will work on their own between classes. In the eportfolio workshop\, participants will learn about the different types of portfolios\, how to use google sites\, and the basics of layout and design. Learners will choose the type of portfolio they want to build and the subject they want to focus on. They will select and add content to their sites along with descriptions\, statements about their motivation\, interests\, skills\, and hobbies. \nFor questions and to register\, please connect with us at GetDigital@GatewayAssociation.ca
URL:https://gatewayassociation.ca/calendar/eportolio-series-3-4/
END:VEVENT
BEGIN:VEVENT
DTSTART;TZID=America/Denver:20220921T110000
DTEND;TZID=America/Denver:20220921T120000
DTSTAMP:20260421T152721
CREATED:20220816T142126Z
LAST-MODIFIED:20220816T142126Z
UID:248565-1663758000-1663761600@gatewayassociation.ca
SUMMARY:Explore Canva
DESCRIPTION:Let your imagination be your guide as you create your own posters\, flyers\, cards\, videos\, and more to share information important to you. \nFor questions and to register\, please connect with us at GetDigital@GatewayAssociation.ca
URL:https://gatewayassociation.ca/calendar/explore-canva-10/
END:VEVENT
BEGIN:VEVENT
DTSTART;TZID=America/Denver:20220921T120000
DTEND;TZID=America/Denver:20220921T130000
DTSTAMP:20260421T152721
CREATED:20220812T172823Z
LAST-MODIFIED:20220812T172823Z
UID:248515-1663761600-1663765200@gatewayassociation.ca
SUMMARY:Understanding Disability; Community Resources
DESCRIPTION:Understanding Disability – Community Resources \nWednesday\, September 21 \n12pm – 1pm | Zoom \n\nA workshop that explores community and government resources for adults with disabilities \nThis workshop is for caregivers and professionals who are supporting an adult with a disability who is aging\, to ensure the proper supports are accessed for them to live a good life. The workshop will empower participants with the knowledge they need to begin planning for seniorhood. \nguardianship and trusteeship\, aging caregivers\, resources in the community\, law enforcement\, and self-advocates. \n\nFor accommodation requirements\, please connect with Yonique@gatewayassociation.ca
URL:https://gatewayassociation.ca/calendar/understanding-disability-community-resources-3/
CATEGORIES:FRC
END:VEVENT
BEGIN:VEVENT
DTSTART;TZID=America/Denver:20220921T140000
DTEND;TZID=America/Denver:20220921T150000
DTSTAMP:20260421T152721
CREATED:20220913T215055Z
LAST-MODIFIED:20220913T215055Z
UID:248767-1663768800-1663772400@gatewayassociation.ca
SUMMARY:MentorAbility Industry Information Session: Starting Your Own Business with Milk Jar Candle Co.
DESCRIPTION:MentorAbility Alberta is offering ongoing FREE interactive Industry Information Sessions! These information sessions give participants the opportunity to learn more about prospective industries\, recruitment requirements and qualifications and the next steps they may need to take to achieve their employment goals. \n\nIn this weeks’ session\, Holly Singer\, owner of Milk Jar Candle Co\, will be joining us to talk about starting your own business and her journey with Milk Jar! \n\nIf you require any accommodations for this session\, please contact us prior to the session and we will assist with accommodation provisions as best we can: Jasmine@GatewayAssociation.ca
URL:https://gatewayassociation.ca/calendar/mentorability-industry-information-session-starting-your-own-business-with-milk-jar-candle-co/
CATEGORIES:ERC
END:VEVENT
BEGIN:VEVENT
DTSTART;TZID=America/Denver:20220921T150000
DTEND;TZID=America/Denver:20220921T163000
DTSTAMP:20260421T152721
CREATED:20220816T142422Z
LAST-MODIFIED:20220816T142422Z
UID:248569-1663772400-1663777800@gatewayassociation.ca
SUMMARY:OSC Boardgames
DESCRIPTION:**Requires Online Social Connections – Discord and Steam Tutorials as well as desktop or laptop computer.** \nCome hang out! Learn about setting up online accounts\, meet new friends\, socialize\, and have fun playing boardgames online. Meet new friends\, practise new skills\, have fun! \nFor questions and to register\, please connect with us at GetDigital@GatewayAssociation.ca
URL:https://gatewayassociation.ca/calendar/osc-boardgames-7/
END:VEVENT
BEGIN:VEVENT
DTSTART;TZID=America/Denver:20220921T190000
DTEND;TZID=America/Denver:20220921T210000
DTSTAMP:20260421T152721
CREATED:20220812T173000Z
LAST-MODIFIED:20220815T210546Z
UID:248517-1663786800-1663794000@gatewayassociation.ca
SUMMARY:Families Forward; I have an ISP\, Now What?
DESCRIPTION:Families Forward\, I have an ISP. Now what? \nWednesday\, September 21 \n7pm – 9pm | Zoom \nMonthly meeting for families with loved ones with disabilities who have completed an Individual Support Plan. \nWhere families can connect with other families and share resources for individuals with disabilities. We will explore ISP strategies and outcomes. \n\nFor any accommodation requirements\, please connect with Kristina@GatewayAssociation.ca
URL:https://gatewayassociation.ca/calendar/families-forward-i-have-and-isp-now-what/
CATEGORIES:FRC
END:VEVENT
BEGIN:VEVENT
DTSTART;TZID=America/Denver:20220922T100000
DTEND;TZID=America/Denver:20220922T110000
DTSTAMP:20260421T152721
CREATED:20220816T140954Z
LAST-MODIFIED:20220816T141819Z
UID:248551-1663840800-1663844400@gatewayassociation.ca
SUMMARY:You Too Can YouTube (4/4)
DESCRIPTION:Learn about being a YouTube viewer and a YouTube creator. Find out how to make your own YouTube Channel and what to consider when you are choosing videos to watch. Create YouTube content\, learn about what to consider when watching videos as well as how to save and organize videos. \nFor questions and to register\, connect with us at GetDigital@GatewayAssociation.ca
URL:https://gatewayassociation.ca/calendar/you-too-can-youtube-4-4/
END:VEVENT
BEGIN:VEVENT
DTSTART;TZID=America/Denver:20220922T100000
DTEND;TZID=America/Denver:20220922T110000
DTSTAMP:20260421T152721
CREATED:20220816T142256Z
LAST-MODIFIED:20220816T142256Z
UID:248567-1663840800-1663844400@gatewayassociation.ca
SUMMARY:Email Basics
DESCRIPTION:Learn about and practice the basics of writing professional emails for your job search and workplace communication \nFor questions and to register\, please connect with us at GetDigital@GatewayAssociation.ca
URL:https://gatewayassociation.ca/calendar/email-basics-15/
END:VEVENT
BEGIN:VEVENT
DTSTART;TZID=America/Denver:20220922T110000
DTEND;TZID=America/Denver:20220922T120000
DTSTAMP:20260421T152721
CREATED:20220816T141708Z
LAST-MODIFIED:20220816T141708Z
UID:248560-1663844400-1663848000@gatewayassociation.ca
SUMMARY:ePortfolio Series (4/4)
DESCRIPTION:Learners will work on their own between classes. In the eportfolio workshop\, participants will learn about the different types of portfolios\, how to use google sites\, and the basics of layout and design. Learners will choose the type of portfolio they want to build and the subject they want to focus on. They will select and add content to their sites along with descriptions\, statements about their motivation\, interests\, skills\, and hobbies. \nFor questions and to register\, please connect with us at GetDigital@GatewayAssociation.ca
URL:https://gatewayassociation.ca/calendar/eportfolio-series-4-4-3/
END:VEVENT
BEGIN:VEVENT
DTSTART;TZID=America/Denver:20220922T120000
DTEND;TZID=America/Denver:20220922T133000
DTSTAMP:20260421T152721
CREATED:20220912T132429Z
LAST-MODIFIED:20220912T132919Z
UID:248760-1663848000-1663853400@gatewayassociation.ca
SUMMARY:Indigenous History: Decolonization — Current Impacts of Colonialism
DESCRIPTION:There is still a lot of work to be done when it comes to Truth and Reconciliation within our communities and across Canada. Jaylene and Vince discuss serious concerns that still plague Indigenous peoples at home and in the workplace and the actions that must be taken to restore equity\, and a path forward to true reconciliation.
URL:https://gatewayassociation.ca/calendar/indigenous-history-decolonization-current-impacts-of-colonialism/
CATEGORIES:ERC
END:VEVENT
BEGIN:VEVENT
DTSTART;TZID=America/Denver:20220922T130000
DTEND;TZID=America/Denver:20220922T140000
DTSTAMP:20260421T152721
CREATED:20220823T204146Z
LAST-MODIFIED:20220823T204644Z
UID:248608-1663851600-1663855200@gatewayassociation.ca
SUMMARY:Interview Preparation Workshop
DESCRIPTION:What to do before\, during and after the job interview \nFor any accommodation requirements\, please connect with us at Get-Work@GatewayAssociation.ca
URL:https://gatewayassociation.ca/calendar/interview-preparation-workshop-11/
CATEGORIES:ERC
END:VEVENT
BEGIN:VEVENT
DTSTART;TZID=America/Denver:20220926T100000
DTEND;TZID=America/Denver:20220926T110000
DTSTAMP:20260421T152721
CREATED:20220816T144242Z
LAST-MODIFIED:20220816T144242Z
UID:248571-1664186400-1664190000@gatewayassociation.ca
SUMMARY:Intro to Google Docs Series (1/4)
DESCRIPTION:In this workshop series\, Participants will create their own google account\, learn to navigate google drive\, and keep their drives organized. Through a series of activities\, Learners will practice creating and sharing google documents\, explore the tools provided to help them write\, edit\, comment and chat. This workshop covers the Basics of google drive and google docs\, as well as file organization\, sharing\, and commenting. \nFor questions and to register\, please connect with us at GetDigital@GatewayAssociation.ca
URL:https://gatewayassociation.ca/calendar/intro-to-google-docs-series-1-4/
END:VEVENT
BEGIN:VEVENT
DTSTART;TZID=America/Denver:20220926T110000
DTEND;TZID=America/Denver:20220926T120000
DTSTAMP:20260421T152721
CREATED:20220816T144704Z
LAST-MODIFIED:20220816T144704Z
UID:248579-1664190000-1664193600@gatewayassociation.ca
SUMMARY:Look Stuff Up Online Series
DESCRIPTION:This workshop series helps learners find\, share\, and explore things online through a series of fun activities. Participants will use different google map features to find their way around town\, share their favourite places\, plan a vacation\, and compare different search engines. As a group\, learners will chat about fake news\, investigate stories on Snopes\, and chat about the media we take in everyday. \nFor questions and to register\, please connect with us at GetDigital@GatewayAssociation.ca
URL:https://gatewayassociation.ca/calendar/look-stuff-up-online-series-2/
END:VEVENT
BEGIN:VEVENT
DTSTART;TZID=America/Denver:20220926T130000
DTEND;TZID=America/Denver:20220926T140000
DTSTAMP:20260421T152721
CREATED:20220816T145003Z
LAST-MODIFIED:20220816T145003Z
UID:248587-1664197200-1664200800@gatewayassociation.ca
SUMMARY:Explore Canva
DESCRIPTION:Let your imagination be your guide as you create your own posters\, flyers\, cards\, videos\, and more to share information important to you. \nFor questions and to register\, please connect with us at GetDigital@GatewayAssociation.ca
URL:https://gatewayassociation.ca/calendar/explore-canva-11/
END:VEVENT
BEGIN:VEVENT
DTSTART;TZID=America/Denver:20220927T100000
DTEND;TZID=America/Denver:20220927T110000
DTSTAMP:20260421T152721
CREATED:20220816T144316Z
LAST-MODIFIED:20220816T144316Z
UID:248573-1664272800-1664276400@gatewayassociation.ca
SUMMARY:Intro to Google Docs Series (2/4)
DESCRIPTION:In this workshop series\, Participants will create their own google account\, learn to navigate google drive\, and keep their drives organized. Through a series of activities\, Learners will practice creating and sharing google documents\, explore the tools provided to help them write\, edit\, comment and chat. This workshop covers the Basics of google drive and google docs\, as well as file organization\, sharing\, and commenting. \nFor questions and to register\, please connect with us at GetDigital@GatewayAssociation.ca
URL:https://gatewayassociation.ca/calendar/intro-to-google-docs-series-2-4/
END:VEVENT
BEGIN:VEVENT
DTSTART;TZID=America/Denver:20220927T110000
DTEND;TZID=America/Denver:20220927T120000
DTSTAMP:20260421T152721
CREATED:20220816T144738Z
LAST-MODIFIED:20220816T144738Z
UID:248581-1664276400-1664280000@gatewayassociation.ca
SUMMARY:Look Stuff Up Online Series (2/4)
DESCRIPTION:This workshop series helps learners find\, share\, and explore things online through a series of fun activities. Participants will use different google map features to find their way around town\, share their favourite places\, plan a vacation\, and compare different search engines. As a group\, learners will chat about fake news\, investigate stories on Snopes\, and chat about the media we take in everyday. \nFor questions and to register\, please connect with us at GetDigital@GatewayAssociation.ca
URL:https://gatewayassociation.ca/calendar/look-stuff-up-online-series-2-4-2/
END:VEVENT
BEGIN:VEVENT
DTSTART;TZID=America/Denver:20220927T130000
DTEND;TZID=America/Denver:20220927T140000
DTSTAMP:20260421T152721
CREATED:20220823T204333Z
LAST-MODIFIED:20220823T204613Z
UID:248610-1664283600-1664287200@gatewayassociation.ca
SUMMARY:Workplace Expectations
DESCRIPTION:You’ve got the job\, now you must keep it! Talking about the everyday behaviors that are appropriate in the workplace: \n\nshowing up on time\nhow long is too long for socializing with coworkers\nbreaks – what does this mean\nmotivation and engagement\n\nFor accommodation requirements\, please connect with us at Get-Work@GatewayAssociation.ca
URL:https://gatewayassociation.ca/calendar/workplace-expectations/
CATEGORIES:ERC
END:VEVENT
BEGIN:VEVENT
DTSTART;TZID=America/Denver:20220927T150000
DTEND;TZID=America/Denver:20220927T160000
DTSTAMP:20260421T152721
CREATED:20220915T173734Z
LAST-MODIFIED:20220915T173734Z
UID:248829-1664290800-1664294400@gatewayassociation.ca
SUMMARY:GTDI Program Info Session
DESCRIPTION:Have you or someone you know wanted to increase your basic digital skills to work\, learn\, or have fun? Have you wanted to find ways to connect to work\, friends\, family\, or supports online? \nWe can help! \nDigital Literacy is your Gateway to connecting\, working\, learning\, sharing\, growing\, and creating online. \nThe Gateway to Digital Inclusion Program offers courses and workshops on basic digital skills\, online social connections\, an App to help you learn about and engage with the digital world\, and more …. \nJoin us on Tuesdays for an interactive information session about the Gateway to Digital Inclusion Program. \nWhat will be included in the session: \n– What the program offers \n– Details about the workshops\, courses\, and groups \n– Who is eligible for the program \n– How our services work \nYou will have a chance to: \n– Meet some of our team members \n– Find out how to apply \n– Ask any question you might have \n\nSee you on Tuesday! \n\nIf you require any accommodations for attending the information session\, please contact us prior to the event to make arrangements. \nThank you \nThe Gateway to Digital Inclusion Team \ngetdigital@gatewayassociation.ca
URL:https://gatewayassociation.ca/calendar/gtdi-program-info-session-2/
END:VEVENT
BEGIN:VEVENT
DTSTART;TZID=America/Denver:20220928T100000
DTEND;TZID=America/Denver:20220928T110000
DTSTAMP:20260421T152721
CREATED:20220816T144352Z
LAST-MODIFIED:20220816T144352Z
UID:248575-1664359200-1664362800@gatewayassociation.ca
SUMMARY:Intro to Google Docs Series (3/4)
DESCRIPTION:In this workshop series\, Participants will create their own google account\, learn to navigate google drive\, and keep their drives organized. Through a series of activities\, Learners will practice creating and sharing google documents\, explore the tools provided to help them write\, edit\, comment and chat. This workshop covers the Basics of google drive and google docs\, as well as file organization\, sharing\, and commenting. \nFor questions and to register\, please connect with us at GetDigital@GatewayAssociation.ca
URL:https://gatewayassociation.ca/calendar/intro-to-google-docs-series-3-4/
END:VEVENT
BEGIN:VEVENT
DTSTART;TZID=America/Denver:20220928T110000
DTEND;TZID=America/Denver:20220928T120000
DTSTAMP:20260421T152721
CREATED:20220816T144816Z
LAST-MODIFIED:20220816T144816Z
UID:248583-1664362800-1664366400@gatewayassociation.ca
SUMMARY:Look Stuff Up Online Series (3/4)
DESCRIPTION:This workshop series helps learners find\, share\, and explore things online through a series of fun activities. Participants will use different google map features to find their way around town\, share their favourite places\, plan a vacation\, and compare different search engines. As a group\, learners will chat about fake news\, investigate stories on Snopes\, and chat about the media we take in everyday. \nFor questions and to register\, please connect with us at GetDigital@GatewayAssociation.ca
URL:https://gatewayassociation.ca/calendar/look-stuff-up-online-series-3-4/
END:VEVENT
END:VCALENDAR