BEGIN:VCALENDAR
VERSION:2.0
PRODID:-//Gateway Association - ECPv6.15.20//NONSGML v1.0//EN
CALSCALE:GREGORIAN
METHOD:PUBLISH
X-ORIGINAL-URL:https://gatewayassociation.ca
X-WR-CALDESC:Events for Gateway Association
REFRESH-INTERVAL;VALUE=DURATION:PT1H
X-Robots-Tag:noindex
X-PUBLISHED-TTL:PT1H
BEGIN:VTIMEZONE
TZID:America/Denver
BEGIN:DAYLIGHT
TZOFFSETFROM:-0700
TZOFFSETTO:-0600
TZNAME:MDT
DTSTART:20240310T090000
END:DAYLIGHT
BEGIN:STANDARD
TZOFFSETFROM:-0600
TZOFFSETTO:-0700
TZNAME:MST
DTSTART:20241103T080000
END:STANDARD
BEGIN:DAYLIGHT
TZOFFSETFROM:-0700
TZOFFSETTO:-0600
TZNAME:MDT
DTSTART:20250309T090000
END:DAYLIGHT
BEGIN:STANDARD
TZOFFSETFROM:-0600
TZOFFSETTO:-0700
TZNAME:MST
DTSTART:20251102T080000
END:STANDARD
BEGIN:DAYLIGHT
TZOFFSETFROM:-0700
TZOFFSETTO:-0600
TZNAME:MDT
DTSTART:20260308T090000
END:DAYLIGHT
BEGIN:STANDARD
TZOFFSETFROM:-0600
TZOFFSETTO:-0700
TZNAME:MST
DTSTART:20261101T080000
END:STANDARD
END:VTIMEZONE
BEGIN:VEVENT
DTSTART;TZID=America/Denver:20250115T150000
DTEND;TZID=America/Denver:20250115T160000
DTSTAMP:20260421T114901
CREATED:20241216T214911Z
LAST-MODIFIED:20241216T214911Z
UID:254351-1736953200-1736956800@gatewayassociation.ca
SUMMARY:Google Photos: Edits (1 of 2)
DESCRIPTION:Google Photos: Edits\nSession: 1 of 2  \nDuration: 1 hr   \nFacilitator: Toby  \nPrivate – GTDI Program intake required prior to workshop: getdigital@gatewayassociation.ca  \n  \nIn this workshop we will be learning how to use Google Photos for basic photo editing. We will go through terminology\, the different tools available\, tips for taking photos\, and some things to consider about photos in public spaces.
URL:https://gatewayassociation.ca/calendar/google-photos-edits-1-of-2/
END:VEVENT
BEGIN:VEVENT
DTSTART;TZID=America/Denver:20250115T183000
DTEND;TZID=America/Denver:20250115T203000
DTSTAMP:20260421T114901
CREATED:20241105T194212Z
LAST-MODIFIED:20241105T194212Z
UID:254097-1736965800-1736973000@gatewayassociation.ca
SUMMARY:Online Claims Reimbursement System Training - FMS
DESCRIPTION:Online Claims Reimbursement System Training – FMS\nWednesday\, January 15\n6:30 pm – 8:30 pm | Online \n  \nA workshop for Family Managed Services Administrators focused on enhancing your understanding and management of the Online Claims Reimbursement (OCR) system. \nThis session will address common challenges and streamline your experience with the system\, ensuring you can utilize it confidently and efficiently. \nWorkshop Goals: \n\nUnderstanding the Agreement: Gain a deeper understanding of the FMS agreements and expectations of the OCR system.\nAccessing OCR: Learn the ins and outs of accessing the system effectively\, including navigation tips\, user support resources\, and troubleshooting common issues.\nCreating a Successful Claim: We’ll Walk you through the process of creating and submitting claims through the OCR system\, focusing on accuracy and timeliness to ensure successful processing.\nRecord Keeping and Preparing for Reviews: Enhance your skills in maintaining accurate records and preparing for periodic reviews.\n\n  \nQuestions? Contact Miriam @ miriam@gatewayassociation.ca \nREGISTER HERE
URL:https://gatewayassociation.ca/calendar/online-claims-reimbursement-system-training-fms/
CATEGORIES:FRC
END:VEVENT
BEGIN:VEVENT
DTSTART;TZID=America/Denver:20250116T110000
DTEND;TZID=America/Denver:20250116T120000
DTSTAMP:20260421T114901
CREATED:20241216T214416Z
LAST-MODIFIED:20241216T214416Z
UID:254341-1737025200-1737028800@gatewayassociation.ca
SUMMARY:Google Docs
DESCRIPTION:Google Docs\nSession: 2 of 2  \nDuration: 1 hr   \nFacilitator: Lee  \nPrivate – GTDI Program intake required prior to workshop: getdigital@gatewayassociation.ca  \n  \nIn this 2 session workshop series\, Participants will practice creating and sharing google documents\, explore the tools provided to help them write\, edit\, comment and chat. This workshop covers the Basics of google docs\, as well as file organization\, sharing\, and commenting.  
URL:https://gatewayassociation.ca/calendar/google-docs/
END:VEVENT
BEGIN:VEVENT
DTSTART;TZID=America/Denver:20250116T130000
DTEND;TZID=America/Denver:20250116T140000
DTSTAMP:20260421T114901
CREATED:20241216T214813Z
LAST-MODIFIED:20241216T214813Z
UID:254349-1737032400-1737036000@gatewayassociation.ca
SUMMARY:File Management and PDFs (2 of 2)
DESCRIPTION:File Management and PDFs\nSession 2 of 2 \nDuration 1 hr \nFacilitator: Toby \nPrivate – GTDI Program intake required prior to workshop: getdigital@gatewayassociation.ca \n\nIn this workshop participants will learn about saving files\, organizing and finding files\, converting documents to pdfs\, what a is pdf\, and how to use pdfs.
URL:https://gatewayassociation.ca/calendar/file-management-and-pdfs-2-of-2-11/
END:VEVENT
BEGIN:VEVENT
DTSTART;TZID=America/Denver:20250116T130000
DTEND;TZID=America/Denver:20250116T140000
DTSTAMP:20260421T114901
CREATED:20241217T162300Z
LAST-MODIFIED:20241217T162301Z
UID:254392-1737032400-1737036000@gatewayassociation.ca
SUMMARY:How to Read a Job Posting
DESCRIPTION:How to Read a Job Posting\n\n\nJoin this workshop to understand various elements of a job posting\, identify red flags\, and find the right match. This workshop intends to help people save their time by targeting jobs that fits their expectations.  \n\n\nOnline or In-Person: ONLINE 
URL:https://gatewayassociation.ca/calendar/how-to-read-a-job-posting-12/
CATEGORIES:ERC
END:VEVENT
BEGIN:VEVENT
DTSTART;TZID=America/Denver:20250116T130000
DTEND;TZID=America/Denver:20250116T150000
DTSTAMP:20260421T114901
CREATED:20241217T185147Z
LAST-MODIFIED:20241217T185147Z
UID:254404-1737032400-1737039600@gatewayassociation.ca
SUMMARY:HR How-To: Part 1 (Edmonton)
DESCRIPTION:HR How-To: Part 1\nIn this 2 part in-person series you will be learning from special guest\, Ada Tai\, about all things HR including workplace communication\, workplace expectations\, your rights as a worker in Alberta as well as conflict resolution. Ada has a number of years experience in human resources and currently uses her skills to do a variety of things including running her very own human resources consulting firm. \nLocation: Edmonton Office
URL:https://gatewayassociation.ca/calendar/hr-how-to-part-1-edmonton/
CATEGORIES:ERC
END:VEVENT
BEGIN:VEVENT
DTSTART;TZID=America/Denver:20250116T150000
DTEND;TZID=America/Denver:20250116T160000
DTSTAMP:20260421T114901
CREATED:20241216T214953Z
LAST-MODIFIED:20241216T214953Z
UID:254353-1737039600-1737043200@gatewayassociation.ca
SUMMARY:Google Photos: Edits (2 of 2)
DESCRIPTION:Google Photos: Edits\nSession: 2 of 2  \nDuration: 1 hr   \nFacilitator: Toby  \nPrivate – GTDI Program intake required prior to workshop: getdigital@gatewayassociation.ca  \n  \nIn this workshop we will be learning how to use Google Photos for basic photo editing. We will go through terminology\, the different tools available\, tips for taking photos\, and some things to consider about photos in public spaces.
URL:https://gatewayassociation.ca/calendar/google-photos-edits-2-of-2/
END:VEVENT
BEGIN:VEVENT
DTSTART;TZID=America/Denver:20250120T150000
DTEND;TZID=America/Denver:20250120T160000
DTSTAMP:20260421T114901
CREATED:20241216T215109Z
LAST-MODIFIED:20241216T215109Z
UID:254355-1737385200-1737388800@gatewayassociation.ca
SUMMARY:Google Slides (1 of 3)
DESCRIPTION:Google Slides\nSession: 1 of 3  \nDuration: 1 hr \nFacilitator: Toby \nPrivate – GTDI Program intake required prior to workshop: getdigital@gatewayassociation.ca \n\nLearn how to make your own presentations using Google Slides. We will go through what Google Slides is\, how to access it\, and how to create and modify your own presentation. We will look at using tools like Animation\, Transitions\, different formatting options\, and creating and using Themes.
URL:https://gatewayassociation.ca/calendar/google-slides-1-of-3-3/
END:VEVENT
BEGIN:VEVENT
DTSTART;TZID=America/Denver:20250121T110000
DTEND;TZID=America/Denver:20250121T120000
DTSTAMP:20260421T114901
CREATED:20241216T215336Z
LAST-MODIFIED:20241216T215336Z
UID:254361-1737457200-1737460800@gatewayassociation.ca
SUMMARY:ePortfolios (1 of 3)
DESCRIPTION:ePortfolios\nSession 1 of 3 \nDuration 1 hr \nFacilitator: Lee \nPrivate – GTDI Program intake required prior to workshop: getdigital@gatewayassociation.ca \n\n**A desktop or laptop computer is required for this workshop.** \nIn the eportfolio workshop series\, participants will learn about the different types of portfolios\, how to use google sites\, and the basics of layout and design. Learners will choose the type of portfolio they want to build and the subject they want to focus on. They will select and add content to their sites along with descriptions\, statements about their motivation\, interests\, skills\, and hobbies. Learners will work on their own between classes.
URL:https://gatewayassociation.ca/calendar/eportfolios-1-of-3-5/
END:VEVENT
BEGIN:VEVENT
DTSTART;TZID=America/Denver:20250121T130000
DTEND;TZID=America/Denver:20250121T140000
DTSTAMP:20260421T114901
CREATED:20241216T215625Z
LAST-MODIFIED:20241216T215625Z
UID:254367-1737464400-1737468000@gatewayassociation.ca
SUMMARY:LinkedIn Profiles (1 of 3)
DESCRIPTION:LinkedIn Profiles\nSession: 1 of 3 \nDuration: 1 hr \nFacilitator: Toby \nPrivate – GTDI Program intake required prior to workshop: getdigital@gatewayassociation.ca \n\nBuild your own LinkedIn profile! Share your skills\, goals\, and experiences\, create job alerts\, and grow your online network.
URL:https://gatewayassociation.ca/calendar/linkedin-profiles-1-of-3-11/
END:VEVENT
BEGIN:VEVENT
DTSTART;TZID=America/Denver:20250121T130000
DTEND;TZID=America/Denver:20250121T150000
DTSTAMP:20260421T114901
CREATED:20241217T185321Z
LAST-MODIFIED:20241217T185321Z
UID:254406-1737464400-1737471600@gatewayassociation.ca
SUMMARY:HR How-To: Part 2 (Edmonton)
DESCRIPTION:HR How-To: Part 2\nIn this 2 part series you will be learning from special guest\, Ada Tai\, about all things HR including workplace communication\, workplace expectations\, your rights as a worker in Alberta as well as conflict resolution. Ada has a number of years experience in human resources and currently uses her skills to do a variety of things including running her very own human resources consulting firm.\n\nIn-Person YEG
URL:https://gatewayassociation.ca/calendar/hr-how-to-part-2-edmonton/
CATEGORIES:ERC
END:VEVENT
BEGIN:VEVENT
DTSTART;TZID=America/Denver:20250121T150000
DTEND;TZID=America/Denver:20250121T160000
DTSTAMP:20260421T114901
CREATED:20241216T215144Z
LAST-MODIFIED:20241216T215144Z
UID:254357-1737471600-1737475200@gatewayassociation.ca
SUMMARY:Google Slides (2 of 3)
DESCRIPTION:Google Slides\nSession: 2 of 3  \nDuration: 1 hr \nFacilitator: Toby \nPrivate – GTDI Program intake required prior to workshop: getdigital@gatewayassociation.ca \nLearn how to make your own presentations using Google Slides. We will go through what Google Slides is\, how to access it\, and how to create and modify your own presentation. We will look at using tools like Animation\, Transitions\, different formatting options\, and creating and using Themes.
URL:https://gatewayassociation.ca/calendar/google-slides-2-of-3-3/
END:VEVENT
BEGIN:VEVENT
DTSTART;TZID=America/Denver:20250122T100000
DTEND;TZID=America/Denver:20250122T150000
DTSTAMP:20260421T114901
CREATED:20241217T210248Z
LAST-MODIFIED:20241217T210305Z
UID:254419-1737540000-1737558000@gatewayassociation.ca
SUMMARY:YYC Drop-In Wednesdays
DESCRIPTION:YYC Drop- In Wednesdays\nFor registered participants – Join us every Wednesday from 10 AM to 3 PM for our open drop-in sessions. Whether you’re exploring career options\, updating your resume\, practicing for interviews\, or navigating the job search process\, our friendly team is ready to support you. \nNo appointment needed—just drop in! Let’s work together to take the next step in your employment journey. \nWhere: Gateway Association Calgary Office\nWhen: Wednesdays\, 10 AM – 3 PM
URL:https://gatewayassociation.ca/calendar/yyc-drop-in-wednesdays-3/
CATEGORIES:ERC
END:VEVENT
BEGIN:VEVENT
DTSTART;TZID=America/Denver:20250122T110000
DTEND;TZID=America/Denver:20250122T120000
DTSTAMP:20260421T114901
CREATED:20241216T215421Z
LAST-MODIFIED:20241216T215421Z
UID:254363-1737543600-1737547200@gatewayassociation.ca
SUMMARY:ePortfolios (2 of 3)
DESCRIPTION:ePortfolios\nSession 2 of 3 \nDuration 1 hr \nFacilitator: Lee \nPrivate – GTDI Program intake required prior to workshop: getdigital@gatewayassociation.ca \n**A desktop or laptop computer is required for this workshop.** \nIn the eportfolio workshop series\, participants will learn about the different types of portfolios\, how to use google sites\, and the basics of layout and design. Learners will choose the type of portfolio they want to build and the subject they want to focus on. They will select and add content to their sites along with descriptions\, statements about their motivation\, interests\, skills\, and hobbies. Learners will work on their own between classes.
URL:https://gatewayassociation.ca/calendar/eportfolios-2-of-3-5/
END:VEVENT
BEGIN:VEVENT
DTSTART;TZID=America/Denver:20250122T130000
DTEND;TZID=America/Denver:20250122T140000
DTSTAMP:20260421T114901
CREATED:20241216T215710Z
LAST-MODIFIED:20241216T215710Z
UID:254369-1737550800-1737554400@gatewayassociation.ca
SUMMARY:LinkedIn Profiles (2 of 3)
DESCRIPTION:LinkedIn Profiles\nSession: 2 of 3 \nDuration: 1 hr \nFacilitator: Toby \nPrivate – GTDI Program intake required prior to workshop: getdigital@gatewayassociation.ca \n\nBuild your own LinkedIn profile! Share your skills\, goals\, and experiences\, create job alerts\, and grow your online network.
URL:https://gatewayassociation.ca/calendar/linkedin-profiles-2-of-3-11/
END:VEVENT
BEGIN:VEVENT
DTSTART;TZID=America/Denver:20250122T150000
DTEND;TZID=America/Denver:20250122T160000
DTSTAMP:20260421T114901
CREATED:20241216T215223Z
LAST-MODIFIED:20241216T215223Z
UID:254359-1737558000-1737561600@gatewayassociation.ca
SUMMARY:Google Slides (3 of 3)
DESCRIPTION:Google Slides\nSession: 3 of 3  \nDuration: 1 hr \nFacilitator: Toby \nPrivate – GTDI Program intake required prior to workshop: getdigital@gatewayassociation.ca \nLearn how to make your own presentations using Google Slides. We will go through what Google Slides is\, how to access it\, and how to create and modify your own presentation. We will look at using tools like Animation\, Transitions\, different formatting options\, and creating and using Themes.
URL:https://gatewayassociation.ca/calendar/google-slides-3-of-3-3/
END:VEVENT
BEGIN:VEVENT
DTSTART;TZID=America/Denver:20250122T160000
DTEND;TZID=America/Denver:20250122T170000
DTSTAMP:20260421T114901
CREATED:20241217T164735Z
LAST-MODIFIED:20241217T164735Z
UID:254394-1737561600-1737565200@gatewayassociation.ca
SUMMARY:Calgary Employment Resource Centre Information Session
DESCRIPTION:Calgary Employment Resource Centre Information Session\nJoin Gateway Association for a virtual Employment Resource Centre information session. \nThis session is for job seekers with disability or mental health-based barriers to learn about how Gateway Association can support you with achieving your employment goals! \nLearn about individualized supports and group workshops that will help you with: \n\nCareer development and action plans\nResume building\nInterview skills\nWorkplace communication\nOnboarding and training\nJob search and finding the right job for you\nKeeping your job!\nA ND much more!\n\nFor additional accommodations or questions\, please connect with us at Get-Work@GatewayAssociation.ca \nRegister HERE
URL:https://gatewayassociation.ca/calendar/calgary-employment-resource-centre-information-session-5/
CATEGORIES:ERC
END:VEVENT
BEGIN:VEVENT
DTSTART;TZID=America/Denver:20250122T180000
DTEND;TZID=America/Denver:20250122T210000
DTSTAMP:20260421T114901
CREATED:20241105T194418Z
LAST-MODIFIED:20241105T201359Z
UID:254099-1737568800-1737579600@gatewayassociation.ca
SUMMARY:Transition to Adulthood (1 of 3)
DESCRIPTION:Transition Planning to Adulthood:  \nWednesdays \nJanuary 22 \nJanuary 29 \nFebruary 5 \n6:00 pm – 9:00 pm | Online \nPart 1: Life Transitions \nPart 2: Valued Roles\, Visioning\, and Planning \nPart 3: Navigating the Systems \n  \nA 3-part workshop series exploring the critical transition to adulthood for 14-20 year-olds and how to create a plan for the future. \nThis is a workshop series for parents/caregivers that engages families in building knowledge when navigating this critical time for 14-20 year olds. \nThis workshop series includes topics on: life transitions\, valued roles in the community\, visioning and planning\, and navigating the systems.   Note: All three workshops must be taken consecutively. \nQuestions? Yonique (Facilitator) at Yonique@GatewayAssociation.ca \n Register HERE
URL:https://gatewayassociation.ca/calendar/254099/
CATEGORIES:FRC
END:VEVENT
BEGIN:VEVENT
DTSTART;TZID=America/Denver:20250123T110000
DTEND;TZID=America/Denver:20250123T120000
DTSTAMP:20260421T114901
CREATED:20241216T215516Z
LAST-MODIFIED:20241216T215516Z
UID:254365-1737630000-1737633600@gatewayassociation.ca
SUMMARY:ePortfolios (3 of 3)
DESCRIPTION:ePortfolios\nSession 3 of 3 \nDuration 1 hr \nFacilitator: Lee \nPrivate – GTDI Program intake required prior to workshop: getdigital@gatewayassociation.ca \n**A desktop or laptop computer is required for this workshop.** \nIn the eportfolio workshop series\, participants will learn about the different types of portfolios\, how to use google sites\, and the basics of layout and design. Learners will choose the type of portfolio they want to build and the subject they want to focus on. They will select and add content to their sites along with descriptions\, statements about their motivation\, interests\, skills\, and hobbies. Learners will work on their own between classes.
URL:https://gatewayassociation.ca/calendar/eportfolios-3-of-3-5/
END:VEVENT
BEGIN:VEVENT
DTSTART;TZID=America/Denver:20250123T130000
DTEND;TZID=America/Denver:20250123T140000
DTSTAMP:20260421T114901
CREATED:20241216T215749Z
LAST-MODIFIED:20241216T215749Z
UID:254371-1737637200-1737640800@gatewayassociation.ca
SUMMARY:LinkedIn Profiles (3 of 3)
DESCRIPTION:LinkedIn Profiles\nSession: 3 of 3 \nDuration: 1 hr \nFacilitator: Toby \nPrivate – GTDI Program intake required prior to workshop: getdigital@gatewayassociation.ca \n\nBuild your own LinkedIn profile! Share your skills\, goals\, and experiences\, create job alerts\, and grow your online network.
URL:https://gatewayassociation.ca/calendar/linkedin-profiles-3-of-3-11/
END:VEVENT
BEGIN:VEVENT
DTSTART;TZID=America/Denver:20250123T130000
DTEND;TZID=America/Denver:20250123T140000
DTSTAMP:20260421T114901
CREATED:20241217T164832Z
LAST-MODIFIED:20241217T164832Z
UID:254396-1737637200-1737640800@gatewayassociation.ca
SUMMARY:Workplace Expectations 
DESCRIPTION:Workplace Expectations \n\n\nYou’ve got the job\, now you must keep it! Talking about the everyday behaviors that are appropriate in the workplace:  \n\n\nshowing up on time \nhow long is too long for socializing with coworkers \nbreaks – what does this mean \nmotivation and engagement \n\n\nOnline or In-Person: ONLINE 
URL:https://gatewayassociation.ca/calendar/workplace-expectations-17/
CATEGORIES:ERC
END:VEVENT
BEGIN:VEVENT
DTSTART;TZID=America/Denver:20250125T090000
DTEND;TZID=America/Denver:20250125T120000
DTSTAMP:20260421T114901
CREATED:20241105T194747Z
LAST-MODIFIED:20241105T194747Z
UID:254106-1737795600-1737806400@gatewayassociation.ca
SUMMARY:PDD 101
DESCRIPTION:PDD 101     \nA workshop for caregivers to develop knowledge of Alberta’s government service known as Persons with Developmental Disabilities (PDD). \nSaturday\, January 25 \n9:00 am – 12:00 pm | Online \n  \n“This workshop is an introduction to\, and overview of\, PDD for those who may be eligible. You will gain an understanding of the PDD program\, options available for service provision\, and information to determine the best supports for your family. \n  \nThis workshop will provide you with: \n1. An understanding of the PDD program’s role in supporting adults with developmental disabilities \n2. Knowledge of available options for service provision – Family Managed Supports (FMS) and PDD Service Providers (agency) \n3. Information to guide you in determining which type of service provision will best suit your family and adult child’s needs” \n  \nQuestions?  contact Shelley (facilitator) at shelley@gatewayassociation.ca \nREGISTER HERE
URL:https://gatewayassociation.ca/calendar/pdd-101-5/
CATEGORIES:FRC
END:VEVENT
BEGIN:VEVENT
DTSTART;TZID=America/Denver:20250127T110000
DTEND;TZID=America/Denver:20250127T120000
DTSTAMP:20260421T114901
CREATED:20241216T215850Z
LAST-MODIFIED:20241216T215850Z
UID:254373-1737975600-1737979200@gatewayassociation.ca
SUMMARY:Explore Canva (1 of 2)
DESCRIPTION:Explore Canva\nSession 1 of 2  \nDuration 1 hr   \nFacilitator: Lee  \nPrivate – GTDI Program intake required prior to workshop: getdigital@gatewayassociation.ca  \n  \nLet your imagination be your guide as you create your own posters\, flyers\, cards\, videos\, and more to share information important to you. 
URL:https://gatewayassociation.ca/calendar/explore-canva-1-of-2-15/
END:VEVENT
BEGIN:VEVENT
DTSTART;TZID=America/Denver:20250127T110000
DTEND;TZID=America/Denver:20250127T120000
DTSTAMP:20260421T114901
CREATED:20241217T183731Z
LAST-MODIFIED:20241217T183731Z
UID:254398-1737975600-1737979200@gatewayassociation.ca
SUMMARY:Edmonton Employment Resource Centre Info Session
DESCRIPTION:Edmonton Employment Resource Centre Info Session\nJoin Gateway Association for a virtual Employment Resource Centre information session. \nThis session is for job seekers with disability or mental health-based barriers to learn about how Gateway Association can support you with achieving your employment goals! \nL earn about individualized supports and group workshops that will help you with: \n\nCareer development and action plans\nResume building\nInterview skills\nWorkplace communication\nOnboarding and training\nJob search and finding the right job for you\nKeeping your job!\nAND much more!\n\nFor additional accommodations or questions\, please connect with us at employment@gatewayassociation.ca \nRegister HERE
URL:https://gatewayassociation.ca/calendar/edmonton-employment-resource-centre-info-session-8/
CATEGORIES:ERC
END:VEVENT
BEGIN:VEVENT
DTSTART;TZID=America/Denver:20250127T130000
DTEND;TZID=America/Denver:20250127T140000
DTSTAMP:20260421T114901
CREATED:20241216T220203Z
LAST-MODIFIED:20241216T220203Z
UID:254377-1737982800-1737986400@gatewayassociation.ca
SUMMARY:You TOO Can YouTube (1 of 3)
DESCRIPTION:You TOO Can YouTube\nSession: 1/3 \nDuration: 1 hr \nFacilitator: Toby \nPrivate – GTDI Program intake required prior to workshop: getdigital@gatewayassociation.ca \n\nLearn about being a YouTube viewer and a YouTube creator. Find out how to make your own YouTube Channel and what to consider when you are choosing videos to watch. Create YouTube content\, learn about what to consider when watching videos as well as how to save and organize videos.
URL:https://gatewayassociation.ca/calendar/you-too-can-youtube-1-of-3/
END:VEVENT
BEGIN:VEVENT
DTSTART;TZID=America/Denver:20250128T110000
DTEND;TZID=America/Denver:20250128T120000
DTSTAMP:20260421T114901
CREATED:20241216T220107Z
LAST-MODIFIED:20241216T220107Z
UID:254375-1738062000-1738065600@gatewayassociation.ca
SUMMARY:Explore Canva (2 of 2)
DESCRIPTION:Explore Canva\nSession 2 of 2  \nDuration 1 hr   \nFacilitator: Lee  \nPrivate – GTDI Program intake required prior to workshop: getdigital@gatewayassociation.ca  \n  \nLet your imagination be your guide as you create your own posters\, flyers\, cards\, videos\, and more to share information important to you. 
URL:https://gatewayassociation.ca/calendar/explore-canva-2-of-2-13/
END:VEVENT
BEGIN:VEVENT
DTSTART;TZID=America/Denver:20250128T110000
DTEND;TZID=America/Denver:20250128T120000
DTSTAMP:20260421T114901
CREATED:20250129T013106Z
LAST-MODIFIED:20250129T013106Z
UID:254536-1738062000-1738065600@gatewayassociation.ca
SUMMARY:File Management and PDFs (2 of 2)
DESCRIPTION:File Management and PDFs \nSession 2 of 2 \nDuration 1 hr \nFacilitator: Lee \nPrivate – GTDI Program intake required prior to workshop: getdigital@gatewayassociation.ca \n\nIn this workshop participants will learn about saving files\, organizing and finding files\, converting documents to pdfs\, what a is pdf\, and how to use pdfs.
URL:https://gatewayassociation.ca/calendar/file-management-and-pdfs-2-of-2-12/
END:VEVENT
BEGIN:VEVENT
DTSTART;TZID=America/Denver:20250128T130000
DTEND;TZID=America/Denver:20250128T140000
DTSTAMP:20260421T114901
CREATED:20241216T220252Z
LAST-MODIFIED:20241216T220252Z
UID:254379-1738069200-1738072800@gatewayassociation.ca
SUMMARY:You TOO Can YouTube (2 of 3)
DESCRIPTION:You TOO Can YouTube\nSession: 2 of 3 \nDuration: 1 hr \nFacilitator: Toby \nPrivate – GTDI Program intake required prior to workshop: getdigital@gatewayassociation.ca \nLearn about being a YouTube viewer and a YouTube creator. Find out how to make your own YouTube Channel and what to consider when you are choosing videos to watch. Create YouTube content\, learn about what to consider when watching videos as well as how to save and organize videos.
URL:https://gatewayassociation.ca/calendar/you-too-can-youtube-2-of-3/
END:VEVENT
BEGIN:VEVENT
DTSTART;TZID=America/Denver:20250128T130000
DTEND;TZID=America/Denver:20250128T140000
DTSTAMP:20260421T114901
CREATED:20241217T184203Z
LAST-MODIFIED:20241217T184203Z
UID:254400-1738069200-1738072800@gatewayassociation.ca
SUMMARY:Networking: Using Our Connections 
DESCRIPTION:Networking: Using Our Connections \n\n\nIn this workshop participants will be learning how to network! This workshop is on Zoom. You will dive in to where do we have connections already and where can we build our network using social media platforms.  \n\n\nOnline or In-Person: Online – Zoom 
URL:https://gatewayassociation.ca/calendar/networking-using-our-connections-3/
CATEGORIES:ERC
END:VEVENT
BEGIN:VEVENT
DTSTART;TZID=America/Denver:20250129T100000
DTEND;TZID=America/Denver:20250129T120000
DTSTAMP:20260421T114901
CREATED:20241217T205537Z
LAST-MODIFIED:20241217T205537Z
UID:254411-1738144800-1738152000@gatewayassociation.ca
SUMMARY:YYC Interview Roundtable
DESCRIPTION:Interview Roundtable: Learning and Laughing Together – Practice\nJoin us for a dynamic and interactive workshop designed to help you ace your next job interview. In our Interview Roundtable\, you’ll have the opportunity to connect with fellow job seekers and share your experiences and insights. Our experienced facilitators will guide you through real-life interview scenarios and help you develop the skills and confidence you need to succeed.   \n\nOnline or In-Person: IN-PERSON – YYC
URL:https://gatewayassociation.ca/calendar/yyc-interview-roundtable-3/
CATEGORIES:ERC
END:VEVENT
END:VCALENDAR