BEGIN:VCALENDAR
VERSION:2.0
PRODID:-//Gateway Association - ECPv6.15.20//NONSGML v1.0//EN
CALSCALE:GREGORIAN
METHOD:PUBLISH
X-WR-CALNAME:Gateway Association
X-ORIGINAL-URL:https://gatewayassociation.ca
X-WR-CALDESC:Events for Gateway Association
REFRESH-INTERVAL;VALUE=DURATION:PT1H
X-Robots-Tag:noindex
X-PUBLISHED-TTL:PT1H
BEGIN:VTIMEZONE
TZID:America/Denver
BEGIN:DAYLIGHT
TZOFFSETFROM:-0700
TZOFFSETTO:-0600
TZNAME:MDT
DTSTART:20210314T090000
END:DAYLIGHT
BEGIN:STANDARD
TZOFFSETFROM:-0600
TZOFFSETTO:-0700
TZNAME:MST
DTSTART:20211107T080000
END:STANDARD
BEGIN:DAYLIGHT
TZOFFSETFROM:-0700
TZOFFSETTO:-0600
TZNAME:MDT
DTSTART:20220313T090000
END:DAYLIGHT
BEGIN:STANDARD
TZOFFSETFROM:-0600
TZOFFSETTO:-0700
TZNAME:MST
DTSTART:20221106T080000
END:STANDARD
BEGIN:DAYLIGHT
TZOFFSETFROM:-0700
TZOFFSETTO:-0600
TZNAME:MDT
DTSTART:20230312T090000
END:DAYLIGHT
BEGIN:STANDARD
TZOFFSETFROM:-0600
TZOFFSETTO:-0700
TZNAME:MST
DTSTART:20231105T080000
END:STANDARD
END:VTIMEZONE
BEGIN:VTIMEZONE
TZID:America/Edmonton
BEGIN:DAYLIGHT
TZOFFSETFROM:-0700
TZOFFSETTO:-0600
TZNAME:MDT
DTSTART:20210314T090000
END:DAYLIGHT
BEGIN:STANDARD
TZOFFSETFROM:-0600
TZOFFSETTO:-0700
TZNAME:MST
DTSTART:20211107T080000
END:STANDARD
BEGIN:DAYLIGHT
TZOFFSETFROM:-0700
TZOFFSETTO:-0600
TZNAME:MDT
DTSTART:20220313T090000
END:DAYLIGHT
BEGIN:STANDARD
TZOFFSETFROM:-0600
TZOFFSETTO:-0700
TZNAME:MST
DTSTART:20221106T080000
END:STANDARD
BEGIN:DAYLIGHT
TZOFFSETFROM:-0700
TZOFFSETTO:-0600
TZNAME:MDT
DTSTART:20230312T090000
END:DAYLIGHT
BEGIN:STANDARD
TZOFFSETFROM:-0600
TZOFFSETTO:-0700
TZNAME:MST
DTSTART:20231105T080000
END:STANDARD
END:VTIMEZONE
BEGIN:VEVENT
DTSTART;TZID=America/Denver:20220707T110000
DTEND;TZID=America/Denver:20220707T120000
DTSTAMP:20260421T142638
CREATED:20220628T190115Z
LAST-MODIFIED:20220628T190115Z
UID:248143-1657191600-1657195200@gatewayassociation.ca
SUMMARY:Steam Tutorial
DESCRIPTION: As part of a group\, you will check out the Steam platform\, hangout and engage in all of the functions of the platform! \nTo register\, connect with us at GetDigital@GatewayAssociation.ca
URL:https://gatewayassociation.ca/calendar/steam-tutorial-4/
END:VEVENT
BEGIN:VEVENT
DTSTART;TZID=America/Denver:20220706T190000
DTEND;TZID=America/Denver:20220706T200000
DTSTAMP:20260421T142638
CREATED:20220630T141432Z
LAST-MODIFIED:20220630T141432Z
UID:248241-1657134000-1657137600@gatewayassociation.ca
SUMMARY:Let's Talk about Workplace Wellness
DESCRIPTION:Join us online to engage in conversations about workplace wellness. It will be an opportunity to connect with job seekers to gain insight into strategies for mental health wellness in the workplace. \nThis month’s topic will be about: How has Covid-19 has affected us and what strategies can we use to continue to support our mental health. \n 
URL:https://gatewayassociation.ca/calendar/lets-talk-about-workplace-wellness-2/
CATEGORIES:ERC
END:VEVENT
BEGIN:VEVENT
DTSTART;TZID=America/Denver:20220706T180000
DTEND;TZID=America/Denver:20220706T190000
DTSTAMP:20260421T142638
CREATED:20220630T141624Z
LAST-MODIFIED:20220630T141624Z
UID:248243-1657130400-1657134000@gatewayassociation.ca
SUMMARY:Calgary Employment Program Information Session
DESCRIPTION:Join us Wednesday for an interactive information session about the Gateway Calgary Employment Program! \nWhat will be included in the session: \n– What services we provide and how our services and processes work \n– Who is eligible for the project \n– If the project is right for you or who you would like to refer  \n– Additional perks of the program \n– You will meet some of our team members \n– Hear about real success stories of the program \n– Find out how to apply \n– And ask any questions you might have \nSee you Wednesday! \n\n\nIf you require any accommodations for attending the information session\, please contact us prior to the event to make arrangements. \n\n\nThank you\, \nThe Gateway Calgary Team \nGet-Work@gatewayassociation.ca
URL:https://gatewayassociation.ca/calendar/calgary-employment-program-information-session/
CATEGORIES:ERC
END:VEVENT
BEGIN:VEVENT
DTSTART;TZID=America/Denver:20220706T150000
DTEND;TZID=America/Denver:20220706T163000
DTSTAMP:20260421T142638
CREATED:20220628T185720Z
LAST-MODIFIED:20220628T185720Z
UID:248135-1657119600-1657125000@gatewayassociation.ca
SUMMARY:Online Board Games
DESCRIPTION:Come hang out with us! Meet new friends\, socialize\, and have fun playing board games online. \nTo join in\, connect with us at GetDigital@GatewayAssociation.ca
URL:https://gatewayassociation.ca/calendar/online-board-games-4/
END:VEVENT
BEGIN:VEVENT
DTSTART;TZID=America/Denver:20220706T100000
DTEND;TZID=America/Denver:20220706T110000
DTSTAMP:20260421T142638
CREATED:20220628T185606Z
LAST-MODIFIED:20220628T185606Z
UID:248133-1657101600-1657105200@gatewayassociation.ca
SUMMARY:Explore Canva
DESCRIPTION:Let your imagination be your guide as you create your own posters\, flyers\, cards\, videos\, and more to share information important to you. \nTo register\, connect with us at GetDigital@GatewayAssociation.ca
URL:https://gatewayassociation.ca/calendar/explore-canva-5/
END:VEVENT
BEGIN:VEVENT
DTSTART;TZID=America/Denver:20220705T150000
DTEND;TZID=America/Denver:20220705T160000
DTSTAMP:20260421T142638
CREATED:20220628T184805Z
LAST-MODIFIED:20220628T184805Z
UID:248125-1657033200-1657036800@gatewayassociation.ca
SUMMARY:Gateway to Digital Inclusion Info Session
DESCRIPTION:Have you or someone you know wanted to increase your basic digital skills to work\, learn\, or have fun? Have you wanted to find ways to connect to work\, friends\, family\, or supports online? \nWe can help! \nDigital Literacy is your Gateway to connecting\, working\, learning\, sharing\, growing\, and creating online. \nThe Gateway to Digital Inclusion Program offers courses and workshops on basic digital skills\, online social connections\, an App to help you learn about and engage with the digital world\, and more …. \nJoin us on Tuesday at 3:00 pm for an interactive information session about the Gateway to Digital Inclusion Program. \nWhat will be included in the session: \n– What the program offers \n– Details about the workshops\, courses\, and groups \n– Who is eligible for the program \n– How our services work \nYou will have a chance to: \n– Meet some of our team members \n– Find out how to apply \n– Ask any question you might have \n\nSee you on Tuesday!
URL:https://gatewayassociation.ca/calendar/gateway-to-digital-inclusion-info-session/
END:VEVENT
BEGIN:VEVENT
DTSTART;TZID=America/Denver:20220705T110000
DTEND;TZID=America/Denver:20220705T120000
DTSTAMP:20260421T142638
CREATED:20220628T184545Z
LAST-MODIFIED:20220628T184545Z
UID:248123-1657018800-1657022400@gatewayassociation.ca
SUMMARY:LinkedIn Learning
DESCRIPTION:We will walk you through how you can access thousands of free courses to build new skills and learn more about your interests.  \n*requires a public library membership \nTo register\, connect with us at GetDigital@GatewayAssociation.ca
URL:https://gatewayassociation.ca/calendar/linkedin-learning-5/
END:VEVENT
BEGIN:VEVENT
DTSTART;TZID=America/Denver:20220705T110000
DTEND;TZID=America/Denver:20220705T120000
DTSTAMP:20260421T142638
CREATED:20220628T184358Z
LAST-MODIFIED:20220628T184358Z
UID:248121-1657018800-1657022400@gatewayassociation.ca
SUMMARY:Discord Tutorial
DESCRIPTION:Join us on field trips to explore the Discord platform! \nAs part of a group\, you will check out the Discord space\, hangout and engage. \nTo register\, connect with us at GetDigital@GatewayAssociation.ca
URL:https://gatewayassociation.ca/calendar/discord-tutorial-4/
END:VEVENT
BEGIN:VEVENT
DTSTART;TZID=America/Denver:20220630T130000
DTEND;TZID=America/Denver:20220630T140000
DTSTAMP:20260421T142638
CREATED:20220524T222209Z
LAST-MODIFIED:20220531T202136Z
UID:247901-1656594000-1656597600@gatewayassociation.ca
SUMMARY:Growth Mindset
DESCRIPTION:Job search can be a long and daunting process for many. This workshop will help individuals create a positive and persistent mindset along with tips on how to stay motivated. \nTo register\, connect with us at Get-Work@GatewayAssociation.ca
URL:https://gatewayassociation.ca/calendar/growth-mindset/
CATEGORIES:ERC
END:VEVENT
BEGIN:VEVENT
DTSTART;TZID=America/Edmonton:20220628T150000
DTEND;TZID=America/Edmonton:20220628T160000
DTSTAMP:20260421T142638
CREATED:20220316T151801Z
LAST-MODIFIED:20220404T162748Z
UID:8433-1656428400-1656432000@gatewayassociation.ca
SUMMARY:Gateway to Digital Inclusion Program Info Session
DESCRIPTION:Gateway to Digital Inclusion Program Info Session.\nJoin us every Tuesday to learn more about the program offerings and how to get involved
URL:https://gatewayassociation.ca/calendar/gateway-to-digital-inclusion-program-info-session-34/
CATEGORIES:ERC
ATTACH;FMTTYPE=image/jpeg:https://gatewayassociation.ca/wp-content/uploads/2022/03/a5cb4c6873fb3a52d5d666668df2e3a0.jpg
END:VEVENT
BEGIN:VEVENT
DTSTART;TZID=America/Denver:20220628T133000
DTEND;TZID=America/Denver:20220628T143000
DTSTAMP:20260421T142638
CREATED:20220525T140455Z
LAST-MODIFIED:20220525T140455Z
UID:247907-1656423000-1656426600@gatewayassociation.ca
SUMMARY:MentorAbility Industry Info Session: Craft Brewing Industry
DESCRIPTION:MentorAbility Alberta is offering ongoing FREE interactive Industry Information Sessions! These information sessions give participants the opportunity to learn more about prospective industries\, recruitment requirements and qualifications and the next steps they may need to take to achieve their employment goals. \n\nIn this weeks’ session\, 88 Brewing\, Annex Ales and BORN Brewing will be joining us to talk about careers in the Craft Beer Industry.
URL:https://gatewayassociation.ca/calendar/mentorability-industry-info-session-craft-brewing-industry/
CATEGORIES:ERC,MentorAbility Alberta
END:VEVENT
BEGIN:VEVENT
DTSTART;TZID=America/Denver:20220628T110000
DTEND;TZID=America/Denver:20220628T120000
DTSTAMP:20260421T142638
CREATED:20220615T045526Z
LAST-MODIFIED:20220615T165827Z
UID:248080-1656414000-1656417600@gatewayassociation.ca
SUMMARY:MentorAbility Industry Information Session: Video Game Development
DESCRIPTION:MentorAbility Alberta is offering ongoing FREE interactive Industry Information Sessions! These information sessions give participants the opportunity to learn more about prospective industries\, recruitment requirements and qualifications and the next steps they may need to take to achieve their employment goals. \nIn this weeks’ session\, Jim Munroe will be joining us to talk about careers in Video Game Development. \nIf you require any accommodations for this session\, please contact us prior to the session and we will assist with accommodation provisions as best we can \nMentorAbilityAlberta@supportedemployment.ca
URL:https://gatewayassociation.ca/calendar/mentorability-industry-information-session-video-game-development/
CATEGORIES:ERC,MentorAbility Alberta
END:VEVENT
BEGIN:VEVENT
DTSTART;TZID=America/Denver:20220628T110000
DTEND;TZID=America/Denver:20220628T120000
DTSTAMP:20260421T142638
CREATED:20220520T175216Z
LAST-MODIFIED:20220520T175216Z
UID:247779-1656414000-1656417600@gatewayassociation.ca
SUMMARY:Steam Tutorial
DESCRIPTION:Step by step tutorial for downloading and installing Steam – an online game platform. Steam is required for Online boardgames group. \nTo register and learn more\, connect with us at GetDigital@GatewayAssociation.ca
URL:https://gatewayassociation.ca/calendar/steam-tutorial-3/
END:VEVENT
BEGIN:VEVENT
DTSTART;TZID=America/Denver:20220627T110000
DTEND;TZID=America/Denver:20220627T120000
DTSTAMP:20260421T142638
CREATED:20220520T173822Z
LAST-MODIFIED:20220520T173822Z
UID:247765-1656327600-1656331200@gatewayassociation.ca
SUMMARY:Email Basics
DESCRIPTION:Learn about and practice the basics of writing professional emails for your job search and workplace communication \nTo learn more or to register\, connect with us at GetDigital@GatewayAssociation.ca
URL:https://gatewayassociation.ca/calendar/email-basics-8/
END:VEVENT
BEGIN:VEVENT
DTSTART;TZID=America/Denver:20220623T130000
DTEND;TZID=America/Denver:20220623T140000
DTSTAMP:20260421T142638
CREATED:20220524T222101Z
LAST-MODIFIED:20220531T202052Z
UID:247899-1655989200-1655992800@gatewayassociation.ca
SUMMARY:Finding Your Purpose
DESCRIPTION:In this workshop\, we will discuss how considering own interests and abilities along with researching job market trends and income can yield success and job satisfaction. \nTo register\, connect with us at Get-Work@GatewayAssociation.ca
URL:https://gatewayassociation.ca/calendar/finding-your-purpose/
CATEGORIES:ERC
END:VEVENT
BEGIN:VEVENT
DTSTART;TZID=America/Denver:20220623T110000
DTEND;TZID=America/Denver:20220623T120000
DTSTAMP:20260421T142638
CREATED:20220524T221937Z
LAST-MODIFIED:20220531T201950Z
UID:247897-1655982000-1655985600@gatewayassociation.ca
SUMMARY:Disclosure and Accommodations
DESCRIPTION:In this workshop you will learn practical steps\, tools and resources you can use for how and when to disclose your disability-based barrier to an employer\, as well how Gateway can support you with this. You will also gain a better understanding of workplace accommodations and practical tools and setting up your accommodations. \n  \nTo register\, connect with us at info@GatewayAssociation.ca
URL:https://gatewayassociation.ca/calendar/disclosure-and-accommodations-2/
CATEGORIES:ERC
END:VEVENT
BEGIN:VEVENT
DTSTART;TZID=America/Denver:20220623T110000
DTEND;TZID=America/Denver:20220623T120000
DTSTAMP:20260421T142638
CREATED:20220520T172501Z
LAST-MODIFIED:20220520T172501Z
UID:247748-1655982000-1655985600@gatewayassociation.ca
SUMMARY:Google Docs Series (4 of 4)
DESCRIPTION:In this workshop series\, Participants will create their own google account\, learn to navigate google drive\, and keep their drives organized. Through a series of activities\, Learners will practice creating and sharing google documents\, explore the tools provided to help them write\, edit\, comment and chat. This workshop covers the Basics of google drive and google docs\, as well as file organization\, sharing\, and commenting. \nTo register or learn more about the series\, connect with us at GetDigital@GatewayAssociation.ca
URL:https://gatewayassociation.ca/calendar/google-docs-series-4-of-4/
END:VEVENT
BEGIN:VEVENT
DTSTART;TZID=America/Denver:20220623T100000
DTEND;TZID=America/Denver:20220623T110000
DTSTAMP:20260421T142638
CREATED:20220520T172109Z
LAST-MODIFIED:20220520T172953Z
UID:247740-1655978400-1655982000@gatewayassociation.ca
SUMMARY:Look Stuff Up Online Series
DESCRIPTION:This workshop series helps learners find\, share\, and explore things online through a series of fun activities. Participants will use different google map features to find their way around town\, share their favourite places\, plan a vacation\, and compare different search engines. As a group\, learners will chat about fake news\, investigate stories on Snopes\, and learn how to reverse search images on the internet and find out where they came from. \nTo register and learn more about the series\, connect with us at GetDigital@GatewayAssociation.ca \n 
URL:https://gatewayassociation.ca/calendar/look-stuff-up-online-series/
END:VEVENT
BEGIN:VEVENT
DTSTART;TZID=America/Denver:20220622T150000
DTEND;TZID=America/Denver:20220622T163000
DTSTAMP:20260421T142638
CREATED:20220520T171724Z
LAST-MODIFIED:20220520T171724Z
UID:247732-1655910000-1655915400@gatewayassociation.ca
SUMMARY:Online Boardgames
DESCRIPTION:Come hang out! Learn about setting up online accounts\, meet new friends\, socialize\, and have fun playing boardgames online. Meet new friends\, practise new skills\, have fun! \n**Requires Online Social Connections – Discord and Steam Tutorials as well as desktop or laptop computer** \nTo attend or find out more information\, connect with us at GetWork@GatewayAssociation.ca
URL:https://gatewayassociation.ca/calendar/online-boardgames-7/
END:VEVENT
BEGIN:VEVENT
DTSTART;TZID=America/Denver:20220622T120000
DTEND;TZID=America/Denver:20220622T130000
DTSTAMP:20260421T142638
CREATED:20220207T190105Z
LAST-MODIFIED:20220207T190109Z
UID:7731-1655899200-1655902800@gatewayassociation.ca
SUMMARY:Understanding Disability: Community Resources
DESCRIPTION:About this event\nThis workshop is for caregivers and professionals who are supporting an adult with a disability who is aging\, to ensure the proper supports are accessed for them to live a good life. The workshop will empower participants with the knowledge they need to begin planning for seniorhood.  \nTopics include: guardianship and trusteeship\, aging caregivers\, resources in the community\, law enforcement\, and self advocates. \nQuestions? \nContact Yonique (workshop facilitator) at Yonique@GatewayAssociation.ca \n			\n				REGISTER
URL:https://gatewayassociation.ca/calendar/understanding-disability-community-resources-2/
CATEGORIES:ERC,FRC
END:VEVENT
BEGIN:VEVENT
DTSTART;TZID=America/Denver:20220622T110000
DTEND;TZID=America/Denver:20220622T120000
DTSTAMP:20260421T142638
CREATED:20220520T141446Z
LAST-MODIFIED:20220520T141446Z
UID:247723-1655895600-1655899200@gatewayassociation.ca
SUMMARY:LinkedIn Series (4 of 4)
DESCRIPTION:Session: 4 of 4 \nDuration: 1 hr \nBuild your own LinkedIn profile! Share your skills\, goals\, and experiences\, create job alerts\, and grow your online network. \nTo register or learn more about the series\, please connect with us at GetDigital@GatewayAssociation.ca
URL:https://gatewayassociation.ca/calendar/linkedin-series-4-of-4-2/
END:VEVENT
BEGIN:VEVENT
DTSTART;TZID=America/Denver:20220622T110000
DTEND;TZID=America/Denver:20220622T120000
DTSTAMP:20260421T142638
CREATED:20220520T140409Z
LAST-MODIFIED:20220520T140409Z
UID:247712-1655895600-1655899200@gatewayassociation.ca
SUMMARY:ePortfolio Series (4 of 4)
DESCRIPTION:Session 4 of 4 \nDuration 1 hr \nFacilitator: Lee \nPrivate – GTDI Program intake required prior to workshop: getdigital@gatewayassociation.ca \nLearners will work on their own between classes. In the eportfolio workshop\, participants will learn about the different types of portfolios\, how to use google sites\, and the basics of layout and design. Learners will choose the type of portfolio they want to build and the subject they want to focus on. They will select and add content to their sites along with descriptions\, statements about their motivation\, interests\, skills\, and hobbies. \nTo register or learn more\, please connect with us at GetDigital@GatewayAssociation.ca
URL:https://gatewayassociation.ca/calendar/eportfolio-series-4-of-4/
END:VEVENT
BEGIN:VEVENT
DTSTART;TZID=America/Edmonton:20220621T150000
DTEND;TZID=America/Edmonton:20220621T160000
DTSTAMP:20260421T142638
CREATED:20220316T151800Z
LAST-MODIFIED:20220404T162741Z
UID:8432-1655823600-1655827200@gatewayassociation.ca
SUMMARY:Gateway to Digital Inclusion Program Info Session
DESCRIPTION:Gateway to Digital Inclusion Program Info Session.\nJoin us every Tuesday to learn more about the program offerings and how to get involved
URL:https://gatewayassociation.ca/calendar/gateway-to-digital-inclusion-program-info-session-33/
CATEGORIES:ERC
ATTACH;FMTTYPE=image/jpeg:https://gatewayassociation.ca/wp-content/uploads/2022/03/a5cb4c6873fb3a52d5d666668df2e3a0.jpg
END:VEVENT
BEGIN:VEVENT
DTSTART;TZID=America/Denver:20220621T110000
DTEND;TZID=America/Denver:20220621T120000
DTSTAMP:20260421T142638
CREATED:20220520T174630Z
LAST-MODIFIED:20220520T174630Z
UID:247775-1655809200-1655812800@gatewayassociation.ca
SUMMARY:Discord Tutorial
DESCRIPTION:Step by step tutorial for downloading and installing Discord – a free app that lets people chat using text\, voice or video. Discord is required for Online boardgames group. \nTo register or learn more\, please connect with us at GetDigital@GatewayAssociation.ca
URL:https://gatewayassociation.ca/calendar/discord-tutorial-3/
END:VEVENT
BEGIN:VEVENT
DTSTART;TZID=America/Denver:20220621T090000
DTEND;TZID=America/Denver:20220621T100000
DTSTAMP:20260421T142638
CREATED:20220520T174403Z
LAST-MODIFIED:20220520T174403Z
UID:247771-1655802000-1655805600@gatewayassociation.ca
SUMMARY:Zoom Basics
DESCRIPTION:Learn what you need to know to participate in online Zoom meetings. Explore all the cool features of the program\, practice your digital skills and build your zoom social skills. \nTo register or for more information\, connect with us at GetDigital@GatewayAssociation.ca
URL:https://gatewayassociation.ca/calendar/zoom-basics-2/
END:VEVENT
BEGIN:VEVENT
DTSTART;TZID=America/Denver:20220620T110000
DTEND;TZID=America/Denver:20220620T120000
DTSTAMP:20260421T142638
CREATED:20220520T173755Z
LAST-MODIFIED:20220520T173755Z
UID:247763-1655722800-1655726400@gatewayassociation.ca
SUMMARY:Email Basics
DESCRIPTION:Learn about and practice the basics of writing professional emails for your job search and workplace communication \nTo learn more or to register\, connect with us at GetDigital@GatewayAssociation.ca
URL:https://gatewayassociation.ca/calendar/email-basics-7/
END:VEVENT
BEGIN:VEVENT
DTSTART;TZID=America/Denver:20220620T090000
DTEND;TZID=America/Denver:20220620T100000
DTSTAMP:20260421T142638
CREATED:20220520T173254Z
LAST-MODIFIED:20220520T173254Z
UID:247757-1655715600-1655719200@gatewayassociation.ca
SUMMARY:Explore Canva
DESCRIPTION:Let your imagination be your guide as you create your own posters\, flyers\, cards\, videos\, and more to share information important to you. \nTo register or learn more\, connect with us at GetDigital@GatewayAssociation.ca
URL:https://gatewayassociation.ca/calendar/explore-canva-4/
END:VEVENT
BEGIN:VEVENT
DTSTART;TZID=America/Denver:20220616T160000
DTEND;TZID=America/Denver:20220616T173000
DTSTAMP:20260421T142638
CREATED:20220615T170840Z
LAST-MODIFIED:20220615T170840Z
UID:248082-1655395200-1655400600@gatewayassociation.ca
SUMMARY:Skill Share: Open Art Studio with Brooke Leifso
DESCRIPTION:The GTDI APP is hosting an open studio session in collaboration with Brooke Leifso on June 16\, 2022 from 4:00-5:30pm. \nThis session’s theme is ‘Love & Connection’. Join us on this bright summer day to explore your artistic abilities – all experience levels welcome. \nhttps://us02web.zoom.us/j/87307256634
URL:https://gatewayassociation.ca/calendar/skill-share-open-art-studio-with-brooke-leifso/
END:VEVENT
BEGIN:VEVENT
DTSTART;TZID=America/Denver:20220616T150000
DTEND;TZID=America/Denver:20220616T160000
DTSTAMP:20260421T142638
CREATED:20220524T221813Z
LAST-MODIFIED:20220531T201815Z
UID:247895-1655391600-1655395200@gatewayassociation.ca
SUMMARY:How to get your Resume Past Applicant Tracking Systems
DESCRIPTION:Learn about the does and don’ts of preparing an ATS friendly resume so that you can get through this initial screening process and get one step closer to landing the job you want! \nWe’ll take a look at how to use keywords and how to format your resume to improve your chances of getting past the ATS! \n  \nTo register\, connect with us at Get-Work@GatewayAssociation.ca
URL:https://gatewayassociation.ca/calendar/how-to-get-your-resume-past-applicant-tracking-systems/
CATEGORIES:ERC
END:VEVENT
BEGIN:VEVENT
DTSTART;TZID=America/Denver:20220616T110000
DTEND;TZID=America/Denver:20220616T120000
DTSTAMP:20260421T142638
CREATED:20220524T221437Z
LAST-MODIFIED:20220531T201718Z
UID:247893-1655377200-1655380800@gatewayassociation.ca
SUMMARY:Skills to Pay the Bills
DESCRIPTION:In this workshop\, you will learn how to understand the difference between hard and soft skills. Explore your skillset to create a skills inventory and resources to further identify your skills. We will then go over how to utilize your skills inventory when job searching and the importance of highlighting your skills that match the job you want. \nTo register for this workshop\, connect with us at info@gatewayassociation.ca
URL:https://gatewayassociation.ca/calendar/skills-to-pay-the-bills-2/
CATEGORIES:ERC
END:VEVENT
END:VCALENDAR