BEGIN:VCALENDAR
VERSION:2.0
PRODID:-//Gateway Association - ECPv6.15.20//NONSGML v1.0//EN
CALSCALE:GREGORIAN
METHOD:PUBLISH
X-WR-CALNAME:Gateway Association
X-ORIGINAL-URL:https://gatewayassociation.ca
X-WR-CALDESC:Events for Gateway Association
REFRESH-INTERVAL;VALUE=DURATION:PT1H
X-Robots-Tag:noindex
X-PUBLISHED-TTL:PT1H
BEGIN:VTIMEZONE
TZID:America/Denver
BEGIN:DAYLIGHT
TZOFFSETFROM:-0700
TZOFFSETTO:-0600
TZNAME:MDT
DTSTART:20210314T090000
END:DAYLIGHT
BEGIN:STANDARD
TZOFFSETFROM:-0600
TZOFFSETTO:-0700
TZNAME:MST
DTSTART:20211107T080000
END:STANDARD
BEGIN:DAYLIGHT
TZOFFSETFROM:-0700
TZOFFSETTO:-0600
TZNAME:MDT
DTSTART:20220313T090000
END:DAYLIGHT
BEGIN:STANDARD
TZOFFSETFROM:-0600
TZOFFSETTO:-0700
TZNAME:MST
DTSTART:20221106T080000
END:STANDARD
BEGIN:DAYLIGHT
TZOFFSETFROM:-0700
TZOFFSETTO:-0600
TZNAME:MDT
DTSTART:20230312T090000
END:DAYLIGHT
BEGIN:STANDARD
TZOFFSETFROM:-0600
TZOFFSETTO:-0700
TZNAME:MST
DTSTART:20231105T080000
END:STANDARD
END:VTIMEZONE
BEGIN:VEVENT
DTSTART;TZID=America/Denver:20221019T150000
DTEND;TZID=America/Denver:20221019T163000
DTSTAMP:20260421T160207
CREATED:20220915T181033Z
LAST-MODIFIED:20220915T181033Z
UID:248885-1666191600-1666197000@gatewayassociation.ca
SUMMARY:OSC Boardgames
DESCRIPTION:**Requires Online Social Connections – Discord and Steam Tutorials as well as desktop or laptop computer.** \nCome hang out! Learn about setting up online accounts\, meet new friends\, socialize\, and have fun playing boardgames online. Meet new friends\, practise new skills\, have fun! \nTo learn more and to register\, please connect with us at GetDigital@GatewayAssociation.ca
URL:https://gatewayassociation.ca/calendar/osc-boardgames-10/
END:VEVENT
BEGIN:VEVENT
DTSTART;TZID=America/Denver:20221019T130000
DTEND;TZID=America/Denver:20221019T140000
DTSTAMP:20260421T160207
CREATED:20220915T180541Z
LAST-MODIFIED:20220915T180541Z
UID:248877-1666184400-1666188000@gatewayassociation.ca
SUMMARY:Look Stuff Up Online (3/4)
DESCRIPTION:This workshop series helps learners find\, share\, and explore things online through a series of fun activities. Participants will use different google map features to find their way around town\, share their favourite places\, plan a vacation\, and compare different search engines. As a group\, learners will chat about fake news\, investigate stories on Snopes\, and chat about the media we take in everyday. \nTo learn more and to register\, please connect with us at GetDigital@GatewayAssociation.ca
URL:https://gatewayassociation.ca/calendar/look-stuff-up-online-3-4/
END:VEVENT
BEGIN:VEVENT
DTSTART;TZID=America/Denver:20221019T120000
DTEND;TZID=America/Denver:20221019T123000
DTSTAMP:20260421T160207
CREATED:20220907T204301Z
LAST-MODIFIED:20220907T204301Z
UID:248745-1666180800-1666182600@gatewayassociation.ca
SUMMARY:Family Resource Centre (FRC) Info Session
DESCRIPTION:
URL:https://gatewayassociation.ca/calendar/family-resource-centre-frc-info-session-2/
CATEGORIES:FRC
END:VEVENT
BEGIN:VEVENT
DTSTART;TZID=America/Denver:20221019T110000
DTEND;TZID=America/Denver:20221019T120000
DTSTAMP:20260421T160207
CREATED:20220915T174601Z
LAST-MODIFIED:20220915T174601Z
UID:248845-1666177200-1666180800@gatewayassociation.ca
SUMMARY:Intro to Google Docs Series (3/4)
DESCRIPTION:In this workshop series\, Participants will create their own google account\, learn to navigate google drive\, and keep their drives organized. Through a series of activities\, Learners will practice creating and sharing google documents\, explore the tools provided to help them write\, edit\, comment and chat. This workshop covers the Basics of google drive and google docs\, as well as file organization\, sharing\, and commenting. \nTo learn more and to register\, please connect with us at GetDigital@GatewayAssociation.ca
URL:https://gatewayassociation.ca/calendar/intro-to-google-docs-series-3-4-2/
END:VEVENT
BEGIN:VEVENT
DTSTART;TZID=America/Denver:20221019T100000
DTEND;TZID=America/Denver:20221019T120000
DTSTAMP:20260421T160207
CREATED:20220915T184437Z
LAST-MODIFIED:20220915T184437Z
UID:248917-1666173600-1666180800@gatewayassociation.ca
SUMMARY:Work Simulation\, Week 1/6
DESCRIPTION:Oct 18th to Nov 24rd – This is a 6-week course. \nClasses are on Tues to Thurs for 2 hours per session \nIncrease your digital and social skills\, as you work in a team to build a website for an imaginary company. This is a tech-based work simulation\, where learners are ‘hired’ into positions at an imaginary tech company and work together to build a website for a simulated client. \nThis course covers basic: internet vocabulary\, web design\, and use of google apps while giving you experience with working on a team\, engaging with peers\, and giving presentations. Learn to design and build a website\, create and give presentations\, and practice your interview skills. \nTo learn more or to register\, please connect with us at GetDigital@GatewayAssociation.ca
URL:https://gatewayassociation.ca/calendar/work-simulation-week-1-6-3/
END:VEVENT
BEGIN:VEVENT
DTSTART;TZID=America/Denver:20221018T180000
DTEND;TZID=America/Denver:20221018T200000
DTSTAMP:20260421T160207
CREATED:20220907T171050Z
LAST-MODIFIED:20220907T172014Z
UID:248672-1666116000-1666123200@gatewayassociation.ca
SUMMARY:Visioning and Planning for Families with Children Birth-8 Years Old: Session 3 of 4
DESCRIPTION:Visioning and Planning for Families with Children Birth-8 Years Old: Session 3 of 4   \n6pm – 8pm | Zoom \nA 4-part workshop series that empowers families of children with disabilities up to 8 years old with knowledge\, resources\, and more. \nJoin our 4-part workshop series that empowers parents/caregivers of children with disabilities from birth-8 years old with knowledge\, resources\, and a sense of direction for the future. \nWe will touch on a variety of topics including values and belonging in the community\, visioning and planning\, various transitions during early elementary school\, navigating various systems age appropriate for families with younger children as well as advocacy and having difficult conversations \n  \nFor accommodation requirements\, please don’t hesitate to reach out to Stacy@GatewayAssociation.ca for assistance
URL:https://gatewayassociation.ca/calendar/visioning-and-planning-for-families-with-children-birth-8-years-old-session-1-of-4-3/
CATEGORIES:FRC
END:VEVENT
BEGIN:VEVENT
DTSTART;TZID=America/Denver:20221018T143000
DTEND;TZID=America/Denver:20221018T153000
DTSTAMP:20260421T160207
CREATED:20220915T174021Z
LAST-MODIFIED:20220915T174021Z
UID:248835-1666103400-1666107000@gatewayassociation.ca
SUMMARY:GTDI Program Info Session
DESCRIPTION:Have you or someone you know wanted to increase your basic digital skills to work\, learn\, or have fun? Have you wanted to find ways to connect to work\, friends\, family\, or supports online? \nWe can help! \nDigital Literacy is your Gateway to connecting\, working\, learning\, sharing\, growing\, and creating online. \nThe Gateway to Digital Inclusion Program offers courses and workshops on basic digital skills\, online social connections\, an App to help you learn about and engage with the digital world\, and more …. \nJoin us on Tuesdays for an interactive information session about the Gateway to Digital Inclusion Program. \nWhat will be included in the session: \n– What the program offers \n– Details about the workshops\, courses\, and groups \n– Who is eligible for the program \n– How our services work \nYou will have a chance to: \n– Meet some of our team members \n– Find out how to apply \n– Ask any question you might have \nSee you on Tuesday! \nIf you require any accommodations for attending the information session\, please contact us prior to the event to make arrangements. \nThank you \nThe Gateway to Digital Inclusion Team \ngetdigital@gatewayassociation.ca
URL:https://gatewayassociation.ca/calendar/gtdi-program-info-session-5/
END:VEVENT
BEGIN:VEVENT
DTSTART;TZID=America/Denver:20221018T130000
DTEND;TZID=America/Denver:20221018T140000
DTSTAMP:20260421T160207
CREATED:20221001T044836Z
LAST-MODIFIED:20221001T044836Z
UID:248953-1666098000-1666101600@gatewayassociation.ca
SUMMARY:MentorAbility Industry Info Session: Careers in Radio with Al Ford from Sonic 102.9
DESCRIPTION:MentorAbility Alberta is offering ongoing FREE interactive Industry Information Sessions! These information sessions give participants the opportunity to learn more about prospective industries\, recruitment requirements and qualifications and the next steps they may need to take to achieve their employment goals. \n\nIn this weeks’ session\, Al Ford from Sonic 102.9\, will be joining us to talk about Careers in the Radio Industry! \n\nIf you require any accommodations for this session\, please contact us prior to the session and we will assist with accommodation provisions as best we can \nMentorAbilityAlberta@supportedemployment.ca
URL:https://gatewayassociation.ca/calendar/mentorability-industry-info-session-careers-in-radio-with-al-ford-from-sonic-102-9/
CATEGORIES:ERC
END:VEVENT
BEGIN:VEVENT
DTSTART;TZID=America/Denver:20221018T130000
DTEND;TZID=America/Denver:20221018T140000
DTSTAMP:20260421T160207
CREATED:20220915T180459Z
LAST-MODIFIED:20220915T180459Z
UID:248875-1666098000-1666101600@gatewayassociation.ca
SUMMARY:Look Stuff Up Online Series (2/4)
DESCRIPTION:This workshop series helps learners find\, share\, and explore things online through a series of fun activities. Participants will use different google map features to find their way around town\, share their favourite places\, plan a vacation\, and compare different search engines. As a group\, learners will chat about fake news\, investigate stories on Snopes\, and chat about the media we take in everyday. \nTo learn more and to register\, please connect with us at GetDigital@GatewayAssociation.ca
URL:https://gatewayassociation.ca/calendar/look-stuff-up-online-series-2-4-3/
END:VEVENT
BEGIN:VEVENT
DTSTART;TZID=America/Denver:20221018T110000
DTEND;TZID=America/Denver:20221018T120000
DTSTAMP:20260421T160207
CREATED:20220915T174533Z
LAST-MODIFIED:20220915T174533Z
UID:248843-1666090800-1666094400@gatewayassociation.ca
SUMMARY:Intro to Google Docs Series (2/4)
DESCRIPTION:In this workshop series\, Participants will create their own google account\, learn to navigate google drive\, and keep their drives organized. Through a series of activities\, Learners will practice creating and sharing google documents\, explore the tools provided to help them write\, edit\, comment and chat. This workshop covers the Basics of google drive and google docs\, as well as file organization\, sharing\, and commenting. \nTo learn more and to register\, please connect with us at GetDigital@GatewayAssociation.ca
URL:https://gatewayassociation.ca/calendar/intro-to-google-docs-series-2-4-2/
END:VEVENT
BEGIN:VEVENT
DTSTART;TZID=America/Denver:20221018T100000
DTEND;TZID=America/Denver:20221018T120000
DTSTAMP:20260421T160207
CREATED:20220915T174842Z
LAST-MODIFIED:20220915T184306Z
UID:248849-1666087200-1666094400@gatewayassociation.ca
SUMMARY:Work Simulation\, Week 1/6
DESCRIPTION:Oct 18th to Nov 24rd – This is a 6-week course. \nClasses are on Tues to Thurs for 2 hours per session \nIncrease your digital and social skills\, as you work in a team to build a website for an imaginary company. This is a tech-based work simulation\, where learners are ‘hired’ into positions at an imaginary tech company and work together to build a website for a simulated client. \nThis course covers basic: internet vocabulary\, web design\, and use of google apps while giving you experience with working on a team\, engaging with peers\, and giving presentations. Learn to design and build a website\, create and give presentations\, and practice your interview skills. \nTo learn more or to register\, please connect with us at GetDigital@GatewayAssociation.ca
URL:https://gatewayassociation.ca/calendar/work-simulation-week-1-6/
END:VEVENT
BEGIN:VEVENT
DTSTART;TZID=America/Denver:20221018T100000
DTEND;TZID=America/Denver:20221018T110000
DTSTAMP:20260421T160207
CREATED:20220915T180741Z
LAST-MODIFIED:20220915T180741Z
UID:248881-1666087200-1666090800@gatewayassociation.ca
SUMMARY:Email Basics
DESCRIPTION:Learn about and practice the basics of writing professional emails for your job search and workplace communication \nTo learn more and to register\, please connect with us at GetDigital@GatewayAssociation.ca
URL:https://gatewayassociation.ca/calendar/email-basics-17/
END:VEVENT
BEGIN:VEVENT
DTSTART;TZID=America/Denver:20221017T130000
DTEND;TZID=America/Denver:20221017T140000
DTSTAMP:20260421T160207
CREATED:20220915T180423Z
LAST-MODIFIED:20220915T180423Z
UID:248873-1666011600-1666015200@gatewayassociation.ca
SUMMARY:Look Stuff Up Online Series (1/4)
DESCRIPTION:This workshop series helps learners find\, share\, and explore things online through a series of fun activities. Participants will use different google map features to find their way around town\, share their favourite places\, plan a vacation\, and compare different search engines. As a group\, learners will chat about fake news\, investigate stories on Snopes\, and chat about the media we take in everyday. \nTo learn more and to register\, please connect with us at GetDigital@GatewayAssociation.ca
URL:https://gatewayassociation.ca/calendar/look-stuff-up-online-series-1-4-2/
END:VEVENT
BEGIN:VEVENT
DTSTART;TZID=America/Denver:20221017T110000
DTEND;TZID=America/Denver:20221017T120000
DTSTAMP:20260421T160207
CREATED:20220915T174501Z
LAST-MODIFIED:20220915T174501Z
UID:248841-1666004400-1666008000@gatewayassociation.ca
SUMMARY:Intro to Google Docs Series (1/4)
DESCRIPTION:In this workshop series\, Participants will create their own google account\, learn to navigate google drive\, and keep their drives organized. Through a series of activities\, Learners will practice creating and sharing google documents\, explore the tools provided to help them write\, edit\, comment and chat. This workshop covers the Basics of google drive and google docs\, as well as file organization\, sharing\, and commenting. \nTo learn more and to register\, please connect with us at GetDigital@GatewayAssociation.ca
URL:https://gatewayassociation.ca/calendar/intro-to-google-docs-series-1-4-2/
END:VEVENT
BEGIN:VEVENT
DTSTART;TZID=America/Denver:20221015T090000
DTEND;TZID=America/Denver:20221015T180000
DTSTAMP:20260421T160207
CREATED:20220907T172403Z
LAST-MODIFIED:20220907T172403Z
UID:248691-1665824400-1665856800@gatewayassociation.ca
SUMMARY:Transition Planning for Adulthood Weekend Blitz: Day 2 of 2
DESCRIPTION:Transition Planning for Adulthood Weekend Blitz; Day 2 \nSaturday\, October 15 \n9am – 6pm | Zoom \nWeekend Blitz covers the 4-part workshop series exploring the critical transition to adulthood for 16-20 year-olds and how to create a plan for the future. \nJoin our Weekend blitz! Covering the 4-part workshop series that engages families in building knowledge when navigating this critical time for 16-20 year olds. This workshop series includes topics on: life transitions\, valued roles in the community\, visioning and planning\, and navigating the systems. \nNote: Must attend both days of the Weekend Blitz workshops to get a certificate. \n  \nFor any accommodation requirements\, please reach out to Yonique@GatewayAssociation.ca
URL:https://gatewayassociation.ca/calendar/transition-planning-for-adulthood-weekend-blitz-day-2-of-2/
CATEGORIES:FRC
END:VEVENT
BEGIN:VEVENT
DTSTART;TZID=America/Denver:20221014T180000
DTEND;TZID=America/Denver:20221014T210000
DTSTAMP:20260421T160207
CREATED:20220907T172239Z
LAST-MODIFIED:20220907T172239Z
UID:248689-1665770400-1665781200@gatewayassociation.ca
SUMMARY:Transition Planning for Adulthood Weekend Blitz: Day 1 of 2
DESCRIPTION:Transition Planning for Adulthood Weekend Blitz \nFriday\, October 14 \n6pm – 9pm | Zoom \n& \nSaturday\, October 15 \n9am – 6pm | Zoom \nWeekend Blitz covers the 4-part workshop series exploring the critical transition to adulthood for 16-20 year-olds and how to create a plan for the future. \nJoin our Weekend blitz! Covering the 4-part workshop series that engages families in building knowledge when navigating this critical time for 16-20 year olds. This workshop series includes topics on: life transitions\, valued roles in the community\, visioning and planning\, and navigating the systems. \nNote: Must attend both days of the Weekend Blitz workshops to get a certificate. \n  \nFor any accommodation requirements\, please reach out to Yonique@GatewayAssociation.ca
URL:https://gatewayassociation.ca/calendar/transition-planning-for-adulthood-weekend-blitz-day-1-of-2/
CATEGORIES:FRC
END:VEVENT
BEGIN:VEVENT
DTSTART;TZID=America/Denver:20221014T133000
DTEND;TZID=America/Denver:20221014T150000
DTSTAMP:20260421T160207
CREATED:20220829T132600Z
LAST-MODIFIED:20220928T155644Z
UID:248621-1665754200-1665759600@gatewayassociation.ca
SUMMARY:Gateway to Advocacy: Know your Rights; Brought to you by: Voices of Albertans with Disabilities
DESCRIPTION:Facilitated by Michelle Bissell \nThe goal of our presentations is to break down barriers to accessibility and inclusion by creating awareness and understanding for people living with disabilities. Radical Inclusion gives interactive presentations about Ableism\, Appropriate language and behavior\, Dignity\, Spoon theory\, Be Aware of Your Accommodations What are your Rights? Each presentation is tailored to each audience. The presenters themselves live with a disability\, so they bring a personal perspective and experiences to the presentation through their own stories.  \nClick HERE to register:
URL:https://gatewayassociation.ca/calendar/gateway-to-advocacy-know-your-rights-brought-to-you-by-voices-of-albertans-with-disabilities/
END:VEVENT
BEGIN:VEVENT
DTSTART;TZID=America/Denver:20221013T180000
DTEND;TZID=America/Denver:20221013T200000
DTSTAMP:20260421T160207
CREATED:20220907T171358Z
LAST-MODIFIED:20220907T171358Z
UID:248676-1665684000-1665691200@gatewayassociation.ca
SUMMARY:Visioning and Planning for Families with Youth 13-15 Years Old Session 1 of 4
DESCRIPTION:Visioning and Planning for Families with Youth 13-15 Years Old Session 1 of 4 \nThursday\, October 13 \n6pm – 8pm | Zoom \nA 4-part workshop series that empowers families of 13-15 year-olds with disabilities with knowledge\, resources\, and more. \nJoin our 4-part workshop series that engages families in discussions for their 13-15 year olds with developmental disabilities with knowledge\, resources\, and a sense of direction for the future. \nWe will touch on a variety of topics including values and belonging in the community\, visioning and planning\, various transitions during junior high school\, navigating various systems age appropriate for families \nFor accommodation requirements\, please don’t hesitate to reach out to Kristina@GatewayAssociation.ca for assistance
URL:https://gatewayassociation.ca/calendar/visioning-and-planning-for-families-with-youth-13-15-years-old-session-1-of-4/
CATEGORIES:FRC
END:VEVENT
BEGIN:VEVENT
DTSTART;TZID=America/Denver:20221013T130000
DTEND;TZID=America/Denver:20221013T140000
DTSTAMP:20260421T160207
CREATED:20220915T184038Z
LAST-MODIFIED:20220915T184038Z
UID:248915-1665666000-1665669600@gatewayassociation.ca
SUMMARY:Digital Citizenship
DESCRIPTION:Find out what it means to be a digital citizen and how you can share your passions online. Learn about online activism\, how to use the internet to create change\, what is online community\, how to share the things that matter to you\, and find ways to connect with other people who share the same passions as you. \nTo learn more and to register\, please connect with us at GetDigital@GatewayAssociation.ca
URL:https://gatewayassociation.ca/calendar/digital-citizenship-5/
END:VEVENT
BEGIN:VEVENT
DTSTART;TZID=America/Denver:20221013T100000
DTEND;TZID=America/Denver:20221013T110000
DTSTAMP:20260421T160207
CREATED:20220928T181011Z
LAST-MODIFIED:20220928T181542Z
UID:248951-1665655200-1665658800@gatewayassociation.ca
SUMMARY:Navigating the Gateway App Workshop
DESCRIPTION:Join Rabia from the Gateway to Digital Inclusion APP Team to learn how to navigate our APP. Together\, we will explore all the different channels\, participate in engaging activities\, and meet other community folks! \nclick HERE to register!
URL:https://gatewayassociation.ca/calendar/navigating-the-gateway-app-workshop/
END:VEVENT
BEGIN:VEVENT
DTSTART;TZID=America/Denver:20221012T143000
DTEND;TZID=America/Denver:20221012T160000
DTSTAMP:20260421T160207
CREATED:20220829T132006Z
LAST-MODIFIED:20220831T181042Z
UID:248619-1665585000-1665590400@gatewayassociation.ca
SUMMARY:Open Art Studio!
DESCRIPTION:Join OPEN♥ART for a chance to create alongside others\, share and experiment with different art forms. Each month will include a different approach to art-making that aims to inspire your inner artist and bring us together in creativity.   \nArtists of all levels and abilities are WELCOME!  \nReach out with any accommodation or questions you may have to   maigan@gatewayassociation.ca  \n  \nExperiment #2: WORD PLAY October 12\, 2022  \nWords have a lot of power\, and they can be funny and playful too. Using a few different writing prompts\, we will experiment with creating images\, evoking feelings\, and communicating our ideas using words. All styles encouraged.  \nArt Supplies Required (your choice):   \nTablet/computer/paper; Pencil/pen/marker or crayons 
URL:https://gatewayassociation.ca/calendar/open-art-studio-2/
END:VEVENT
BEGIN:VEVENT
DTSTART;TZID=America/Denver:20221012T130000
DTEND;TZID=America/Denver:20221012T140000
DTSTAMP:20260421T160207
CREATED:20220915T174231Z
LAST-MODIFIED:20220915T174231Z
UID:248839-1665579600-1665583200@gatewayassociation.ca
SUMMARY:Explore Canva
DESCRIPTION:Let your imagination be your guide as you create your own posters\, flyers\, cards\, videos\, and more to share information important to you. \nTo learn more and to register\, please connect with us at GetDigital@GatewayAssociation.ca
URL:https://gatewayassociation.ca/calendar/explore-canva-12/
END:VEVENT
BEGIN:VEVENT
DTSTART;TZID=America/Denver:20221011T180000
DTEND;TZID=America/Denver:20221011T200000
DTSTAMP:20260421T160207
CREATED:20220907T170943Z
LAST-MODIFIED:20220907T171941Z
UID:248670-1665511200-1665518400@gatewayassociation.ca
SUMMARY:Visioning and Planning for Families with Children Birth-8 Years Old: Session 2 of 4
DESCRIPTION:Visioning and Planning for Families with Children Birth-8 Years Old: Session 2 of 4   \n6pm – 8pm | Zoom \nA 4-part workshop series that empowers families of children with disabilities up to 8 years old with knowledge\, resources\, and more. \nJoin our 4-part workshop series that empowers parents/caregivers of children with disabilities from birth-8 years old with knowledge\, resources\, and a sense of direction for the future. \nWe will touch on a variety of topics including values and belonging in the community\, visioning and planning\, various transitions during early elementary school\, navigating various systems age appropriate for families with younger children as well as advocacy and having difficult conversations \n  \nFor accommodation requirements\, please don’t hesitate to reach out to Stacy@GatewayAssociation.ca for assistance
URL:https://gatewayassociation.ca/calendar/visioning-and-planning-for-families-with-children-birth-8-years-old-session-1-of-4-2/
CATEGORIES:FRC
END:VEVENT
BEGIN:VEVENT
DTSTART;TZID=America/Denver:20221011T143000
DTEND;TZID=America/Denver:20221011T153000
DTSTAMP:20260421T160207
CREATED:20220915T173934Z
LAST-MODIFIED:20220915T173934Z
UID:248833-1665498600-1665502200@gatewayassociation.ca
SUMMARY:GTDI Program Info Session
DESCRIPTION:Have you or someone you know wanted to increase your basic digital skills to work\, learn\, or have fun? Have you wanted to find ways to connect to work\, friends\, family\, or supports online? \nWe can help! \nDigital Literacy is your Gateway to connecting\, working\, learning\, sharing\, growing\, and creating online. \nThe Gateway to Digital Inclusion Program offers courses and workshops on basic digital skills\, online social connections\, an App to help you learn about and engage with the digital world\, and more …. \nJoin us on Tuesdays for an interactive information session about the Gateway to Digital Inclusion Program. \nWhat will be included in the session: \n– What the program offers \n– Details about the workshops\, courses\, and groups \n– Who is eligible for the program \n– How our services work \nYou will have a chance to: \n– Meet some of our team members \n– Find out how to apply \n– Ask any question you might have \nSee you on Tuesday! \nIf you require any accommodations for attending the information session\, please contact us prior to the event to make arrangements. \nThank you \nThe Gateway to Digital Inclusion Team \ngetdigital@gatewayassociation.ca
URL:https://gatewayassociation.ca/calendar/gtdi-program-info-session-4/
END:VEVENT
BEGIN:VEVENT
DTSTART;TZID=America/Denver:20221011T130000
DTEND;TZID=America/Denver:20221011T140000
DTSTAMP:20260421T160207
CREATED:20220915T171342Z
LAST-MODIFIED:20220915T171342Z
UID:248825-1665493200-1665496800@gatewayassociation.ca
SUMMARY:LinkedIn Learning
DESCRIPTION:***Requires an active library membership.** \nExplore LinkedIn website as a group\, learn how to: create an account\, search for course\, save and organize courses\, and customize your profile. \nTo learn more and to register\, please connect with us at GetDigital@GatewayAssociation.ca
URL:https://gatewayassociation.ca/calendar/linkedin-learning-9/
END:VEVENT
BEGIN:VEVENT
DTSTART;TZID=America/Denver:20221006T130000
DTEND;TZID=America/Denver:20221006T140000
DTSTAMP:20260421T160207
CREATED:20220915T170752Z
LAST-MODIFIED:20220915T170810Z
UID:248821-1665061200-1665064800@gatewayassociation.ca
SUMMARY:Discord Tutorial
DESCRIPTION:Step by step tutorial for downloading and installing Discord – a free app that lets people chat using text\, voice or video. Discord is required for Online boardgames group. \nTo learn more and to register\, please connect with us at GetDigital@GatewayAssociation.ca
URL:https://gatewayassociation.ca/calendar/discord-tutorial-6/
END:VEVENT
BEGIN:VEVENT
DTSTART;TZID=America/Denver:20221006T130000
DTEND;TZID=America/Denver:20221006T140000
DTSTAMP:20260421T160207
CREATED:20220915T164332Z
LAST-MODIFIED:20220915T183903Z
UID:248817-1665061200-1665064800@gatewayassociation.ca
SUMMARY:LinkedIn Profile Series (4/4)
DESCRIPTION:Build your own LinkedIn profile! Share your skills\, goals\, and experiences\, create job alerts\, and grow your online network. \nTo learn more and to register\, please connect with us at GetDigital@GatewayAssociation.ca
URL:https://gatewayassociation.ca/calendar/linkedin-profile-series-4-4/
END:VEVENT
BEGIN:VEVENT
DTSTART;TZID=America/Denver:20221006T110000
DTEND;TZID=America/Denver:20221006T120000
DTSTAMP:20260421T160207
CREATED:20220915T163552Z
LAST-MODIFIED:20220915T170317Z
UID:248809-1665054000-1665057600@gatewayassociation.ca
SUMMARY:ePortfolio Series (4/4)
DESCRIPTION:Learners will work on their own between classes. In the eportfolio workshop\, participants will learn about the different types of portfolios\, how to use google sites\, and the basics of layout and design. Learners will choose the type of portfolio they want to build and the subject they want to focus on. They will select and add content to their sites along with descriptions\, statements about their motivation\, interests\, skills\, and hobbies. \nTo learn more or to register\, please connect with us at GetDigital@GatewayAssociation.ca
URL:https://gatewayassociation.ca/calendar/eportfolio-series-4-4-4/
END:VEVENT
BEGIN:VEVENT
DTSTART;TZID=America/Denver:20221005T150000
DTEND;TZID=America/Denver:20221005T163000
DTSTAMP:20260421T160207
CREATED:20220915T171105Z
LAST-MODIFIED:20220915T171105Z
UID:248823-1664982000-1664987400@gatewayassociation.ca
SUMMARY:OSC Boardgames
DESCRIPTION:**Requires Online Social Connections – Discord and Steam Tutorials as well as desktop or laptop computer.** \nCome hang out! Learn about setting up online accounts\, meet new friends\, socialize\, and have fun playing boardgames online. Meet new friends\, practise new skills\, have fun! \nTo learn more and to register\, please connect with us at GetDigital@GatewayAssociation.ca
URL:https://gatewayassociation.ca/calendar/osc-boardgames-9/
END:VEVENT
BEGIN:VEVENT
DTSTART;TZID=America/Denver:20221005T150000
DTEND;TZID=America/Denver:20221005T153000
DTSTAMP:20260421T160207
CREATED:20220907T204212Z
LAST-MODIFIED:20220907T204212Z
UID:248743-1664982000-1664983800@gatewayassociation.ca
SUMMARY:Family Resource Centre (FMS) Info Session
DESCRIPTION:
URL:https://gatewayassociation.ca/calendar/family-resource-centre-fms-info-session/
CATEGORIES:FRC
END:VEVENT
END:VCALENDAR