BEGIN:VCALENDAR
VERSION:2.0
PRODID:-//Gateway Association - ECPv6.15.20//NONSGML v1.0//EN
CALSCALE:GREGORIAN
METHOD:PUBLISH
X-WR-CALNAME:Gateway Association
X-ORIGINAL-URL:https://gatewayassociation.ca
X-WR-CALDESC:Events for Gateway Association
REFRESH-INTERVAL;VALUE=DURATION:PT1H
X-Robots-Tag:noindex
X-PUBLISHED-TTL:PT1H
BEGIN:VTIMEZONE
TZID:America/Denver
BEGIN:DAYLIGHT
TZOFFSETFROM:-0700
TZOFFSETTO:-0600
TZNAME:MDT
DTSTART:20230312T090000
END:DAYLIGHT
BEGIN:STANDARD
TZOFFSETFROM:-0600
TZOFFSETTO:-0700
TZNAME:MST
DTSTART:20231105T080000
END:STANDARD
BEGIN:DAYLIGHT
TZOFFSETFROM:-0700
TZOFFSETTO:-0600
TZNAME:MDT
DTSTART:20240310T090000
END:DAYLIGHT
BEGIN:STANDARD
TZOFFSETFROM:-0600
TZOFFSETTO:-0700
TZNAME:MST
DTSTART:20241103T080000
END:STANDARD
BEGIN:DAYLIGHT
TZOFFSETFROM:-0700
TZOFFSETTO:-0600
TZNAME:MDT
DTSTART:20250309T090000
END:DAYLIGHT
BEGIN:STANDARD
TZOFFSETFROM:-0600
TZOFFSETTO:-0700
TZNAME:MST
DTSTART:20251102T080000
END:STANDARD
END:VTIMEZONE
BEGIN:VEVENT
DTSTART;TZID=America/Denver:20240415T130000
DTEND;TZID=America/Denver:20240415T140000
DTSTAMP:20260419T203953
CREATED:20240326T214452Z
LAST-MODIFIED:20240326T214452Z
UID:252230-1713186000-1713189600@gatewayassociation.ca
SUMMARY:YouTOO Can YouTube (1 of 4)
DESCRIPTION:Session: 1 of 4 \nDuration: 1 hr \nFacilitator: Toby \nPrivate – GTDI Program intake required prior to workshop: getdigital@gatewayassociation.ca \n\nLearn about being a YouTube viewer and a YouTube creator. Find out how to make your own YouTube Channel and what to consider when you are choosing videos to watch. Create YouTube content\, learn about what to consider when watching videos as well as how to save and organize videos.
URL:https://gatewayassociation.ca/calendar/youtoo-can-youtube-1-of-4/
END:VEVENT
BEGIN:VEVENT
DTSTART;TZID=America/Denver:20240411T130000
DTEND;TZID=America/Denver:20240411T140000
DTSTAMP:20260419T203953
CREATED:20240326T214308Z
LAST-MODIFIED:20240326T214308Z
UID:252226-1712840400-1712844000@gatewayassociation.ca
SUMMARY:LinkedIn Learning
DESCRIPTION:Session 1 of 1  \nDuration 1 hr   \nFacilitator: Toby  \nPrivate – GTDI Program intake required prior to workshop: getdigital@gatewayassociation.ca  \n  \n***Requires an active library membership.**  \nExplore LinkedIn website as a group\, learn how to: create an account\, search for course\, save and organize courses\, and customize your profile.  
URL:https://gatewayassociation.ca/calendar/linkedin-learning-23/
END:VEVENT
BEGIN:VEVENT
DTSTART;TZID=America/Denver:20240411T130000
DTEND;TZID=America/Denver:20240411T140000
DTSTAMP:20260419T203953
CREATED:20231212T205650Z
LAST-MODIFIED:20231212T205650Z
UID:251926-1712840400-1712844000@gatewayassociation.ca
SUMMARY:Interview Prep: Common Interview Questions
DESCRIPTION:Interview Prep: Common Interview Questions \nLearn tips about how to effectively answer some of the most common interview questions! \n  \nThis workshop is for registered participants only. To register\, please connect with us at Get-Work@GatewayAssociation.ca
URL:https://gatewayassociation.ca/calendar/interview-prep-common-interview-questions/
CATEGORIES:ERC
END:VEVENT
BEGIN:VEVENT
DTSTART;TZID=America/Denver:20240411T110000
DTEND;TZID=America/Denver:20240411T120000
DTSTAMP:20260419T203953
CREATED:20240326T214359Z
LAST-MODIFIED:20240326T214359Z
UID:252228-1712833200-1712836800@gatewayassociation.ca
SUMMARY:Study Hall - ePortfolio
DESCRIPTION:Session 1 of 1  \nDuration 1 hr   \nFacilitator: Lee  \nPrivate – GTDI Program intake required prior to workshop: getdigital@gatewayassociation.ca  \n**Requires desktop or laptop computer. (tablets may work – contact facilitator prior to session)** \n  \nThis is an open work session for participants who  have already completed the ePortfolio Workshop series and would like to continue working on their portfolios.
URL:https://gatewayassociation.ca/calendar/study-hall-eportfolio/
END:VEVENT
BEGIN:VEVENT
DTSTART;TZID=America/Denver:20240411T100000
DTEND;TZID=America/Denver:20240411T120000
DTSTAMP:20260419T203953
CREATED:20231212T205549Z
LAST-MODIFIED:20231212T205549Z
UID:251924-1712829600-1712836800@gatewayassociation.ca
SUMMARY: Interview Roundtable: Learning and Laughing Together
DESCRIPTION: Interview Roundtable: Learning and Laughing Together \nJoin us for a dynamic and interactive workshop designed to help you ace your next job interview. In our Interview Roundtable\, you’ll have the opportunity to connect with fellow job seekers and share your experiences and insights. Our experienced facilitators will guide you through real-life interview scenarios and help you develop the skills and confidence you need to succeed. \n  \nSpots are limited. To register\, please connect with us at Get-Work@GatewayAssociation.ca
URL:https://gatewayassociation.ca/calendar/interview-roundtable-learning-and-laughing-together-5/
CATEGORIES:ERC
END:VEVENT
BEGIN:VEVENT
DTSTART;TZID=America/Denver:20240410T110000
DTEND;TZID=America/Denver:20240410T120000
DTSTAMP:20260419T203953
CREATED:20240326T213807Z
LAST-MODIFIED:20240326T213807Z
UID:252216-1712746800-1712750400@gatewayassociation.ca
SUMMARY:ePortfolio Series (3 of 3)
DESCRIPTION:Session 3 of 3  \nDuration 1 hr   \nFacilitator: Lee  \nPrivate – GTDI Program intake required prior to workshop: getdigital@gatewayassociation.ca  \n**Requires desktop or laptop computer. (tablets may work – contact facilitator prior to session)** \n  \nIn the eportfolio workshop series\, participants will learn about the different types of portfolios\, how to use google sites\, and the basics of layout and design. Learners will choose the type of portfolio they want to build and the subject they want to focus on. They will select and add content to their sites along with descriptions\, statements about their motivation\, interests\, skills\, and hobbies. Learners will work on their own between classes. 
URL:https://gatewayassociation.ca/calendar/eportfolio-series-3-of-3-8/
END:VEVENT
BEGIN:VEVENT
DTSTART;TZID=America/Denver:20240410T100000
DTEND;TZID=America/Denver:20240410T150000
DTSTAMP:20260419T203953
CREATED:20231220T160001Z
LAST-MODIFIED:20231220T160001Z
UID:252017-1712743200-1712761200@gatewayassociation.ca
SUMMARY:DROP IN WEDNESDAYS  at the Calgary Employment Resource Centre
DESCRIPTION:DROP IN WEDNESDAYS \nat the Calgary Employment Resource Centre \nFor job seekers\, each Wednesday drop in any time between 10am and 3pm to connect with ERC team members to work on resumes\, interview skills\, job search and meet other job seekers! \n1206 20 AVE SE \nCalgary\, AB
URL:https://gatewayassociation.ca/calendar/drop-in-wednesdays-at-the-calgary-employment-resource-centre-16/
CATEGORIES:ERC
END:VEVENT
BEGIN:VEVENT
DTSTART;TZID=America/Denver:20240409T190000
DTEND;TZID=America/Denver:20240409T210000
DTSTAMP:20260419T203953
CREATED:20230720T170206Z
LAST-MODIFIED:20230803T143429Z
UID:250906-1712689200-1712696400@gatewayassociation.ca
SUMMARY:Families Forward\, Under 18
DESCRIPTION:Families Forward\, Under 18 \nTuesday\, April 9 \n7:00pm – 9:00pm | Online \n  \nMonthly meeting for families with children under 18 with disabilities. \nWhere families can connect with other families\, learn from one another\, and explore issues that are important (such as schooling\, leadership\, and community and government support). \nFacilitators: Yonique at Yonique@GatewayAssociation.ca and Stacy at Stacy@GatewayAssociation.ca \nRegister HERE: https://www.eventbrite.ca/e/255535783407
URL:https://gatewayassociation.ca/calendar/families-forward-under-18-14/
CATEGORIES:FRC
END:VEVENT
BEGIN:VEVENT
DTSTART;TZID=America/Denver:20240409T150000
DTEND;TZID=America/Denver:20240409T160000
DTSTAMP:20260419T203953
CREATED:20240326T214226Z
LAST-MODIFIED:20240326T214226Z
UID:252224-1712674800-1712678400@gatewayassociation.ca
SUMMARY:Explore Canva (2 of 2)
DESCRIPTION:Session 2 of 2  \nDuration 1 hr   \nFacilitator: Toby  \nPrivate – GTDI Program intake required prior to workshop: getdigital@gatewayassociation.ca  \n  \nLet your imagination be your guide as you create your own posters\, flyers\, cards\, videos\, and more to share information important to you. 
URL:https://gatewayassociation.ca/calendar/explore-canva-2-of-2-6/
END:VEVENT
BEGIN:VEVENT
DTSTART;TZID=America/Denver:20240409T130000
DTEND;TZID=America/Denver:20240409T140000
DTSTAMP:20260419T203953
CREATED:20231212T205456Z
LAST-MODIFIED:20231212T205456Z
UID:251922-1712667600-1712671200@gatewayassociation.ca
SUMMARY:Finding Your Purpose
DESCRIPTION:Finding Your Purpose \n Are you wondering what your purpose is? Stuck and not sure where to go? Then we have a workshop for you! Come join us for self exploration and learning. We will talk about what people need in life to grow and how we can access those resources. As well\, we will explore a personality test and leave the workshop with a deeper understanding of who we are and where we would like to go! \nThis workshop is for registered participants only. To register\, please connect with us at Get-Work@GatewayAssociation.ca
URL:https://gatewayassociation.ca/calendar/finding-your-purpose-7/
CATEGORIES:ERC
END:VEVENT
BEGIN:VEVENT
DTSTART;TZID=America/Denver:20240409T130000
DTEND;TZID=America/Denver:20240409T130000
DTSTAMP:20260419T203953
CREATED:20240326T213927Z
LAST-MODIFIED:20240326T213927Z
UID:252220-1712667600-1712667600@gatewayassociation.ca
SUMMARY:File Management and PDFs (2 of 2)
DESCRIPTION:Session 2 of 2 \nDuration 1 hr \nFacilitator: Toby \nPrivate – GTDI Program intake required prior to workshop: getdigital@gatewayassociation.ca \n\nIn this workshop participants will learn about saving files\, organizing and finding files\, converting documents to pdfs\, what a is pdf\, and how to use pdfs.
URL:https://gatewayassociation.ca/calendar/file-management-and-pdfs-2-of-2-8/
END:VEVENT
BEGIN:VEVENT
DTSTART;TZID=America/Denver:20240409T110000
DTEND;TZID=America/Denver:20240409T120000
DTSTAMP:20260419T203953
CREATED:20240326T213711Z
LAST-MODIFIED:20240326T213711Z
UID:252214-1712660400-1712664000@gatewayassociation.ca
SUMMARY:ePortfolio Series (2 of 3)
DESCRIPTION:Session 2 of 3  \nDuration 1 hr   \nFacilitator: Lee  \nPrivate – GTDI Program intake required prior to workshop: getdigital@gatewayassociation.ca  \n**Requires desktop or laptop computer. (tablets may work – contact facilitator prior to session)** \n  \nIn the eportfolio workshop series\, participants will learn about the different types of portfolios\, how to use google sites\, and the basics of layout and design. Learners will choose the type of portfolio they want to build and the subject they want to focus on. They will select and add content to their sites along with descriptions\, statements about their motivation\, interests\, skills\, and hobbies. Learners will work on their own between classes. 
URL:https://gatewayassociation.ca/calendar/eportfolio-series-2-of-3-6/
END:VEVENT
BEGIN:VEVENT
DTSTART;TZID=America/Denver:20240408T150000
DTEND;TZID=America/Denver:20240408T160000
DTSTAMP:20260419T203953
CREATED:20240326T214152Z
LAST-MODIFIED:20240326T214152Z
UID:252222-1712588400-1712592000@gatewayassociation.ca
SUMMARY:Explore Canva (1 of 2)
DESCRIPTION:Session 1 of 2  \nDuration 1 hr   \nFacilitator: Toby  \nPrivate – GTDI Program intake required prior to workshop: getdigital@gatewayassociation.ca  \n  \nLet your imagination be your guide as you create your own posters\, flyers\, cards\, videos\, and more to share information important to you. 
URL:https://gatewayassociation.ca/calendar/explore-canva-1-of-2-7/
END:VEVENT
BEGIN:VEVENT
DTSTART;TZID=America/Denver:20240408T130000
DTEND;TZID=America/Denver:20240408T140000
DTSTAMP:20260419T203953
CREATED:20240326T213846Z
LAST-MODIFIED:20240326T213846Z
UID:252218-1712581200-1712584800@gatewayassociation.ca
SUMMARY:File Management and PDFs (1 of 2)
DESCRIPTION:Session 1 of 2 \nDuration 1 hr \nFacilitator: Toby \nPrivate – GTDI Program intake required prior to workshop: getdigital@gatewayassociation.ca \n\nIn this workshop participants will learn about saving files\, organizing and finding files\, converting documents to pdfs\, what a is pdf\, and how to use pdfs.
URL:https://gatewayassociation.ca/calendar/file-management-and-pdfs-1-of-2-7/
END:VEVENT
BEGIN:VEVENT
DTSTART;TZID=America/Denver:20240408T110000
DTEND;TZID=America/Denver:20240408T120000
DTSTAMP:20260419T203953
CREATED:20240326T213641Z
LAST-MODIFIED:20240326T213641Z
UID:252212-1712574000-1712577600@gatewayassociation.ca
SUMMARY:ePortfolio Series (1 of 3)
DESCRIPTION:Session 1 of 3  \nDuration 1 hr   \nFacilitator: Lee  \nPrivate – GTDI Program intake required prior to workshop: getdigital@gatewayassociation.ca  \n**Requires desktop or laptop computer. (tablets may work – contact facilitator prior to session)** \n  \nIn the eportfolio workshop series\, participants will learn about the different types of portfolios\, how to use google sites\, and the basics of layout and design. Learners will choose the type of portfolio they want to build and the subject they want to focus on. They will select and add content to their sites along with descriptions\, statements about their motivation\, interests\, skills\, and hobbies. Learners will work on their own between classes. 
URL:https://gatewayassociation.ca/calendar/eportfolio-series-1-of-3-7/
END:VEVENT
BEGIN:VEVENT
DTSTART;TZID=America/Denver:20240406T090000
DTEND;TZID=America/Denver:20240406T120000
DTSTAMP:20260419T203953
CREATED:20230724T131843Z
LAST-MODIFIED:20230724T131843Z
UID:251026-1712394000-1712404800@gatewayassociation.ca
SUMMARY:Persons with Developmental Disabilities (PDD) 101
DESCRIPTION:Persons with Developmental Disabilities (PDD) 101 \nSaturday\, April 6 \n9:00am – 12:00pm | In-Person \n  \nThis workshop is an introduction to\, and overview of\, PDD for those who may be eligible. \nYou will gain an understanding of the PDD program\, options available for service provision\, and information to determine the best supports for your family. \n  \nFacilitator: Miriam at miriam@gatewayassociation.ca \nRegister HERE
URL:https://gatewayassociation.ca/calendar/persons-with-developmental-disabilities-pdd-101-9/
CATEGORIES:FRC
END:VEVENT
BEGIN:VEVENT
DTSTART;TZID=America/Denver:20240405T080000
DTEND;TZID=America/Denver:20240405T170000
DTSTAMP:20260419T203953
CREATED:20240405T173750Z
LAST-MODIFIED:20240405T173750Z
UID:252297-1712304000-1712336400@gatewayassociation.ca
SUMMARY:The 11th Annual Mayors Luncheon; Equitable Employment Summit
DESCRIPTION:This 11th Annual Mayors Luncheon Summit is an esteemed event that is not just a gathering but a powerful platform to accelerate progress\, forge meaningful connections\, and cultivate leadership in the realm of inclusive employment. It serves as a unique opportunity for attendees to engage with and learn from other employers and leaders dedicated to inclusive hiring practices. \nThe inception of the Mayor’s Luncheon traces back to a legacy project that followed the hosting of the 2012 Special Olympics Winter Games by St. Albert\, marking the beginning of what would become a cornerstone event for advocacy and inclusion. Over the past seven years\, the luncheon has seen remarkable growth\, evolving into a must-attend event that now welcomes over 200 guests annually. Its success is a testament to the collective effort and commitment of communities across Alberta to embrace and advocate for diversity and inclusion in the workplace. \nMayors from across Alberta\, and even some from beyond\, make it a point to attend every year\, underscoring the event’s significance and reach. Notably\, the Capital Region’s mayors\, especially Mayor Cathy Heron of St. Albert\, have shown exceptional dedication to this cause. Their ongoing support and leadership have been instrumental in enhancing the luncheon year after year\, ensuring it remains a vibrant\, impactful\, and enriching experience for all involved. \nThis year\, as we prepare to host another Mayor’s Luncheon\, we are filled with anticipation and excitement for the opportunity to continue building on this legacy. We look forward to welcoming new and returning guests\, sharing insights\, celebrating achievements in inclusive employment\, and setting the stage for future advancements. Together\, we are making strides towards a more inclusive society\, one where every individual\, regardless of disability\, has the opportunity to contribute\, participate\, and lead. \n  \nLearn more and register HERE
URL:https://gatewayassociation.ca/calendar/the-11th-annual-mayors-luncheon-equitable-employment-summit/
LOCATION:Edmonton Rivery Valley Park\, 98 Avenue Northwest 9704\, Edmonton Alberta\, Edmonton\, Alberta\, T6c 4p6\, Canada
CATEGORIES:ERC,FRC,MentorAbility Alberta
END:VEVENT
BEGIN:VEVENT
DTSTART;TZID=America/Denver:20240403T150000
DTEND;TZID=America/Denver:20240403T163000
DTSTAMP:20260419T203953
CREATED:20240326T213450Z
LAST-MODIFIED:20240326T213450Z
UID:252210-1712156400-1712161800@gatewayassociation.ca
SUMMARY:Online Boardgames
DESCRIPTION:Session: 1 of 1 \nDuration: 1.5 to 2 hr \nFacilitator: Lee \nPrivate – GTDI Program intake required prior to workshop signup: getdigital@gatewayassociation.ca \n\n**Requires Online Social Connections – Discord and Steam Tutorials as well as desktop or laptop computer.** \nCome hang out! Learn about setting up online accounts\, meet new friends\, socialize\, and have fun playing boardgames online. Meet new friends\, practise new skills\, have fun!
URL:https://gatewayassociation.ca/calendar/online-boardgames-34/
END:VEVENT
BEGIN:VEVENT
DTSTART;TZID=America/Denver:20240403T100000
DTEND;TZID=America/Denver:20240403T150000
DTSTAMP:20260419T203953
CREATED:20231220T155930Z
LAST-MODIFIED:20231220T155930Z
UID:252015-1712138400-1712156400@gatewayassociation.ca
SUMMARY:DROP IN WEDNESDAYS  at the Calgary Employment Resource Centre
DESCRIPTION:DROP IN WEDNESDAYS \nat the Calgary Employment Resource Centre \nFor job seekers\, each Wednesday drop in any time between 10am and 3pm to connect with ERC team members to work on resumes\, interview skills\, job search and meet other job seekers! \n1206 20 AVE SE \nCalgary\, AB
URL:https://gatewayassociation.ca/calendar/drop-in-wednesdays-at-the-calgary-employment-resource-centre-15/
CATEGORIES:ERC
END:VEVENT
BEGIN:VEVENT
DTSTART;TZID=America/Denver:20240402T130000
DTEND;TZID=America/Denver:20240402T140000
DTSTAMP:20260419T203953
CREATED:20231212T205126Z
LAST-MODIFIED:20231212T205126Z
UID:251920-1712062800-1712066400@gatewayassociation.ca
SUMMARY:Growth Mindset: Resiliency in Job Search
DESCRIPTION:Growth Mindset: Resiliency in Job Search \nJob search can be a long and daunting process for many. This workshop will introduce folks to the concept of having a “Growth Mindset” and help individuals create a positive/persistent mindset along with tips on how to stay motivated throughout this process. \nThis workshop is for registered participants only. To register\, please connect with us at Get-Work@GatewayAssociation.ca
URL:https://gatewayassociation.ca/calendar/growth-mindset-resiliency-in-job-search-14/
CATEGORIES:ERC
END:VEVENT
BEGIN:VEVENT
DTSTART;TZID=America/Denver:20240328T190000
DTEND;TZID=America/Denver:20240328T210000
DTSTAMP:20260419T203953
CREATED:20230720T173603Z
LAST-MODIFIED:20230803T144146Z
UID:250937-1711652400-1711659600@gatewayassociation.ca
SUMMARY:Families Forward\, Over 18
DESCRIPTION:Families Forward Over 18 \nThursday\, March 28 \n7:00pm – 9:00pm | Online \n  \nWhere families can connect with other families\, learn from one another\, and explore issues that are important (such as housing\, relationship building\, and community and government supports). \nFacilitator: Betty at Betty@GatewayAssociation.ca \nRegister HERE 
URL:https://gatewayassociation.ca/calendar/families-forward-over-18-14/
CATEGORIES:FRC
END:VEVENT
BEGIN:VEVENT
DTSTART;TZID=America/Denver:20240327T180000
DTEND;TZID=America/Denver:20240327T190000
DTSTAMP:20260419T203953
CREATED:20231220T155806Z
LAST-MODIFIED:20231220T163007Z
UID:252013-1711562400-1711566000@gatewayassociation.ca
SUMMARY:Employment Resource Centre Information Session
DESCRIPTION:Employment Resource Centre Information Session \nJoin Gateway Association for a virtual Employment Resource Centre information session. \nThis session is for job seekers with disability or mental health-based barriers to learn about how Gateway Association can support you with achieving your employment goals! \nL earn about individualized supports and group workshops that will help you with: \n\nCareer development and action plans\nResume building\nInterview skills\nWorkplace communication\nOnboarding and training\nJob search and finding the right job for you\nKeeping your job!\nA ND much more!\n\nRegister HERE \nFor additional accommodations or questions\, please connect with us at Get-Work@GatewayAssociation.ca
URL:https://gatewayassociation.ca/calendar/employment-resource-centre-information-session-3/
CATEGORIES:ERC
END:VEVENT
BEGIN:VEVENT
DTSTART;TZID=America/Denver:20240327T130000
DTEND;TZID=America/Denver:20240327T140000
DTSTAMP:20260419T203953
CREATED:20231212T204945Z
LAST-MODIFIED:20231212T205017Z
UID:251917-1711544400-1711548000@gatewayassociation.ca
SUMMARY: How to Read a Job Posting
DESCRIPTION: How to Read a Job Posting \n Join this workshop to understand various elements of a job posting\, identify red flags\, and find the right match. This workshop intends to help people save their time by targeting jobs that fits their expectations. \n This workshop is for registered participants only. To register\, please connect with us at Get-Work@GatewayAssociation.ca
URL:https://gatewayassociation.ca/calendar/251917/
CATEGORIES:ERC
END:VEVENT
BEGIN:VEVENT
DTSTART;TZID=America/Denver:20240327T100000
DTEND;TZID=America/Denver:20240327T150000
DTSTAMP:20260419T203953
CREATED:20231220T152823Z
LAST-MODIFIED:20231220T152823Z
UID:252006-1711533600-1711551600@gatewayassociation.ca
SUMMARY:DROP IN WEDNESDAYS  at the Calgary Employment Resource Centre
DESCRIPTION:DROP IN WEDNESDAYS \nat the Calgary Employment Resource Centre \nFor job seekers\, each Wednesday drop in any time between 10am and 3pm to connect with ERC team members to work on resumes\, interview skills\, job search and meet other job seekers! \n1206 20 AVE SE \nCalgary\, AB
URL:https://gatewayassociation.ca/calendar/drop-in-wednesdays-at-the-calgary-employment-resource-centre-14/
CATEGORIES:ERC
END:VEVENT
BEGIN:VEVENT
DTSTART;TZID=America/Denver:20240326T130000
DTEND;TZID=America/Denver:20240326T140000
DTSTAMP:20260419T203953
CREATED:20240207T231535Z
LAST-MODIFIED:20240207T231535Z
UID:252189-1711458000-1711461600@gatewayassociation.ca
SUMMARY:File Management and PDFs (2 of 2)
DESCRIPTION:Session 2 of 2 \nDuration 1 hr \nFacilitator: Toby \nPrivate – GTDI Program intake required prior to workshop: getdigital@gatewayassociation.ca \n\nIn this workshop participants will learn about saving files\, organizing and finding files\, converting documents to pdfs\, what a is pdf\, and how to use pdfs.
URL:https://gatewayassociation.ca/calendar/file-management-and-pdfs-2-of-2-7/
END:VEVENT
BEGIN:VEVENT
DTSTART;TZID=America/Denver:20240326T130000
DTEND;TZID=America/Denver:20240326T140000
DTSTAMP:20260419T203953
CREATED:20231212T204855Z
LAST-MODIFIED:20231212T204855Z
UID:251915-1711458000-1711461600@gatewayassociation.ca
SUMMARY:Networking 101
DESCRIPTION:Networking 101 \nIn this workshop participants will be learning how to network in-person! You will develop skills such as greeting others\, making connections with people you want to connect with\, how to stay connected after you meet them\, etc. The skills you learn will be useful for connecting with people at conferences\, workshops\, events\, and casual meetings. \n This workshop is for registered participants only. To register\, please connect with us at Get-Work@GatewayAssociation.ca
URL:https://gatewayassociation.ca/calendar/networking-101-3/
CATEGORIES:ERC
END:VEVENT
BEGIN:VEVENT
DTSTART;TZID=America/Denver:20240326T110000
DTEND;TZID=America/Denver:20240326T120000
DTSTAMP:20260419T203953
CREATED:20240207T232003Z
LAST-MODIFIED:20240207T232003Z
UID:252191-1711450800-1711454400@gatewayassociation.ca
SUMMARY:Email Basics
DESCRIPTION:Session: 1 of 1  \nDuration: 1 hr   \nFacilitator: Lee  \nPrivate – GTDI Program intake required prior to workshop: getdigital@gatewayassociation.ca  \n  \nLearn about and practice the basics of writing professional emails for your job search and workplace communication. 
URL:https://gatewayassociation.ca/calendar/email-basics-38/
END:VEVENT
BEGIN:VEVENT
DTSTART;TZID=America/Denver:20240325T130000
DTEND;TZID=America/Denver:20240325T140000
DTSTAMP:20260419T203953
CREATED:20240207T231453Z
LAST-MODIFIED:20240207T231453Z
UID:252187-1711371600-1711375200@gatewayassociation.ca
SUMMARY:File Management and PDFs (1 of 2)
DESCRIPTION:Session 1 of 2 \nDuration 1 hr \nFacilitator: Toby \nPrivate – GTDI Program intake required prior to workshop: getdigital@gatewayassociation.ca \n\nIn this workshop participants will learn about saving files\, organizing and finding files\, converting documents to pdfs\, what a is pdf\, and how to use pdfs.
URL:https://gatewayassociation.ca/calendar/file-management-and-pdfs-1-of-2-6/
END:VEVENT
BEGIN:VEVENT
DTSTART;TZID=America/Denver:20240321T130000
DTEND;TZID=America/Denver:20240321T140000
DTSTAMP:20260419T203953
CREATED:20231212T204710Z
LAST-MODIFIED:20231212T204710Z
UID:251913-1711026000-1711029600@gatewayassociation.ca
SUMMARY:Workplace Communication 101 - Positive Communication and Constructive Feedback
DESCRIPTION:Workplace Communication 101 – Positive Communication and Constructive Feedback \nWorkplace Communication is made up of many essential skills\, such as\, what is okay to talk about at work with your coworkers? How to give and receive positive and constructive feedback? In this workshop\, we will talk about ways to help you to feel confident and comfortable with workplace communication. \n This workshop is for registered participants only. To register\, please connect with us at Get-Work@GatewayAssociation.ca
URL:https://gatewayassociation.ca/calendar/workplace-communication-101-positive-communication-and-constructive-feedback-3/
CATEGORIES:ERC
END:VEVENT
BEGIN:VEVENT
DTSTART;TZID=America/Denver:20240321T110000
DTEND;TZID=America/Denver:20240321T120000
DTSTAMP:20260419T203953
CREATED:20240207T231054Z
LAST-MODIFIED:20240207T231054Z
UID:252177-1711018800-1711022400@gatewayassociation.ca
SUMMARY:ePortfolio Study Hall
DESCRIPTION:Session 1 of 1  \nDuration 1 hr   \nFacilitator: Lee  \nPrivate – GTDI Program intake required prior to workshop: getdigital@gatewayassociation.ca  \n  \nThis is an open work session for participants who have already completed the ePortfolio Workshop series and would like to continue working on their portfolios.  \n 
URL:https://gatewayassociation.ca/calendar/eportfolio-study-hall/
END:VEVENT
END:VCALENDAR