BEGIN:VCALENDAR
VERSION:2.0
PRODID:-//Gateway Association - ECPv6.15.20//NONSGML v1.0//EN
CALSCALE:GREGORIAN
METHOD:PUBLISH
X-WR-CALNAME:Gateway Association
X-ORIGINAL-URL:https://gatewayassociation.ca
X-WR-CALDESC:Events for Gateway Association
REFRESH-INTERVAL;VALUE=DURATION:PT1H
X-Robots-Tag:noindex
X-PUBLISHED-TTL:PT1H
BEGIN:VTIMEZONE
TZID:America/Denver
BEGIN:DAYLIGHT
TZOFFSETFROM:-0700
TZOFFSETTO:-0600
TZNAME:MDT
DTSTART:20210314T090000
END:DAYLIGHT
BEGIN:STANDARD
TZOFFSETFROM:-0600
TZOFFSETTO:-0700
TZNAME:MST
DTSTART:20211107T080000
END:STANDARD
BEGIN:DAYLIGHT
TZOFFSETFROM:-0700
TZOFFSETTO:-0600
TZNAME:MDT
DTSTART:20220313T090000
END:DAYLIGHT
BEGIN:STANDARD
TZOFFSETFROM:-0600
TZOFFSETTO:-0700
TZNAME:MST
DTSTART:20221106T080000
END:STANDARD
BEGIN:DAYLIGHT
TZOFFSETFROM:-0700
TZOFFSETTO:-0600
TZNAME:MDT
DTSTART:20230312T090000
END:DAYLIGHT
BEGIN:STANDARD
TZOFFSETFROM:-0600
TZOFFSETTO:-0700
TZNAME:MST
DTSTART:20231105T080000
END:STANDARD
END:VTIMEZONE
BEGIN:VEVENT
DTSTART;TZID=America/Denver:20220908T100000
DTEND;TZID=America/Denver:20220908T120000
DTSTAMP:20260421T171500
CREATED:20220714T193652Z
LAST-MODIFIED:20220714T193652Z
UID:248355-1662631200-1662638400@gatewayassociation.ca
SUMMARY:Work Simulation- Build a Website
DESCRIPTION:August 15th-September 8th- Build a Website: Increase your digital and social skills in this work simulation. Work as a part of a team to build a website for a company you help to create. \nIncrease your digital and social skills\, as you work in a team to build a website for an imaginary company. This is a tech-based work simulation\, where learners are ‘hired’ into positions at an imaginary tech company and work together to build a website for a simulated client. \nThis course covers basic: internet vocabulary\, web design\, and use of google apps while giving you experience with working on a team\, engaging with peers\, and giving presentations. Learn to design and build a website\, create and give presentations\, and practice your interview skills. \nTo register\, connect with us at GetDigital@GatewayAssociation.ca
URL:https://gatewayassociation.ca/calendar/work-simulation-build-a-website-16/
END:VEVENT
BEGIN:VEVENT
DTSTART;TZID=America/Denver:20220908T160000
DTEND;TZID=America/Denver:20220908T173000
DTSTAMP:20260421T171500
CREATED:20220812T171758Z
LAST-MODIFIED:20220812T171758Z
UID:248506-1662652800-1662658200@gatewayassociation.ca
SUMMARY:Having Difficult Conversations
DESCRIPTION:Having Difficult Conversations \nThursday\, September 8 \n4pm – 5:30pm | Zoom \n\nA workshop for people with disabilities and their families on navigating difficult conversations. \nHaving conversations can be hard\, especially since the start of the pandemic. How we communicate with others is important. \nDuring this short ninety-minute workshop\, we will explore what conflict is\, how we respond to it and some key principles for good communication.” \nCo-presented with Amy Wing \n  \nIf you have any accommodation requirements\, please connect with stacy@gatewayassociation.ca
URL:https://gatewayassociation.ca/calendar/having-difficult-conversations-5/
CATEGORIES:FRC
END:VEVENT
BEGIN:VEVENT
DTSTART;TZID=America/Denver:20220912T100000
DTEND;TZID=America/Denver:20220912T110000
DTSTAMP:20260421T171500
CREATED:20220816T055848Z
LAST-MODIFIED:20220816T055848Z
UID:248529-1662976800-1662980400@gatewayassociation.ca
SUMMARY:LinkedIn Series (1/4)
DESCRIPTION:Build your own LinkedIn profile! Share your skills\, goals\, and experiences\, create job alerts\, and grow your online network. \nFor questions and to register\, please connect with us at GetDigital@GatewayAssociation.ca
URL:https://gatewayassociation.ca/calendar/linkedin-series-1-4-2/
END:VEVENT
BEGIN:VEVENT
DTSTART;TZID=America/Denver:20220912T110000
DTEND;TZID=America/Denver:20220912T120000
DTSTAMP:20260421T171500
CREATED:20220816T060209Z
LAST-MODIFIED:20220816T060209Z
UID:248537-1662980400-1662984000@gatewayassociation.ca
SUMMARY:Zoom Basics
DESCRIPTION:Learn what you need to know to participate in online Zoom meetings. Explore all the cool features of the program\, practice your digital skills and build your zoom social skills. \nFor questions and to register\, please connect with us at GetDigital@GatewayAssociation.ca
URL:https://gatewayassociation.ca/calendar/zoom-basics-8/
END:VEVENT
BEGIN:VEVENT
DTSTART;TZID=America/Denver:20220913T100000
DTEND;TZID=America/Denver:20220913T110000
DTSTAMP:20260421T171500
CREATED:20220816T055925Z
LAST-MODIFIED:20220816T055925Z
UID:248531-1663063200-1663066800@gatewayassociation.ca
SUMMARY:LinkedIn Series (2/4)
DESCRIPTION:Build your own LinkedIn profile! Share your skills\, goals\, and experiences\, create job alerts\, and grow your online network. \nFor questions and to register\, please connect with us at GetDigital@GatewayAssociation.ca
URL:https://gatewayassociation.ca/calendar/linkedin-series-2-4-2/
END:VEVENT
BEGIN:VEVENT
DTSTART;TZID=America/Denver:20220913T130000
DTEND;TZID=America/Denver:20220913T140000
DTSTAMP:20260421T171500
CREATED:20220823T203841Z
LAST-MODIFIED:20220823T203841Z
UID:248604-1663074000-1663077600@gatewayassociation.ca
SUMMARY:Finding Your Purpose - Career Exploration
DESCRIPTION:In this workshop\, we will discuss how considering own interests and abilities along with researching job market trends and income can yield success and job satisfaction. \nFor any accommodation requirements for this session\, please connect with us at Get-Work@GatewayAssociation.ca
URL:https://gatewayassociation.ca/calendar/finding-your-purpose-career-exploration-2/
CATEGORIES:ERC
END:VEVENT
BEGIN:VEVENT
DTSTART;TZID=America/Denver:20220913T190000
DTEND;TZID=America/Denver:20220913T210000
DTSTAMP:20260421T171500
CREATED:20220812T171917Z
LAST-MODIFIED:20220812T172221Z
UID:248508-1663095600-1663102800@gatewayassociation.ca
SUMMARY:Families Forward\, Under 18
DESCRIPTION:Families Forward\, Under 18 \nTuesday\, September 13 \n7pm – 9pm | Zoom \nMonthly meeting for families with children under 18 with disabilities. \nWhere families can connect with other families\, learn from one another\, and explore issues that are important (such as schooling\, leadership\, and community and government support). \nIf you have any accommodation requirements\, please connect with Stacy@GatewayAssociation.ca
URL:https://gatewayassociation.ca/calendar/families-forward-under-18/
CATEGORIES:FRC
END:VEVENT
BEGIN:VEVENT
DTSTART;TZID=America/Denver:20220914T100000
DTEND;TZID=America/Denver:20220914T230000
DTSTAMP:20260421T171500
CREATED:20220816T060000Z
LAST-MODIFIED:20220816T060000Z
UID:248533-1663149600-1663196400@gatewayassociation.ca
SUMMARY:LinkedIn Series (3/4)
DESCRIPTION:Build your own LinkedIn profile! Share your skills\, goals\, and experiences\, create job alerts\, and grow your online network. \nFor questions and to register\, please connect with us at GetDigital@GatewayAssociation.ca
URL:https://gatewayassociation.ca/calendar/linkedin-series-3-4-2/
END:VEVENT
BEGIN:VEVENT
DTSTART;TZID=America/Denver:20220914T120000
DTEND;TZID=America/Denver:20220914T130000
DTSTAMP:20260421T171500
CREATED:20220812T172359Z
LAST-MODIFIED:20220812T172359Z
UID:248511-1663156800-1663160400@gatewayassociation.ca
SUMMARY:Understanding Disability in the Transition Years
DESCRIPTION:Understanding Disability in the Transitioning Years \nWednesday\, September 14 \n12pm – 1pm | Zoom \nA workshop that provides an overview of supports available to youth who are transitioning to adulthood. \nThis workshop is for caregivers and professionals to gain knowledge and bring awareness about services that support those with disabilities in Alberta. \n  \nIf you have any accommodation requirements\, please connect with Yonique@gatewayassociation.ca
URL:https://gatewayassociation.ca/calendar/understanding-disability-in-the-transition-years/
CATEGORIES:FRC
END:VEVENT
BEGIN:VEVENT
DTSTART;TZID=America/Denver:20220914T143000
DTEND;TZID=America/Denver:20220914T153000
DTSTAMP:20260421T171500
CREATED:20220816T060352Z
LAST-MODIFIED:20220816T060352Z
UID:248539-1663165800-1663169400@gatewayassociation.ca
SUMMARY:Open Art Studio!
DESCRIPTION:Join OPEN♥ART for a chance to create alongside others\, share and experiment with different art forms. Each month will include a different approach to art-making that aims to inspire your inner artist and bring us together in creativity.   \nArtists of all levels and abilities are WELCOME!  \nExperiment #1: NATURAL BEAUTY September 14\, 2022  \nInspired by nature and the living world all around us\, we will be drawing/painting/colouring something from nature that brings us joy or curiosity. It can be a leaf\, a butterfly\, the  river or your cat. Anything!  \nArt Supplies Required (your choice):   \nPaper/canvas/tablet/computer; Pencil/pen/marker/paints or crayons
URL:https://gatewayassociation.ca/calendar/open-art-studio/
END:VEVENT
BEGIN:VEVENT
DTSTART;TZID=America/Denver:20220915T100000
DTEND;TZID=America/Denver:20220915T110000
DTSTAMP:20260421T171500
CREATED:20220816T060044Z
LAST-MODIFIED:20220816T060044Z
UID:248535-1663236000-1663239600@gatewayassociation.ca
SUMMARY:LinkedIn Series (4/4)
DESCRIPTION:Build your own LinkedIn profile! Share your skills\, goals\, and experiences\, create job alerts\, and grow your online network. \nFor questions and to register\, please connect with us at GetDigital@GatewayAssociation.ca
URL:https://gatewayassociation.ca/calendar/linkedin-series-4-4-2/
END:VEVENT
BEGIN:VEVENT
DTSTART;TZID=America/Denver:20220915T100000
DTEND;TZID=America/Denver:20220915T110000
DTSTAMP:20260421T171500
CREATED:20220816T060552Z
LAST-MODIFIED:20220816T060552Z
UID:248541-1663236000-1663239600@gatewayassociation.ca
SUMMARY:Email Basics- Practice Session
DESCRIPTION:**For participants who have completed Email Basics\, and would like more practice** \nA session for participants who have take the Email Basics session and would like more practice in writing professional emails for their job search and workplace communication \nTo register\, please connect with us at GetDigital@GatewayAssociation.ca
URL:https://gatewayassociation.ca/calendar/email-basics-practice-session/
END:VEVENT
BEGIN:VEVENT
DTSTART;TZID=America/Denver:20220915T120000
DTEND;TZID=America/Denver:20220915T133000
DTSTAMP:20260421T171500
CREATED:20220912T132325Z
LAST-MODIFIED:20220912T132857Z
UID:248758-1663243200-1663248600@gatewayassociation.ca
SUMMARY:Indigenous History: Reconciliation — How did we end up here?
DESCRIPTION:Jaylene and Vince will guide us through what Reconciliation means to them personally\, how colonialism has affected their lives\, and the impact it’s had on their workplace experiences\, within their communities and beyond.
URL:https://gatewayassociation.ca/calendar/indigenous-history-reconciliation-how-did-we-end-up-here/
CATEGORIES:ERC
END:VEVENT
BEGIN:VEVENT
DTSTART;TZID=America/Denver:20220915T130000
DTEND;TZID=America/Denver:20220915T140000
DTSTAMP:20260421T171500
CREATED:20220823T200632Z
LAST-MODIFIED:20220823T203613Z
UID:248600-1663246800-1663250400@gatewayassociation.ca
SUMMARY:Growth Mindset: Resiliency in Job Search
DESCRIPTION:Growth Mindset – Resiliency in Job Search  \nJob search can be a long and daunting process for many. This workshop will help individuals create a positive and persistent mindset along with tips on how to stay motivated.  \nIf you require any accommodations for this session\, please connect with us at Get-Work@GatewayAssociation.ca
URL:https://gatewayassociation.ca/calendar/growth-mindset-resiliency-in-job-search/
CATEGORIES:ERC
END:VEVENT
BEGIN:VEVENT
DTSTART;TZID=America/Denver:20220917T090000
DTEND;TZID=America/Denver:20220917T120000
DTSTAMP:20260421T171500
CREATED:20220812T172640Z
LAST-MODIFIED:20220812T172640Z
UID:248513-1663405200-1663416000@gatewayassociation.ca
SUMMARY:Abuse Prevention Protocol (For FMS Administrators)
DESCRIPTION:Abuse Prevention and Response Protocol (FMS Admin) \nSaturday\, September 17 \n9am – 12pm | Zoom \nA workshop that explores ways to reduce the risk of abuse and how to handle suspicions of abuse (for Family Managed Services Administrators). \nThis workshop\, for FMS Administrators\, provides an understanding of the protocol\, explores what can be done to reduce the risk of abuse\, identifies types of abuse\, and how to handle situations when abuse is suspected. \nNote: This is a mandatory course for FMS Administrators under Family Managed Services with Disability Services. \n\nIf you have any accommodation requirements\, please connect with Betty@GatewayAssociation.ca
URL:https://gatewayassociation.ca/calendar/abuse-prevention-protocol-for-fms-administrators/
CATEGORIES:FRC
END:VEVENT
BEGIN:VEVENT
DTSTART;TZID=America/Denver:20220919T100000
DTEND;TZID=America/Denver:20220919T110000
DTSTAMP:20260421T171500
CREATED:20220816T134257Z
LAST-MODIFIED:20220816T134257Z
UID:248545-1663581600-1663585200@gatewayassociation.ca
SUMMARY:You Too Can YouTube Series (1/4)
DESCRIPTION:Learn about being a YouTube viewer and a YouTube creator. Find out how to make your own YouTube Channel and what to consider when you are choosing videos to watch. Create YouTube content\, learn about what to consider when watching videos as well as how to save and organize videos. \nFor questions and to register\, connect with us at GetDigital@GatewayAssociation.ca
URL:https://gatewayassociation.ca/calendar/you-too-can-youtube-series-1-4/
END:VEVENT
BEGIN:VEVENT
DTSTART;TZID=America/Denver:20220919T110000
DTEND;TZID=America/Denver:20220919T120000
DTSTAMP:20260421T171500
CREATED:20220816T141344Z
LAST-MODIFIED:20220816T141427Z
UID:248553-1663585200-1663588800@gatewayassociation.ca
SUMMARY:ePortfolio Series (1/4)
DESCRIPTION:Learners will work on their own between classes. In the eportfolio workshop\, participants will learn about the different types of portfolios\, how to use google sites\, and the basics of layout and design. Learners will choose the type of portfolio they want to build and the subject they want to focus on. They will select and add content to their sites along with descriptions\, statements about their motivation\, interests\, skills\, and hobbies. \nFor questions and to register\, please connect with us at GetDigital@GatewayAssociation.ca
URL:https://gatewayassociation.ca/calendar/248553/
END:VEVENT
BEGIN:VEVENT
DTSTART;TZID=America/Denver:20220919T110000
DTEND;TZID=America/Denver:20220919T120000
DTSTAMP:20260421T171500
CREATED:20220816T141945Z
LAST-MODIFIED:20220816T141945Z
UID:248563-1663585200-1663588800@gatewayassociation.ca
SUMMARY:LinkedIn Learning
DESCRIPTION:***Requires an active library membership.** \nExplore LinkedIn website as a group\, learn how to: create an account\, search for course\, save and organize courses\, and customize your profile. \nFor questions and to register\, please connect with us at GetDigital@GatewayAssociation.ca
URL:https://gatewayassociation.ca/calendar/linkedin-learning-8/
END:VEVENT
BEGIN:VEVENT
DTSTART;TZID=America/Denver:20220919T130000
DTEND;TZID=America/Denver:20220919T160000
DTSTAMP:20260421T171500
CREATED:20220823T213416Z
LAST-MODIFIED:20220823T213416Z
UID:248614-1663592400-1663603200@gatewayassociation.ca
SUMMARY:WHIMIS Training
DESCRIPTION:Learn how to handle controlled products in the workplace and receive your WHMIS Certification! \nThis is a private course- if you would like to learn more or to register\, please connect with Gene@GatewayAssociation.ca
URL:https://gatewayassociation.ca/calendar/whimis-training/
CATEGORIES:ERC
END:VEVENT
BEGIN:VEVENT
DTSTART;TZID=America/Denver:20220919T150000
DTEND;TZID=America/Denver:20220919T163000
DTSTAMP:20260421T171500
CREATED:20220831T160627Z
LAST-MODIFIED:20220831T180941Z
UID:248626-1663599600-1663605000@gatewayassociation.ca
SUMMARY:Gateway to Advocacy: Focus on Food Security
DESCRIPTION:It’s so easy to forget all the hidden costs and complexities that come along with the food we eat. What does it mean to be aware of the food we consume\, where it comes from and how to make sure everyone has access to fresh\, good quality options?    \nJoin this 90 min session\, featuring a variety of panelists who will share their own experiences and involvement in food-related community initiatives\, while shining a light on The Alex (YYC) and Multicultural Health Brokers (YEG).  Come learn about some innovative Alberta-based food projects that lead by example when it comes to addressing local food insecurity and community care.  
URL:https://gatewayassociation.ca/calendar/gateway-to-advocacy-focus-on-food-security/
END:VEVENT
BEGIN:VEVENT
DTSTART;TZID=America/Denver:20220920T100000
DTEND;TZID=America/Denver:20220920T110000
DTSTAMP:20260421T171500
CREATED:20220816T134428Z
LAST-MODIFIED:20220816T134428Z
UID:248547-1663668000-1663671600@gatewayassociation.ca
SUMMARY:You Too Can YouTube Series (2/4)
DESCRIPTION:Learn about being a YouTube viewer and a YouTube creator. Find out how to make your own YouTube Channel and what to consider when you are choosing videos to watch. Create YouTube content\, learn about what to consider when watching videos as well as how to save and organize videos. \nFor questions and to register\, connect with us at GetDigital@GatewayAssociation.ca
URL:https://gatewayassociation.ca/calendar/you-too-can-youtube-series-2-4/
END:VEVENT
BEGIN:VEVENT
DTSTART;TZID=America/Denver:20220920T110000
DTEND;TZID=America/Denver:20220920T120000
DTSTAMP:20260421T171500
CREATED:20220816T141553Z
LAST-MODIFIED:20220816T141553Z
UID:248556-1663671600-1663675200@gatewayassociation.ca
SUMMARY:ePortfolio Series (2/4)
DESCRIPTION:Learners will work on their own between classes. In the eportfolio workshop\, participants will learn about the different types of portfolios\, how to use google sites\, and the basics of layout and design. Learners will choose the type of portfolio they want to build and the subject they want to focus on. They will select and add content to their sites along with descriptions\, statements about their motivation\, interests\, skills\, and hobbies. \nFor questions and to register\, please connect with us at GetDigital@GatewayAssociation.ca
URL:https://gatewayassociation.ca/calendar/eportfolio-series-2-4-3/
END:VEVENT
BEGIN:VEVENT
DTSTART;TZID=America/Denver:20220920T130000
DTEND;TZID=America/Denver:20220920T140000
DTSTAMP:20260421T171500
CREATED:20220823T204021Z
LAST-MODIFIED:20220823T205147Z
UID:248606-1663678800-1663682400@gatewayassociation.ca
SUMMARY:Networking; Using your Connections
DESCRIPTION:Description: Building sustaining personal networks is a great way to connect with employers. This session will describe ways to create a personal network and using existing relationships that can lead to career paths and new opportunities \nFor question\, accommodation requirements and to register\, please connect with us at Get-Work@GatewayAssociation.ca
URL:https://gatewayassociation.ca/calendar/networking-using-your-connections/
CATEGORIES:ERC
END:VEVENT
BEGIN:VEVENT
DTSTART;TZID=America/Denver:20220920T150000
DTEND;TZID=America/Denver:20220920T160000
DTSTAMP:20260421T171500
CREATED:20220915T173628Z
LAST-MODIFIED:20220915T173628Z
UID:248827-1663686000-1663689600@gatewayassociation.ca
SUMMARY:GTDI Program Info Session
DESCRIPTION:Have you or someone you know wanted to increase your basic digital skills to work\, learn\, or have fun? Have you wanted to find ways to connect to work\, friends\, family\, or supports online? \nWe can help! \nDigital Literacy is your Gateway to connecting\, working\, learning\, sharing\, growing\, and creating online. \nThe Gateway to Digital Inclusion Program offers courses and workshops on basic digital skills\, online social connections\, an App to help you learn about and engage with the digital world\, and more …. \nJoin us on Tuesdays for an interactive information session about the Gateway to Digital Inclusion Program. \nWhat will be included in the session: \n– What the program offers \n– Details about the workshops\, courses\, and groups \n– Who is eligible for the program \n– How our services work \nYou will have a chance to: \n– Meet some of our team members \n– Find out how to apply \n– Ask any question you might have \n\nSee you on Tuesday! \n\nIf you require any accommodations for attending the information session\, please contact us prior to the event to make arrangements. \nThank you \nThe Gateway to Digital Inclusion Team \ngetdigital@gatewayassociation.ca
URL:https://gatewayassociation.ca/calendar/gtdi-program-info-session/
END:VEVENT
BEGIN:VEVENT
DTSTART;TZID=America/Denver:20220921T100000
DTEND;TZID=America/Denver:20220921T110000
DTSTAMP:20260421T171500
CREATED:20220816T134527Z
LAST-MODIFIED:20220816T134527Z
UID:248549-1663754400-1663758000@gatewayassociation.ca
SUMMARY:You Too Can YouTube Series (3/4)
DESCRIPTION:Learn about being a YouTube viewer and a YouTube creator. Find out how to make your own YouTube Channel and what to consider when you are choosing videos to watch. Create YouTube content\, learn about what to consider when watching videos as well as how to save and organize videos. \nFor questions and to register\, connect with us at GetDigital@GatewayAssociation.ca
URL:https://gatewayassociation.ca/calendar/you-too-can-youtube-series-3-4/
END:VEVENT
BEGIN:VEVENT
DTSTART;TZID=America/Denver:20220921T100000
DTEND;TZID=America/Denver:20220921T223000
DTSTAMP:20260421T171500
CREATED:20220907T204127Z
LAST-MODIFIED:20220907T204127Z
UID:248741-1663754400-1663799400@gatewayassociation.ca
SUMMARY:Family Resource Centre (FRC) Info Session
DESCRIPTION:
URL:https://gatewayassociation.ca/calendar/family-resource-centre-frc-info-session/
CATEGORIES:FRC
END:VEVENT
BEGIN:VEVENT
DTSTART;TZID=America/Denver:20220921T110000
DTEND;TZID=America/Denver:20220921T120000
DTSTAMP:20260421T171500
CREATED:20220816T141630Z
LAST-MODIFIED:20220816T141742Z
UID:248558-1663758000-1663761600@gatewayassociation.ca
SUMMARY:ePortfolio Series (3/4)
DESCRIPTION:Learners will work on their own between classes. In the eportfolio workshop\, participants will learn about the different types of portfolios\, how to use google sites\, and the basics of layout and design. Learners will choose the type of portfolio they want to build and the subject they want to focus on. They will select and add content to their sites along with descriptions\, statements about their motivation\, interests\, skills\, and hobbies. \nFor questions and to register\, please connect with us at GetDigital@GatewayAssociation.ca
URL:https://gatewayassociation.ca/calendar/eportolio-series-3-4/
END:VEVENT
BEGIN:VEVENT
DTSTART;TZID=America/Denver:20220921T110000
DTEND;TZID=America/Denver:20220921T120000
DTSTAMP:20260421T171500
CREATED:20220816T142126Z
LAST-MODIFIED:20220816T142126Z
UID:248565-1663758000-1663761600@gatewayassociation.ca
SUMMARY:Explore Canva
DESCRIPTION:Let your imagination be your guide as you create your own posters\, flyers\, cards\, videos\, and more to share information important to you. \nFor questions and to register\, please connect with us at GetDigital@GatewayAssociation.ca
URL:https://gatewayassociation.ca/calendar/explore-canva-10/
END:VEVENT
BEGIN:VEVENT
DTSTART;TZID=America/Denver:20220921T120000
DTEND;TZID=America/Denver:20220921T130000
DTSTAMP:20260421T171500
CREATED:20220812T172823Z
LAST-MODIFIED:20220812T172823Z
UID:248515-1663761600-1663765200@gatewayassociation.ca
SUMMARY:Understanding Disability; Community Resources
DESCRIPTION:Understanding Disability – Community Resources \nWednesday\, September 21 \n12pm – 1pm | Zoom \n\nA workshop that explores community and government resources for adults with disabilities \nThis workshop is for caregivers and professionals who are supporting an adult with a disability who is aging\, to ensure the proper supports are accessed for them to live a good life. The workshop will empower participants with the knowledge they need to begin planning for seniorhood. \nguardianship and trusteeship\, aging caregivers\, resources in the community\, law enforcement\, and self-advocates. \n\nFor accommodation requirements\, please connect with Yonique@gatewayassociation.ca
URL:https://gatewayassociation.ca/calendar/understanding-disability-community-resources-3/
CATEGORIES:FRC
END:VEVENT
BEGIN:VEVENT
DTSTART;TZID=America/Denver:20220921T140000
DTEND;TZID=America/Denver:20220921T150000
DTSTAMP:20260421T171500
CREATED:20220913T215055Z
LAST-MODIFIED:20220913T215055Z
UID:248767-1663768800-1663772400@gatewayassociation.ca
SUMMARY:MentorAbility Industry Information Session: Starting Your Own Business with Milk Jar Candle Co.
DESCRIPTION:MentorAbility Alberta is offering ongoing FREE interactive Industry Information Sessions! These information sessions give participants the opportunity to learn more about prospective industries\, recruitment requirements and qualifications and the next steps they may need to take to achieve their employment goals. \n\nIn this weeks’ session\, Holly Singer\, owner of Milk Jar Candle Co\, will be joining us to talk about starting your own business and her journey with Milk Jar! \n\nIf you require any accommodations for this session\, please contact us prior to the session and we will assist with accommodation provisions as best we can: Jasmine@GatewayAssociation.ca
URL:https://gatewayassociation.ca/calendar/mentorability-industry-information-session-starting-your-own-business-with-milk-jar-candle-co/
CATEGORIES:ERC
END:VEVENT
END:VCALENDAR