BEGIN:VCALENDAR
VERSION:2.0
PRODID:-//Gateway Association - ECPv6.15.20//NONSGML v1.0//EN
CALSCALE:GREGORIAN
METHOD:PUBLISH
X-ORIGINAL-URL:https://gatewayassociation.ca
X-WR-CALDESC:Events for Gateway Association
REFRESH-INTERVAL;VALUE=DURATION:PT1H
X-Robots-Tag:noindex
X-PUBLISHED-TTL:PT1H
BEGIN:VTIMEZONE
TZID:America/Denver
BEGIN:DAYLIGHT
TZOFFSETFROM:-0700
TZOFFSETTO:-0600
TZNAME:MDT
DTSTART:20210314T090000
END:DAYLIGHT
BEGIN:STANDARD
TZOFFSETFROM:-0600
TZOFFSETTO:-0700
TZNAME:MST
DTSTART:20211107T080000
END:STANDARD
BEGIN:DAYLIGHT
TZOFFSETFROM:-0700
TZOFFSETTO:-0600
TZNAME:MDT
DTSTART:20220313T090000
END:DAYLIGHT
BEGIN:STANDARD
TZOFFSETFROM:-0600
TZOFFSETTO:-0700
TZNAME:MST
DTSTART:20221106T080000
END:STANDARD
BEGIN:DAYLIGHT
TZOFFSETFROM:-0700
TZOFFSETTO:-0600
TZNAME:MDT
DTSTART:20230312T090000
END:DAYLIGHT
BEGIN:STANDARD
TZOFFSETFROM:-0600
TZOFFSETTO:-0700
TZNAME:MST
DTSTART:20231105T080000
END:STANDARD
END:VTIMEZONE
BEGIN:VEVENT
DTSTART;TZID=America/Denver:20220829T133000
DTEND;TZID=America/Denver:20220829T150000
DTSTAMP:20260421T172046
CREATED:20220813T193257Z
LAST-MODIFIED:20220813T193329Z
UID:248521-1661779800-1661785200@gatewayassociation.ca
SUMMARY:Skillshare: Embracing Your Superpowers
DESCRIPTION:Skill Share Session: Embracing Your Superpowers   \n\n\n1:30-3:00 PM Monday\, Aug 29\, 2022  \n\n\n  \n\n\nSelf-advocate Tara Mitrovic will share her lived experiences as a disability advocate who navigates the world as a person with hearing loss. In this session\, Tara will share her outlook on life\, what advocacy work is inspiring her today and some of the projects she has been involved with in the past. This one-hour session will also include a screening of Tara’s short film Hungry for Hearing and brief Q & A.  \n\n\nAll are Welcome!  \n\n\nA zoom link will be emailed out the week of. \n\nIf you have an accommodation requirements\, please connect with Rabia@GatewayAssociation.ca
URL:https://gatewayassociation.ca/calendar/skillshare-embracing-your-superpowers-2/
END:VEVENT
BEGIN:VEVENT
DTSTART;TZID=America/Denver:20220830T080000
DTEND;TZID=America/Denver:20220830T170000
DTSTAMP:20260421T172046
CREATED:20220714T193008Z
LAST-MODIFIED:20220714T193008Z
UID:248343-1661846400-1661878800@gatewayassociation.ca
SUMMARY:Work Simulation- Build a Website
DESCRIPTION:August 15th-September 8th- Build a Website: Increase your digital and social skills in this work simulation. Work as a part of a team to build a website for a company you help to create. \nIncrease your digital and social skills\, as you work in a team to build a website for an imaginary company. This is a tech-based work simulation\, where learners are ‘hired’ into positions at an imaginary tech company and work together to build a website for a simulated client. \nThis course covers basic: internet vocabulary\, web design\, and use of google apps while giving you experience with working on a team\, engaging with peers\, and giving presentations. Learn to design and build a website\, create and give presentations\, and practice your interview skills. \nTo register\, connect with us at GetDigital@GatewayAssociation.ca
URL:https://gatewayassociation.ca/calendar/work-simulation-build-a-website-11/
END:VEVENT
BEGIN:VEVENT
DTSTART;TZID=America/Denver:20220830T110000
DTEND;TZID=America/Denver:20220830T120000
DTSTAMP:20260421T172046
CREATED:20220714T222544Z
LAST-MODIFIED:20220714T222544Z
UID:248438-1661857200-1661860800@gatewayassociation.ca
SUMMARY:ePortfolio Series (2/4)
DESCRIPTION:Learners will work on their own between classes. In the eportfolio workshop\, participants will learn about the different types of portfolios\, how to use google sites\, and the basics of layout and design. Learners will choose the type of portfolio they want to build and the subject they want to focus on. They will select and add content to their sites along with descriptions\, statements about their motivation\, interests\, skills\, and hobbies. \nTo register or learn more about the series\, connect with us at GetDigital@GatewayAssociation.ca
URL:https://gatewayassociation.ca/calendar/eportfolio-series-2-4-2/
END:VEVENT
BEGIN:VEVENT
DTSTART;TZID=America/Denver:20220830T130000
DTEND;TZID=America/Denver:20220830T140000
DTSTAMP:20260421T172046
CREATED:20220714T222904Z
LAST-MODIFIED:20220714T222904Z
UID:248446-1661864400-1661868000@gatewayassociation.ca
SUMMARY:LinkedIn Series (2/4)
DESCRIPTION:Build your own LinkedIn profile! Share your skills\, goals\, and experiences\, create job alerts\, and grow your online network. \nTo register or learn more\, connect with us at GetDigital@GatewayAssociation.ca
URL:https://gatewayassociation.ca/calendar/linkedin-series-2-4/
END:VEVENT
BEGIN:VEVENT
DTSTART;TZID=America/Denver:20220830T133000
DTEND;TZID=America/Denver:20220830T143000
DTSTAMP:20260421T172046
CREATED:20220829T160729Z
LAST-MODIFIED:20220829T160729Z
UID:248623-1661866200-1661869800@gatewayassociation.ca
SUMMARY:MentorAbility Industry Info Session: Ernst and Young
DESCRIPTION:MentorAbility Alberta is offering ongoing FREE interactive Industry Information Sessions! These information sessions give participants the opportunity to learn more about prospective industries\, recruitment requirements and qualifications and the next steps they may need to take to achieve their employment goals. \n\nIn this weeks’ session\, Ernst and Young will be joining us to talk about the services and supports offered by EY to the business community as well as careers within the company! \n\nIf you require any accommodations for this session\, please contact us prior to the session and we will assist with accommodation provisions as best we can \nMentorAbilityAlberta@supportedemployment.ca
URL:https://gatewayassociation.ca/calendar/mentorability-industry-info-session-ernst-and-young/
CATEGORIES:ERC
END:VEVENT
BEGIN:VEVENT
DTSTART;TZID=America/Denver:20220830T150000
DTEND;TZID=America/Denver:20220830T160000
DTSTAMP:20260421T172046
CREATED:20220714T200740Z
LAST-MODIFIED:20220714T200740Z
UID:248396-1661871600-1661875200@gatewayassociation.ca
SUMMARY:Gateway to Digital Inclusion Program Info Session
DESCRIPTION:Have you or someone you know wanted to increase your basic digital skills to work\, learn\, or have fun? Have you wanted to find ways to connect to work\, friends\, family\, or supports online? \nWe can help! \nDigital Literacy is your Gateway to connecting\, working\, learning\, sharing\, growing\, and creating online. \nThe Gateway to Digital Inclusion Program offers courses and workshops on basic digital skills\, online social connections\, an App to help you learn about and engage with the digital world\, and more …. \nJoin us on Tuesday at 3:00 pm for an interactive information session about the Gateway to Digital Inclusion Program. \nWhat will be included in the session: \n– What the program offers \n– Details about the workshops\, courses\, and groups \n– Who is eligible for the program \n– How our services work \nYou will have a chance to: \n– Meet some of our team members \n– Find out how to apply \n– Ask any question you might have \n\nSee you on Tuesday!
URL:https://gatewayassociation.ca/calendar/gateway-to-digital-inclusion-program-info-session-41/
END:VEVENT
BEGIN:VEVENT
DTSTART;TZID=America/Denver:20220831T100000
DTEND;TZID=America/Denver:20220831T120000
DTSTAMP:20260421T172046
CREATED:20220714T193043Z
LAST-MODIFIED:20220714T193043Z
UID:248345-1661940000-1661947200@gatewayassociation.ca
SUMMARY:Work Simulation- Build a Website
DESCRIPTION:August 15th-September 8th- Build a Website: Increase your digital and social skills in this work simulation. Work as a part of a team to build a website for a company you help to create. \nIncrease your digital and social skills\, as you work in a team to build a website for an imaginary company. This is a tech-based work simulation\, where learners are ‘hired’ into positions at an imaginary tech company and work together to build a website for a simulated client. \nThis course covers basic: internet vocabulary\, web design\, and use of google apps while giving you experience with working on a team\, engaging with peers\, and giving presentations. Learn to design and build a website\, create and give presentations\, and practice your interview skills. \nTo register\, connect with us at GetDigital@GatewayAssociation.ca
URL:https://gatewayassociation.ca/calendar/work-simulation-build-a-website-12/
END:VEVENT
BEGIN:VEVENT
DTSTART;TZID=America/Denver:20220831T110000
DTEND;TZID=America/Denver:20220831T120000
DTSTAMP:20260421T172046
CREATED:20220714T222612Z
LAST-MODIFIED:20220714T222612Z
UID:248440-1661943600-1661947200@gatewayassociation.ca
SUMMARY:ePortfolio Series (3/4)
DESCRIPTION:Learners will work on their own between classes. In the eportfolio workshop\, participants will learn about the different types of portfolios\, how to use google sites\, and the basics of layout and design. Learners will choose the type of portfolio they want to build and the subject they want to focus on. They will select and add content to their sites along with descriptions\, statements about their motivation\, interests\, skills\, and hobbies. \nTo register or learn more about the series\, connect with us at GetDigital@GatewayAssociation.ca
URL:https://gatewayassociation.ca/calendar/eportfolio-series-3-4-2/
END:VEVENT
BEGIN:VEVENT
DTSTART;TZID=America/Denver:20220831T130000
DTEND;TZID=America/Denver:20220831T140000
DTSTAMP:20260421T172046
CREATED:20220714T223000Z
LAST-MODIFIED:20220714T223000Z
UID:248448-1661950800-1661954400@gatewayassociation.ca
SUMMARY:LinkedIn Series (3/4)
DESCRIPTION:Build your own LinkedIn profile! Share your skills\, goals\, and experiences\, create job alerts\, and grow your online network. \nTo register or learn more\, connect with us at GetDigital@GatewayAssociation.ca
URL:https://gatewayassociation.ca/calendar/linkedin-series-3-4/
END:VEVENT
BEGIN:VEVENT
DTSTART;TZID=America/Denver:20220831T150000
DTEND;TZID=America/Denver:20220831T163000
DTSTAMP:20260421T172046
CREATED:20220714T195127Z
LAST-MODIFIED:20220714T195127Z
UID:248374-1661958000-1661963400@gatewayassociation.ca
SUMMARY:OSC Boardgames
DESCRIPTION:*Requires Online Social Connections – Discord and Steam Tutorials as well as desktop or laptop computer** \nCome hang out! Learn about setting up online accounts\, meet new friends\, socialize\, and have fun playing boardgames online. Meet new friends\, practise new skills\, have fun! \nTo register\, connect with us at GetDigital@GatewayAssociation.ca
URL:https://gatewayassociation.ca/calendar/osc-boardgames-5/
END:VEVENT
BEGIN:VEVENT
DTSTART;TZID=America/Denver:20220831T180000
DTEND;TZID=America/Denver:20220831T190000
DTSTAMP:20260421T172046
CREATED:20220801T055758Z
LAST-MODIFIED:20220801T055758Z
UID:248457-1661968800-1661972400@gatewayassociation.ca
SUMMARY:Calgary Youth Employment Program Info Session
DESCRIPTION:Join us Wednesday for an interactive information session about the Gateway Calgary Employment Program! \nWhat will be included in the session: \n– What services we provide and how our services and processes work \n– Who is eligible for the project \n– If the project is right for you or who you would like to refer \n– Additional perks of the program \n– You will meet some of our team members \n– Hear about real success stories of the program \n– Find out how to apply \n– And ask any questions you might have \nSee you Wednesday! \nIf you require any accommodations for attending the information session\, please contact us prior to the event to make arrangements. \n  \nThank you\, \nThe Gateway Calgary Team \nGet-Work@gatewayassociation.ca
URL:https://gatewayassociation.ca/calendar/calgary-youth-employment-program-info-session-2/
CATEGORIES:ERC
END:VEVENT
BEGIN:VEVENT
DTSTART;TZID=America/Denver:20220901T080000
DTEND;TZID=America/Denver:20220901T170000
DTSTAMP:20260421T172046
CREATED:20220714T193112Z
LAST-MODIFIED:20220714T193112Z
UID:248347-1662019200-1662051600@gatewayassociation.ca
SUMMARY:Work Simulation- Build a Website
DESCRIPTION:August 15th-September 8th- Build a Website: Increase your digital and social skills in this work simulation. Work as a part of a team to build a website for a company you help to create. \nIncrease your digital and social skills\, as you work in a team to build a website for an imaginary company. This is a tech-based work simulation\, where learners are ‘hired’ into positions at an imaginary tech company and work together to build a website for a simulated client. \nThis course covers basic: internet vocabulary\, web design\, and use of google apps while giving you experience with working on a team\, engaging with peers\, and giving presentations. Learn to design and build a website\, create and give presentations\, and practice your interview skills. \nTo register\, connect with us at GetDigital@GatewayAssociation.ca
URL:https://gatewayassociation.ca/calendar/work-simulation-build-a-website-13/
END:VEVENT
BEGIN:VEVENT
DTSTART;TZID=America/Denver:20220901T110000
DTEND;TZID=America/Denver:20220901T120000
DTSTAMP:20260421T172046
CREATED:20220714T222645Z
LAST-MODIFIED:20220714T222714Z
UID:248442-1662030000-1662033600@gatewayassociation.ca
SUMMARY:ePortfolio Series (4/4)
DESCRIPTION:Learners will work on their own between classes. In the eportfolio workshop\, participants will learn about the different types of portfolios\, how to use google sites\, and the basics of layout and design. Learners will choose the type of portfolio they want to build and the subject they want to focus on. They will select and add content to their sites along with descriptions\, statements about their motivation\, interests\, skills\, and hobbies. \nTo register or learn more about the series\, connect with us at GetDigital@GatewayAssociation.ca
URL:https://gatewayassociation.ca/calendar/eportfolio-series-4-4-2/
END:VEVENT
BEGIN:VEVENT
DTSTART;TZID=America/Denver:20220901T130000
DTEND;TZID=America/Denver:20220901T140000
DTSTAMP:20260421T172046
CREATED:20220714T223030Z
LAST-MODIFIED:20220714T223030Z
UID:248450-1662037200-1662040800@gatewayassociation.ca
SUMMARY:LinkedIn Series (4/4)
DESCRIPTION:Build your own LinkedIn profile! Share your skills\, goals\, and experiences\, create job alerts\, and grow your online network. \nTo register or learn more\, connect with us at GetDigital@GatewayAssociation.ca
URL:https://gatewayassociation.ca/calendar/linkedin-series-4-4/
END:VEVENT
BEGIN:VEVENT
DTSTART;TZID=America/Denver:20220906T100000
DTEND;TZID=America/Denver:20220906T120000
DTSTAMP:20260421T172046
CREATED:20220714T193415Z
LAST-MODIFIED:20220714T193415Z
UID:248349-1662458400-1662465600@gatewayassociation.ca
SUMMARY:Work Simulation- Build a Website
DESCRIPTION:August 15th-September 8th- Build a Website: Increase your digital and social skills in this work simulation. Work as a part of a team to build a website for a company you help to create. \nIncrease your digital and social skills\, as you work in a team to build a website for an imaginary company. This is a tech-based work simulation\, where learners are ‘hired’ into positions at an imaginary tech company and work together to build a website for a simulated client. \nThis course covers basic: internet vocabulary\, web design\, and use of google apps while giving you experience with working on a team\, engaging with peers\, and giving presentations. Learn to design and build a website\, create and give presentations\, and practice your interview skills. \nTo register\, connect with us at GetDigital@GatewayAssociation.ca
URL:https://gatewayassociation.ca/calendar/work-simulation-build-a-website-14/
END:VEVENT
BEGIN:VEVENT
DTSTART;TZID=America/Denver:20220906T130000
DTEND;TZID=America/Denver:20220906T140000
DTSTAMP:20260421T172046
CREATED:20220816T055514Z
LAST-MODIFIED:20220816T055514Z
UID:248525-1662469200-1662472800@gatewayassociation.ca
SUMMARY:Explore Canva
DESCRIPTION:Let your imagination be your guide as you create your own posters\, flyers\, cards\, videos\, and more to share information important to you. \nFor questions and to register\, connect with us at GetDigital@GatewayAssociation.ca
URL:https://gatewayassociation.ca/calendar/explore-canva-9/
END:VEVENT
BEGIN:VEVENT
DTSTART;TZID=America/Denver:20220906T150000
DTEND;TZID=America/Denver:20220906T160000
DTSTAMP:20260421T172046
CREATED:20220816T060826Z
LAST-MODIFIED:20220816T060827Z
UID:248543-1662476400-1662480000@gatewayassociation.ca
SUMMARY:Gateway to Digital Inclusion Info Session
DESCRIPTION:Have you or someone you know wanted to increase your basic digital skills to work\, learn\, or have fun? Have you wanted to find ways to connect to work\, friends\, family\, or supports online? \nWe can help! \nDigital Literacy is your Gateway to connecting\, working\, learning\, sharing\, growing\, and creating online. \nThe Gateway to Digital Inclusion Program offers courses and workshops on basic digital skills\, online social connections\, an App to help you learn about and engage with the digital world\, and more …. \nJoin us on Tuesday at 3:00 pm for an interactive information session about the Gateway to Digital Inclusion Program. \nWhat will be included in the session: \n– What the program offers \n– Details about the workshops\, courses\, and groups \n– Who is eligible for the program \n– How our services work \nYou will have a chance to: \n– Meet some of our team members \n– Find out how to apply \n– Ask any question you might have
URL:https://gatewayassociation.ca/calendar/gateway-to-digital-inclusion-info-session-2/
END:VEVENT
BEGIN:VEVENT
DTSTART;TZID=America/Denver:20220907T100000
DTEND;TZID=America/Denver:20220907T120000
DTSTAMP:20260421T172046
CREATED:20220714T193505Z
LAST-MODIFIED:20220714T193505Z
UID:248351-1662544800-1662552000@gatewayassociation.ca
SUMMARY:Work Simulation- Build a Website
DESCRIPTION:August 15th-September 8th- Build a Website: Increase your digital and social skills in this work simulation. Work as a part of a team to build a website for a company you help to create. \nIncrease your digital and social skills\, as you work in a team to build a website for an imaginary company. This is a tech-based work simulation\, where learners are ‘hired’ into positions at an imaginary tech company and work together to build a website for a simulated client. \nThis course covers basic: internet vocabulary\, web design\, and use of google apps while giving you experience with working on a team\, engaging with peers\, and giving presentations. Learn to design and build a website\, create and give presentations\, and practice your interview skills. \nTo register\, connect with us at GetDigital@GatewayAssociation.ca
URL:https://gatewayassociation.ca/calendar/work-simulation-build-a-website-15/
END:VEVENT
BEGIN:VEVENT
DTSTART;TZID=America/Denver:20220907T120000
DTEND;TZID=America/Denver:20220907T123000
DTSTAMP:20260421T172046
CREATED:20220907T211317Z
LAST-MODIFIED:20220907T211317Z
UID:248750-1662552000-1662553800@gatewayassociation.ca
SUMMARY:Family Resource Centre (FRC) Info Session
DESCRIPTION:
URL:https://gatewayassociation.ca/calendar/family-resource-centre-frc-info-session-4/
CATEGORIES:FRC
END:VEVENT
BEGIN:VEVENT
DTSTART;TZID=America/Denver:20220907T120000
DTEND;TZID=America/Denver:20220907T130000
DTSTAMP:20260421T172046
CREATED:20220812T171229Z
LAST-MODIFIED:20220812T171229Z
UID:248502-1662552000-1662555600@gatewayassociation.ca
SUMMARY:Understanding Disability in Alberta
DESCRIPTION:Understanding Disability in Alberta \nWednesday\, September 7 \n12pm – 1pm | Zoom \n\nA workshop for those who would like information about disability and initial government programs that can be accessed in Alberta. \nThis workshop is for caregivers and professionals to gain knowledge and bring awareness about services that support those with disabilities in Alberta. \nTopics include: defining disability\, available government disability services\, eligibility\, and understanding and accessing forms. \n\nIf you have any questions or accommodation requirements\, please connect with Yonique@gatewayassociation.ca
URL:https://gatewayassociation.ca/calendar/understanding-disability-in-alberta-3/
CATEGORIES:FRC
END:VEVENT
BEGIN:VEVENT
DTSTART;TZID=America/Denver:20220907T150000
DTEND;TZID=America/Denver:20220907T163000
DTSTAMP:20260421T172046
CREATED:20220816T055653Z
LAST-MODIFIED:20220816T055653Z
UID:248527-1662562800-1662568200@gatewayassociation.ca
SUMMARY:OSC Boardgames
DESCRIPTION:**Requires Online Social Connections – Discord and Steam Tutorials as well as desktop or laptop computer.** \nCome hang out! Learn about setting up online accounts\, meet new friends\, socialize\, and have fun playing boardgames online. Meet new friends\, practise new skills\, have fun! \nFor questions and to register\, connect with us at GetDigital@GatewayAssociation.ca
URL:https://gatewayassociation.ca/calendar/osc-boardgames-6/
END:VEVENT
BEGIN:VEVENT
DTSTART;TZID=America/Denver:20220907T190000
DTEND;TZID=America/Denver:20220907T200000
DTSTAMP:20260421T172046
CREATED:20220822T210749Z
LAST-MODIFIED:20220822T210749Z
UID:248596-1662577200-1662580800@gatewayassociation.ca
SUMMARY:Let's Talk About Workplace Wellness; Goal Planning for the Fall
DESCRIPTION:Held on the first Wednesday of each month; Wednesday September 7th \nJoin us online to engage in conversations about workplace wellness. It will be an opportunity to connect with job seekers to gain insight into strategies for mental health wellness in the workplace. \nThis month’s topic will be about: Goal planning for the fall
URL:https://gatewayassociation.ca/calendar/lets-talk-about-workplace-wellness-goal-planning-for-the-fall/
CATEGORIES:ERC
END:VEVENT
BEGIN:VEVENT
DTSTART;TZID=America/Denver:20220908T100000
DTEND;TZID=America/Denver:20220908T120000
DTSTAMP:20260421T172046
CREATED:20220714T193652Z
LAST-MODIFIED:20220714T193652Z
UID:248355-1662631200-1662638400@gatewayassociation.ca
SUMMARY:Work Simulation- Build a Website
DESCRIPTION:August 15th-September 8th- Build a Website: Increase your digital and social skills in this work simulation. Work as a part of a team to build a website for a company you help to create. \nIncrease your digital and social skills\, as you work in a team to build a website for an imaginary company. This is a tech-based work simulation\, where learners are ‘hired’ into positions at an imaginary tech company and work together to build a website for a simulated client. \nThis course covers basic: internet vocabulary\, web design\, and use of google apps while giving you experience with working on a team\, engaging with peers\, and giving presentations. Learn to design and build a website\, create and give presentations\, and practice your interview skills. \nTo register\, connect with us at GetDigital@GatewayAssociation.ca
URL:https://gatewayassociation.ca/calendar/work-simulation-build-a-website-16/
END:VEVENT
BEGIN:VEVENT
DTSTART;TZID=America/Denver:20220908T160000
DTEND;TZID=America/Denver:20220908T173000
DTSTAMP:20260421T172046
CREATED:20220812T171758Z
LAST-MODIFIED:20220812T171758Z
UID:248506-1662652800-1662658200@gatewayassociation.ca
SUMMARY:Having Difficult Conversations
DESCRIPTION:Having Difficult Conversations \nThursday\, September 8 \n4pm – 5:30pm | Zoom \n\nA workshop for people with disabilities and their families on navigating difficult conversations. \nHaving conversations can be hard\, especially since the start of the pandemic. How we communicate with others is important. \nDuring this short ninety-minute workshop\, we will explore what conflict is\, how we respond to it and some key principles for good communication.” \nCo-presented with Amy Wing \n  \nIf you have any accommodation requirements\, please connect with stacy@gatewayassociation.ca
URL:https://gatewayassociation.ca/calendar/having-difficult-conversations-5/
CATEGORIES:FRC
END:VEVENT
BEGIN:VEVENT
DTSTART;TZID=America/Denver:20220912T100000
DTEND;TZID=America/Denver:20220912T110000
DTSTAMP:20260421T172046
CREATED:20220816T055848Z
LAST-MODIFIED:20220816T055848Z
UID:248529-1662976800-1662980400@gatewayassociation.ca
SUMMARY:LinkedIn Series (1/4)
DESCRIPTION:Build your own LinkedIn profile! Share your skills\, goals\, and experiences\, create job alerts\, and grow your online network. \nFor questions and to register\, please connect with us at GetDigital@GatewayAssociation.ca
URL:https://gatewayassociation.ca/calendar/linkedin-series-1-4-2/
END:VEVENT
BEGIN:VEVENT
DTSTART;TZID=America/Denver:20220912T110000
DTEND;TZID=America/Denver:20220912T120000
DTSTAMP:20260421T172046
CREATED:20220816T060209Z
LAST-MODIFIED:20220816T060209Z
UID:248537-1662980400-1662984000@gatewayassociation.ca
SUMMARY:Zoom Basics
DESCRIPTION:Learn what you need to know to participate in online Zoom meetings. Explore all the cool features of the program\, practice your digital skills and build your zoom social skills. \nFor questions and to register\, please connect with us at GetDigital@GatewayAssociation.ca
URL:https://gatewayassociation.ca/calendar/zoom-basics-8/
END:VEVENT
BEGIN:VEVENT
DTSTART;TZID=America/Denver:20220913T100000
DTEND;TZID=America/Denver:20220913T110000
DTSTAMP:20260421T172046
CREATED:20220816T055925Z
LAST-MODIFIED:20220816T055925Z
UID:248531-1663063200-1663066800@gatewayassociation.ca
SUMMARY:LinkedIn Series (2/4)
DESCRIPTION:Build your own LinkedIn profile! Share your skills\, goals\, and experiences\, create job alerts\, and grow your online network. \nFor questions and to register\, please connect with us at GetDigital@GatewayAssociation.ca
URL:https://gatewayassociation.ca/calendar/linkedin-series-2-4-2/
END:VEVENT
BEGIN:VEVENT
DTSTART;TZID=America/Denver:20220913T130000
DTEND;TZID=America/Denver:20220913T140000
DTSTAMP:20260421T172046
CREATED:20220823T203841Z
LAST-MODIFIED:20220823T203841Z
UID:248604-1663074000-1663077600@gatewayassociation.ca
SUMMARY:Finding Your Purpose - Career Exploration
DESCRIPTION:In this workshop\, we will discuss how considering own interests and abilities along with researching job market trends and income can yield success and job satisfaction. \nFor any accommodation requirements for this session\, please connect with us at Get-Work@GatewayAssociation.ca
URL:https://gatewayassociation.ca/calendar/finding-your-purpose-career-exploration-2/
CATEGORIES:ERC
END:VEVENT
BEGIN:VEVENT
DTSTART;TZID=America/Denver:20220913T190000
DTEND;TZID=America/Denver:20220913T210000
DTSTAMP:20260421T172046
CREATED:20220812T171917Z
LAST-MODIFIED:20220812T172221Z
UID:248508-1663095600-1663102800@gatewayassociation.ca
SUMMARY:Families Forward\, Under 18
DESCRIPTION:Families Forward\, Under 18 \nTuesday\, September 13 \n7pm – 9pm | Zoom \nMonthly meeting for families with children under 18 with disabilities. \nWhere families can connect with other families\, learn from one another\, and explore issues that are important (such as schooling\, leadership\, and community and government support). \nIf you have any accommodation requirements\, please connect with Stacy@GatewayAssociation.ca
URL:https://gatewayassociation.ca/calendar/families-forward-under-18/
CATEGORIES:FRC
END:VEVENT
BEGIN:VEVENT
DTSTART;TZID=America/Denver:20220914T100000
DTEND;TZID=America/Denver:20220914T230000
DTSTAMP:20260421T172046
CREATED:20220816T060000Z
LAST-MODIFIED:20220816T060000Z
UID:248533-1663149600-1663196400@gatewayassociation.ca
SUMMARY:LinkedIn Series (3/4)
DESCRIPTION:Build your own LinkedIn profile! Share your skills\, goals\, and experiences\, create job alerts\, and grow your online network. \nFor questions and to register\, please connect with us at GetDigital@GatewayAssociation.ca
URL:https://gatewayassociation.ca/calendar/linkedin-series-3-4-2/
END:VEVENT
END:VCALENDAR