BEGIN:VCALENDAR
VERSION:2.0
PRODID:-//Gateway Association - ECPv6.15.20//NONSGML v1.0//EN
CALSCALE:GREGORIAN
METHOD:PUBLISH
X-WR-CALNAME:Gateway Association
X-ORIGINAL-URL:https://gatewayassociation.ca
X-WR-CALDESC:Events for Gateway Association
REFRESH-INTERVAL;VALUE=DURATION:PT1H
X-Robots-Tag:noindex
X-PUBLISHED-TTL:PT1H
BEGIN:VTIMEZONE
TZID:America/Denver
BEGIN:DAYLIGHT
TZOFFSETFROM:-0700
TZOFFSETTO:-0600
TZNAME:MDT
DTSTART:20220313T090000
END:DAYLIGHT
BEGIN:STANDARD
TZOFFSETFROM:-0600
TZOFFSETTO:-0700
TZNAME:MST
DTSTART:20221106T080000
END:STANDARD
BEGIN:DAYLIGHT
TZOFFSETFROM:-0700
TZOFFSETTO:-0600
TZNAME:MDT
DTSTART:20230312T090000
END:DAYLIGHT
BEGIN:STANDARD
TZOFFSETFROM:-0600
TZOFFSETTO:-0700
TZNAME:MST
DTSTART:20231105T080000
END:STANDARD
BEGIN:DAYLIGHT
TZOFFSETFROM:-0700
TZOFFSETTO:-0600
TZNAME:MDT
DTSTART:20240310T090000
END:DAYLIGHT
BEGIN:STANDARD
TZOFFSETFROM:-0600
TZOFFSETTO:-0700
TZNAME:MST
DTSTART:20241103T080000
END:STANDARD
END:VTIMEZONE
BEGIN:VEVENT
DTSTART;TZID=America/Denver:20231014T090000
DTEND;TZID=America/Denver:20231014T120000
DTSTAMP:20260419T224713
CREATED:20230720T175623Z
LAST-MODIFIED:20230720T182105Z
UID:250959-1697274000-1697284800@gatewayassociation.ca
SUMMARY:Persons with Developmental Disabilities (PDD) 101
DESCRIPTION:Persons with Developmental Disabilities (PDD) 101 \nSaturday\, October 14 \n9:00am – 12:00pm | Online \n  \nThis workshop is an introduction to\, and overview of\, PDD for those who may be eligible. \nYou will gain an understanding of the PDD program\, options available for service provision\, and information to determine the best supports for your family. \n  \nFacilitator: Miriam at miriam@gatewayassociation.ca \nRegister HERE
URL:https://gatewayassociation.ca/calendar/250959/
CATEGORIES:FRC
END:VEVENT
BEGIN:VEVENT
DTSTART;TZID=America/Denver:20231013T130000
DTEND;TZID=America/Denver:20231013T140000
DTSTAMP:20260419T224713
CREATED:20230920T152102Z
LAST-MODIFIED:20230920T152102Z
UID:251477-1697202000-1697205600@gatewayassociation.ca
SUMMARY:Social Media Basics (4 of 4)
DESCRIPTION:Session 4 of 4 \nDuration 1.5 hr \nFacilitator: Toby \nPrivate – GTDI Program intake required prior to workshop: getdigital@gatewayassociation.ca \nSocial Media Basics is Part 2 of the Work Simulation. Completion of Part 1: Internet Basics is recommended prior to taking this 3 session workshop series. \nIncrease your understanding and use of social media! In this workshop we will go through understanding different types of social media and their uses\,  creating material for social media\, and managing your social media. \n 
URL:https://gatewayassociation.ca/calendar/social-media-basics-4-of-4/
END:VEVENT
BEGIN:VEVENT
DTSTART;TZID=America/Denver:20231012T180000
DTEND;TZID=America/Denver:20231012T210000
DTSTAMP:20260419T224713
CREATED:20230720T175038Z
LAST-MODIFIED:20230720T175126Z
UID:250953-1697133600-1697144400@gatewayassociation.ca
SUMMARY:Transition Planning for Adulthood (2 of 3)
DESCRIPTION:Transition Planning for Adulthood \nThursday\, October 5 \nThursday\, October 12 \nThursday\, October 19 \n6:00pm – 9:00pm | Online \n  \nA 3-part workshop series exploring the critical transition to adulthood for 14-20 year-olds and how to create a plan for the future.  \nJoin our 3-part workshop series that engages families in building knowledge when navigating this critical time for 14-20 year olds. This workshop series includes topics on: life transitions\, valued roles in the community\, visioning and planning\, and navigating the systems.  \n  \n Note: All three workshops must be taken consecutively.   \nFacilitator: Yonique at Yonique@GatewayAssociation.ca \nRegister HERE
URL:https://gatewayassociation.ca/calendar/transition-planning-for-adulthood-2-of-3/
CATEGORIES:FRC
END:VEVENT
BEGIN:VEVENT
DTSTART;TZID=America/Denver:20231012T150000
DTEND;TZID=America/Denver:20231012T163000
DTSTAMP:20260419T224713
CREATED:20230816T160829Z
LAST-MODIFIED:20230816T160829Z
UID:251179-1697122800-1697128200@gatewayassociation.ca
SUMMARY:LinkedIn Learning
DESCRIPTION:Session 1 of 1 \nDuration 1 hr \nFacilitator: Toby \nPrivate – GTDI Program intake required prior to workshop: getdigital@gatewayassociation.ca \n\n***Requires an active library membership.** \nExplore LinkedIn website as a group\, learn how to: create an account\, search for course\, save and organize courses\, and customize your profile.
URL:https://gatewayassociation.ca/calendar/linkedin-learning-19/
END:VEVENT
BEGIN:VEVENT
DTSTART;TZID=America/Denver:20231012T130000
DTEND;TZID=America/Denver:20231012T143000
DTSTAMP:20260419T224713
CREATED:20230816T160231Z
LAST-MODIFIED:20230920T152017Z
UID:251171-1697115600-1697121000@gatewayassociation.ca
SUMMARY:Social Media Basics (3 of 4)
DESCRIPTION:Session 3 of 4 \nDuration 1.5 hr \nFacilitator: Toby \nPrivate – GTDI Program intake required prior to workshop: getdigital@gatewayassociation.ca \nSocial Media Basics is Part 2 of the Work Simulation. Completion of Part 1: Internet Basics is recommended prior to taking this 3 session workshop series. \nIncrease your understanding and use of social media! In this workshop we will go through understanding different types of social media and their uses\,  creating material for social media\, and managing your social media. \n 
URL:https://gatewayassociation.ca/calendar/social-media-basics-3-of-3/
END:VEVENT
BEGIN:VEVENT
DTSTART;TZID=America/Denver:20231012T110000
DTEND;TZID=America/Denver:20231012T120000
DTSTAMP:20260419T224713
CREATED:20230920T152437Z
LAST-MODIFIED:20230920T152437Z
UID:251481-1697108400-1697112000@gatewayassociation.ca
SUMMARY:Google Docs (2 of 2)
DESCRIPTION:Session: 2 of 2 \nDuration: 1 hr \nFacilitator: Lee \nPrivate – GTDI Program intake required prior to workshop: getdigital@gatewayassociation.ca \nIn this 2 session workshop series\, Participants will practice creating and sharing google documents\, explore the tools provided to help them write\, edit\, comment and chat. This workshop covers the Basics of google docs\, as well as file organization\, sharing\, and commenting.
URL:https://gatewayassociation.ca/calendar/google-docs-2-of-2-5/
END:VEVENT
BEGIN:VEVENT
DTSTART;TZID=America/Denver:20231012T100000
DTEND;TZID=America/Denver:20231012T110000
DTSTAMP:20260419T224713
CREATED:20230816T160523Z
LAST-MODIFIED:20230816T160523Z
UID:251177-1697104800-1697108400@gatewayassociation.ca
SUMMARY:Steam Tutorial
DESCRIPTION:Session 1 of 1 \nDuration 1 hr \nFacilitator: Lee \nPrivate – GTDI Program intake required prior to workshop: getdigital@gatewayassociation.ca \n\nStep by step tutorial for downloading and installing Steam – an online game platform. Steam is required for Online boardgames group.
URL:https://gatewayassociation.ca/calendar/steam-tutorial-15/
END:VEVENT
BEGIN:VEVENT
DTSTART;TZID=America/Denver:20231011T150000
DTEND;TZID=America/Denver:20231011T163000
DTSTAMP:20260419T224713
CREATED:20230816T160428Z
LAST-MODIFIED:20230816T160428Z
UID:251175-1697036400-1697041800@gatewayassociation.ca
SUMMARY:Online Boardgames
DESCRIPTION:Session: 1 of 1 \nDuration: 1.5 to 2 hr \nFacilitator: Lee \nPrivate – GTDI Program intake required prior to workshop signup: getdigital@gatewayassociation.ca \n\n**Requires Online Social Connections – Discord and Steam Tutorials as well as desktop or laptop computer.** \nCome hang out! Learn about setting up online accounts\, meet new friends\, socialize\, and have fun playing boardgames online. Meet new friends\, practise new skills\, have fun!
URL:https://gatewayassociation.ca/calendar/online-boardgames-15/
END:VEVENT
BEGIN:VEVENT
DTSTART;TZID=America/Denver:20231011T130000
DTEND;TZID=America/Denver:20231011T143000
DTSTAMP:20260419T224713
CREATED:20230816T160148Z
LAST-MODIFIED:20230920T151949Z
UID:251169-1697029200-1697034600@gatewayassociation.ca
SUMMARY:Social Media Basics (2 of 4)
DESCRIPTION:Session 2 of 4 \nDuration 1.5 hr \nFacilitator: Toby \nPrivate – GTDI Program intake required prior to workshop: getdigital@gatewayassociation.ca \nSocial Media Basics is Part 2 of the Work Simulation. Completion of Part 1: Internet Basics is recommended prior to taking this 3 session workshop series. \nIncrease your understanding and use of social media! In this workshop we will go through understanding different types of social media and their uses\,  creating material for social media\, and managing your social media. \n 
URL:https://gatewayassociation.ca/calendar/social-media-basics-2-of-3/
END:VEVENT
BEGIN:VEVENT
DTSTART;TZID=America/Denver:20231011T110000
DTEND;TZID=America/Denver:20231011T120000
DTSTAMP:20260419T224713
CREATED:20230920T152359Z
LAST-MODIFIED:20230920T152359Z
UID:251479-1697022000-1697025600@gatewayassociation.ca
SUMMARY:Google Docs (1 of 2)
DESCRIPTION:Session: 1 of 2 \nDuration: 1 hr \nFacilitator: Lee \nPrivate – GTDI Program intake required prior to workshop: getdigital@gatewayassociation.ca \nIn this 2 session workshop series\, Participants will practice creating and sharing google documents\, explore the tools provided to help them write\, edit\, comment and chat. This workshop covers the Basics of google docs\, as well as file organization\, sharing\, and commenting.
URL:https://gatewayassociation.ca/calendar/google-docs-1-of-2-5/
END:VEVENT
BEGIN:VEVENT
DTSTART;TZID=America/Denver:20231011T100000
DTEND;TZID=America/Denver:20231011T110000
DTSTAMP:20260419T224713
CREATED:20230816T160341Z
LAST-MODIFIED:20230816T160341Z
UID:251173-1697018400-1697022000@gatewayassociation.ca
SUMMARY:Email Basics
DESCRIPTION:Session: 1 of 1 \nDuration: 1 hr \nFacilitator: Lee \nPrivate – GTDI Program intake required prior to workshop: getdigital@gatewayassociation.ca \n\nLearn about and practice the basics of writing professional emails for your job search and workplace communication.
URL:https://gatewayassociation.ca/calendar/email-basics-34/
END:VEVENT
BEGIN:VEVENT
DTSTART;TZID=America/Denver:20231010T190000
DTEND;TZID=America/Denver:20231010T210000
DTSTAMP:20260419T224713
CREATED:20230720T164713Z
LAST-MODIFIED:20230831T215445Z
UID:250896-1696964400-1696971600@gatewayassociation.ca
SUMMARY:Families Forward\, Under 18
DESCRIPTION:Families Forward\, Under 18 \nTuesday\, October 10 \n7:00pm – 9:00pm | Online \nMonthly meeting for families with children under 18 with disabilities. \nWhere families can connect with other families\, learn from one another\, and explore issues that are important (such as schooling\, leadership\, and community and government support). \nOctober Topic: \nACT seeks to help individuals to struggle less with difficult things in their lives and mindfully connect with things that are most important in a way that is loving and respectful. With an introduction to the concept of mindfulness\, ACT does not attempt to directly change or stop unwanted thoughts or feelings\, but to develop a new mindful relationship with those experiences that can free a person up to being open\, and to take action consistent with what they care about. Join us for this brief introduction to the concepts of ACT and how they can help a caregiver care for their self. \nAbout the Presenter: \nTeunisje is a Registered Occupational Therapist and a Canadian Certified Counsellor. She has over 30 years of experience working with children\, teens\, and adults with disabilities and their families. She was trained in facilitating ACT workshops for caregivers of people with developmental disabilities by a group of clinicians and researchers from CAMH. Her most valuable experience is parenting an autistic daughter. She has found ACT concepts and tools invaluable in managing her own stress and self-care. \n  \nFacilitators: Yonique at Yonique@GatewayAssociation.ca and Stacy at Stacy@GatewayAssociation.ca \nRegister HERE
URL:https://gatewayassociation.ca/calendar/families-forward-under-18-9/
CATEGORIES:FRC
END:VEVENT
BEGIN:VEVENT
DTSTART;TZID=America/Denver:20231010T130000
DTEND;TZID=America/Denver:20231010T143000
DTSTAMP:20260419T224713
CREATED:20230816T154833Z
LAST-MODIFIED:20230920T151927Z
UID:251167-1696942800-1696948200@gatewayassociation.ca
SUMMARY:Social Media Basics (1 of 4)
DESCRIPTION:Session 1 of 4 \nDuration 1.5 hr \nFacilitator: Toby \nPrivate – GTDI Program intake required prior to workshop: getdigital@gatewayassociation.ca \nSocial Media Basics is Part 2 of the Work Simulation. Completion of Part 1: Internet Basics is recommended prior to taking this 3 session workshop series. \nIncrease your understanding and use of social media! In this workshop we will go through understanding different types of social media and their uses\,  creating material for social media\, and managing your social media. \n 
URL:https://gatewayassociation.ca/calendar/social-media-basics-1-of-3/
END:VEVENT
BEGIN:VEVENT
DTSTART;TZID=America/Denver:20231010T100000
DTEND;TZID=America/Denver:20231010T110000
DTSTAMP:20260419T224713
CREATED:20230816T154501Z
LAST-MODIFIED:20230816T154501Z
UID:251165-1696932000-1696935600@gatewayassociation.ca
SUMMARY:Discord
DESCRIPTION:Session 1 of 1 \nDuration 1 hr \nFacilitator: Lee \nPrivate – GTDI Program intake required prior to workshop: getdigital@gatewayassociation.ca \n\nStep by step tutorial for downloading and installing Discord – a free app that lets people chat using text\, voice or video. Discord is required for Online boardgames group
URL:https://gatewayassociation.ca/calendar/discord-2/
END:VEVENT
BEGIN:VEVENT
DTSTART;TZID=America/Denver:20231006T130000
DTEND;TZID=America/Denver:20231006T143000
DTSTAMP:20260419T224713
CREATED:20230920T151648Z
LAST-MODIFIED:20230920T151838Z
UID:251468-1696597200-1696602600@gatewayassociation.ca
SUMMARY:Internet Basics (4 of 4)
DESCRIPTION:Session 4 of 4 \nDuration 1.5 hr \nFacilitator: Toby \nPrivate – GTDI Program intake required prior to workshop: getdigital@gatewayassociation.ca \nThis 3 session workshop series (part 1 of the work simulation) helps learners find\, share\, and explore things online through a series of fun activities. Participants will use different google map features to find their way around town\, share their favourite places\, plan a vacation\, and compare different search engines. As a group\, learners will chat about fake news\, investigate stories on Snopes\, and chat about the media we take in everyday.
URL:https://gatewayassociation.ca/calendar/internet-basics-1-of-4-2/
END:VEVENT
BEGIN:VEVENT
DTSTART;TZID=America/Denver:20231005T180000
DTEND;TZID=America/Denver:20231005T210000
DTSTAMP:20260419T224713
CREATED:20230720T174833Z
LAST-MODIFIED:20230720T174856Z
UID:250951-1696528800-1696539600@gatewayassociation.ca
SUMMARY:Transition Planning for Adulthood (1 of 3)
DESCRIPTION:Transition Planning for Adulthood \nThursday\, October 5 \nThursday\, October 12 \nThursday\, October 19 \n  \n6:00pm – 9:00pm | Online \n  \nA 3-part workshop series exploring the critical transition to adulthood for 14-20 year-olds and how to create a plan for the future.  \nJoin our 3-part workshop series that engages families in building knowledge when navigating this critical time for 14-20 year olds. This workshop series includes topics on: life transitions\, valued roles in the community\, visioning and planning\, and navigating the systems.  \n  \n Note: All three workshops must be taken consecutively.   \nFacilitator: Yonique at Yonique@GatewayAssociation.ca \nRegister HERE
URL:https://gatewayassociation.ca/calendar/transition-planning-for-adulthood-1-of-3/
CATEGORIES:FRC
END:VEVENT
BEGIN:VEVENT
DTSTART;TZID=America/Denver:20231005T150000
DTEND;TZID=America/Denver:20231005T160000
DTSTAMP:20260419T224713
CREATED:20230816T154403Z
LAST-MODIFIED:20230816T154403Z
UID:251162-1696518000-1696521600@gatewayassociation.ca
SUMMARY:Zoom Basics
DESCRIPTION:Session: 1 of 1 \nDuration: 1 hr \nFacilitator: Toby \nPrivate – GTDI Program intake required prior to workshop: getdigital@gatewayassociation.ca \n\nLearn what you need to know to participate in online Zoom meetings. Explore all the cool features of the program\, practice your digital skills and build your zoom social skills.
URL:https://gatewayassociation.ca/calendar/zoom-basics-20/
END:VEVENT
BEGIN:VEVENT
DTSTART;TZID=America/Denver:20231005T130000
DTEND;TZID=America/Denver:20231005T143000
DTSTAMP:20260419T224713
CREATED:20230816T153844Z
LAST-MODIFIED:20230920T151812Z
UID:251158-1696510800-1696516200@gatewayassociation.ca
SUMMARY:Internet Basics (3 of 4)
DESCRIPTION:Session 3 of 4 \nDuration 1.5 hr \nFacilitator: Toby \nPrivate – GTDI Program intake required prior to workshop: getdigital@gatewayassociation.ca \nThis 3 session workshop series (part 1 of the work simulation) helps learners find\, share\, and explore things online through a series of fun activities. Participants will use different google map features to find their way around town\, share their favourite places\, plan a vacation\, and compare different search engines. As a group\, learners will chat about fake news\, investigate stories on Snopes\, and chat about the media we take in everyday.
URL:https://gatewayassociation.ca/calendar/internet-basics-3-of-3-4/
END:VEVENT
BEGIN:VEVENT
DTSTART;TZID=America/Denver:20231005T110000
DTEND;TZID=America/Denver:20231005T120000
DTSTAMP:20260419T224713
CREATED:20230816T153413Z
LAST-MODIFIED:20230816T153413Z
UID:251152-1696503600-1696507200@gatewayassociation.ca
SUMMARY:ePortfolio Series (3 of 3)
DESCRIPTION:Session 3 of 3 \nDuration 1 hr \nFacilitator: Lee \nPrivate – GTDI Program intake required prior to workshop: getdigital@gatewayassociation.ca \n\nIn the eportfolio workshop series\, participants will learn about the different types of portfolios\, how to use google sites\, and the basics of layout and design. Learners will choose the type of portfolio they want to build and the subject they want to focus on. They will select and add content to their sites along with descriptions\, statements about their motivation\, interests\, skills\, and hobbies. Learners will work on their own between classes.
URL:https://gatewayassociation.ca/calendar/eportfolio-series-3-of-3-3/
END:VEVENT
BEGIN:VEVENT
DTSTART;TZID=America/Denver:20231004T150000
DTEND;TZID=America/Denver:20231004T163000
DTSTAMP:20260419T224713
CREATED:20230816T154059Z
LAST-MODIFIED:20230816T154059Z
UID:251160-1696431600-1696437000@gatewayassociation.ca
SUMMARY:Online Boardgames
DESCRIPTION:Session: 1 of 1 \nDuration: 1.5 to 2 hr \nFacilitator: Lee \nPrivate – GTDI Program intake required prior to workshop signup: getdigital@gatewayassociation.ca \n\n**Requires Online Social Connections – Discord and Steam Tutorials as well as desktop or laptop computer.** \nCome hang out! Learn about setting up online accounts\, meet new friends\, socialize\, and have fun playing boardgames online. Meet new friends\, practise new skills\, have fun!
URL:https://gatewayassociation.ca/calendar/online-boardgames-14/
END:VEVENT
BEGIN:VEVENT
DTSTART;TZID=America/Denver:20231004T130000
DTEND;TZID=America/Denver:20231004T143000
DTSTAMP:20260419T224713
CREATED:20230816T153758Z
LAST-MODIFIED:20230920T151745Z
UID:251156-1696424400-1696429800@gatewayassociation.ca
SUMMARY:Internet Basic (2 of 4)
DESCRIPTION:Session 2 of 4 \nDuration 1.5 hr \nFacilitator: Toby \nPrivate – GTDI Program intake required prior to workshop: getdigital@gatewayassociation.ca \nThis 3 session workshop series (part 1 of the work simulation) helps learners find\, share\, and explore things online through a series of fun activities. Participants will use different google map features to find their way around town\, share their favourite places\, plan a vacation\, and compare different search engines. As a group\, learners will chat about fake news\, investigate stories on Snopes\, and chat about the media we take in everyday.
URL:https://gatewayassociation.ca/calendar/internet-basic-2-of-3/
END:VEVENT
BEGIN:VEVENT
DTSTART;TZID=America/Denver:20231004T110000
DTEND;TZID=America/Denver:20231004T120000
DTSTAMP:20260419T224713
CREATED:20230816T153327Z
LAST-MODIFIED:20230816T153327Z
UID:251150-1696417200-1696420800@gatewayassociation.ca
SUMMARY:ePortfolio Series (2 of 3)
DESCRIPTION:Session 2 of 3 \nDuration 1 hr \nFacilitator: Lee \nPrivate – GTDI Program intake required prior to workshop: getdigital@gatewayassociation.ca \n\nIn the eportfolio workshop series\, participants will learn about the different types of portfolios\, how to use google sites\, and the basics of layout and design. Learners will choose the type of portfolio they want to build and the subject they want to focus on. They will select and add content to their sites along with descriptions\, statements about their motivation\, interests\, skills\, and hobbies. Learners will work on their own between classes.
URL:https://gatewayassociation.ca/calendar/eportfolio-series-2-of-3-2/
END:VEVENT
BEGIN:VEVENT
DTSTART;TZID=America/Denver:20231004T100000
DTEND;TZID=America/Denver:20231004T110000
DTSTAMP:20260419T224713
CREATED:20230816T153004Z
LAST-MODIFIED:20230816T153004Z
UID:251146-1696413600-1696417200@gatewayassociation.ca
SUMMARY:Google Drive (2 of 2)
DESCRIPTION:Session: 2 of 2 \nDuration: 1 hr \nFacilitator: Lee \nPrivate – GTDI Program intake required prior to workshop: getdigital@gatewayassociation.ca \n  \nLearn how to create a google accounts\, access google drive\, upload files\, create folders\, search for files. Group discussion on cloud storage\, strong passwords\, file naming conventions and keeping documents and folders organized.
URL:https://gatewayassociation.ca/calendar/google-drive-2-of-2-4/
END:VEVENT
BEGIN:VEVENT
DTSTART;TZID=America/Denver:20231003T130000
DTEND;TZID=America/Denver:20231003T143000
DTSTAMP:20260419T224713
CREATED:20230816T153655Z
LAST-MODIFIED:20230920T151723Z
UID:251154-1696338000-1696343400@gatewayassociation.ca
SUMMARY:Internet Basics (1 of 4)
DESCRIPTION:Session 1 of 4 \nDuration 1.5 hr \nFacilitator: Toby \nPrivate – GTDI Program intake required prior to workshop: getdigital@gatewayassociation.ca \nThis 3 session workshop series (part 1 of the work simulation) helps learners find\, share\, and explore things online through a series of fun activities. Participants will use different google map features to find their way around town\, share their favourite places\, plan a vacation\, and compare different search engines. As a group\, learners will chat about fake news\, investigate stories on Snopes\, and chat about the media we take in everyday.
URL:https://gatewayassociation.ca/calendar/internet-basics-1-of-3-4/
END:VEVENT
BEGIN:VEVENT
DTSTART;TZID=America/Denver:20231003T110000
DTEND;TZID=America/Denver:20231003T120000
DTSTAMP:20260419T224713
CREATED:20230816T153228Z
LAST-MODIFIED:20230816T153228Z
UID:251148-1696330800-1696334400@gatewayassociation.ca
SUMMARY:ePortfolio Series (1 of 3)
DESCRIPTION:Session 1 of 3 \nDuration 1 hr \nFacilitator: Lee \nPrivate – GTDI Program intake required prior to workshop: getdigital@gatewayassociation.ca \n\nIn the eportfolio workshop series\, participants will learn about the different types of portfolios\, how to use google sites\, and the basics of layout and design. Learners will choose the type of portfolio they want to build and the subject they want to focus on. They will select and add content to their sites along with descriptions\, statements about their motivation\, interests\, skills\, and hobbies. Learners will work on their own between classes.
URL:https://gatewayassociation.ca/calendar/eportfolio-series-1-of-3-3/
END:VEVENT
BEGIN:VEVENT
DTSTART;TZID=America/Denver:20231003T100000
DTEND;TZID=America/Denver:20231003T110000
DTSTAMP:20260419T224713
CREATED:20230816T152909Z
LAST-MODIFIED:20230816T152909Z
UID:251144-1696327200-1696330800@gatewayassociation.ca
SUMMARY:Google Drive (1 of 2)
DESCRIPTION:Session: 1 of 2 \nDuration: 1 hr \nFacilitator: Lee \nPrivate – GTDI Program intake required prior to workshop: getdigital@gatewayassociation.ca \n  \nLearn how to create a google accounts\, access google drive\, upload files\, create folders\, search for files. Group discussion on cloud storage\, strong passwords\, file naming conventions and keeping documents and folders organized.
URL:https://gatewayassociation.ca/calendar/google-drive-1-of-2-4/
END:VEVENT
BEGIN:VEVENT
DTSTART;TZID=America/Denver:20230929T150000
DTEND;TZID=America/Denver:20230929T163000
DTSTAMP:20260419T224713
CREATED:20230816T194607Z
LAST-MODIFIED:20230816T194607Z
UID:251302-1695999600-1696005000@gatewayassociation.ca
SUMMARY:Open Art Studio: What Brings You Joy?
DESCRIPTION:WHAT BRINGS YOU JOY?\n\n(Online) Each month will include a different creative prompt or approach to art-making that aims to inspire your inner artist and bring us together in creativity; documenting the everyday ideas and experiences of persons with disabilities. All levels and abilities welcome! \n \nClick HERE to register
URL:https://gatewayassociation.ca/calendar/open-art-studio-what-brings-you-joy/
CATEGORIES:MentorAbility Alberta
END:VEVENT
BEGIN:VEVENT
DTSTART;TZID=America/Denver:20230928T190000
DTEND;TZID=America/Denver:20230928T210000
DTSTAMP:20260419T224713
CREATED:20230720T172406Z
LAST-MODIFIED:20230829T164710Z
UID:250924-1695927600-1695934800@gatewayassociation.ca
SUMMARY:Families Forward\, Over 18
DESCRIPTION:Families Forward Over 18 \nThursday\, September 28 \n7:00pm – 9:00pm | Online \n  \nWhere families can connect with other families\, learn from one another\, and explore issues that are important (such as housing\, relationship building\, and community and government supports). \nSept 28\, 2023 Topic: \nHOUSING IN ALBERTA: Autism Alberta presents information on housing solutions. \nThis session is for guardians/caregivers of youth/adults living with disabilities. We will view the roadmap to housing and discuss related areas such as what is needed to move out\, where to find affordable housing\, and steps to take to get your family member into a home of their own. \nFacilitator: Betty at Betty@GatewayAssociation.ca \nRegister HERE
URL:https://gatewayassociation.ca/calendar/families-forward-over-18-8/
CATEGORIES:FRC
END:VEVENT
BEGIN:VEVENT
DTSTART;TZID=America/Denver:20230928T100000
DTEND;TZID=America/Denver:20230928T120000
DTSTAMP:20260419T224713
CREATED:20230816T191555Z
LAST-MODIFIED:20230816T191621Z
UID:251263-1695895200-1695902400@gatewayassociation.ca
SUMMARY:Interview Roundtable: Learning and Laughing Together - Practice
DESCRIPTION:Interview Roundtable: Learning and Laughing Together – Practice \nJoin us for a dynamic and interactive workshop designed to help you ace your next job interview. In our Interview Roundtable\, you’ll have the opportunity to connect with fellow job seekers and share your experiences and insights. Our experienced facilitators will guide you through real-life interview scenarios and help you develop the skills and confidence you need to succeed. \n  \nSpots are limited. To register\, please e-mail Marnie@gatewayassociation.ca. Registration will be first-come first-serve. \nOnline or In-Person: IN-PERSON – YYC
URL:https://gatewayassociation.ca/calendar/251263/
CATEGORIES:ERC
END:VEVENT
BEGIN:VEVENT
DTSTART;TZID=America/Denver:20230927T180000
DTEND;TZID=America/Denver:20230927T210000
DTSTAMP:20260419T224713
CREATED:20230720T174512Z
LAST-MODIFIED:20230720T174512Z
UID:250949-1695837600-1695848400@gatewayassociation.ca
SUMMARY:Abuse Prevention and Response Protocol (FMS Admin)
DESCRIPTION:Abuse Prevention and Response Protocol (FMS Admin) \nWednesday\, September 27 \n6:00pm – 9:00pm | Online \n  \nThis workshop\, for FMS Administrators\, provides an understanding of the protocol\, explores what can be done to reduce the risk of abuse\, identifies types of abuse\, and how to handle situations when abuse is suspected. \nNote: This is a mandatory course for FMS Administrators under Family Managed Services with Disability Services. \n  \nFacilitator: Betty at Betty@GatewayAssociation.ca \nRegister HERE
URL:https://gatewayassociation.ca/calendar/abuse-prevention-and-response-protocol-fms-admin-6/
CATEGORIES:FRC
END:VEVENT
END:VCALENDAR