BEGIN:VCALENDAR
VERSION:2.0
PRODID:-//Gateway Association - ECPv6.15.20//NONSGML v1.0//EN
CALSCALE:GREGORIAN
METHOD:PUBLISH
X-WR-CALNAME:Gateway Association
X-ORIGINAL-URL:https://gatewayassociation.ca
X-WR-CALDESC:Events for Gateway Association
REFRESH-INTERVAL;VALUE=DURATION:PT1H
X-Robots-Tag:noindex
X-PUBLISHED-TTL:PT1H
BEGIN:VTIMEZONE
TZID:America/Denver
BEGIN:DAYLIGHT
TZOFFSETFROM:-0700
TZOFFSETTO:-0600
TZNAME:MDT
DTSTART:20220313T090000
END:DAYLIGHT
BEGIN:STANDARD
TZOFFSETFROM:-0600
TZOFFSETTO:-0700
TZNAME:MST
DTSTART:20221106T080000
END:STANDARD
BEGIN:DAYLIGHT
TZOFFSETFROM:-0700
TZOFFSETTO:-0600
TZNAME:MDT
DTSTART:20230312T090000
END:DAYLIGHT
BEGIN:STANDARD
TZOFFSETFROM:-0600
TZOFFSETTO:-0700
TZNAME:MST
DTSTART:20231105T080000
END:STANDARD
BEGIN:DAYLIGHT
TZOFFSETFROM:-0700
TZOFFSETTO:-0600
TZNAME:MDT
DTSTART:20240310T090000
END:DAYLIGHT
BEGIN:STANDARD
TZOFFSETFROM:-0600
TZOFFSETTO:-0700
TZNAME:MST
DTSTART:20241103T080000
END:STANDARD
BEGIN:DAYLIGHT
TZOFFSETFROM:-0700
TZOFFSETTO:-0600
TZNAME:MDT
DTSTART:20250309T090000
END:DAYLIGHT
BEGIN:STANDARD
TZOFFSETFROM:-0600
TZOFFSETTO:-0700
TZNAME:MST
DTSTART:20251102T080000
END:STANDARD
END:VTIMEZONE
BEGIN:VEVENT
DTSTART;TZID=America/Denver:20231207T180000
DTEND;TZID=America/Denver:20231207T193000
DTSTAMP:20260419T210024
CREATED:20231127T195735Z
LAST-MODIFIED:20231127T195735Z
UID:251753-1701972000-1701977400@gatewayassociation.ca
SUMMARY:Financial Literacy Series\, Session 2: Debt Smarts
DESCRIPTION:Gateway Association is offering the Each One Teach One Financial Literacy workshop series\, a 3-part financial literacy program covering basic budgeting. \nBy registering for Part 2\, you will partake in a 1.5 hr workshop of virtual and interactive zoom sessions\, covering Debt Smarts.\nThe topics that will be discussed are:\n✓ Tips to manage your debt\n✓ When it makes sense to get a consolidation loan\n✓ About the difference between consumer proposal and bankruptcy \nNote: We suggest that participants have some experience with or basic knowledge of financial institutions. \nIf you require any accommodations\, please let us know prior to the start date of the workshop series.\nThank you\,\ninfo@gatewayassociation.ca
URL:https://gatewayassociation.ca/calendar/financial-literacy-series-session-2-debt-smarts/
CATEGORIES:ERC,FRC,MentorAbility Alberta
END:VEVENT
BEGIN:VEVENT
DTSTART;TZID=America/Denver:20231211T110000
DTEND;TZID=America/Denver:20231211T120000
DTSTAMP:20260419T210024
CREATED:20230817T161407Z
LAST-MODIFIED:20230817T161407Z
UID:251396-1702292400-1702296000@gatewayassociation.ca
SUMMARY:Google Drive (1 of 2)
DESCRIPTION:Session: 1 of 2 \nDuration: 1 hr \nFacilitator: Lee \nPrivate – GTDI Program intake required prior to workshop: getdigital@gatewayassociation.ca \n  \nLearn how to create a google accounts\, access google drive\, upload files\, create folders\, search for files. Group discussion on cloud storage\, strong passwords\, file naming conventions and keeping documents and folders organized.
URL:https://gatewayassociation.ca/calendar/google-drive-1-of-2-6/
END:VEVENT
BEGIN:VEVENT
DTSTART;TZID=America/Denver:20231211T130000
DTEND;TZID=America/Denver:20231211T140000
DTSTAMP:20260419T210024
CREATED:20230817T161632Z
LAST-MODIFIED:20230817T161632Z
UID:251404-1702299600-1702303200@gatewayassociation.ca
SUMMARY:You TOO Can YouTube (1 of 4)
DESCRIPTION:Session: 1 of 4 \nDuration: 1 hr \nFacilitator: Toby \nPrivate – GTDI Program intake required prior to workshop: getdigital@gatewayassociation.ca \n\nLearn about being a YouTube viewer and a YouTube creator. Find out how to make your own YouTube Channel and what to consider when you are choosing videos to watch. Create YouTube content\, learn about what to consider when watching videos as well as how to save and organize videos.
URL:https://gatewayassociation.ca/calendar/you-too-can-youtube-1-of-4-5/
END:VEVENT
BEGIN:VEVENT
DTSTART;TZID=America/Denver:20231212T110000
DTEND;TZID=America/Denver:20231212T120000
DTSTAMP:20260419T210024
CREATED:20230817T161435Z
LAST-MODIFIED:20230817T161435Z
UID:251398-1702378800-1702382400@gatewayassociation.ca
SUMMARY:Google Drive (2 of 2)
DESCRIPTION:Session: 2 of 2 \nDuration: 1 hr \nFacilitator: Lee \nPrivate – GTDI Program intake required prior to workshop: getdigital@gatewayassociation.ca \n  \nLearn how to create a google accounts\, access google drive\, upload files\, create folders\, search for files. Group discussion on cloud storage\, strong passwords\, file naming conventions and keeping documents and folders organized.
URL:https://gatewayassociation.ca/calendar/google-drive-2-of-2-6/
END:VEVENT
BEGIN:VEVENT
DTSTART;TZID=America/Denver:20231212T130000
DTEND;TZID=America/Denver:20231212T140000
DTSTAMP:20260419T210024
CREATED:20230817T161704Z
LAST-MODIFIED:20230817T161704Z
UID:251406-1702386000-1702389600@gatewayassociation.ca
SUMMARY:You TOO Can YouTube (2 of 4)
DESCRIPTION:Session: 2 of 4 \nDuration: 1 hr \nFacilitator: Toby \nPrivate – GTDI Program intake required prior to workshop: getdigital@gatewayassociation.ca \n\nLearn about being a YouTube viewer and a YouTube creator. Find out how to make your own YouTube Channel and what to consider when you are choosing videos to watch. Create YouTube content\, learn about what to consider when watching videos as well as how to save and organize videos.
URL:https://gatewayassociation.ca/calendar/you-too-can-youtube-2-of-4-5/
END:VEVENT
BEGIN:VEVENT
DTSTART;TZID=America/Denver:20231212T180000
DTEND;TZID=America/Denver:20231212T193000
DTSTAMP:20260419T210024
CREATED:20231127T201759Z
LAST-MODIFIED:20231127T201759Z
UID:251755-1702404000-1702409400@gatewayassociation.ca
SUMMARY:Financial Literacy Series\, Session 3: Identity Theft and Fraud Prevention
DESCRIPTION:Gateway Association is offering the Each One Teach One Financial Literacy workshop series\, a 3-part financial literacy program covering basic budgeting. \nBy registering for Part 3\, you will partake in a 1.5 hr workshop of virtual and interactive zoom sessions\, covering Debt Smarts.\nThe topics that will be discussed are:\n✓ Steps you can take to increase your fraud and identify theft awareness\n✓ How to guard your financial information\n✓ How to protect your computer \nNote: We suggest that participants have some experience with or basic knowledge of financial institutions. \nIf you require any accommodations\, please let us know prior to the start date of the workshop series.\nThank you\,\ninfo@gatewayassociation.ca
URL:https://gatewayassociation.ca/calendar/financial-literacy-series-session-3-identity-theft-and-fraud-prevention/
CATEGORIES:ERC,FRC,MentorAbility Alberta
END:VEVENT
BEGIN:VEVENT
DTSTART;TZID=America/Denver:20231213T100000
DTEND;TZID=America/Denver:20231213T150000
DTSTAMP:20260419T210024
CREATED:20231024T174113Z
LAST-MODIFIED:20231024T174113Z
UID:251634-1702461600-1702479600@gatewayassociation.ca
SUMMARY:DROP IN WEDNESDAYS at the Calgary Employment Resource Centre
DESCRIPTION:DROP IN Wednesdays at the Calgary Employment Resource Centre \nFor job seekers\, each Wednesday drop in any time between 10am and 3pm to connect with ERC team members to work on resumes\, interview skills\, job search and meet other job seekers! \n1206 20 AVE SE \nCalgary\, AB
URL:https://gatewayassociation.ca/calendar/drop-in-wednesdays-at-the-calgary-employment-resource-centre-3/
CATEGORIES:ERC
END:VEVENT
BEGIN:VEVENT
DTSTART;TZID=America/Denver:20231213T110000
DTEND;TZID=America/Denver:20231213T120000
DTSTAMP:20260419T210024
CREATED:20230817T161520Z
LAST-MODIFIED:20230817T161520Z
UID:251400-1702465200-1702468800@gatewayassociation.ca
SUMMARY:Google Docs (1 of 2)
DESCRIPTION:Session: 1 of 2 \nDuration: 1 hr \nFacilitator: Lee \nPrivate – GTDI Program intake required prior to workshop: getdigital@gatewayassociation.ca \n\nIn this 2 session workshop series\, Participants will practice creating and sharing google documents\, explore the tools provided to help them write\, edit\, comment and chat. This workshop covers the Basics of google docs\, as well as file organization\, sharing\, and commenting.
URL:https://gatewayassociation.ca/calendar/google-docs-1-of-2-4/
END:VEVENT
BEGIN:VEVENT
DTSTART;TZID=America/Denver:20231213T130000
DTEND;TZID=America/Denver:20231213T140000
DTSTAMP:20260419T210024
CREATED:20230817T161737Z
LAST-MODIFIED:20230817T161737Z
UID:251408-1702472400-1702476000@gatewayassociation.ca
SUMMARY:You TOO Can YouTube (3 of 4)
DESCRIPTION:Session: 3 of 4 \nDuration: 1 hr \nFacilitator: Toby \nPrivate – GTDI Program intake required prior to workshop: getdigital@gatewayassociation.ca \n\nLearn about being a YouTube viewer and a YouTube creator. Find out how to make your own YouTube Channel and what to consider when you are choosing videos to watch. Create YouTube content\, learn about what to consider when watching videos as well as how to save and organize videos.
URL:https://gatewayassociation.ca/calendar/you-too-can-youtube-3-of-4-5/
END:VEVENT
BEGIN:VEVENT
DTSTART;TZID=America/Denver:20231213T143000
DTEND;TZID=America/Denver:20231213T153000
DTSTAMP:20260419T210024
CREATED:20230817T161859Z
LAST-MODIFIED:20230817T161859Z
UID:251412-1702477800-1702481400@gatewayassociation.ca
SUMMARY:File Management and PDFs (1 of 2)
DESCRIPTION:Session 1 of 2 \nDuration 1 hr \nFacilitator: Toby \nPrivate – GTDI Program intake required prior to workshop: getdigital@gatewayassociation.ca \n\nIn this workshop participants will learn about saving files\, organizing and finding files\, converting documents to pdfs\, what a is pdf\, and how to use pdfs.
URL:https://gatewayassociation.ca/calendar/file-management-and-pdfs-1-of-2-3/
END:VEVENT
BEGIN:VEVENT
DTSTART;TZID=America/Denver:20231213T150000
DTEND;TZID=America/Denver:20231213T163000
DTSTAMP:20260419T210024
CREATED:20230817T162027Z
LAST-MODIFIED:20230817T162027Z
UID:251416-1702479600-1702485000@gatewayassociation.ca
SUMMARY:Online Boardgames
DESCRIPTION:Session: 1 of 1 \nDuration: 1.5 to 2 hr \nFacilitator: Lee \nPrivate – GTDI Program intake required prior to workshop signup: getdigital@gatewayassociation.ca \n\n**Requires Online Social Connections – Discord and Steam Tutorials as well as desktop or laptop computer.** \nCome hang out! Learn about setting up online accounts\, meet new friends\, socialize\, and have fun playing boardgames online. Meet new friends\, practise new skills\, have fun!
URL:https://gatewayassociation.ca/calendar/online-boardgames-24/
END:VEVENT
BEGIN:VEVENT
DTSTART;TZID=America/Denver:20231214T110000
DTEND;TZID=America/Denver:20231214T120000
DTSTAMP:20260419T210024
CREATED:20230817T161553Z
LAST-MODIFIED:20230817T161553Z
UID:251402-1702551600-1702555200@gatewayassociation.ca
SUMMARY:Google Docs (2 of 2)
DESCRIPTION:Session: 2 of 2 \nDuration: 1 hr \nFacilitator: Lee \nPrivate – GTDI Program intake required prior to workshop: getdigital@gatewayassociation.ca \n\nIn this 2 session workshop series\, Participants will practice creating and sharing google documents\, explore the tools provided to help them write\, edit\, comment and chat. This workshop covers the Basics of google docs\, as well as file organization\, sharing\, and commenting.
URL:https://gatewayassociation.ca/calendar/google-docs-2-of-2-4/
END:VEVENT
BEGIN:VEVENT
DTSTART;TZID=America/Denver:20231214T130000
DTEND;TZID=America/Denver:20231214T140000
DTSTAMP:20260419T210024
CREATED:20230817T161813Z
LAST-MODIFIED:20230817T161813Z
UID:251410-1702558800-1702562400@gatewayassociation.ca
SUMMARY:You TOO Can YouTube (4 of 4)
DESCRIPTION:Session: 4 of 4 \nDuration: 1 hr \nFacilitator: Toby \nPrivate – GTDI Program intake required prior to workshop: getdigital@gatewayassociation.ca \n\nLearn about being a YouTube viewer and a YouTube creator. Find out how to make your own YouTube Channel and what to consider when you are choosing videos to watch. Create YouTube content\, learn about what to consider when watching videos as well as how to save and organize videos.
URL:https://gatewayassociation.ca/calendar/you-too-can-youtube-4-of-4-5/
END:VEVENT
BEGIN:VEVENT
DTSTART;TZID=America/Denver:20231214T143000
DTEND;TZID=America/Denver:20231214T153000
DTSTAMP:20260419T210024
CREATED:20230817T161942Z
LAST-MODIFIED:20230817T161942Z
UID:251414-1702564200-1702567800@gatewayassociation.ca
SUMMARY:File Management and PDFs (2 of 2)
DESCRIPTION:Session 2 of 2 \nDuration 1 hr \nFacilitator: Toby \nPrivate – GTDI Program intake required prior to workshop: getdigital@gatewayassociation.ca \n\nIn this workshop participants will learn about saving files\, organizing and finding files\, converting documents to pdfs\, what a is pdf\, and how to use pdfs.
URL:https://gatewayassociation.ca/calendar/file-management-and-pdfs-2-of-2-4/
END:VEVENT
BEGIN:VEVENT
DTSTART;TZID=America/Denver:20240108T130000
DTEND;TZID=America/Denver:20240108T140000
DTSTAMP:20260419T210024
CREATED:20231205T222636Z
LAST-MODIFIED:20231205T222636Z
UID:251806-1704718800-1704722400@gatewayassociation.ca
SUMMARY:Explore Canva (1 of 2)
DESCRIPTION:Session 1 of 2  \nDuration 1 hr   \nFacilitator: Toby  \nPrivate – GTDI Program intake required prior to workshop: getdigital@gatewayassociation.ca  \n  \nLet your imagination be your guide as you create your own posters\, flyers\, cards\, videos\, and more to share information important to you. 
URL:https://gatewayassociation.ca/calendar/explore-canva-1-of-2-2/
END:VEVENT
BEGIN:VEVENT
DTSTART;TZID=America/Denver:20240109T110000
DTEND;TZID=America/Denver:20240109T120000
DTSTAMP:20260419T210024
CREATED:20231205T222546Z
LAST-MODIFIED:20231205T222546Z
UID:251804-1704798000-1704801600@gatewayassociation.ca
SUMMARY:Discord Tutorial
DESCRIPTION:Session 1 of 1  \nDuration 1 hr  \nFacilitator: Lee  \nPrivate – GTDI Program intake required prior to workshop: getdigital@gatewayassociation.ca  \n  \nStep by step tutorial for downloading and installing Discord – a free app that lets people chat using text\, voice or video. Discord is required for Online boardgames group. 
URL:https://gatewayassociation.ca/calendar/discord-tutorial-17/
END:VEVENT
BEGIN:VEVENT
DTSTART;TZID=America/Denver:20240109T130000
DTEND;TZID=America/Denver:20240109T140000
DTSTAMP:20260419T210024
CREATED:20231205T222713Z
LAST-MODIFIED:20231205T222713Z
UID:251808-1704805200-1704808800@gatewayassociation.ca
SUMMARY:Explore Canva (2/2)
DESCRIPTION:Session 2 of 2  \nDuration 1 hr   \nFacilitator: Toby  \nPrivate – GTDI Program intake required prior to workshop: getdigital@gatewayassociation.ca  \n  \nLet your imagination be your guide as you create your own posters\, flyers\, cards\, videos\, and more to share information important to you. 
URL:https://gatewayassociation.ca/calendar/explore-canva-2-2-7/
END:VEVENT
BEGIN:VEVENT
DTSTART;TZID=America/Denver:20240109T130000
DTEND;TZID=America/Denver:20240109T140000
DTSTAMP:20260419T210024
CREATED:20231211T215746Z
LAST-MODIFIED:20231211T215746Z
UID:251871-1704805200-1704808800@gatewayassociation.ca
SUMMARY:Finding Your Purpose
DESCRIPTION:Are you wondering what your purpose is? Stuck and not sure where to go? Then we have a workshop for you! Come join us for self exploration and learning. We will talk about what people need in life to grow and how we can access those resources. As well\, we will explore a personality test and leave the workshop with a deeper understanding of who we are and where we would like to go! \nThis workshop is being offered online. \nThis workshop is for registered participants only. To register\, please connect with us at Get-Work@GatewayAssociation.ca
URL:https://gatewayassociation.ca/calendar/finding-your-purpose-4/
CATEGORIES:ERC
END:VEVENT
BEGIN:VEVENT
DTSTART;TZID=America/Denver:20240109T190000
DTEND;TZID=America/Denver:20240109T210000
DTSTAMP:20260419T210024
CREATED:20230720T165155Z
LAST-MODIFIED:20230803T143311Z
UID:250900-1704826800-1704834000@gatewayassociation.ca
SUMMARY:Families Forward\, Under 18
DESCRIPTION:Families Forward\, Under 18 \nTuesday\, January 9 \n7:00pm – 9:00pm | Online \nMonthly meeting for families with children under 18 with disabilities. \nWhere families can connect with other families\, learn from one another\, and explore issues that are important (such as schooling\, leadership\, and community and government support). \n  \nFacilitators: Yonique at Yonique@GatewayAssociation.ca and Stacy at Stacy@GatewayAssociation.ca \n  \nRgister here: https://www.eventbrite.ca/e/255535783407
URL:https://gatewayassociation.ca/calendar/families-forward-under-18-11/
CATEGORIES:FRC
END:VEVENT
BEGIN:VEVENT
DTSTART;TZID=America/Denver:20240110T100000
DTEND;TZID=America/Denver:20240110T150000
DTSTAMP:20260419T210024
CREATED:20231220T152043Z
LAST-MODIFIED:20231220T152043Z
UID:251983-1704880800-1704898800@gatewayassociation.ca
SUMMARY:DROP IN WEDNESDAYS at Calgary Employment Resource Centre
DESCRIPTION:DROP IN WEDNESDAYS \nat the Calgary Employment Resource Centre \nFor job seekers\, each Wednesday drop in any time between 10am and 3pm to connect with ERC team members to work on resumes\, interview skills\, job search and meet other job seekers! \n1206 20 AVE SE \nCalgary\, AB
URL:https://gatewayassociation.ca/calendar/drop-in-wednesdays-at-calgary-employment-resource-centre-3/
CATEGORIES:ERC
END:VEVENT
BEGIN:VEVENT
DTSTART;TZID=America/Denver:20240110T130000
DTEND;TZID=America/Denver:20240110T140000
DTSTAMP:20260419T210024
CREATED:20231205T222754Z
LAST-MODIFIED:20231205T222754Z
UID:251810-1704891600-1704895200@gatewayassociation.ca
SUMMARY:Zoom Basics
DESCRIPTION:Session: 1 of 1  \nDuration: 1 hr   \nFacilitator: Toby  \nPrivate – GTDI Program intake required prior to workshop: getdigital@gatewayassociation.ca  \n  \nLearn what you need to know to participate in online Zoom meetings. Explore all the cool features of the program\, practice your digital skills and build your zoom social skills. 
URL:https://gatewayassociation.ca/calendar/zoom-basics-23/
END:VEVENT
BEGIN:VEVENT
DTSTART;TZID=America/Denver:20240110T150000
DTEND;TZID=America/Denver:20240110T163000
DTSTAMP:20260419T210024
CREATED:20231205T222940Z
LAST-MODIFIED:20231205T222940Z
UID:251814-1704898800-1704904200@gatewayassociation.ca
SUMMARY:Online Boardgames
DESCRIPTION:Session: 1 of 1 \nDuration: 1.5 to 2 hr \nFacilitator: Lee \nPrivate – GTDI Program intake required prior to workshop signup: getdigital@gatewayassociation.ca \n\n**Requires Online Social Connections – Discord and Steam Tutorials as well as desktop or laptop computer.** \nCome hang out! Learn about setting up online accounts\, meet new friends\, socialize\, and have fun playing boardgames online. Meet new friends\, practise new skills\, have fun!
URL:https://gatewayassociation.ca/calendar/online-boardgames-21/
END:VEVENT
BEGIN:VEVENT
DTSTART;TZID=America/Denver:20240110T180000
DTEND;TZID=America/Denver:20240110T210000
DTSTAMP:20260419T210024
CREATED:20230724T124443Z
LAST-MODIFIED:20231220T184609Z
UID:250980-1704909600-1704920400@gatewayassociation.ca
SUMMARY:Abuse Prevention and Response Protocol (FMS Admin)
DESCRIPTION:Abuse Prevention and Response Protocol (FMS Admin) \nWednesday\, January 10 \n6:00 – 9:00pm | Online \n  \nThis workshop\, for FMS Administrators\, provides an understanding of the protocol\, explores what can be done to reduce the risk of abuse\, identifies types of abuse\, and how to handle situations when abuse is suspected. \nNote: This is a mandatory course for FMS Administrators under Family Managed Services with Disability Services. \nFacilitator: Betty at Betty@GatewayAssociation.ca \nRegister HERE 
URL:https://gatewayassociation.ca/calendar/abuse-prevention-and-response-protocol-fms-admin-8/
CATEGORIES:FRC
END:VEVENT
BEGIN:VEVENT
DTSTART;TZID=America/Denver:20240111T110000
DTEND;TZID=America/Denver:20240111T120000
DTSTAMP:20260419T210024
CREATED:20231205T222902Z
LAST-MODIFIED:20231205T222902Z
UID:251812-1704970800-1704974400@gatewayassociation.ca
SUMMARY:Email Basics
DESCRIPTION:Session: 1 of 1  \nDuration: 1 hr   \nFacilitator: Lee  \nPrivate – GTDI Program intake required prior to workshop: getdigital@gatewayassociation.ca  \n  \nLearn about and practice the basics of writing professional emails for your job search and workplace communication. 
URL:https://gatewayassociation.ca/calendar/email-basics-36/
END:VEVENT
BEGIN:VEVENT
DTSTART;TZID=America/Denver:20240111T130000
DTEND;TZID=America/Denver:20240111T140000
DTSTAMP:20260419T210024
CREATED:20231205T223026Z
LAST-MODIFIED:20231205T223026Z
UID:251816-1704978000-1704981600@gatewayassociation.ca
SUMMARY:LinkedIn Learning
DESCRIPTION:Session 1 of 1  \nDuration 1 hr   \nFacilitator: Toby  \nPrivate – GTDI Program intake required prior to workshop: getdigital@gatewayassociation.ca  \n  \n***Requires an active library membership.**  \nExplore LinkedIn website as a group\, learn how to: create an account\, search for course\, save and organize courses\, and customize your profile.  
URL:https://gatewayassociation.ca/calendar/linkedin-learning-21/
END:VEVENT
BEGIN:VEVENT
DTSTART;TZID=America/Denver:20240111T130000
DTEND;TZID=America/Denver:20240111T140000
DTSTAMP:20260419T210024
CREATED:20231211T220242Z
LAST-MODIFIED:20231211T220242Z
UID:251873-1704978000-1704981600@gatewayassociation.ca
SUMMARY:Growth Mindset: Resiliency in Job Search
DESCRIPTION:Job search can be a long and daunting process for many. This workshop will introduce folks to the concept of having a “Growth Mindset” and help individuals create a positive/persistent mindset along with tips on how to stay motivated throughout this process. \nThis workshop is for registered participants only. To register\, please connect with us at Get-Work@GatewayAssociation.ca
URL:https://gatewayassociation.ca/calendar/growth-mindset-resiliency-in-job-search-11/
CATEGORIES:ERC
END:VEVENT
BEGIN:VEVENT
DTSTART;TZID=America/Denver:20240111T163000
DTEND;TZID=America/Denver:20240111T183000
DTSTAMP:20260419T210024
CREATED:20230724T124636Z
LAST-MODIFIED:20230724T124636Z
UID:250982-1704990600-1704997800@gatewayassociation.ca
SUMMARY:Having Difficult Conversations
DESCRIPTION:Having Difficult Conversations \nThursday\, January 11 \n4:30pm – 6:30pm | Online \nA workshop for people with disabilities and their families on navigating difficult conversations \n  \nHaving conversations can be hard.  How we communicate with others is important. \nDuring this short ninety minute workshop\, we will explore what conflict is\, how we respond to it and some key principles for good communication. \n  \nFacilitators:  Stacy at Stacy@gatewayassociation.ca and Mike at Mike@GatewayAssociation.ca \nRegister HERE
URL:https://gatewayassociation.ca/calendar/having-difficult-conversations-6/
CATEGORIES:FRC
END:VEVENT
BEGIN:VEVENT
DTSTART;TZID=America/Denver:20240111T180000
DTEND;TZID=America/Denver:20240111T190000
DTSTAMP:20260419T210024
CREATED:20230724T124750Z
LAST-MODIFIED:20230724T124750Z
UID:250984-1704996000-1704999600@gatewayassociation.ca
SUMMARY:Understanding Disability in Alberta
DESCRIPTION:Understanding Disability in Alberta \nThursday\, January 11 \n6:00pm – 7:00pm | Online \n  \nA workshop for those who would like information about disability and initial government programs that can be accessed in Alberta. \nThis workshop is for caregivers and professionals to gain knowledge and bring awareness about services that support those with disabilities in Alberta. \n  \nFacilitator:  Yonique at Yonique @GatewayAssociation.ca \n Register HERE
URL:https://gatewayassociation.ca/calendar/understanding-disability-in-alberta-6/
CATEGORIES:FRC
END:VEVENT
BEGIN:VEVENT
DTSTART;TZID=America/Denver:20240115T110000
DTEND;TZID=America/Denver:20240115T120000
DTSTAMP:20260419T210024
CREATED:20231205T223122Z
LAST-MODIFIED:20231205T223122Z
UID:251818-1705316400-1705320000@gatewayassociation.ca
SUMMARY:Google Drive (1 of 2)
DESCRIPTION:Session: 1 of 2  \nDuration: 1  hr  \nFacilitator: Lee   \nPrivate – GTDI Program intake required prior to workshop: getdigital@gatewayassociation.ca  \n  \nLearn how to create a google accounts\, access google drive\, upload files\, create folders\, search for files. Group discussion on cloud storage\, strong passwords\, file naming conventions and keeping documents and folders organized.  
URL:https://gatewayassociation.ca/calendar/google-drive-1-of-2-7/
END:VEVENT
BEGIN:VEVENT
DTSTART;TZID=America/Denver:20240115T130000
DTEND;TZID=America/Denver:20240115T143000
DTSTAMP:20260419T210024
CREATED:20231205T223350Z
LAST-MODIFIED:20231205T223350Z
UID:251826-1705323600-1705329000@gatewayassociation.ca
SUMMARY:Internet Basics (1 of 4)
DESCRIPTION:Session 1 of 4  \nDuration 1.5 hr   \nFacilitator: Toby  \nPrivate – GTDI Program intake required prior to workshop: getdigital@gatewayassociation.ca  \n  \nThis 4 session workshop series (part 1 of the work simulation) helps learners find\, share\, and explore things online through a series of fun activities. Participants will use different google map features to find their way around town\, share their favourite places\, plan a vacation\, and compare different search engines. As a group\, learners will chat about fake news\, investigate stories on Snopes\, and chat about the media we take in everyday.  
URL:https://gatewayassociation.ca/calendar/internet-basics-1-of-4-3/
END:VEVENT
END:VCALENDAR