BEGIN:VCALENDAR
VERSION:2.0
PRODID:-//Gateway Association - ECPv6.15.20//NONSGML v1.0//EN
CALSCALE:GREGORIAN
METHOD:PUBLISH
X-ORIGINAL-URL:https://gatewayassociation.ca
X-WR-CALDESC:Events for Gateway Association
REFRESH-INTERVAL;VALUE=DURATION:PT1H
X-Robots-Tag:noindex
X-PUBLISHED-TTL:PT1H
BEGIN:VTIMEZONE
TZID:America/Denver
BEGIN:DAYLIGHT
TZOFFSETFROM:-0700
TZOFFSETTO:-0600
TZNAME:MDT
DTSTART:20230312T090000
END:DAYLIGHT
BEGIN:STANDARD
TZOFFSETFROM:-0600
TZOFFSETTO:-0700
TZNAME:MST
DTSTART:20231105T080000
END:STANDARD
BEGIN:DAYLIGHT
TZOFFSETFROM:-0700
TZOFFSETTO:-0600
TZNAME:MDT
DTSTART:20240310T090000
END:DAYLIGHT
BEGIN:STANDARD
TZOFFSETFROM:-0600
TZOFFSETTO:-0700
TZNAME:MST
DTSTART:20241103T080000
END:STANDARD
BEGIN:DAYLIGHT
TZOFFSETFROM:-0700
TZOFFSETTO:-0600
TZNAME:MDT
DTSTART:20250309T090000
END:DAYLIGHT
BEGIN:STANDARD
TZOFFSETFROM:-0600
TZOFFSETTO:-0700
TZNAME:MST
DTSTART:20251102T080000
END:STANDARD
END:VTIMEZONE
BEGIN:VEVENT
DTSTART;TZID=America/Denver:20240617T130000
DTEND;TZID=America/Denver:20240617T140000
DTSTAMP:20260420T010906
CREATED:20240523T165226Z
LAST-MODIFIED:20240523T165226Z
UID:252642-1718629200-1718632800@gatewayassociation.ca
SUMMARY:You TOO Can YouTube (1 of 4)
DESCRIPTION:Session: 1 of 4 \nDuration: 1 hr \nFacilitator: Toby \nPrivate – GTDI Program intake required prior to workshop: getdigital@gatewayassociation.ca \n\nLearn about being a YouTube viewer and a YouTube creator. Find out how to make your own YouTube Channel and what to consider when you are choosing videos to watch. Create YouTube content\, learn about what to consider when watching videos as well as how to save and organize videos.
URL:https://gatewayassociation.ca/calendar/you-too-can-youtube-1-of-4-7/
END:VEVENT
BEGIN:VEVENT
DTSTART;TZID=America/Denver:20240618T110000
DTEND;TZID=America/Denver:20240618T120000
DTSTAMP:20260420T010906
CREATED:20240523T165103Z
LAST-MODIFIED:20240523T165103Z
UID:252638-1718708400-1718712000@gatewayassociation.ca
SUMMARY:Discord Tutorial
DESCRIPTION:Session 1 of 1  \nDuration 1 hr  \nFacilitator: Lee  \nPrivate – GTDI Program intake required prior to workshop: getdigital@gatewayassociation.ca  \n  \nStep by step tutorial for downloading and installing Discord – a free app that lets people chat using text\, voice or video. Discord is required for Online boardgames group. 
URL:https://gatewayassociation.ca/calendar/discord-tutorial-22/
END:VEVENT
BEGIN:VEVENT
DTSTART;TZID=America/Denver:20240618T130000
DTEND;TZID=America/Denver:20240618T140000
DTSTAMP:20260420T010906
CREATED:20240523T153109Z
LAST-MODIFIED:20240523T153109Z
UID:252588-1718715600-1718719200@gatewayassociation.ca
SUMMARY:Networking: How to Use Your Connections
DESCRIPTION:This workshop will teach participants how to network online and in-person! We will go over  how to connect with people on LinkedIn\, sending cold emails\, using social media to connect with others and more! \nThis workshop is for registered participants only. To register\, please connect with us at Get-Work@GatewayAssociation.ca
URL:https://gatewayassociation.ca/calendar/networking-how-to-use-your-connections/
CATEGORIES:ERC
END:VEVENT
BEGIN:VEVENT
DTSTART;TZID=America/Denver:20240618T130000
DTEND;TZID=America/Denver:20240618T140000
DTSTAMP:20260420T010906
CREATED:20240523T165309Z
LAST-MODIFIED:20240523T165309Z
UID:252644-1718715600-1718719200@gatewayassociation.ca
SUMMARY:You TOO Can YouTube (2 of 4)
DESCRIPTION:Session: 2 of 4 \nDuration: 1 hr \nFacilitator: Toby \nPrivate – GTDI Program intake required prior to workshop: getdigital@gatewayassociation.ca \n\nLearn about being a YouTube viewer and a YouTube creator. Find out how to make your own YouTube Channel and what to consider when you are choosing videos to watch. Create YouTube content\, learn about what to consider when watching videos as well as how to save and organize videos.
URL:https://gatewayassociation.ca/calendar/you-too-can-youtube-2-of-4-8/
END:VEVENT
BEGIN:VEVENT
DTSTART;TZID=America/Denver:20240619T100000
DTEND;TZID=America/Denver:20240619T150000
DTSTAMP:20260420T010906
CREATED:20240424T200423Z
LAST-MODIFIED:20240424T200423Z
UID:252432-1718791200-1718809200@gatewayassociation.ca
SUMMARY:DROP IN WEDNESDAYS at the Calgary Employment Resource Centre
DESCRIPTION:DROP IN WEDNESDAYS \nat the Calgary Employment Resource Centre \nFor job seekers\, each Wednesday drop in any time between 10am and 3pm to connect with ERC team members to work on resumes\, interview skills\, job search and meet other job seekers! \n1206 20 AVE SE \nCalgary\, AB
URL:https://gatewayassociation.ca/calendar/drop-in-wednesdays-at-the-calgary-employment-resource-centre-23/
CATEGORIES:ERC
END:VEVENT
BEGIN:VEVENT
DTSTART;TZID=America/Denver:20240619T130000
DTEND;TZID=America/Denver:20240619T140000
DTSTAMP:20260420T010906
CREATED:20240523T153212Z
LAST-MODIFIED:20240523T153212Z
UID:252590-1718802000-1718805600@gatewayassociation.ca
SUMMARY:How to Read a Job Posting
DESCRIPTION:Join this workshop to understand various elements of a job posting\, identify red flags\, and find the right match. This workshop intends to help people save their time by targeting jobs that fits their expectations. \nThis workshop is for registered participants only. To register\, please connect with us at Get-Work@GatewayAssociation.ca
URL:https://gatewayassociation.ca/calendar/how-to-read-a-job-posting-10/
CATEGORIES:ERC
END:VEVENT
BEGIN:VEVENT
DTSTART;TZID=America/Denver:20240619T130000
DTEND;TZID=America/Denver:20240619T140000
DTSTAMP:20260420T010906
CREATED:20240523T165351Z
LAST-MODIFIED:20240523T165351Z
UID:252646-1718802000-1718805600@gatewayassociation.ca
SUMMARY:You TOO Can YouTube (3 of 4)
DESCRIPTION:Session: 3 of 4 \nDuration: 1 hr \nFacilitator: Toby \nPrivate – GTDI Program intake required prior to workshop: getdigital@gatewayassociation.ca \n\nLearn about being a YouTube viewer and a YouTube creator. Find out how to make your own YouTube Channel and what to consider when you are choosing videos to watch. Create YouTube content\, learn about what to consider when watching videos as well as how to save and organize videos.
URL:https://gatewayassociation.ca/calendar/you-too-can-youtube-3-of-4-8/
END:VEVENT
BEGIN:VEVENT
DTSTART;TZID=America/Denver:20240619T143000
DTEND;TZID=America/Denver:20240619T163000
DTSTAMP:20260420T010906
CREATED:20240523T165629Z
LAST-MODIFIED:20240523T165629Z
UID:252650-1718807400-1718814600@gatewayassociation.ca
SUMMARY:Online Boardgames
DESCRIPTION:Session: 1 of 1 \nDuration: 1.5 to 2 hr \nFacilitator: Lee \nPrivate – GTDI Program intake required prior to workshop signup: getdigital@gatewayassociation.ca \n\n**Requires Online Social Connections – Discord and Steam Tutorials as well as desktop or laptop computer.** \nCome hang out! Learn about setting up online accounts\, meet new friends\, socialize\, and have fun playing boardgames online. Meet new friends\, practise new skills\, have fun!
URL:https://gatewayassociation.ca/calendar/online-boardgames-43/
END:VEVENT
BEGIN:VEVENT
DTSTART;TZID=America/Denver:20240620T100000
DTEND;TZID=America/Denver:20240620T120000
DTSTAMP:20260420T010906
CREATED:20240523T153302Z
LAST-MODIFIED:20240523T153302Z
UID:252592-1718877600-1718884800@gatewayassociation.ca
SUMMARY:Interview Roundtable: Learning and Laughing Together
DESCRIPTION:Join us for a dynamic and interactive workshop designed to help you ace your next job interview. In our Interview Roundtable\, you’ll have the opportunity to connect with fellow job seekers and share your experiences and insights. Our experienced facilitators will guide you through real-life interview scenarios and help you develop the skills and confidence you need to succeed.
URL:https://gatewayassociation.ca/calendar/interview-roundtable-learning-and-laughing-together-7/
CATEGORIES:ERC
END:VEVENT
BEGIN:VEVENT
DTSTART;TZID=America/Denver:20240620T110000
DTEND;TZID=America/Denver:20240620T120000
DTSTAMP:20260420T010906
CREATED:20240523T165146Z
LAST-MODIFIED:20240523T165146Z
UID:252640-1718881200-1718884800@gatewayassociation.ca
SUMMARY:Steam Tutorial
DESCRIPTION:Session 1 of 1  \nDuration 1 hr  \nFacilitator: Lee  \nPrivate – GTDI Program intake required prior to workshop: getdigital@gatewayassociation.ca  \n  \nStep by step tutorial for downloading and installing Steam – an online game platform. Steam is required for Online boardgames group. 
URL:https://gatewayassociation.ca/calendar/steam-tutorial-19/
END:VEVENT
BEGIN:VEVENT
DTSTART;TZID=America/Denver:20240620T130000
DTEND;TZID=America/Denver:20240620T140000
DTSTAMP:20260420T010906
CREATED:20240523T153357Z
LAST-MODIFIED:20240523T153357Z
UID:252594-1718888400-1718892000@gatewayassociation.ca
SUMMARY:Interview Prep: Common Interview Questions
DESCRIPTION:Learn tips about how to effectively answer some of the most common interview questions! \nThis workshop is for registered participants only. To register\, please connect with us at Get-Work@GatewayAssociation.ca
URL:https://gatewayassociation.ca/calendar/interview-prep-common-interview-questions-2/
CATEGORIES:ERC
END:VEVENT
BEGIN:VEVENT
DTSTART;TZID=America/Denver:20240620T130000
DTEND;TZID=America/Denver:20240620T140000
DTSTAMP:20260420T010906
CREATED:20240523T165445Z
LAST-MODIFIED:20240523T165445Z
UID:252648-1718888400-1718892000@gatewayassociation.ca
SUMMARY:You TOO Can YouTube (4 of 4)
DESCRIPTION:Session: 4 of 4 \nDuration: 1 hr \nFacilitator: Toby \nPrivate – GTDI Program intake required prior to workshop: getdigital@gatewayassociation.ca \n\nLearn about being a YouTube viewer and a YouTube creator. Find out how to make your own YouTube Channel and what to consider when you are choosing videos to watch. Create YouTube content\, learn about what to consider when watching videos as well as how to save and organize videos.
URL:https://gatewayassociation.ca/calendar/you-too-can-youtube-4-of-4-8/
END:VEVENT
BEGIN:VEVENT
DTSTART;TZID=America/Denver:20240622T090000
DTEND;TZID=America/Denver:20240622T120000
DTSTAMP:20260420T010906
CREATED:20240524T190719Z
LAST-MODIFIED:20240524T190719Z
UID:252734-1719046800-1719057600@gatewayassociation.ca
SUMMARY:Finding the Right Staff (For Family Managed Service Administrators ONLY)
DESCRIPTION:Finding the Right Staff (FMS)       ’\nA workshop for Family Managed Services Administrators covering your roles and responsibilities as an employer.\n\nSaturday\, June 22\n9:00 am – 12:00 pm\n\nThis workshop\, for Family Managed Services Administrators only\,  looks at using your vision plan to identify appropriate supports to help achieve your family member’s goals.\n\nYou will learn  how the Individual Support Plan is used to help your staff create valued roles and enhance community connections.\n\n This workshop will provide you with:\n1. Your role and responsibilities as a Funds Administrator/Family Managed Serv ices Administrator\n2. Interviewing and hiring staff\n3. Conflict resolution and staff retention\n\nQuestions? Contact Miriam (Facilitator) at Miriam@GatewayAssociation.ca\n\nREGISTER HERE
URL:https://gatewayassociation.ca/calendar/finding-the-right-staff-for-family-managed-service-administrators-only/
CATEGORIES:FRC
END:VEVENT
BEGIN:VEVENT
DTSTART;TZID=America/Denver:20240624T130000
DTEND;TZID=America/Denver:20240624T140000
DTSTAMP:20260420T010906
CREATED:20240524T143219Z
LAST-MODIFIED:20240524T143219Z
UID:252654-1719234000-1719237600@gatewayassociation.ca
SUMMARY:LinkedIn Profiles (1 of 3)
DESCRIPTION:Session: 1 of 3 \nDuration: 1 hr \nFacilitator: Toby \nPrivate – GTDI Program intake required prior to workshop: getdigital@gatewayassociation.ca \n\nBuild your own LinkedIn profile! Share your skills\, goals\, and experiences\, create job alerts\, and grow your online network.
URL:https://gatewayassociation.ca/calendar/linkedin-profiles-1-of-3-6/
CATEGORIES:ERC
END:VEVENT
BEGIN:VEVENT
DTSTART;TZID=America/Denver:20240624T150000
DTEND;TZID=America/Denver:20240624T160000
DTSTAMP:20260420T010906
CREATED:20240524T143623Z
LAST-MODIFIED:20240524T143623Z
UID:252660-1719241200-1719244800@gatewayassociation.ca
SUMMARY:File Management and PDFs (1 of 2)
DESCRIPTION:Session 1 of 2 \nDuration 1 hr \nFacilitator: Toby \nPrivate – GTDI Program intake required prior to workshop: getdigital@gatewayassociation.ca \n\nIn this workshop participants will learn about saving files\, organizing and finding files\, converting documents to pdfs\, what a is pdf\, and how to use pdfs.
URL:https://gatewayassociation.ca/calendar/file-management-and-pdfs-1-of-2-8/
END:VEVENT
BEGIN:VEVENT
DTSTART;TZID=America/Denver:20240625T110000
DTEND;TZID=America/Denver:20240625T120000
DTSTAMP:20260420T010906
CREATED:20240524T143043Z
LAST-MODIFIED:20240524T143043Z
UID:252652-1719313200-1719316800@gatewayassociation.ca
SUMMARY:Email Basics
DESCRIPTION:Session: 1 of 1  \nDuration: 1 hr   \nFacilitator: Lee  \nPrivate – GTDI Program intake required prior to workshop: getdigital@gatewayassociation.ca  \n  \nLearn about and practice the basics of writing professional emails for your job search and workplace communication. 
URL:https://gatewayassociation.ca/calendar/email-basics-41/
END:VEVENT
BEGIN:VEVENT
DTSTART;TZID=America/Denver:20240625T130000
DTEND;TZID=America/Denver:20240625T140000
DTSTAMP:20260420T010906
CREATED:20240523T153439Z
LAST-MODIFIED:20240523T153439Z
UID:252596-1719320400-1719324000@gatewayassociation.ca
SUMMARY:Workplace Expectations
DESCRIPTION:You’ve got the job\, now you must keep it! Talking about the everyday behaviors that are appropriate in the workplace: \n\nshowing up on time\nhow long is too long for socializing with coworkers\nbreaks – what does this mean\nmotivation and engagement\n\n \nThis workshop is for registered participants only. To register\, please connect with us at Get-Work@GatewayAssociation.ca
URL:https://gatewayassociation.ca/calendar/workplace-expectations-15/
CATEGORIES:ERC
END:VEVENT
BEGIN:VEVENT
DTSTART;TZID=America/Denver:20240625T130000
DTEND;TZID=America/Denver:20240625T140000
DTSTAMP:20260420T010906
CREATED:20240524T143332Z
LAST-MODIFIED:20240524T143332Z
UID:252656-1719320400-1719324000@gatewayassociation.ca
SUMMARY:LinkedIn Profiles (2 of 3)
DESCRIPTION:Session: 2 of 3 \nDuration: 1 hr \nFacilitator: Toby \nPrivate – GTDI Program intake required prior to workshop: getdigital@gatewayassociation.ca \n\nBuild your own LinkedIn profile! Share your skills\, goals\, and experiences\, create job alerts\, and grow your online network.
URL:https://gatewayassociation.ca/calendar/linkedin-profiles-2-of-3-6/
CATEGORIES:ERC
END:VEVENT
BEGIN:VEVENT
DTSTART;TZID=America/Denver:20240625T150000
DTEND;TZID=America/Denver:20240625T160000
DTSTAMP:20260420T010906
CREATED:20240524T143724Z
LAST-MODIFIED:20240524T143724Z
UID:252662-1719327600-1719331200@gatewayassociation.ca
SUMMARY:File Management and PDFs
DESCRIPTION:Session 2 of 2 \nDuration 1 hr \nFacilitator: Toby \nPrivate – GTDI Program intake required prior to workshop: getdigital@gatewayassociation.ca \n\nIn this workshop participants will learn about saving files\, organizing and finding files\, converting documents to pdfs\, what a is pdf\, and how to use pdfs.
URL:https://gatewayassociation.ca/calendar/file-management-and-pdfs-3/
END:VEVENT
BEGIN:VEVENT
DTSTART;TZID=America/Denver:20240626T100000
DTEND;TZID=America/Denver:20240626T150000
DTSTAMP:20260420T010906
CREATED:20240424T200502Z
LAST-MODIFIED:20240424T200502Z
UID:252434-1719396000-1719414000@gatewayassociation.ca
SUMMARY:DROP IN WEDNESDAYS at the Calgary Employment Resource Centre
DESCRIPTION:DROP IN WEDNESDAYS \nat the Calgary Employment Resource Centre \nFor job seekers\, each Wednesday drop in any time between 10am and 3pm to connect with ERC team members to work on resumes\, interview skills\, job search and meet other job seekers! \n1206 20 AVE SE \nCalgary\, AB
URL:https://gatewayassociation.ca/calendar/drop-in-wednesdays-at-the-calgary-employment-resource-centre-24/
CATEGORIES:ERC
END:VEVENT
BEGIN:VEVENT
DTSTART;TZID=America/Denver:20240626T130000
DTEND;TZID=America/Denver:20240626T140000
DTSTAMP:20260420T010906
CREATED:20240524T143437Z
LAST-MODIFIED:20240524T143437Z
UID:252658-1719406800-1719410400@gatewayassociation.ca
SUMMARY:LinkedIn Profiles (3 of 3)
DESCRIPTION:Session: 3 of 3 \nDuration: 1 hr \nFacilitator: Toby \nPrivate – GTDI Program intake required prior to workshop: getdigital@gatewayassociation.ca \n\nBuild your own LinkedIn profile! Share your skills\, goals\, and experiences\, create job alerts\, and grow your online network.
URL:https://gatewayassociation.ca/calendar/linkedin-profiles-3-of-3-6/
END:VEVENT
BEGIN:VEVENT
DTSTART;TZID=America/Denver:20240626T143000
DTEND;TZID=America/Denver:20240626T163000
DTSTAMP:20260420T010906
CREATED:20240524T143824Z
LAST-MODIFIED:20240524T143824Z
UID:252664-1719412200-1719419400@gatewayassociation.ca
SUMMARY:Online Boardgames
DESCRIPTION:Session: 1 of 1 \nDuration: 1.5 to 2 hr \nFacilitator: Lee \nPrivate – GTDI Program intake required prior to workshop signup: getdigital@gatewayassociation.ca \n\n**Requires Online Social Connections – Discord and Steam Tutorials as well as desktop or laptop computer.** \nCome hang out! Learn about setting up online accounts\, meet new friends\, socialize\, and have fun playing boardgames online. Meet new friends\, practise new skills\, have fun!
URL:https://gatewayassociation.ca/calendar/online-boardgames-44/
END:VEVENT
BEGIN:VEVENT
DTSTART;TZID=America/Denver:20240626T180000
DTEND;TZID=America/Denver:20240626T190000
DTSTAMP:20260420T010906
CREATED:20240523T160212Z
LAST-MODIFIED:20240524T180831Z
UID:252598-1719424800-1719428400@gatewayassociation.ca
SUMMARY:Employment Resource Centre Information Session
DESCRIPTION:Join Gateway Association for a virtual Employment Resource Centre information session. \nThis session is for job seekers with disability or mental health-based barriers to learn about how Gateway Association can support you with achieving your employment goals! \nL earn about individualized supports and group workshops that will help you with: \n\nCareer development and action plans\nResume building\nInterview skills\nWorkplace communication\nOnboarding and training\nJob search and finding the right job for you\nKeeping your job!\nA ND much more!\n\nFor additional accommodations or questions\, please connect with us at Get-Work@GatewayAssociation.ca
URL:https://gatewayassociation.ca/calendar/employment-resource-centre-information-session-5/
CATEGORIES:ERC,FRC,MentorAbility Alberta
END:VEVENT
BEGIN:VEVENT
DTSTART;TZID=America/Denver:20240626T180000
DTEND;TZID=America/Denver:20240626T210000
DTSTAMP:20260420T010906
CREATED:20240524T190933Z
LAST-MODIFIED:20240524T190933Z
UID:252736-1719424800-1719435600@gatewayassociation.ca
SUMMARY:Persons with Developmental Disabilities (PDD) 101
DESCRIPTION:PDD 101\nWednesday\, June 26     \n6:00 pm   – 9:00 pm| Online      \nFacilitator Shelley at Shelley@GatewayAssociation.ca \nA workshop for caregivers to develop knowledge of Alberta’s government service known as Persons with Developmental Disabilities (PDD). \nREGISTER HERE
URL:https://gatewayassociation.ca/calendar/persons-with-developmental-disabilities-pdd-101-11/
CATEGORIES:FRC
END:VEVENT
BEGIN:VEVENT
DTSTART;TZID=America/Denver:20240627T130000
DTEND;TZID=America/Denver:20240627T140000
DTSTAMP:20260420T010906
CREATED:20240523T160334Z
LAST-MODIFIED:20240523T160334Z
UID:252600-1719493200-1719496800@gatewayassociation.ca
SUMMARY:Workplace Communication 102 - Conflict Resolution
DESCRIPTION:Workplace Communication is made up of many essential skills\, including how to deal with conflict.  Conflict can be difficult to navigate and hard to understand.  In this workshop\, we will talk about conflict in the workplace and learn strategies to resolve conflict. \nThis workshop is for registered participants only. To register\, please connect with us at Get-Work@GatewayAssociation.ca
URL:https://gatewayassociation.ca/calendar/workplace-communication-102-conflict-resolution-4/
CATEGORIES:ERC
END:VEVENT
BEGIN:VEVENT
DTSTART;TZID=America/Denver:20240703T130000
DTEND;TZID=America/Denver:20240703T140000
DTSTAMP:20260420T010906
CREATED:20240524T144001Z
LAST-MODIFIED:20240524T144001Z
UID:252666-1720011600-1720015200@gatewayassociation.ca
SUMMARY:Explore Canva (1 of 2)
DESCRIPTION:Session 1 of 2  \nDuration 1 hr   \nFacilitator: Toby  \nPrivate – GTDI Program intake required prior to workshop: getdigital@gatewayassociation.ca  \n  \nLet your imagination be your guide as you create your own posters\, flyers\, cards\, videos\, and more to share information important to you. 
URL:https://gatewayassociation.ca/calendar/explore-canva-1-of-2-10/
END:VEVENT
BEGIN:VEVENT
DTSTART;TZID=America/Denver:20240703T143000
DTEND;TZID=America/Denver:20240703T160000
DTSTAMP:20260420T010906
CREATED:20240704T182448Z
LAST-MODIFIED:20240704T182448Z
UID:252811-1720017000-1720022400@gatewayassociation.ca
SUMMARY:Employment Jeopardy
DESCRIPTION:The EERC team is hosting employment jeopordy at the Gateway office! Come on down to the office to test your employment knowledge on networking\, communication\, interview skills and more! There will be snacks and fun going around while we play.
URL:https://gatewayassociation.ca/calendar/employment-jeopardy/
CATEGORIES:ERC
END:VEVENT
BEGIN:VEVENT
DTSTART;TZID=America/Denver:20240703T143000
DTEND;TZID=America/Denver:20240703T163000
DTSTAMP:20260420T010906
CREATED:20240524T144149Z
LAST-MODIFIED:20240524T144149Z
UID:252670-1720017000-1720024200@gatewayassociation.ca
SUMMARY:Online Boardgames
DESCRIPTION:Session: 1 of 1 \nDuration: 1.5 to 2 hr \nFacilitator: Lee \nPrivate – GTDI Program intake required prior to workshop signup: getdigital@gatewayassociation.ca \n\n**Requires Online Social Connections – Discord and Steam Tutorials as well as desktop or laptop computer.** \nCome hang out! Learn about setting up online accounts\, meet new friends\, socialize\, and have fun playing boardgames online. Meet new friends\, practise new skills\, have fun!
URL:https://gatewayassociation.ca/calendar/online-boardgames-45/
END:VEVENT
BEGIN:VEVENT
DTSTART;TZID=America/Denver:20240704T130000
DTEND;TZID=America/Denver:20240704T140000
DTSTAMP:20260420T010906
CREATED:20240524T144102Z
LAST-MODIFIED:20240524T144102Z
UID:252668-1720098000-1720101600@gatewayassociation.ca
SUMMARY:Explore Canva (2 of 2)
DESCRIPTION:Session 2 of 2  \nDuration 1 hr   \nFacilitator: Toby  \nPrivate – GTDI Program intake required prior to workshop: getdigital@gatewayassociation.ca  \n  \nLet your imagination be your guide as you create your own posters\, flyers\, cards\, videos\, and more to share information important to you. 
URL:https://gatewayassociation.ca/calendar/explore-canva-2-of-2-9/
END:VEVENT
BEGIN:VEVENT
DTSTART;TZID=America/Denver:20240708T110000
DTEND;TZID=America/Denver:20240708T120000
DTSTAMP:20260420T010906
CREATED:20240524T144312Z
LAST-MODIFIED:20240524T144312Z
UID:252672-1720436400-1720440000@gatewayassociation.ca
SUMMARY:Google Drive (1 of 2)
DESCRIPTION:Session: 1 of 2  \nDuration: 1  hr  \nFacilitator: Lee   \nPrivate – GTDI Program intake required prior to workshop: getdigital@gatewayassociation.ca  \n  \nLearn how to create a google accounts\, access google drive\, upload files\, create folders\, search for files. Group discussion on cloud storage\, strong passwords\, file naming conventions and keeping documents and folders organized.  
URL:https://gatewayassociation.ca/calendar/google-drive-1-of-2-12/
END:VEVENT
END:VCALENDAR