BEGIN:VCALENDAR
VERSION:2.0
PRODID:-//Gateway Association - ECPv6.15.20//NONSGML v1.0//EN
CALSCALE:GREGORIAN
METHOD:PUBLISH
X-WR-CALNAME:Gateway Association
X-ORIGINAL-URL:https://gatewayassociation.ca
X-WR-CALDESC:Events for Gateway Association
REFRESH-INTERVAL;VALUE=DURATION:PT1H
X-Robots-Tag:noindex
X-PUBLISHED-TTL:PT1H
BEGIN:VTIMEZONE
TZID:America/Denver
BEGIN:DAYLIGHT
TZOFFSETFROM:-0700
TZOFFSETTO:-0600
TZNAME:MDT
DTSTART:20230312T090000
END:DAYLIGHT
BEGIN:STANDARD
TZOFFSETFROM:-0600
TZOFFSETTO:-0700
TZNAME:MST
DTSTART:20231105T080000
END:STANDARD
BEGIN:DAYLIGHT
TZOFFSETFROM:-0700
TZOFFSETTO:-0600
TZNAME:MDT
DTSTART:20240310T090000
END:DAYLIGHT
BEGIN:STANDARD
TZOFFSETFROM:-0600
TZOFFSETTO:-0700
TZNAME:MST
DTSTART:20241103T080000
END:STANDARD
BEGIN:DAYLIGHT
TZOFFSETFROM:-0700
TZOFFSETTO:-0600
TZNAME:MDT
DTSTART:20250309T090000
END:DAYLIGHT
BEGIN:STANDARD
TZOFFSETFROM:-0600
TZOFFSETTO:-0700
TZNAME:MST
DTSTART:20251102T080000
END:STANDARD
END:VTIMEZONE
BEGIN:VEVENT
DTSTART;TZID=America/Denver:20240111T130000
DTEND;TZID=America/Denver:20240111T140000
DTSTAMP:20260420T010743
CREATED:20231205T223026Z
LAST-MODIFIED:20231205T223026Z
UID:251816-1704978000-1704981600@gatewayassociation.ca
SUMMARY:LinkedIn Learning
DESCRIPTION:Session 1 of 1  \nDuration 1 hr   \nFacilitator: Toby  \nPrivate – GTDI Program intake required prior to workshop: getdigital@gatewayassociation.ca  \n  \n***Requires an active library membership.**  \nExplore LinkedIn website as a group\, learn how to: create an account\, search for course\, save and organize courses\, and customize your profile.  
URL:https://gatewayassociation.ca/calendar/linkedin-learning-21/
END:VEVENT
BEGIN:VEVENT
DTSTART;TZID=America/Denver:20240111T130000
DTEND;TZID=America/Denver:20240111T140000
DTSTAMP:20260420T010743
CREATED:20231211T220242Z
LAST-MODIFIED:20231211T220242Z
UID:251873-1704978000-1704981600@gatewayassociation.ca
SUMMARY:Growth Mindset: Resiliency in Job Search
DESCRIPTION:Job search can be a long and daunting process for many. This workshop will introduce folks to the concept of having a “Growth Mindset” and help individuals create a positive/persistent mindset along with tips on how to stay motivated throughout this process. \nThis workshop is for registered participants only. To register\, please connect with us at Get-Work@GatewayAssociation.ca
URL:https://gatewayassociation.ca/calendar/growth-mindset-resiliency-in-job-search-11/
CATEGORIES:ERC
END:VEVENT
BEGIN:VEVENT
DTSTART;TZID=America/Denver:20240111T163000
DTEND;TZID=America/Denver:20240111T183000
DTSTAMP:20260420T010743
CREATED:20230724T124636Z
LAST-MODIFIED:20230724T124636Z
UID:250982-1704990600-1704997800@gatewayassociation.ca
SUMMARY:Having Difficult Conversations
DESCRIPTION:Having Difficult Conversations \nThursday\, January 11 \n4:30pm – 6:30pm | Online \nA workshop for people with disabilities and their families on navigating difficult conversations \n  \nHaving conversations can be hard.  How we communicate with others is important. \nDuring this short ninety minute workshop\, we will explore what conflict is\, how we respond to it and some key principles for good communication. \n  \nFacilitators:  Stacy at Stacy@gatewayassociation.ca and Mike at Mike@GatewayAssociation.ca \nRegister HERE
URL:https://gatewayassociation.ca/calendar/having-difficult-conversations-6/
CATEGORIES:FRC
END:VEVENT
BEGIN:VEVENT
DTSTART;TZID=America/Denver:20240111T180000
DTEND;TZID=America/Denver:20240111T190000
DTSTAMP:20260420T010743
CREATED:20230724T124750Z
LAST-MODIFIED:20230724T124750Z
UID:250984-1704996000-1704999600@gatewayassociation.ca
SUMMARY:Understanding Disability in Alberta
DESCRIPTION:Understanding Disability in Alberta \nThursday\, January 11 \n6:00pm – 7:00pm | Online \n  \nA workshop for those who would like information about disability and initial government programs that can be accessed in Alberta. \nThis workshop is for caregivers and professionals to gain knowledge and bring awareness about services that support those with disabilities in Alberta. \n  \nFacilitator:  Yonique at Yonique @GatewayAssociation.ca \n Register HERE
URL:https://gatewayassociation.ca/calendar/understanding-disability-in-alberta-6/
CATEGORIES:FRC
END:VEVENT
BEGIN:VEVENT
DTSTART;TZID=America/Denver:20240115T110000
DTEND;TZID=America/Denver:20240115T120000
DTSTAMP:20260420T010743
CREATED:20231205T223122Z
LAST-MODIFIED:20231205T223122Z
UID:251818-1705316400-1705320000@gatewayassociation.ca
SUMMARY:Google Drive (1 of 2)
DESCRIPTION:Session: 1 of 2  \nDuration: 1  hr  \nFacilitator: Lee   \nPrivate – GTDI Program intake required prior to workshop: getdigital@gatewayassociation.ca  \n  \nLearn how to create a google accounts\, access google drive\, upload files\, create folders\, search for files. Group discussion on cloud storage\, strong passwords\, file naming conventions and keeping documents and folders organized.  
URL:https://gatewayassociation.ca/calendar/google-drive-1-of-2-7/
END:VEVENT
BEGIN:VEVENT
DTSTART;TZID=America/Denver:20240115T130000
DTEND;TZID=America/Denver:20240115T143000
DTSTAMP:20260420T010743
CREATED:20231205T223350Z
LAST-MODIFIED:20231205T223350Z
UID:251826-1705323600-1705329000@gatewayassociation.ca
SUMMARY:Internet Basics (1 of 4)
DESCRIPTION:Session 1 of 4  \nDuration 1.5 hr   \nFacilitator: Toby  \nPrivate – GTDI Program intake required prior to workshop: getdigital@gatewayassociation.ca  \n  \nThis 4 session workshop series (part 1 of the work simulation) helps learners find\, share\, and explore things online through a series of fun activities. Participants will use different google map features to find their way around town\, share their favourite places\, plan a vacation\, and compare different search engines. As a group\, learners will chat about fake news\, investigate stories on Snopes\, and chat about the media we take in everyday.  
URL:https://gatewayassociation.ca/calendar/internet-basics-1-of-4-3/
END:VEVENT
BEGIN:VEVENT
DTSTART;TZID=America/Denver:20240115T190000
DTEND;TZID=America/Denver:20240115T210000
DTSTAMP:20260420T010743
CREATED:20230720T171113Z
LAST-MODIFIED:20230803T143632Z
UID:250916-1705345200-1705352400@gatewayassociation.ca
SUMMARY:Families Forward\, Financial Resources
DESCRIPTION:Families Forward\, Financial Resources \nMonday\, January 15 \n7:00pm – 9:00pm | Online \n  \nMonthly meeting where families can connect with other families\, learn from one another\, and explore financial resources. \nFacilitators: Fiona at Fiona@GatewayAssociation.ca and Jacquie at Jacquie@Jacquie@GatewayAssociation.ca \nRegister HERE 
URL:https://gatewayassociation.ca/calendar/families-forward-financial-resources-4/
CATEGORIES:FRC
END:VEVENT
BEGIN:VEVENT
DTSTART;TZID=America/Denver:20240116T110000
DTEND;TZID=America/Denver:20240116T120000
DTSTAMP:20260420T010743
CREATED:20231205T223152Z
LAST-MODIFIED:20231205T223152Z
UID:251820-1705402800-1705406400@gatewayassociation.ca
SUMMARY:Google Drive (2 of 2)
DESCRIPTION:Session: 2 of 2  \nDuration: 1  hr  \nFacilitator: Lee   \nPrivate – GTDI Program intake required prior to workshop: getdigital@gatewayassociation.ca  \n  \nLearn how to create a google accounts\, access google drive\, upload files\, create folders\, search for files. Group discussion on cloud storage\, strong passwords\, file naming conventions and keeping documents and folders organized.  
URL:https://gatewayassociation.ca/calendar/google-drive-2-of-2-7/
END:VEVENT
BEGIN:VEVENT
DTSTART;TZID=America/Denver:20240116T130000
DTEND;TZID=America/Denver:20240116T140000
DTSTAMP:20260420T010743
CREATED:20231211T220740Z
LAST-MODIFIED:20231211T220740Z
UID:251875-1705410000-1705413600@gatewayassociation.ca
SUMMARY:Networking 101
DESCRIPTION:Networking 101 \nDescription: In this workshop participants will be learning how to network in-person! You will develop skills such as greeting others\, making connections with people you want to connect with\, how to stay connected after you meet them\, etc. The skills you learn will be useful for connecting with people at conferences\, workshops\, events\, and casual meetings. \nTo
URL:https://gatewayassociation.ca/calendar/networking-101-2/
CATEGORIES:ERC
END:VEVENT
BEGIN:VEVENT
DTSTART;TZID=America/Denver:20240116T130000
DTEND;TZID=America/Denver:20240116T143000
DTSTAMP:20260420T010743
CREATED:20231205T223421Z
LAST-MODIFIED:20231205T223421Z
UID:251828-1705410000-1705415400@gatewayassociation.ca
SUMMARY:Internet Basics (2 of 4)
DESCRIPTION:Session 2 of 4  \nDuration 1.5 hr   \nFacilitator: Toby  \nPrivate – GTDI Program intake required prior to workshop: getdigital@gatewayassociation.ca  \n  \nThis 4 session workshop series (part 1 of the work simulation) helps learners find\, share\, and explore things online through a series of fun activities. Participants will use different google map features to find their way around town\, share their favourite places\, plan a vacation\, and compare different search engines. As a group\, learners will chat about fake news\, investigate stories on Snopes\, and chat about the media we take in everyday.  
URL:https://gatewayassociation.ca/calendar/internet-basics-2-of-4/
END:VEVENT
BEGIN:VEVENT
DTSTART;TZID=America/Denver:20240117T100000
DTEND;TZID=America/Denver:20240117T150000
DTSTAMP:20260420T010743
CREATED:20231220T152124Z
LAST-MODIFIED:20231220T152124Z
UID:251985-1705485600-1705503600@gatewayassociation.ca
SUMMARY:DROP IN WEDNESDAYS  at the Calgary Employment Resource Centre
DESCRIPTION:DROP IN WEDNESDAYS \nat the Calgary Employment Resource Centre \nFor job seekers\, each Wednesday drop in any time between 10am and 3pm to connect with ERC team members to work on resumes\, interview skills\, job search and meet other job seekers! \n1206 20 AVE SE \nCalgary\, AB
URL:https://gatewayassociation.ca/calendar/drop-in-wednesdays-at-the-calgary-employment-resource-centre-4/
CATEGORIES:ERC
END:VEVENT
BEGIN:VEVENT
DTSTART;TZID=America/Denver:20240117T110000
DTEND;TZID=America/Denver:20240117T120000
DTSTAMP:20260420T010743
CREATED:20231205T223237Z
LAST-MODIFIED:20231205T223237Z
UID:251822-1705489200-1705492800@gatewayassociation.ca
SUMMARY:Google Docs (1 of 2)
DESCRIPTION:Session: 1 of 2  \nDuration: 1 hr   \nFacilitator: Lee  \nPrivate – GTDI Program intake required prior to workshop: getdigital@gatewayassociation.ca  \n  \nIn this 2 session workshop series\, Participants will practice creating and sharing google documents\, explore the tools provided to help them write\, edit\, comment and chat. This workshop covers the Basics of google docs\, as well as file organization\, sharing\, and commenting.  
URL:https://gatewayassociation.ca/calendar/google-docs-1-of-2-6/
END:VEVENT
BEGIN:VEVENT
DTSTART;TZID=America/Denver:20240117T130000
DTEND;TZID=America/Denver:20240117T143000
DTSTAMP:20260420T010743
CREATED:20231205T223501Z
LAST-MODIFIED:20231205T223501Z
UID:251830-1705496400-1705501800@gatewayassociation.ca
SUMMARY:Internet Basics (3 of 4)
DESCRIPTION:Session 3 of 4  \nDuration 1.5 hr   \nFacilitator: Toby  \nPrivate – GTDI Program intake required prior to workshop: getdigital@gatewayassociation.ca  \n  \nThis 4 session workshop series (part 1 of the work simulation) helps learners find\, share\, and explore things online through a series of fun activities. Participants will use different google map features to find their way around town\, share their favourite places\, plan a vacation\, and compare different search engines. As a group\, learners will chat about fake news\, investigate stories on Snopes\, and chat about the media we take in everyday.  
URL:https://gatewayassociation.ca/calendar/internet-basics-3-of-4/
END:VEVENT
BEGIN:VEVENT
DTSTART;TZID=America/Denver:20240117T150000
DTEND;TZID=America/Denver:20240117T163000
DTSTAMP:20260420T010743
CREATED:20231205T223637Z
LAST-MODIFIED:20231205T223637Z
UID:251834-1705503600-1705509000@gatewayassociation.ca
SUMMARY:Online Boardgames
DESCRIPTION:Session: 1 of 1 \nDuration: 1.5 to 2 hr \nFacilitator: Lee \nPrivate – GTDI Program intake required prior to workshop signup: getdigital@gatewayassociation.ca \n\n**Requires Online Social Connections – Discord and Steam Tutorials as well as desktop or laptop computer.** \nCome hang out! Learn about setting up online accounts\, meet new friends\, socialize\, and have fun playing boardgames online. Meet new friends\, practise new skills\, have fun!
URL:https://gatewayassociation.ca/calendar/online-boardgames-26/
END:VEVENT
BEGIN:VEVENT
DTSTART;TZID=America/Denver:20240118T100000
DTEND;TZID=America/Denver:20240118T120000
DTSTAMP:20260420T010743
CREATED:20231211T220839Z
LAST-MODIFIED:20240117T174003Z
UID:251877-1705572000-1705579200@gatewayassociation.ca
SUMMARY:Interview Roundtable: Learning and Laughing Together
DESCRIPTION:Join us for a dynamic and interactive workshop designed to help you ace your next job interview. In our Interview Roundtable\, you’ll have the opportunity to connect with fellow job seekers and share your experiences and insights. Our experienced facilitators will guide you through real-life interview scenarios and help you develop the skills and confidence you need to succeed \n  \nSpots are limited. To register\, please e-mail Nikkitta@gatewayassociation.ca. Registration will be first-come
URL:https://gatewayassociation.ca/calendar/interview-roundtable-learning-and-laughing-together-2/
CATEGORIES:ERC
END:VEVENT
BEGIN:VEVENT
DTSTART;TZID=America/Denver:20240118T110000
DTEND;TZID=America/Denver:20240118T120000
DTSTAMP:20260420T010743
CREATED:20231205T223309Z
LAST-MODIFIED:20231205T223309Z
UID:251824-1705575600-1705579200@gatewayassociation.ca
SUMMARY:Google Docs (2 of 2)
DESCRIPTION:Session: 2 of 2  \nDuration: 1 hr   \nFacilitator: Lee  \nPrivate – GTDI Program intake required prior to workshop: getdigital@gatewayassociation.ca  \n  \nIn this 2 session workshop series\, Participants will practice creating and sharing google documents\, explore the tools provided to help them write\, edit\, comment and chat. This workshop covers the Basics of google docs\, as well as file organization\, sharing\, and commenting.  
URL:https://gatewayassociation.ca/calendar/google-docs-2-of-2-6/
END:VEVENT
BEGIN:VEVENT
DTSTART;TZID=America/Denver:20240118T130000
DTEND;TZID=America/Denver:20240118T140000
DTSTAMP:20260420T010743
CREATED:20231211T220938Z
LAST-MODIFIED:20231211T220938Z
UID:251879-1705582800-1705586400@gatewayassociation.ca
SUMMARY:Interview Prep: Before\, During & After
DESCRIPTION:In this workshop\, you will learn about how to get ready for a job interview\, how to “shine’ in the interview and what to do after the interview to stand out and increase your chances of getting called back! \n\nThis workshop is for registered participants only. To register\, please connect with us at get-work@GatewayAssociation.ca
URL:https://gatewayassociation.ca/calendar/interview-prep-before-during-after/
CATEGORIES:ERC
END:VEVENT
BEGIN:VEVENT
DTSTART;TZID=America/Denver:20240118T130000
DTEND;TZID=America/Denver:20240118T143000
DTSTAMP:20260420T010743
CREATED:20231205T223545Z
LAST-MODIFIED:20231205T223545Z
UID:251832-1705582800-1705588200@gatewayassociation.ca
SUMMARY:Internet Basics (4 of 4)
DESCRIPTION:Session 4 of 4  \nDuration 1.5 hr   \nFacilitator: Toby  \nPrivate – GTDI Program intake required prior to workshop: getdigital@gatewayassociation.ca  \n  \nThis 4 session workshop series (part 1 of the work simulation) helps learners find\, share\, and explore things online through a series of fun activities. Participants will use different google map features to find their way around town\, share their favourite places\, plan a vacation\, and compare different search engines. As a group\, learners will chat about fake news\, investigate stories on Snopes\, and chat about the media we take in everyday.  
URL:https://gatewayassociation.ca/calendar/internet-basics-4-of-4-2/
END:VEVENT
BEGIN:VEVENT
DTSTART;TZID=America/Denver:20240118T180000
DTEND;TZID=America/Denver:20240118T190000
DTSTAMP:20260420T010743
CREATED:20230724T124903Z
LAST-MODIFIED:20230724T124903Z
UID:250987-1705600800-1705604400@gatewayassociation.ca
SUMMARY:Understanding Disability in the Transitioning Years
DESCRIPTION:Understanding Disability in the Transitioning Years \nThursday\, January 18 \n6:00pm – 7:00pm | Online \n  \nA workshop that provides an overview of supports available to youth who are transitioning to adulthood. \nThis workshop is for caregivers and professionals who are supporting a young person who is transitioning to adulthood to think about their future in the community and access the right support. \n  \nFacilitator: Yonique at Yonique@GatewayAssociation.ca \nRegister HERE
URL:https://gatewayassociation.ca/calendar/understanding-disability-in-the-transitioning-years-5/
CATEGORIES:FRC
END:VEVENT
BEGIN:VEVENT
DTSTART;TZID=America/Denver:20240122T130000
DTEND;TZID=America/Denver:20240122T140000
DTSTAMP:20260420T010743
CREATED:20231205T223951Z
LAST-MODIFIED:20231205T223951Z
UID:251842-1705928400-1705932000@gatewayassociation.ca
SUMMARY:Social Media Basics (1 of 4)
DESCRIPTION:Session 1 of 4  \nDuration 1.5 hr   \nFacilitator: Toby  \nPrivate – GTDI Program intake required prior to workshop: getdigital@gatewayassociation.ca  \n  \nSocial Media Basics is Part 2 of the Work Simulation. Completion of Part 1: Internet Basics is recommended prior to taking this 4 session workshop series.  \nIncrease your understanding and use of social media! In this workshop we will go through understanding different types of social media and their uses\, creating material for social media\, and managing your social media.  
URL:https://gatewayassociation.ca/calendar/social-media-basics-1-of-4/
END:VEVENT
BEGIN:VEVENT
DTSTART;TZID=America/Denver:20240123T080000
DTEND;TZID=America/Denver:20240123T083000
DTSTAMP:20260420T010743
CREATED:20231205T223749Z
LAST-MODIFIED:20231205T223749Z
UID:251836-1705996800-1705998600@gatewayassociation.ca
SUMMARY:ePortfolio Series (1 of 3)
DESCRIPTION:Session 1 of 3  \nDuration 1 hr   \nFacilitator: Lee  \nPrivate – GTDI Program intake required prior to workshop: getdigital@gatewayassociation.ca  \n  \nIn the eportfolio workshop series\, participants will learn about the different types of portfolios\, how to use google sites\, and the basics of layout and design. Learners will choose the type of portfolio they want to build and the subject they want to focus on. They will select and add content to their sites along with descriptions\, statements about their motivation\, interests\, skills\, and hobbies. Learners will work on their own between classes. 
URL:https://gatewayassociation.ca/calendar/eportfolio-series-1-of-3-5/
END:VEVENT
BEGIN:VEVENT
DTSTART;TZID=America/Denver:20240123T130000
DTEND;TZID=America/Denver:20240123T140000
DTSTAMP:20260420T010743
CREATED:20231211T221024Z
LAST-MODIFIED:20231211T221024Z
UID:251881-1706014800-1706018400@gatewayassociation.ca
SUMMARY:Workplace Expectations
DESCRIPTION:Workplace Expectations \nYou’ve got the job\, now you must keep it! Talking about the everyday behaviors that are appropriate in the workplace: \n\nshowing up on time\nhow long is too long for socializing with coworkers\nbreaks – what does this mean\nmotivation and engagement\n\n \n\nThis workshop is for registered participants only. To register\, please connect with us at get-work@GatewayAssociation.ca
URL:https://gatewayassociation.ca/calendar/workplace-expectations-11/
CATEGORIES:ERC
END:VEVENT
BEGIN:VEVENT
DTSTART;TZID=America/Denver:20240123T130000
DTEND;TZID=America/Denver:20240123T140000
DTSTAMP:20260420T010743
CREATED:20240123T221927Z
LAST-MODIFIED:20240123T221927Z
UID:252088-1706014800-1706018400@gatewayassociation.ca
SUMMARY:LinkedIn Profiles (2 of 3)
DESCRIPTION:Session: 2 of 3 \nDuration: 1 hr \nFacilitator: Toby \nPrivate – GTDI Program intake required prior to workshop: getdigital@gatewayassociation.ca \n\nBuild your own LinkedIn profile! Share your skills\, goals\, and experiences\, create job alerts\, and grow your online network.
URL:https://gatewayassociation.ca/calendar/linkedin-profiles-2-of-3-4/
END:VEVENT
BEGIN:VEVENT
DTSTART;TZID=America/Denver:20240123T130000
DTEND;TZID=America/Denver:20240123T143000
DTSTAMP:20260420T010743
CREATED:20231205T224053Z
LAST-MODIFIED:20231205T224053Z
UID:251844-1706014800-1706020200@gatewayassociation.ca
SUMMARY:Social Media Basics (2 of 4)
DESCRIPTION:Session 2 of 4  \nDuration 1.5 hr   \nFacilitator: Toby  \nPrivate – GTDI Program intake required prior to workshop: getdigital@gatewayassociation.ca  \n  \nSocial Media Basics is Part 2 of the Work Simulation. Completion of Part 1: Internet Basics is recommended prior to taking this 4 session workshop series.  \nIncrease your understanding and use of social media! In this workshop we will go through understanding different types of social media and their uses\, creating material for social media\, and managing your social media.  
URL:https://gatewayassociation.ca/calendar/social-media-basics-2-of-4/
END:VEVENT
BEGIN:VEVENT
DTSTART;TZID=America/Denver:20240124T080000
DTEND;TZID=America/Denver:20240124T083000
DTSTAMP:20260420T010743
CREATED:20231205T223822Z
LAST-MODIFIED:20231205T223822Z
UID:251838-1706083200-1706085000@gatewayassociation.ca
SUMMARY:ePortfolio Series (2 of 3)
DESCRIPTION:Session 2 of 3  \nDuration 1 hr   \nFacilitator: Lee  \nPrivate – GTDI Program intake required prior to workshop: getdigital@gatewayassociation.ca  \n  \nIn the eportfolio workshop series\, participants will learn about the different types of portfolios\, how to use google sites\, and the basics of layout and design. Learners will choose the type of portfolio they want to build and the subject they want to focus on. They will select and add content to their sites along with descriptions\, statements about their motivation\, interests\, skills\, and hobbies. Learners will work on their own between classes. 
URL:https://gatewayassociation.ca/calendar/eportfolio-series-2-of-3-4/
END:VEVENT
BEGIN:VEVENT
DTSTART;TZID=America/Denver:20240124T100000
DTEND;TZID=America/Denver:20240124T150000
DTSTAMP:20260420T010743
CREATED:20231220T152155Z
LAST-MODIFIED:20231220T152155Z
UID:251987-1706090400-1706108400@gatewayassociation.ca
SUMMARY:DROP IN WEDNESDAYS  at the Calgary Employment Resource Centre
DESCRIPTION:DROP IN WEDNESDAYS \nat the Calgary Employment Resource Centre \nFor job seekers\, each Wednesday drop in any time between 10am and 3pm to connect with ERC team members to work on resumes\, interview skills\, job search and meet other job seekers! \n1206 20 AVE SE \nCalgary\, AB
URL:https://gatewayassociation.ca/calendar/drop-in-wednesdays-at-the-calgary-employment-resource-centre-5/
CATEGORIES:ERC
END:VEVENT
BEGIN:VEVENT
DTSTART;TZID=America/Denver:20240124T130000
DTEND;TZID=America/Denver:20240124T140000
DTSTAMP:20260420T010743
CREATED:20231211T221115Z
LAST-MODIFIED:20231211T221115Z
UID:251883-1706101200-1706104800@gatewayassociation.ca
SUMMARY:How to Read a Job Posting
DESCRIPTION:How to Read a Job Posting \nJoin this workshop to understand various elements of a job posting\, identify red flags\, and find the right match. This workshop intends to help people save their time by targeting jobs that fits their expectations. \n\nThis workshop is for registered participants only. To register\, please connect with us at get-work@GatewayAssociation.ca
URL:https://gatewayassociation.ca/calendar/how-to-read-a-job-posting-7/
CATEGORIES:ERC
END:VEVENT
BEGIN:VEVENT
DTSTART;TZID=America/Denver:20240124T130000
DTEND;TZID=America/Denver:20240124T143000
DTSTAMP:20260420T010743
CREATED:20231205T224125Z
LAST-MODIFIED:20231205T224125Z
UID:251846-1706101200-1706106600@gatewayassociation.ca
SUMMARY:Social Media Basics (3 of 4)
DESCRIPTION:Session 3 of 4  \nDuration 1.5 hr   \nFacilitator: Toby  \nPrivate – GTDI Program intake required prior to workshop: getdigital@gatewayassociation.ca  \n  \nSocial Media Basics is Part 2 of the Work Simulation. Completion of Part 1: Internet Basics is recommended prior to taking this 4 session workshop series.  \nIncrease your understanding and use of social media! In this workshop we will go through understanding different types of social media and their uses\, creating material for social media\, and managing your social media.  
URL:https://gatewayassociation.ca/calendar/social-media-basics-3-of-4/
END:VEVENT
BEGIN:VEVENT
DTSTART;TZID=America/Denver:20240124T150000
DTEND;TZID=America/Denver:20240124T163000
DTSTAMP:20260420T010743
CREATED:20231205T224229Z
LAST-MODIFIED:20231205T224229Z
UID:251850-1706108400-1706113800@gatewayassociation.ca
SUMMARY:Online Boardgames
DESCRIPTION:Session: 1 of 1 \nDuration: 1.5 to 2 hr \nFacilitator: Lee \nPrivate – GTDI Program intake required prior to workshop signup: getdigital@gatewayassociation.ca \n\n**Requires Online Social Connections – Discord and Steam Tutorials as well as desktop or laptop computer.** \nCome hang out! Learn about setting up online accounts\, meet new friends\, socialize\, and have fun playing boardgames online. Meet new friends\, practise new skills\, have fun!
URL:https://gatewayassociation.ca/calendar/online-boardgames-27/
END:VEVENT
BEGIN:VEVENT
DTSTART;TZID=America/Denver:20240125T080000
DTEND;TZID=America/Denver:20240125T083000
DTSTAMP:20260420T010743
CREATED:20231205T223901Z
LAST-MODIFIED:20231205T223901Z
UID:251840-1706169600-1706171400@gatewayassociation.ca
SUMMARY:ePortfolio Series (3 of 3)
DESCRIPTION:Session 3 of 3  \nDuration 1 hr   \nFacilitator: Lee  \nPrivate – GTDI Program intake required prior to workshop: getdigital@gatewayassociation.ca  \n  \nIn the eportfolio workshop series\, participants will learn about the different types of portfolios\, how to use google sites\, and the basics of layout and design. Learners will choose the type of portfolio they want to build and the subject they want to focus on. They will select and add content to their sites along with descriptions\, statements about their motivation\, interests\, skills\, and hobbies. Learners will work on their own between classes. 
URL:https://gatewayassociation.ca/calendar/eportfolio-series-3-of-3-5/
END:VEVENT
END:VCALENDAR