BEGIN:VCALENDAR
VERSION:2.0
PRODID:-//Gateway Association - ECPv6.15.20//NONSGML v1.0//EN
CALSCALE:GREGORIAN
METHOD:PUBLISH
X-WR-CALNAME:Gateway Association
X-ORIGINAL-URL:https://gatewayassociation.ca
X-WR-CALDESC:Events for Gateway Association
REFRESH-INTERVAL;VALUE=DURATION:PT1H
X-Robots-Tag:noindex
X-PUBLISHED-TTL:PT1H
BEGIN:VTIMEZONE
TZID:America/Denver
BEGIN:DAYLIGHT
TZOFFSETFROM:-0700
TZOFFSETTO:-0600
TZNAME:MDT
DTSTART:20250309T090000
END:DAYLIGHT
BEGIN:STANDARD
TZOFFSETFROM:-0600
TZOFFSETTO:-0700
TZNAME:MST
DTSTART:20251102T080000
END:STANDARD
BEGIN:DAYLIGHT
TZOFFSETFROM:-0700
TZOFFSETTO:-0600
TZNAME:MDT
DTSTART:20260308T090000
END:DAYLIGHT
BEGIN:STANDARD
TZOFFSETFROM:-0600
TZOFFSETTO:-0700
TZNAME:MST
DTSTART:20261101T080000
END:STANDARD
BEGIN:DAYLIGHT
TZOFFSETFROM:-0700
TZOFFSETTO:-0600
TZNAME:MDT
DTSTART:20270314T090000
END:DAYLIGHT
BEGIN:STANDARD
TZOFFSETFROM:-0600
TZOFFSETTO:-0700
TZNAME:MST
DTSTART:20271107T080000
END:STANDARD
END:VTIMEZONE
BEGIN:VEVENT
DTSTART;TZID=America/Denver:20260603T130000
DTEND;TZID=America/Denver:20260603T140000
DTSTAMP:20260420T013928
CREATED:20251210T160138Z
LAST-MODIFIED:20251210T160154Z
UID:255522-1780491600-1780495200@gatewayassociation.ca
SUMMARY:Overcoming Interview & Workplace Anxiety
DESCRIPTION:Overcoming Interview & Workplace Anxiety\nThis workshop helps job seekers manage anxiety during interviews and in the workplace through practical strategies and confidence-building techniques. \nOnline – Zoom \n** Please note that these sessions are for registered participants only. To find out more info or to apply\, please connect with us at Get-Work@GatewayAssociation.ca
URL:https://gatewayassociation.ca/calendar/255522/
CATEGORIES:ERC
END:VEVENT
BEGIN:VEVENT
DTSTART;TZID=America/Denver:20260604T100000
DTEND;TZID=America/Denver:20260604T110000
DTSTAMP:20260420T013928
CREATED:20260317T160115Z
LAST-MODIFIED:20260317T160115Z
UID:256192-1780567200-1780570800@gatewayassociation.ca
SUMMARY:MentorAbility Alberta Monthly Service Provider Meeting
DESCRIPTION:MentorAbility Alberta Monthly Service Provider Meeting\nJune 4th\, 2026 \nVirtual \nYou’re invited to our monthly MentorAbility Service Provider Meeting — a space to connect\, share what’s real right now\, and shape this work together. \nThese sessions are informal\, collaborative\, and conversation-based — no presentations\, just honest dialogue and shared problem-solving. \nWhat to Expect \n• Quick welcome and purpose\n• Brief introductions\n• Open conversation: What’s hard right now?\n• Where MentorAbility fits and what we’re improving\n• Group discussion: How can we make this easier for you?\n• Wrap-up and next steps \nOur goal is to listen\, learn\, and continue improving how MentorAbility supports your teams and participants — while reducing administrative burden wherever possible. \nYour voice matters\, and we’d love to have you with us. \nTo register\, please connect with us at MentorAbilityAB@GatewayAssociation.ca
URL:https://gatewayassociation.ca/calendar/mentorability-alberta-monthly-service-provider-meeting-3/
CATEGORIES:MentorAbility Alberta
END:VEVENT
BEGIN:VEVENT
DTSTART;TZID=America/Denver:20260604T130000
DTEND;TZID=America/Denver:20260604T140000
DTSTAMP:20260420T013928
CREATED:20251210T160304Z
LAST-MODIFIED:20251210T160304Z
UID:255525-1780578000-1780581600@gatewayassociation.ca
SUMMARY:Disclosure and Accommodations
DESCRIPTION:Disclosure and Accommodations\nPractical steps you can take to share personal needs and ask for support. \nOnline \n** Please note that these sessions are for registered participants only. To find out more info or to apply\, please connect with us at Get-Work@GatewayAssociation.ca
URL:https://gatewayassociation.ca/calendar/disclosure-and-accommodations-8/
CATEGORIES:ERC
END:VEVENT
BEGIN:VEVENT
DTSTART;TZID=America/Denver:20260610T130000
DTEND;TZID=America/Denver:20260610T140000
DTSTAMP:20260420T013928
CREATED:20251210T160404Z
LAST-MODIFIED:20251210T160404Z
UID:255527-1781096400-1781100000@gatewayassociation.ca
SUMMARY:Interview Prep 101
DESCRIPTION:Interview Prep 101\nIn this workshop\, you will learn about how to get ready for a job interview\, how to “shine’ in the interview and what to do after the interview to stand out and increase your chances of getting called back! \nOnline – Zoom \n** Please note that these sessions are for registered participants only. To find out more info or to apply\, please connect with us at Get-Work@GatewayAssociation.ca
URL:https://gatewayassociation.ca/calendar/interview-prep-101-6/
CATEGORIES:ERC
END:VEVENT
BEGIN:VEVENT
DTSTART;TZID=America/Denver:20260611T130000
DTEND;TZID=America/Denver:20260611T140000
DTSTAMP:20260420T013928
CREATED:20251210T160456Z
LAST-MODIFIED:20251210T160456Z
UID:255529-1781182800-1781186400@gatewayassociation.ca
SUMMARY:Workplace Expectations
DESCRIPTION:Workplace Expectations\nThis interactive workshop will help you retain your job; we will explore what you need to do to keep your job. \nOnline – Zoom \n** Please note that these sessions are for registered participants only. To find out more info or to apply\, please connect with us at Get-Work@GatewayAssociation.ca
URL:https://gatewayassociation.ca/calendar/workplace-expectations-28/
CATEGORIES:ERC
END:VEVENT
BEGIN:VEVENT
DTSTART;TZID=America/Denver:20260617T130000
DTEND;TZID=America/Denver:20260617T140000
DTSTAMP:20260420T013928
CREATED:20251210T160554Z
LAST-MODIFIED:20251210T160554Z
UID:255531-1781701200-1781704800@gatewayassociation.ca
SUMMARY:Mindfulness
DESCRIPTION:Mindfulness\nHave you heard the term “Mindfulness” and wondered what does that mean? Look no further! Join us and learn the wonders of Mindfulness and how it can be used to reduce stress and enhance focus! \nOnline \n** Please note that these sessions are for registered participants only. To find out more info or to apply\, please connect with us at Get-Work@GatewayAssociation.ca
URL:https://gatewayassociation.ca/calendar/mindfulness-4/
CATEGORIES:ERC
END:VEVENT
BEGIN:VEVENT
DTSTART;TZID=America/Denver:20260618T130000
DTEND;TZID=America/Denver:20260618T140000
DTSTAMP:20260420T013928
CREATED:20251210T160656Z
LAST-MODIFIED:20251210T160656Z
UID:255533-1781787600-1781791200@gatewayassociation.ca
SUMMARY:Labor Market Trends
DESCRIPTION:Labor Market Trends\nAn in-depth discussion on what jobs are in demand and how you can plan for career stability. \nOnline – Zoom \n** Please note that these sessions are for registered participants only. To find out more info or to apply\, please connect with us at Get-Work@GatewayAssociation.ca
URL:https://gatewayassociation.ca/calendar/labor-market-trends-5/
CATEGORIES:ERC
END:VEVENT
BEGIN:VEVENT
DTSTART;TZID=America/Denver:20260624T130000
DTEND;TZID=America/Denver:20260624T140000
DTSTAMP:20260420T013928
CREATED:20251210T160753Z
LAST-MODIFIED:20251210T160753Z
UID:255535-1782306000-1782309600@gatewayassociation.ca
SUMMARY:Body Language 101
DESCRIPTION:Body Language 101\nLearn how to use and read non-verbal cues to communicate confidence\, connection\, and credibility. \nOnline – Zoom \n** Please note that these sessions are for registered participants only. To find out more info or to apply\, please connect with us at Get-Work@GatewayAssociation.ca
URL:https://gatewayassociation.ca/calendar/body-language-101-3/
CATEGORIES:ERC
END:VEVENT
BEGIN:VEVENT
DTSTART;TZID=America/Denver:20260625T130000
DTEND;TZID=America/Denver:20260625T140000
DTSTAMP:20260420T013928
CREATED:20251210T160850Z
LAST-MODIFIED:20251210T160850Z
UID:255537-1782392400-1782396000@gatewayassociation.ca
SUMMARY:How to Read a Job Posting
DESCRIPTION:How to Read a Job Posting\nJoin this workshop to understand various elements of a job posting\, identify red flags\, and find the right match. This workshop intends to help people save their time by targeting jobs that fits their expectations. \nOnline – Zoom \n** Please note that these sessions are for registered participants only. To find out more info or to apply\, please connect with us at Get-Work@GatewayAssociation.ca
URL:https://gatewayassociation.ca/calendar/how-to-read-a-job-posting-23/
CATEGORIES:ERC
END:VEVENT
BEGIN:VEVENT
DTSTART;TZID=America/Denver:20260702T100000
DTEND;TZID=America/Denver:20260702T110000
DTSTAMP:20260420T013928
CREATED:20260317T160253Z
LAST-MODIFIED:20260317T160253Z
UID:256194-1782986400-1782990000@gatewayassociation.ca
SUMMARY:MentorAbility Alberta Monthly Service Provider Meeting
DESCRIPTION:MentorAbility Alberta Monthly Service Provider Meeting\nJuly 2nd\, 2026 \nVirtual \nYou’re invited to our monthly MentorAbility Service Provider Meeting — a space to connect\, share what’s real right now\, and shape this work together. \nThese sessions are informal\, collaborative\, and conversation-based — no presentations\, just honest dialogue and shared problem-solving. \nWhat to Expect \n• Quick welcome and purpose\n• Brief introductions\n• Open conversation: What’s hard right now?\n• Where MentorAbility fits and what we’re improving\n• Group discussion: How can we make this easier for you?\n• Wrap-up and next steps \nOur goal is to listen\, learn\, and continue improving how MentorAbility supports your teams and participants — while reducing administrative burden wherever possible. \nYour voice matters\, and we’d love to have you with us. \nTo register\, please connect with us at MentorAbilityAB@GatewayAssociation.ca
URL:https://gatewayassociation.ca/calendar/mentorability-alberta-monthly-service-provider-meeting-4/
CATEGORIES:MentorAbility Alberta
END:VEVENT
BEGIN:VEVENT
DTSTART;TZID=America/Denver:20260806T100000
DTEND;TZID=America/Denver:20260806T110000
DTSTAMP:20260420T013928
CREATED:20260317T160339Z
LAST-MODIFIED:20260317T160339Z
UID:256196-1786010400-1786014000@gatewayassociation.ca
SUMMARY:MentorAbility Alberta Monthly Service Provider Meeting
DESCRIPTION:MentorAbility Alberta Monthly Service Provider Meeting\nAugust 6th\, 2026 \nVirtual \nYou’re invited to our monthly MentorAbility Service Provider Meeting — a space to connect\, share what’s real right now\, and shape this work together. \nThese sessions are informal\, collaborative\, and conversation-based — no presentations\, just honest dialogue and shared problem-solving. \nWhat to Expect \n• Quick welcome and purpose\n• Brief introductions\n• Open conversation: What’s hard right now?\n• Where MentorAbility fits and what we’re improving\n• Group discussion: How can we make this easier for you?\n• Wrap-up and next steps \nOur goal is to listen\, learn\, and continue improving how MentorAbility supports your teams and participants — while reducing administrative burden wherever possible. \nYour voice matters\, and we’d love to have you with us. \nTo register\, please connect with us at MentorAbilityAB@GatewayAssociation.ca
URL:https://gatewayassociation.ca/calendar/mentorability-alberta-monthly-service-provider-meeting-5/
CATEGORIES:MentorAbility Alberta
END:VEVENT
BEGIN:VEVENT
DTSTART;TZID=America/Denver:20260903T100000
DTEND;TZID=America/Denver:20260903T110000
DTSTAMP:20260420T013928
CREATED:20260317T160429Z
LAST-MODIFIED:20260317T160429Z
UID:256198-1788429600-1788433200@gatewayassociation.ca
SUMMARY:MentorAbility Alberta Monthly Service Provider Meeting
DESCRIPTION:MentorAbility Alberta Monthly Service Provider Meeting\nSeptember 3rd\, 2026 \nVirtual \nYou’re invited to our monthly MentorAbility Service Provider Meeting — a space to connect\, share what’s real right now\, and shape this work together. \nThese sessions are informal\, collaborative\, and conversation-based — no presentations\, just honest dialogue and shared problem-solving. \nWhat to Expect \n• Quick welcome and purpose\n• Brief introductions\n• Open conversation: What’s hard right now?\n• Where MentorAbility fits and what we’re improving\n• Group discussion: How can we make this easier for you?\n• Wrap-up and next steps \nOur goal is to listen\, learn\, and continue improving how MentorAbility supports your teams and participants — while reducing administrative burden wherever possible. \nYour voice matters\, and we’d love to have you with us. \nTo register\, please connect with us at MentorAbilityAB@GatewayAssociation.ca
URL:https://gatewayassociation.ca/calendar/mentorability-alberta-monthly-service-provider-meeting-6/
CATEGORIES:MentorAbility Alberta
END:VEVENT
END:VCALENDAR