BEGIN:VCALENDAR
VERSION:2.0
PRODID:-//Gateway Association - ECPv6.15.20//NONSGML v1.0//EN
CALSCALE:GREGORIAN
METHOD:PUBLISH
X-WR-CALNAME:Gateway Association
X-ORIGINAL-URL:https://gatewayassociation.ca
X-WR-CALDESC:Events for Gateway Association
REFRESH-INTERVAL;VALUE=DURATION:PT1H
X-Robots-Tag:noindex
X-PUBLISHED-TTL:PT1H
BEGIN:VTIMEZONE
TZID:America/Denver
BEGIN:DAYLIGHT
TZOFFSETFROM:-0700
TZOFFSETTO:-0600
TZNAME:MDT
DTSTART:20220313T090000
END:DAYLIGHT
BEGIN:STANDARD
TZOFFSETFROM:-0600
TZOFFSETTO:-0700
TZNAME:MST
DTSTART:20221106T080000
END:STANDARD
BEGIN:DAYLIGHT
TZOFFSETFROM:-0700
TZOFFSETTO:-0600
TZNAME:MDT
DTSTART:20230312T090000
END:DAYLIGHT
BEGIN:STANDARD
TZOFFSETFROM:-0600
TZOFFSETTO:-0700
TZNAME:MST
DTSTART:20231105T080000
END:STANDARD
BEGIN:DAYLIGHT
TZOFFSETFROM:-0700
TZOFFSETTO:-0600
TZNAME:MDT
DTSTART:20240310T090000
END:DAYLIGHT
BEGIN:STANDARD
TZOFFSETFROM:-0600
TZOFFSETTO:-0700
TZNAME:MST
DTSTART:20241103T080000
END:STANDARD
END:VTIMEZONE
BEGIN:VEVENT
DTSTART;TZID=America/Denver:20230921T140000
DTEND;TZID=America/Denver:20230921T153000
DTSTAMP:20260420T043540
CREATED:20230816T145556Z
LAST-MODIFIED:20230824T142007Z
UID:251135-1695304800-1695310200@gatewayassociation.ca
SUMMARY:Internet Basics (4 of 4)
DESCRIPTION:Session 4 of 4 \nDuration 1.5 hr \nFacilitator: Toby \nPrivate – GTDI Program intake required prior to workshop: getdigital@gatewayassociation.ca \nThis 3 session workshop series (part 1 of the work simulation) helps learners find\, share\, and explore things online through a series of fun activities. Participants will use different google map features to find their way around town\, share their favourite places\, plan a vacation\, and compare different search engines. As a group\, learners will chat about fake news\, investigate stories on Snopes\, and chat about the media we take in everyday.
URL:https://gatewayassociation.ca/calendar/internet-basics-3-of-3-3/
END:VEVENT
BEGIN:VEVENT
DTSTART;TZID=America/Denver:20230921T130000
DTEND;TZID=America/Denver:20230921T140000
DTSTAMP:20260420T043540
CREATED:20230816T190651Z
LAST-MODIFIED:20230816T190651Z
UID:251258-1695301200-1695304800@gatewayassociation.ca
SUMMARY:Workplace Communication 101 - Positive Communication and Constructive Feedback
DESCRIPTION:Workplace Communication 101 – Positive Communication and Constructive Feedback \nWorkplace Communication is made up of many essential skills\, such as\, what is okay to talk about at work with your coworkers? How to give and receive positive and constructive feedback? In this workshop\, we will talk about ways to help you to feel confident and comfortable with workplace communication. \nOnline or In-Person: ONLINE
URL:https://gatewayassociation.ca/calendar/workplace-communication-101-positive-communication-and-constructive-feedback/
END:VEVENT
BEGIN:VEVENT
DTSTART;TZID=America/Denver:20230921T130000
DTEND;TZID=America/Denver:20230921T140000
DTSTAMP:20260420T043540
CREATED:20230720T174120Z
LAST-MODIFIED:20230720T174120Z
UID:250945-1695301200-1695304800@gatewayassociation.ca
SUMMARY:Understanding Disability\, Community Resources
DESCRIPTION:Understanding Disability: Community Resources \nThursday\, September 21 \n1:00pm – 2:00pm | Online \n  \nA workshop that explores community and government resources for adults with disabilities. \nThis workshop is for caregivers and professionals who are supporting an adult with a disability to ensure the proper supports are accessed for them to live a good life. The workshop will empower participants with the knowledge they need to begin planning for adulthood and seniorhood. \n  \nFacilitator: Yonique at Yonique@GatewayAssociation.ca \nRegister HERE
URL:https://gatewayassociation.ca/calendar/understanding-disability-community-resources-6/
CATEGORIES:FRC
END:VEVENT
BEGIN:VEVENT
DTSTART;TZID=America/Denver:20230920T140000
DTEND;TZID=America/Denver:20230920T153000
DTSTAMP:20260420T043540
CREATED:20230816T145424Z
LAST-MODIFIED:20230824T141931Z
UID:251133-1695218400-1695223800@gatewayassociation.ca
SUMMARY:Internet Basics (3 of 4)
DESCRIPTION:Session 3 of 4 \nDuration 1.5 hr \nFacilitator: Toby \nPrivate – GTDI Program intake required prior to workshop: getdigital@gatewayassociation.ca \nThis 3 session workshop series (part 1 of the work simulation) helps learners find\, share\, and explore things online through a series of fun activities. Participants will use different google map features to find their way around town\, share their favourite places\, plan a vacation\, and compare different search engines. As a group\, learners will chat about fake news\, investigate stories on Snopes\, and chat about the media we take in everyday.
URL:https://gatewayassociation.ca/calendar/internet-basics-2-of-3-3/
END:VEVENT
BEGIN:VEVENT
DTSTART;TZID=America/Denver:20230920T130000
DTEND;TZID=America/Denver:20230920T150000
DTSTAMP:20260420T043540
CREATED:20230816T194034Z
LAST-MODIFIED:20230816T194034Z
UID:251292-1695214800-1695222000@gatewayassociation.ca
SUMMARY:Digital Storytelling\, September Cohort
DESCRIPTION:DIGITAL STORYTELLING \n\n\nWe all have stories\, and it’s important that they are told.  \n\n\nWorking alongside others over five sessions\, participants will develop their very own digital story\, through group discussion and activities that will support participants in telling their story\, the way they want to tell it.  \n\n\nWhen finished\, each participant will achieve a Digital Storyteller Certificate to add to their resume\, in addition to new skills and connections.  \n\n\nFALL SESSIONS M/W/F @ 1-3 PM  \n\n\nSept 18-27\, 2023 \nTry one of these sessions\, created to provide access for those who identify as having a disability; facilitated by Story Finders Heath Birkholz and Maigan van der Giessen from Gateway Association.  \n\n\nRegister at getdigital@gatewayassociation.ca 
URL:https://gatewayassociation.ca/calendar/digital-storytelling-september-cohort-2/
CATEGORIES:MentorAbility Alberta
END:VEVENT
BEGIN:VEVENT
DTSTART;TZID=America/Denver:20230920T130000
DTEND;TZID=America/Denver:20230920T140000
DTSTAMP:20260420T043540
CREATED:20230816T190554Z
LAST-MODIFIED:20230816T190554Z
UID:251256-1695214800-1695218400@gatewayassociation.ca
SUMMARY:How to Read a Job Posting
DESCRIPTION:How to Read a Job Posting \n Join this workshop to understand various elements of a job posting\, identify red flags\, and find the right match. This workshop intends to help people save their time by targeting jobs that fits their expectations. \nOnline or In-Person: ONLINE \nTo register\, connect with us at Get-Work@GatewayAssociation.ca
URL:https://gatewayassociation.ca/calendar/how-to-read-a-job-posting-5/
CATEGORIES:ERC
END:VEVENT
BEGIN:VEVENT
DTSTART;TZID=America/Denver:20230920T110000
DTEND;TZID=America/Denver:20230920T120000
DTSTAMP:20260420T043540
CREATED:20230816T145008Z
LAST-MODIFIED:20230816T145008Z
UID:251129-1695207600-1695211200@gatewayassociation.ca
SUMMARY:Google Drive (2 of 2)
DESCRIPTION:Session: 2 of 2 \nDuration: 1 hr \nFacilitator: Lee \nPrivate – GTDI Program intake required prior to workshop: getdigital@gatewayassociation.ca \n  \nLearn how to create a google accounts\, access google drive\, upload files\, create folders\, search for files. Group discussion on cloud storage\, strong passwords\, file naming conventions and keeping documents and folders organized.
URL:https://gatewayassociation.ca/calendar/google-drive-2-of-2-3/
END:VEVENT
BEGIN:VEVENT
DTSTART;TZID=America/Denver:20230919T150000
DTEND;TZID=America/Denver:20230919T163000
DTSTAMP:20260420T043540
CREATED:20230816T150344Z
LAST-MODIFIED:20230816T152653Z
UID:251141-1695135600-1695141000@gatewayassociation.ca
SUMMARY:Online Boardgames
DESCRIPTION:Session: 1 of 1 \nDuration: 1.5 to 2 hr \nFacilitator: Lee \nPrivate – GTDI Program intake required prior to workshop signup: getdigital@gatewayassociation.ca \n**Requires Online Social Connections – Discord and Steam Tutorials as well as desktop or laptop computer.** \nCome hang out! Learn about setting up online accounts\, meet new friends\, socialize\, and have fun playing boardgames online. Meet new friends\, practise new skills\, have fun!
URL:https://gatewayassociation.ca/calendar/online-boardgames-13/
END:VEVENT
BEGIN:VEVENT
DTSTART;TZID=America/Denver:20230919T140000
DTEND;TZID=America/Denver:20230919T153000
DTSTAMP:20260420T043540
CREATED:20230816T145309Z
LAST-MODIFIED:20230824T141311Z
UID:251131-1695132000-1695137400@gatewayassociation.ca
SUMMARY:Internet Basics (2 of 4)
DESCRIPTION:Session 3 of 4 \nDuration 1.5 hr \nFacilitator: Toby \nPrivate – GTDI Program intake required prior to workshop: getdigital@gatewayassociation.ca \nThis 3 session workshop series (part 1 of the work simulation) helps learners find\, share\, and explore things online through a series of fun activities. Participants will use different google map features to find their way around town\, share their favourite places\, plan a vacation\, and compare different search engines. As a group\, learners will chat about fake news\, investigate stories on Snopes\, and chat about the media we take in everyday.
URL:https://gatewayassociation.ca/calendar/internet-basics-1-of-3-3/
END:VEVENT
BEGIN:VEVENT
DTSTART;TZID=America/Denver:20230919T130000
DTEND;TZID=America/Denver:20230919T140000
DTSTAMP:20260420T043540
CREATED:20230816T190216Z
LAST-MODIFIED:20230816T190216Z
UID:251254-1695128400-1695132000@gatewayassociation.ca
SUMMARY:Workplace Expectations
DESCRIPTION:Workplace Expectations \nYou’ve got the job\, now you must keep it! Talking about the everyday behaviors that are appropriate in the workplace: \n\nshowing up on time\nhow long is too long for socializing with coworkers\nbreaks – what does this mean\nmotivation and engagement\n\n\nOnline or In-Person: ONLINE \nTo register\, please connect with us at Get-Work@GatewayAssociation.ca
URL:https://gatewayassociation.ca/calendar/workplace-expectations-9/
CATEGORIES:ERC
END:VEVENT
BEGIN:VEVENT
DTSTART;TZID=America/Denver:20230919T110000
DTEND;TZID=America/Denver:20230919T120000
DTSTAMP:20260420T043540
CREATED:20230816T144748Z
LAST-MODIFIED:20230816T144748Z
UID:251127-1695121200-1695124800@gatewayassociation.ca
SUMMARY:Google Drive (1 of 2)
DESCRIPTION:Session: 1 of 2 \nDuration: 1 hr \nFacilitator: Lee \nPrivate – GTDI Program intake required prior to workshop: getdigital@gatewayassociation.ca \n  \nLearn how to create a google accounts\, access google drive\, upload files\, create folders\, search for files. Group discussion on cloud storage\, strong passwords\, file naming conventions and keeping documents and folders organized.
URL:https://gatewayassociation.ca/calendar/google-drive-1-of-2-3/
END:VEVENT
BEGIN:VEVENT
DTSTART;TZID=America/Denver:20230918T190000
DTEND;TZID=America/Denver:20230918T210000
DTSTAMP:20260420T043540
CREATED:20230720T170652Z
LAST-MODIFIED:20230803T143542Z
UID:250910-1695063600-1695070800@gatewayassociation.ca
SUMMARY:Families Forward\, Financial Resources
DESCRIPTION:Families Forward\, Financial Resources \nMonday\, September 18 \n7:00pm – 9:00pm | Online \n  \nMonthly meeting where families can connect with other families\, learn from one another\, and explore financial resources. \nFacilitators: Fiona at Fiona@GatewayAssociation.ca and Jacquie at Jacquie@Jacquie@GatewayAssociation.ca \nRegister HERE
URL:https://gatewayassociation.ca/calendar/families-forward-financial-resources/
CATEGORIES:FRC
END:VEVENT
BEGIN:VEVENT
DTSTART;TZID=America/Denver:20230918T140000
DTEND;TZID=America/Denver:20230918T153000
DTSTAMP:20260420T043540
CREATED:20230824T142542Z
LAST-MODIFIED:20230824T142542Z
UID:251423-1695045600-1695051000@gatewayassociation.ca
SUMMARY:Internet Basics (1 of 4)
DESCRIPTION:Session 1 of 4 \nDuration 1.5 hr \nFacilitator: Toby \nPrivate – GTDI Program intake required prior to workshop: getdigital@gatewayassociation.ca \nThis 3 session workshop series (part 1 of the work simulation) helps learners find\, share\, and explore things online through a series of fun activities. Participants will use different google map features to find their way around town\, share their favourite places\, plan a vacation\, and compare different search engines. As a group\, learners will chat about fake news\, investigate stories on Snopes\, and chat about the media we take in everyday.
URL:https://gatewayassociation.ca/calendar/internet-basics-1-of-4/
END:VEVENT
BEGIN:VEVENT
DTSTART;TZID=America/Denver:20230918T130000
DTEND;TZID=America/Denver:20230918T150000
DTSTAMP:20260420T043540
CREATED:20230816T193959Z
LAST-MODIFIED:20230816T193959Z
UID:251290-1695042000-1695049200@gatewayassociation.ca
SUMMARY:Digital Storytelling\, September Cohort
DESCRIPTION:DIGITAL STORYTELLING \n\n\nWe all have stories\, and it’s important that they are told.  \n\n\nWorking alongside others over five sessions\, participants will develop their very own digital story\, through group discussion and activities that will support participants in telling their story\, the way they want to tell it.  \n\n\nWhen finished\, each participant will achieve a Digital Storyteller Certificate to add to their resume\, in addition to new skills and connections.  \n\n\nFALL SESSIONS M/W/F @ 1-3 PM  \n\n\nSept 18-27\, 2023 \nTry one of these sessions\, created to provide access for those who identify as having a disability; facilitated by Story Finders Heath Birkholz and Maigan van der Giessen from Gateway Association.  \n\n\nRegister at getdigital@gatewayassociation.ca 
URL:https://gatewayassociation.ca/calendar/digital-storytelling-september-cohort/
CATEGORIES:MentorAbility Alberta
END:VEVENT
BEGIN:VEVENT
DTSTART;TZID=America/Denver:20230918T110000
DTEND;TZID=America/Denver:20230918T120000
DTSTAMP:20260420T043540
CREATED:20230816T144551Z
LAST-MODIFIED:20230816T144551Z
UID:251125-1695034800-1695038400@gatewayassociation.ca
SUMMARY:Discord Tutorial
DESCRIPTION:Session 1 of 1 \nDuration 1 hr \nFacilitator: Lee \nPrivate – GTDI Program intake required prior to workshop: getdigital@gatewayassociation.ca \n\nStep by step tutorial for downloading and installing Discord – a free app that lets people chat using text\, voice or video. Discord is required for Online boardgames group.
URL:https://gatewayassociation.ca/calendar/discord-tutorial-15/
END:VEVENT
BEGIN:VEVENT
DTSTART;TZID=America/Denver:20230914T143000
DTEND;TZID=America/Denver:20230914T153000
DTSTAMP:20260420T043540
CREATED:20230816T144507Z
LAST-MODIFIED:20230816T144507Z
UID:251123-1694701800-1694705400@gatewayassociation.ca
SUMMARY:PDFs and File Management (2 of 2)
DESCRIPTION:Session 2 of 2 \nDuration 1 hr \nFacilitator: Toby \nPrivate – GTDI Program intake required prior to workshop: getdigital@gatewayassociation.ca \n\nIn this workshop participants will learn about saving files\, organizing and finding files\, converting documents to pdfs\, what a is pdf\, and how to use pdfs.
URL:https://gatewayassociation.ca/calendar/pdfs-and-file-management-2-of-2/
END:VEVENT
BEGIN:VEVENT
DTSTART;TZID=America/Denver:20230914T130000
DTEND;TZID=America/Denver:20230914T140000
DTSTAMP:20260420T043540
CREATED:20230816T190035Z
LAST-MODIFIED:20230816T190035Z
UID:251252-1694696400-1694700000@gatewayassociation.ca
SUMMARY:Interview Prep; Before\, During and After the Interview
DESCRIPTION:Interview Prep: Before\, During & After \nIn this workshop\, you will learn about how to get ready for a job interview\, how to “shine’ in the interview and what to do after the interview to stand out and increase your chances of getting called back! \nOnline or In-Person: Online \n  \nTo register for this session\, please connect with us at Get-Work@GatewayAssociation.ca
URL:https://gatewayassociation.ca/calendar/interview-prep-before-during-and-after-the-interview/
CATEGORIES:ERC
END:VEVENT
BEGIN:VEVENT
DTSTART;TZID=America/Denver:20230914T130000
DTEND;TZID=America/Denver:20230914T140000
DTSTAMP:20260420T043540
CREATED:20230816T143754Z
LAST-MODIFIED:20230816T143754Z
UID:251117-1694696400-1694700000@gatewayassociation.ca
SUMMARY:You TOO Can YouTube (4 of 4)
DESCRIPTION:Session: 4 of 4 \nDuration: 1 hr \nFacilitator: Toby \nPrivate – GTDI Program intake required prior to workshop: getdigital@gatewayassociation.ca \n\nLearn about being a YouTube viewer and a YouTube creator. Find out how to make your own YouTube Channel and what to consider when you are choosing videos to watch. Create YouTube content\, learn about what to consider when watching videos as well as how to save and organize videos.
URL:https://gatewayassociation.ca/calendar/you-too-can-youtube-4-of-4-2/
END:VEVENT
BEGIN:VEVENT
DTSTART;TZID=America/Denver:20230914T130000
DTEND;TZID=America/Denver:20230914T140000
DTSTAMP:20260420T043540
CREATED:20230720T173955Z
LAST-MODIFIED:20230720T173955Z
UID:250943-1694696400-1694700000@gatewayassociation.ca
SUMMARY:Understanding Disability in the Transition Years
DESCRIPTION:Understanding Disability in the Transitioning Years \nThursday\, September 14 \n1:00pm – 2:00pm | Online \n  \nA workshop that provides an overview of supports available to youth who are transitioning to adulthood. \nThis workshop is for caregivers and professionals who are supporting a young person who is transitioning to adulthood to think about their future in the community and access the right support. \n  \nFacilitator: Yonique at Yonique@GatewayAssociation.ca \nRegister HERE
URL:https://gatewayassociation.ca/calendar/understanding-disability-in-the-transition-years-2/
CATEGORIES:FRC
END:VEVENT
BEGIN:VEVENT
DTSTART;TZID=America/Denver:20230914T110000
DTEND;TZID=America/Denver:20230914T120000
DTSTAMP:20260420T043540
CREATED:20230816T142429Z
LAST-MODIFIED:20230816T142429Z
UID:251109-1694689200-1694692800@gatewayassociation.ca
SUMMARY:ePortfolio Series (3 of 3)
DESCRIPTION:Session 3 of 3 \nDuration 1 hr \nFacilitator: Lee \nPrivate – GTDI Program intake required prior to workshop: getdigital@gatewayassociation.ca \n\nIn the eportfolio workshop series\, participants will learn about the different types of portfolios\, how to use google sites\, and the basics of layout and design. Learners will choose the type of portfolio they want to build and the subject they want to focus on. They will select and add content to their sites along with descriptions\, statements about their motivation\, interests\, skills\, and hobbies. Learners will work on their own between classes.
URL:https://gatewayassociation.ca/calendar/eportfolio-series-3-of-3-2/
END:VEVENT
BEGIN:VEVENT
DTSTART;TZID=America/Denver:20230914T100000
DTEND;TZID=America/Denver:20230914T120000
DTSTAMP:20260420T043540
CREATED:20230816T185822Z
LAST-MODIFIED:20230816T185822Z
UID:251250-1694685600-1694692800@gatewayassociation.ca
SUMMARY:Interview Roundtable; Learning and Laughing Together
DESCRIPTION:Interview Roundtable: Learning and Laughing Together – Practice \n  \nJoin us for a dynamic and interactive workshop designed to help you ace your next job interview. In our Interview Roundtable\, you’ll have the opportunity to connect with fellow job seekers and share your experiences and insights. Our experienced facilitators will guide you through real-life interview scenarios and help you develop the skills and confidence you need to succeed. \nSpots are limited. To register\, please e-mail Marnie@gatewayassociation.ca. Registration will be first-come first-serve. \n\nOnline or In-Person: IN-PERSON – YYC
URL:https://gatewayassociation.ca/calendar/interview-roundtable-learning-and-laughing-together/
CATEGORIES:ERC
END:VEVENT
BEGIN:VEVENT
DTSTART;TZID=America/Denver:20230913T143000
DTEND;TZID=America/Denver:20230913T153000
DTSTAMP:20260420T043540
CREATED:20230816T144315Z
LAST-MODIFIED:20230816T144315Z
UID:251121-1694615400-1694619000@gatewayassociation.ca
SUMMARY:PDFs and File Management (1 of 2)
DESCRIPTION:Session 1 of 2 \nDuration 1 hr \nFacilitator: Toby \nPrivate – GTDI Program intake required prior to workshop: getdigital@gatewayassociation.ca \n\nIn this workshop participants will learn about saving files\, organizing and finding files\, converting documents to pdfs\, what a is pdf\, and how to use pdfs.
URL:https://gatewayassociation.ca/calendar/pdfs-and-file-management-1-of-2/
END:VEVENT
BEGIN:VEVENT
DTSTART;TZID=America/Denver:20230913T130000
DTEND;TZID=America/Denver:20230913T140000
DTSTAMP:20260420T043540
CREATED:20230816T143653Z
LAST-MODIFIED:20230816T143653Z
UID:251115-1694610000-1694613600@gatewayassociation.ca
SUMMARY:You TOO Can YouTube (3 of 4)
DESCRIPTION:Session: 3 of 4 \nDuration: 1 hr \nFacilitator: Toby \nPrivate – GTDI Program intake required prior to workshop: getdigital@gatewayassociation.ca \n\nLearn about being a YouTube viewer and a YouTube creator. Find out how to make your own YouTube Channel and what to consider when you are choosing videos to watch. Create YouTube content\, learn about what to consider when watching videos as well as how to save and organize videos.
URL:https://gatewayassociation.ca/calendar/you-too-can-youtube-3-of-4-2/
END:VEVENT
BEGIN:VEVENT
DTSTART;TZID=America/Denver:20230913T110000
DTEND;TZID=America/Denver:20230913T120000
DTSTAMP:20260420T043540
CREATED:20230816T142349Z
LAST-MODIFIED:20230816T142349Z
UID:251107-1694602800-1694606400@gatewayassociation.ca
SUMMARY:ePortfolio Series (2 of 3)
DESCRIPTION:Session 2 of 3 \nDuration 1 hr \nFacilitator: Lee \nPrivate – GTDI Program intake required prior to workshop: getdigital@gatewayassociation.ca \n\nIn the eportfolio workshop series\, participants will learn about the different types of portfolios\, how to use google sites\, and the basics of layout and design. Learners will choose the type of portfolio they want to build and the subject they want to focus on. They will select and add content to their sites along with descriptions\, statements about their motivation\, interests\, skills\, and hobbies. Learners will work on their own between classes.
URL:https://gatewayassociation.ca/calendar/eportfolio-series-2-of-3/
END:VEVENT
BEGIN:VEVENT
DTSTART;TZID=America/Denver:20230912T190000
DTEND;TZID=America/Denver:20230912T210000
DTSTAMP:20260420T043540
CREATED:20230720T164502Z
LAST-MODIFIED:20230831T215344Z
UID:250894-1694545200-1694552400@gatewayassociation.ca
SUMMARY:Families Forward\, Under 18
DESCRIPTION:Families Forward\, Under 18 \nTuesday\, September 12 \n7:00pm – 9:00pm | Online \nMonthly meeting for families with children under 18 with disabilities. \nWhere families can connect with other families\, learn from one another\, and explore issues that are important (such as schooling\, leadership\, and community and government support). \nSeptember Topic: \nShyla Masse from Getting Ready for Inclusion Today(GRIT) will be joining us to discuss visioning and planning for the upcoming school year. \n  \nFacilitators: Yonique at Yonique@GatewayAssociation.ca and Stacy at Stacy@GatewayAssociation.ca  \nRegister HERE
URL:https://gatewayassociation.ca/calendar/families-forward-under-18-8/
CATEGORIES:FRC
END:VEVENT
BEGIN:VEVENT
DTSTART;TZID=America/Denver:20230912T150000
DTEND;TZID=America/Denver:20230912T163000
DTSTAMP:20260420T043540
CREATED:20230816T144145Z
LAST-MODIFIED:20230816T144145Z
UID:251119-1694530800-1694536200@gatewayassociation.ca
SUMMARY:Online Boardgames
DESCRIPTION:Session: 1 of 1 \nDuration: 1.5 to 2 hr \nFacilitator: Lee \nPrivate – GTDI Program intake required prior to workshop signup: getdigital@gatewayassociation.ca \n\n**Requires Online Social Connections – Discord and Steam Tutorials as well as desktop or laptop computer.** \nCome hang out! Learn about setting up online accounts\, meet new friends\, socialize\, and have fun playing boardgames online. Meet new friends\, practice new skills\, have fun!
URL:https://gatewayassociation.ca/calendar/online-boardgames-12/
END:VEVENT
BEGIN:VEVENT
DTSTART;TZID=America/Denver:20230912T130000
DTEND;TZID=America/Denver:20230912T140000
DTSTAMP:20260420T043540
CREATED:20230816T143218Z
LAST-MODIFIED:20230816T143218Z
UID:251113-1694523600-1694527200@gatewayassociation.ca
SUMMARY:You TOO Can YouTube (2 of 4)
DESCRIPTION:Session: 2 of 4 \nDuration: 1 hr \nFacilitator: Toby \nPrivate – GTDI Program intake required prior to workshop: getdigital@gatewayassociation.ca \n\nLearn about being a YouTube viewer and a YouTube creator. Find out how to make your own YouTube Channel and what to consider when you are choosing videos to watch. Create YouTube content\, learn about what to consider when watching videos as well as how to save and organize videos.
URL:https://gatewayassociation.ca/calendar/you-too-can-youtube-2-of-4-2/
END:VEVENT
BEGIN:VEVENT
DTSTART;TZID=America/Denver:20230912T110000
DTEND;TZID=America/Denver:20230912T120000
DTSTAMP:20260420T043540
CREATED:20230816T142256Z
LAST-MODIFIED:20230816T142256Z
UID:251105-1694516400-1694520000@gatewayassociation.ca
SUMMARY:ePortfolio Series (1 of 3)
DESCRIPTION:Session 1 of 3 \nDuration 1 hr \nFacilitator: Lee \nPrivate – GTDI Program intake required prior to workshop: getdigital@gatewayassociation.ca \n\nIn the eportfolio workshop series\, participants will learn about the different types of portfolios\, how to use google sites\, and the basics of layout and design. Learners will choose the type of portfolio they want to build and the subject they want to focus on. They will select and add content to their sites along with descriptions\, statements about their motivation\, interests\, skills\, and hobbies. Learners will work on their own between classes.
URL:https://gatewayassociation.ca/calendar/eportfolio-series-1-of-3-2/
END:VEVENT
BEGIN:VEVENT
DTSTART;TZID=America/Denver:20230911T130000
DTEND;TZID=America/Denver:20230911T140000
DTSTAMP:20260420T043540
CREATED:20230816T142629Z
LAST-MODIFIED:20230816T142629Z
UID:251111-1694437200-1694440800@gatewayassociation.ca
SUMMARY:You TOO Can YouTube (1 of 4)
DESCRIPTION:Session: 1 of 4 \nDuration: 1 hr \nFacilitator: Toby \nPrivate – GTDI Program intake required prior to workshop: getdigital@gatewayassociation.ca \n\nLearn about being a YouTube viewer and a YouTube creator. Find out how to make your own YouTube Channel and what to consider when you are choosing videos to watch. Create YouTube content\, learn about what to consider when watching videos as well as how to save and organize videos.
URL:https://gatewayassociation.ca/calendar/you-too-can-youtube-1-of-4-2/
END:VEVENT
BEGIN:VEVENT
DTSTART;TZID=America/Denver:20230907T130000
DTEND;TZID=America/Denver:20230907T140000
DTSTAMP:20260420T043540
CREATED:20230816T185627Z
LAST-MODIFIED:20230816T185627Z
UID:251248-1694091600-1694095200@gatewayassociation.ca
SUMMARY:Growth Mindset; Resiliency in Job Search
DESCRIPTION:Growth Mindset: Resiliency in Job Search \nJob search can be a long and daunting process for many. This workshop will introduce folks to the concept of having a “Growth Mindset” and help individuals create a positive/persistent mindset along with tips on how to stay motivated throughout this process. \nOnline or In-Person: ONLINE \nTo register\, please connect with us at Get-Work@GatewayAssociation.ca
URL:https://gatewayassociation.ca/calendar/growth-mindset-resiliency-in-job-search-9/
CATEGORIES:ERC
END:VEVENT
END:VCALENDAR