BEGIN:VCALENDAR
VERSION:2.0
PRODID:-//Gateway Association - ECPv6.15.20//NONSGML v1.0//EN
CALSCALE:GREGORIAN
METHOD:PUBLISH
X-WR-CALNAME:Gateway Association
X-ORIGINAL-URL:https://gatewayassociation.ca
X-WR-CALDESC:Events for Gateway Association
REFRESH-INTERVAL;VALUE=DURATION:PT1H
X-Robots-Tag:noindex
X-PUBLISHED-TTL:PT1H
BEGIN:VTIMEZONE
TZID:America/Denver
BEGIN:DAYLIGHT
TZOFFSETFROM:-0700
TZOFFSETTO:-0600
TZNAME:MDT
DTSTART:20230312T090000
END:DAYLIGHT
BEGIN:STANDARD
TZOFFSETFROM:-0600
TZOFFSETTO:-0700
TZNAME:MST
DTSTART:20231105T080000
END:STANDARD
BEGIN:DAYLIGHT
TZOFFSETFROM:-0700
TZOFFSETTO:-0600
TZNAME:MDT
DTSTART:20240310T090000
END:DAYLIGHT
BEGIN:STANDARD
TZOFFSETFROM:-0600
TZOFFSETTO:-0700
TZNAME:MST
DTSTART:20241103T080000
END:STANDARD
BEGIN:DAYLIGHT
TZOFFSETFROM:-0700
TZOFFSETTO:-0600
TZNAME:MDT
DTSTART:20250309T090000
END:DAYLIGHT
BEGIN:STANDARD
TZOFFSETFROM:-0600
TZOFFSETTO:-0700
TZNAME:MST
DTSTART:20251102T080000
END:STANDARD
END:VTIMEZONE
BEGIN:VEVENT
DTSTART;TZID=America/Denver:20240125T080000
DTEND;TZID=America/Denver:20240125T083000
DTSTAMP:20260420T155038
CREATED:20231205T223901Z
LAST-MODIFIED:20231205T223901Z
UID:251840-1706169600-1706171400@gatewayassociation.ca
SUMMARY:ePortfolio Series (3 of 3)
DESCRIPTION:Session 3 of 3  \nDuration 1 hr   \nFacilitator: Lee  \nPrivate – GTDI Program intake required prior to workshop: getdigital@gatewayassociation.ca  \n  \nIn the eportfolio workshop series\, participants will learn about the different types of portfolios\, how to use google sites\, and the basics of layout and design. Learners will choose the type of portfolio they want to build and the subject they want to focus on. They will select and add content to their sites along with descriptions\, statements about their motivation\, interests\, skills\, and hobbies. Learners will work on their own between classes. 
URL:https://gatewayassociation.ca/calendar/eportfolio-series-3-of-3-5/
END:VEVENT
BEGIN:VEVENT
DTSTART;TZID=America/Denver:20240125T130000
DTEND;TZID=America/Denver:20240125T140000
DTSTAMP:20260420T155038
CREATED:20231211T221203Z
LAST-MODIFIED:20231211T221203Z
UID:251885-1706187600-1706191200@gatewayassociation.ca
SUMMARY:Workplace Communication 101 - Positive Communication and Constructive Feedback
DESCRIPTION:Workplace Communication 101 – Positive Communication and Constructive Feedback \nWorkplace Communication is made up of many essential skills\, such as\, what is okay to talk about at work with your coworkers? How to give and receive positive and constructive feedback? In this workshop\, we will talk about ways to help you to feel confident and comfortable with workplace communication. \n\n\nThis workshop is for registered participants only. To register\, please connect with us at get-work@GatewayAssociation.ca
URL:https://gatewayassociation.ca/calendar/workplace-communication-101-positive-communication-and-constructive-feedback-2/
CATEGORIES:ERC
END:VEVENT
BEGIN:VEVENT
DTSTART;TZID=America/Denver:20240125T130000
DTEND;TZID=America/Denver:20240125T143000
DTSTAMP:20260420T155038
CREATED:20231205T224158Z
LAST-MODIFIED:20231205T224158Z
UID:251848-1706187600-1706193000@gatewayassociation.ca
SUMMARY:Social Media Basics (4 of 4)
DESCRIPTION:Session 4 of 4  \nDuration 1.5 hr   \nFacilitator: Toby  \nPrivate – GTDI Program intake required prior to workshop: getdigital@gatewayassociation.ca  \n  \nSocial Media Basics is Part 2 of the Work Simulation. Completion of Part 1: Internet Basics is recommended prior to taking this 4 session workshop series.  \nIncrease your understanding and use of social media! In this workshop we will go through understanding different types of social media and their uses\, creating material for social media\, and managing your social media.  
URL:https://gatewayassociation.ca/calendar/social-media-basics-4-of-4-3/
END:VEVENT
BEGIN:VEVENT
DTSTART;TZID=America/Denver:20240125T180000
DTEND;TZID=America/Denver:20240125T190000
DTSTAMP:20260420T155038
CREATED:20230724T125005Z
LAST-MODIFIED:20230724T125034Z
UID:250989-1706205600-1706209200@gatewayassociation.ca
SUMMARY:Understanding Disability: Community Resources
DESCRIPTION:Understanding Disability: Community Resources \nThursday\, January 25 \n6:00pm – 7:00pm | Online \n  \nA workshop that explores community and government resources for adults with disabilities. \nThis workshop is for caregivers and professionals who are supporting an adult with a disability to ensure the proper supports are accessed for them to live a good life. The workshop will empower participants with the knowledge they need to begin planning for adulthood and seniorhood. \n  \nFacilitator: Yonique at Yonique@GatewayAssociation.ca \nRegister HERE
URL:https://gatewayassociation.ca/calendar/250989/
CATEGORIES:FRC
END:VEVENT
BEGIN:VEVENT
DTSTART;TZID=America/Denver:20240125T190000
DTEND;TZID=America/Denver:20240125T210000
DTSTAMP:20260420T155038
CREATED:20230720T173329Z
LAST-MODIFIED:20230803T144112Z
UID:250933-1706209200-1706216400@gatewayassociation.ca
SUMMARY:Families Forward\, Over 18
DESCRIPTION:Families Forward Over 18 \nThursday\, January 25 \n7:00pm – 9:00pm | Online \n  \nWhere families can connect with other families\, learn from one another\, and explore issues that are important (such as housing\, relationship building\, and community and government supports). \nFacilitator: Betty at Betty@GatewayAssociation.ca \nRegister HERE  
URL:https://gatewayassociation.ca/calendar/families-forward-over-18-12/
CATEGORIES:FRC
END:VEVENT
BEGIN:VEVENT
DTSTART;TZID=America/Denver:20240129T130000
DTEND;TZID=America/Denver:20240129T140000
DTSTAMP:20260420T155038
CREATED:20231205T224354Z
LAST-MODIFIED:20231205T224354Z
UID:251854-1706533200-1706536800@gatewayassociation.ca
SUMMARY:File Management and PDFs (1 of 2)
DESCRIPTION:Session 1 of 2  \nDuration 1 hr   \nFacilitator: Toby  \nPrivate – GTDI Program intake required prior to workshop: getdigital@gatewayassociation.ca  \n  \nIn this workshop participants will learn about saving files\, organizing and finding files\, converting documents to pdfs\, what a is pdf\, and how to use pdfs. 
URL:https://gatewayassociation.ca/calendar/file-management-and-pdfs-1-of-2-4/
END:VEVENT
BEGIN:VEVENT
DTSTART;TZID=America/Denver:20240130T110000
DTEND;TZID=America/Denver:20240130T120000
DTSTAMP:20260420T155038
CREATED:20231205T224310Z
LAST-MODIFIED:20231205T224310Z
UID:251852-1706612400-1706616000@gatewayassociation.ca
SUMMARY:Steam Turtorial
DESCRIPTION:Session 1 of 1  \nDuration 1 hr  \nFacilitator: Lee  \nPrivate – GTDI Program intake required prior to workshop: getdigital@gatewayassociation.ca  \n  \nStep by step tutorial for downloading and installing Steam – an online game platform. Steam is required for Online boardgames group. 
URL:https://gatewayassociation.ca/calendar/steam-turtorial/
END:VEVENT
BEGIN:VEVENT
DTSTART;TZID=America/Denver:20240130T130000
DTEND;TZID=America/Denver:20240130T140000
DTSTAMP:20260420T155038
CREATED:20231205T224427Z
LAST-MODIFIED:20231205T224427Z
UID:251856-1706619600-1706623200@gatewayassociation.ca
SUMMARY:File Management and PDFs (2 of 2)
DESCRIPTION:Session 2 of 2  \nDuration 1 hr   \nFacilitator: Toby  \nPrivate – GTDI Program intake required prior to workshop: getdigital@gatewayassociation.ca  \n  \nIn this workshop participants will learn about saving files\, organizing and finding files\, converting documents to pdfs\, what a is pdf\, and how to use pdfs. 
URL:https://gatewayassociation.ca/calendar/file-management-and-pdfs-2-of-2-5/
END:VEVENT
BEGIN:VEVENT
DTSTART;TZID=America/Denver:20240130T180000
DTEND;TZID=America/Denver:20240130T200000
DTSTAMP:20260420T155038
CREATED:20230724T125144Z
LAST-MODIFIED:20230724T134358Z
UID:250993-1706637600-1706644800@gatewayassociation.ca
SUMMARY:Visioning and Planning for Families with Children Up To 8 Years Old (Part 1 of 4)
DESCRIPTION:Visioning and Planning for Families with Children Up To 8 Years Old \n4 part series runs from 6:00pm – 8:00pm | Online \nTuesday\, January 30 \nTuesday\, February 6 \nTuesday\, February\, 13 \nTuesday\, February\, 20 \n  \nJoin our 4-part workshop series that empowers parents/caregivers of children with disabilities from birth-8 years old with knowledge\, resources\, and a sense of direction for the future. \nWe will touch on a variety of topics including values and belonging in the community\, visioning and planning\, various transitions during early elementary school\, navigating various systems (FSCD) age appropriate for families with younger children as well as advocacy and having difficult conversations. \nFacilitator: Stacy at Stacy@GatewayAssociation.ca \nRegister HERE
URL:https://gatewayassociation.ca/calendar/visioning-and-planning-for-families-with-children-up-to-8-years-old-3/
CATEGORIES:FRC
END:VEVENT
BEGIN:VEVENT
DTSTART;TZID=America/Denver:20240131T100000
DTEND;TZID=America/Denver:20240131T150000
DTSTAMP:20260420T155038
CREATED:20231220T152231Z
LAST-MODIFIED:20231220T152231Z
UID:251989-1706695200-1706713200@gatewayassociation.ca
SUMMARY:DROP IN WEDNESDAYS  at the Calgary Employment Resource Centre
DESCRIPTION:DROP IN WEDNESDAYS \nat the Calgary Employment Resource Centre \nFor job seekers\, each Wednesday drop in any time between 10am and 3pm to connect with ERC team members to work on resumes\, interview skills\, job search and meet other job seekers! \n1206 20 AVE SE \nCalgary\, AB
URL:https://gatewayassociation.ca/calendar/drop-in-wednesdays-at-the-calgary-employment-resource-centre-6/
CATEGORIES:ERC
END:VEVENT
BEGIN:VEVENT
DTSTART;TZID=America/Denver:20240131T180000
DTEND;TZID=America/Denver:20240131T190000
DTSTAMP:20260420T155038
CREATED:20231220T154958Z
LAST-MODIFIED:20231220T162739Z
UID:252008-1706724000-1706727600@gatewayassociation.ca
SUMMARY:Employment Resource Centre Information Session
DESCRIPTION:Employment Resource Centre Information Session \nJoin Gateway Association for a virtual Employment Resource Centre information session. \nThis session is for job seekers with disability or mental health-based barriers to learn about how Gateway Association can support you with achieving your employment goals! \nL earn about individualized supports and group workshops that will help you with: \n\nCareer development and action plans\nResume building\nInterview skills\nWorkplace communication\nOnboarding and training\nJob search and finding the right job for you\nKeeping your job!\nA ND much more!\n\nRegister HERE \nFor additional accommodations or questions\, please connect with us at Get-Work@GatewayAssociation.ca
URL:https://gatewayassociation.ca/calendar/employment-resource-centre-information-session/
CATEGORIES:ERC
END:VEVENT
BEGIN:VEVENT
DTSTART;TZID=America/Denver:20240201T130000
DTEND;TZID=America/Denver:20240201T140000
DTSTAMP:20260420T155038
CREATED:20240123T215436Z
LAST-MODIFIED:20240123T215436Z
UID:252048-1706792400-1706796000@gatewayassociation.ca
SUMMARY:LinkedIn Learning
DESCRIPTION:Session 1 of 1  \nDuration 1 hr   \nFacilitator: Toby  \nPrivate – GTDI Program intake required prior to workshop: getdigital@gatewayassociation.ca  \n  \n***Requires an active library membership.**  \nExplore LinkedIn website as a group\, learn how to: create an account\, search for course\, save and organize courses\, and customize your profile.  
URL:https://gatewayassociation.ca/calendar/linkedin-learning-22/
END:VEVENT
BEGIN:VEVENT
DTSTART;TZID=America/Denver:20240202T180000
DTEND;TZID=America/Denver:20240202T210000
DTSTAMP:20260420T155038
CREATED:20230724T125627Z
LAST-MODIFIED:20230724T125627Z
UID:251001-1706896800-1706907600@gatewayassociation.ca
SUMMARY:Transition Planning for Adulthood Weekend Blitz
DESCRIPTION:Transition Planning for Adulthood Weekend Blitz \nFriday\, February 2 – 6:00pm – 9:00pm | Online \nSaturday\, February 3 – 9:00am – 3:00pm | Online \n  \nA weekend blitz exploring the critical transition to adulthood for 14-20 year-olds and how to create a plan for the future.  \n  \n Join our 3-part workshop series that engages families in building knowledge when navigating this critical time for 14-20 year olds. \nThis workshop series includes topics on: life transitions\, valued roles in the community\, visioning and planning\, and navigating the systems.  \nBoth days must be attended to receive a certificate. \n  \nFacilitator: Yonique at Yonique@GatewayAssociation.ca \nRegister HERE
URL:https://gatewayassociation.ca/calendar/transition-planning-for-adulthood-weekend-blitz-4/
CATEGORIES:FRC
END:VEVENT
BEGIN:VEVENT
DTSTART;TZID=America/Denver:20240203T090000
DTEND;TZID=America/Denver:20240203T150000
DTSTAMP:20260420T155038
CREATED:20230724T125722Z
LAST-MODIFIED:20230724T125722Z
UID:251003-1706950800-1706972400@gatewayassociation.ca
SUMMARY:Transition Planning for Adulthood Weekend Blitz
DESCRIPTION:Transition Planning for Adulthood Weekend Blitz \nFriday\, February 2 – 6:00pm – 9:00pm | Online \nSaturday\, February 3 – 9:00am – 3:00pm | Online \n  \nA weekend blitz exploring the critical transition to adulthood for 14-20 year-olds and how to create a plan for the future.  \n  \n Join our 3-part workshop series that engages families in building knowledge when navigating this critical time for 14-20 year olds. \nThis workshop series includes topics on: life transitions\, valued roles in the community\, visioning and planning\, and navigating the systems.  \nBoth days must be attended to receive a certificate. \n  \nFacilitator: Yonique at Yonique@GatewayAssociation.ca \nRegister HERE
URL:https://gatewayassociation.ca/calendar/transition-planning-for-adulthood-weekend-blitz-5/
CATEGORIES:FRC
END:VEVENT
BEGIN:VEVENT
DTSTART;TZID=America/Denver:20240205T150000
DTEND;TZID=America/Denver:20240205T160000
DTSTAMP:20260420T155038
CREATED:20240123T220525Z
LAST-MODIFIED:20240123T220525Z
UID:252062-1707145200-1707148800@gatewayassociation.ca
SUMMARY:Explore Canva (1 of 2)
DESCRIPTION:Session 1 of 2  \nDuration 1 hr   \nFacilitator: Toby  \nPrivate – GTDI Program intake required prior to workshop: getdigital@gatewayassociation.ca  \n  \nLet your imagination be your guide as you create your own posters\, flyers\, cards\, videos\, and more to share information important to you. 
URL:https://gatewayassociation.ca/calendar/explore-canva-1-of-2-6/
END:VEVENT
BEGIN:VEVENT
DTSTART;TZID=America/Denver:20240206T110000
DTEND;TZID=America/Denver:20240206T120000
DTSTAMP:20260420T155038
CREATED:20240123T215731Z
LAST-MODIFIED:20240123T215731Z
UID:252050-1707217200-1707220800@gatewayassociation.ca
SUMMARY:ePortfolio Series (1/3)
DESCRIPTION:Session 1 of 3  \nDuration 1 hr   \nFacilitator: Lee  \nPrivate – GTDI Program intake required prior to workshop: getdigital@gatewayassociation.ca  \n  \nIn the eportfolio workshop series\, participants will learn about the different types of portfolios\, how to use google sites\, and the basics of layout and design. Learners will choose the type of portfolio they want to build and the subject they want to focus on. They will select and add content to their sites along with descriptions\, statements about their motivation\, interests\, skills\, and hobbies. Learners will work on their own between classes. 
URL:https://gatewayassociation.ca/calendar/eportfolio-series-1-3-7/
END:VEVENT
BEGIN:VEVENT
DTSTART;TZID=America/Denver:20240206T130000
DTEND;TZID=America/Denver:20240206T140000
DTSTAMP:20260420T155038
CREATED:20231212T203100Z
LAST-MODIFIED:20231212T203100Z
UID:251887-1707224400-1707228000@gatewayassociation.ca
SUMMARY:Growth Mindset: Resiliency in Job Search
DESCRIPTION:Growth Mindset: Resiliency in Job Search \nJob search can be a long and daunting process for many. This workshop will introduce folks to the concept of having a “Growth Mindset” and help individuals create a positive/persistent mindset along with tips on how to stay motivated throughout this process. \n\n This workshop is for registered participants only. To register\, please connect with us at Get-Work@GatewayAssociation.ca
URL:https://gatewayassociation.ca/calendar/growth-mindset-resiliency-in-job-search-12/
CATEGORIES:ERC
END:VEVENT
BEGIN:VEVENT
DTSTART;TZID=America/Denver:20240206T130000
DTEND;TZID=America/Denver:20240206T140000
DTSTAMP:20260420T155038
CREATED:20240123T220215Z
LAST-MODIFIED:20240123T220215Z
UID:252056-1707224400-1707228000@gatewayassociation.ca
SUMMARY:Audio Editing with Audacity Series (1 of 3)
DESCRIPTION:Session 1 of 3 \nDuration 1 hr \nFacilitator: Toby \nPrivate – GTDI Program intake required prior to workshop: getdigital@gatewayassociation.ca \n\nIn this 3 session workshop series participants will be guided through the steps to use Audacity software for basic audio editing. This series will focus on editing spoken dialogue.
URL:https://gatewayassociation.ca/calendar/audio-editing-with-audacity-series-1-of-3/
END:VEVENT
BEGIN:VEVENT
DTSTART;TZID=America/Denver:20240206T150000
DTEND;TZID=America/Denver:20240206T160000
DTSTAMP:20260420T155038
CREATED:20240123T220604Z
LAST-MODIFIED:20240123T220604Z
UID:252064-1707231600-1707235200@gatewayassociation.ca
SUMMARY:Explore Canva (2 of 2)
DESCRIPTION:Session 2 of 2  \nDuration 1 hr   \nFacilitator: Toby  \nPrivate – GTDI Program intake required prior to workshop: getdigital@gatewayassociation.ca  \n  \nLet your imagination be your guide as you create your own posters\, flyers\, cards\, videos\, and more to share information important to you. 
URL:https://gatewayassociation.ca/calendar/explore-canva-2-of-2-2/
END:VEVENT
BEGIN:VEVENT
DTSTART;TZID=America/Denver:20240206T180000
DTEND;TZID=America/Denver:20240206T200000
DTSTAMP:20260420T155038
CREATED:20230724T125250Z
LAST-MODIFIED:20230724T125250Z
UID:250995-1707242400-1707249600@gatewayassociation.ca
SUMMARY:Visioning and Planning for Families with Children Up To 8 Years Old (2 of 4)
DESCRIPTION:Visioning and Planning for Families with Children Up To 8 Years Old \n4 part series runs from 6:00pm – 8:00pm | Online \nTuesday\, January 30 \nTuesday\, February 6 \nTuesday\, February\, 13 \nTuesday\, February\, 20 \n  \nJoin our 4-part workshop series that empowers parents/caregivers of children with disabilities from birth-8 years old with knowledge\, resources\, and a sense of direction for the future. \nWe will touch on a variety of topics including values and belonging in the community\, visioning and planning\, various transitions during early elementary school\, navigating various systems (FSCD) age appropriate for families with younger children as well as advocacy and having difficult conversations. \nFacilitator: Stacy at Stacy@GatewayAssociation.ca \nRegister HERE
URL:https://gatewayassociation.ca/calendar/visioning-and-planning-for-families-with-children-up-to-8-years-old-2-of-4/
CATEGORIES:FRC
END:VEVENT
BEGIN:VEVENT
DTSTART;TZID=America/Denver:20240207T100000
DTEND;TZID=America/Denver:20240207T150000
DTSTAMP:20260420T155038
CREATED:20231220T152308Z
LAST-MODIFIED:20231220T152308Z
UID:251991-1707300000-1707318000@gatewayassociation.ca
SUMMARY:DROP IN WEDNESDAYS  at the Calgary Employment Resource Centre
DESCRIPTION:DROP IN WEDNESDAYS \nat the Calgary Employment Resource Centre \nFor job seekers\, each Wednesday drop in any time between 10am and 3pm to connect with ERC team members to work on resumes\, interview skills\, job search and meet other job seekers! \n1206 20 AVE SE \nCalgary\, AB
URL:https://gatewayassociation.ca/calendar/drop-in-wednesdays-at-the-calgary-employment-resource-centre-7/
CATEGORIES:ERC
END:VEVENT
BEGIN:VEVENT
DTSTART;TZID=America/Denver:20240207T110000
DTEND;TZID=America/Denver:20240207T120000
DTSTAMP:20260420T155038
CREATED:20240123T215813Z
LAST-MODIFIED:20240123T215813Z
UID:252052-1707303600-1707307200@gatewayassociation.ca
SUMMARY:ePortfolio Series (2/3)
DESCRIPTION:Session 2 of 3  \nDuration 1 hr   \nFacilitator: Lee  \nPrivate – GTDI Program intake required prior to workshop: getdigital@gatewayassociation.ca  \n  \nIn the ePortfolio workshop series\, participants will learn about the different types of portfolios\, how to use google sites\, and the basics of layout and design. Learners will choose the type of portfolio they want to build and the subject they want to focus on. They will select and add content to their sites along with descriptions\, statements about their motivation\, interests\, skills\, and hobbies. Learners will work on their own between classes. 
URL:https://gatewayassociation.ca/calendar/eportfolio-series-2-3-8/
END:VEVENT
BEGIN:VEVENT
DTSTART;TZID=America/Denver:20240207T130000
DTEND;TZID=America/Denver:20240207T140000
DTSTAMP:20260420T155038
CREATED:20240123T220307Z
LAST-MODIFIED:20240123T220307Z
UID:252058-1707310800-1707314400@gatewayassociation.ca
SUMMARY:Audio Editing with Audacity (2 of 3)
DESCRIPTION:Session 2 of 3 \nDuration 1 hr \nFacilitator: Toby \nPrivate – GTDI Program intake required prior to workshop: getdigital@gatewayassociation.ca \n\nIn this 3 session workshop series participants will be guided through the steps to use Audacity software for basic audio editing. This series will focus on editing spoken dialogue.
URL:https://gatewayassociation.ca/calendar/audio-editing-with-audacity-2-of-3-5/
END:VEVENT
BEGIN:VEVENT
DTSTART;TZID=America/Denver:20240207T150000
DTEND;TZID=America/Denver:20240207T163000
DTSTAMP:20260420T155038
CREATED:20240123T220639Z
LAST-MODIFIED:20240123T220639Z
UID:252066-1707318000-1707323400@gatewayassociation.ca
SUMMARY:Online Boardgames
DESCRIPTION:Session: 1 of 1 \nDuration: 1.5 to 2 hr \nFacilitator: Lee \nPrivate – GTDI Program intake required prior to workshop signup: getdigital@gatewayassociation.ca \n\n**Requires Online Social Connections – Discord and Steam Tutorials as well as desktop or laptop computer.** \nCome hang out! Learn about setting up online accounts\, meet new friends\, socialize\, and have fun playing boardgames online. Meet new friends\, practise new skills\, have fun!
URL:https://gatewayassociation.ca/calendar/online-boardgames-28/
END:VEVENT
BEGIN:VEVENT
DTSTART;TZID=America/Denver:20240207T180000
DTEND;TZID=America/Denver:20240207T200000
DTSTAMP:20260420T155038
CREATED:20230724T130214Z
LAST-MODIFIED:20230724T130214Z
UID:251005-1707328800-1707336000@gatewayassociation.ca
SUMMARY:Visioning and Planning for Families with Children 9-13 Years Old (1 of 4)
DESCRIPTION:Visioning and Planning for Families with Children 9-13 Years Old – 4-part series \nWednesday\, February 7 \nWednesday\, February 14 \nWednesday\, February 21 \nWednesday\, February 28 \n6:00pm – 8:00pm | Online \n  \nJoin our workshop series that empowers parents/caregivers of 9-13 year-olds with disabilities with knowledge\, resources and a sense of direction for the future\, while connecting with other families. \n  \nWe will touch on a variety of topics including values and belonging in the community\, visioning and planning\, various transitions during later elementary school\, IPPs\, navigating various systems (FSCD) age appropriate for families with “tween” age children as well as advocacy and having difficult conversations. \n  \nFacilitator: Stacy at Stacy@gatewayassociation.ca \nRegister HERE
URL:https://gatewayassociation.ca/calendar/visioning-and-planning-for-families-with-children-9-13-years-old-1-of-4/
CATEGORIES:FRC
END:VEVENT
BEGIN:VEVENT
DTSTART;TZID=America/Denver:20240208T110000
DTEND;TZID=America/Denver:20240208T120000
DTSTAMP:20260420T155038
CREATED:20240123T220032Z
LAST-MODIFIED:20240123T220032Z
UID:252054-1707390000-1707393600@gatewayassociation.ca
SUMMARY:ePortfolio Series (3 of 3)
DESCRIPTION:Session 3 of 3  \nDuration 1 hr   \nFacilitator: Lee  \nPrivate – GTDI Program intake required prior to workshop: getdigital@gatewayassociation.ca  \n  \nIn the eportfolio workshop series\, participants will learn about the different types of portfolios\, how to use google sites\, and the basics of layout and design. Learners will choose the type of portfolio they want to build and the subject they want to focus on. They will select and add content to their sites along with descriptions\, statements about their motivation\, interests\, skills\, and hobbies. Learners will work on their own between classes. 
URL:https://gatewayassociation.ca/calendar/eportfolio-series-3-of-3-6/
END:VEVENT
BEGIN:VEVENT
DTSTART;TZID=America/Denver:20240208T130000
DTEND;TZID=America/Denver:20240208T140000
DTSTAMP:20260420T155038
CREATED:20231212T203312Z
LAST-MODIFIED:20231212T203312Z
UID:251889-1707397200-1707400800@gatewayassociation.ca
SUMMARY:Finding Your Purpose
DESCRIPTION:Finding Your Purpose \nAre you wondering what your purpose is? Stuck and not sure where to go? Then we have a workshop for you! Come join us for self exploration and learning. We will talk about what people need in life to grow and how we can access those resources. As well\, we will explore a personality test and leave the workshop with a deeper understanding of who we are and where we would like to go! \n  \n This workshop is for registered participants only. To register\, please connect with us at Get-Work@GatewayAssociation.ca
URL:https://gatewayassociation.ca/calendar/finding-your-purpose-5/
CATEGORIES:ERC
END:VEVENT
BEGIN:VEVENT
DTSTART;TZID=America/Denver:20240208T130000
DTEND;TZID=America/Denver:20240208T140000
DTSTAMP:20260420T155038
CREATED:20240123T220405Z
LAST-MODIFIED:20240123T220405Z
UID:252060-1707397200-1707400800@gatewayassociation.ca
SUMMARY:Audio Editing with Audacity (3 of 3)
DESCRIPTION:Session 3 of 3 \nDuration 1 hr \nFacilitator: Toby \nPrivate – GTDI Program intake required prior to workshop: getdigital@gatewayassociation.ca \n\nIn this 3 session workshop series participants will be guided through the steps to use Audacity software for basic audio editing. This series will focus on editing spoken dialogue.
URL:https://gatewayassociation.ca/calendar/audio-editing-with-audacity-3-of-3-5/
END:VEVENT
BEGIN:VEVENT
DTSTART;TZID=America/Denver:20240208T140000
DTEND;TZID=America/Denver:20240208T150000
DTSTAMP:20260420T155038
CREATED:20240117T221624Z
LAST-MODIFIED:20240123T224230Z
UID:252046-1707400800-1707404400@gatewayassociation.ca
SUMMARY:MentorAbility Industry Information Session; Careers in Banking with CIBC
DESCRIPTION:Have you ever wondered what it might be like to work at one of Canada’s biggest financial institutions?\nJoin us for a FREE interactive MentorAbility Industry Information Session hosted by CIBC! Learn about how to start your banking career from Community General Managers and Finance Professionals as they share their stories working at CIBC with a panel discussion. This event is offered to all MentorAbility participants – so if you are a job seeker who experiences disability-related barriers to employment or a supportive employment service provider who wants to learn more about working at CIBC\, this event is for you! \nRegister HERE \nIf you require any accommodations for this session\, please contact us prior to the session and we will assist with accommodation provisions as best we can.\njamie@gatewayassociation.ca
URL:https://gatewayassociation.ca/calendar/mentorability-industry-information-session-careers-in-banking-with-cibc/
CATEGORIES:ERC,MentorAbility Alberta
END:VEVENT
BEGIN:VEVENT
DTSTART;TZID=America/Denver:20240209T090000
DTEND;TZID=America/Denver:20240209T150000
DTSTAMP:20260420T155038
CREATED:20240213T134802Z
LAST-MODIFIED:20240213T134802Z
UID:252197-1707469200-1707490800@gatewayassociation.ca
SUMMARY:Empower 2024\, March 8 & 9
DESCRIPTION:Join us for *Empower 2024*​\, an Individual Support Planning event for families offered on March 8 (Friday) and March 9 (Saturday) 2024.\n\n\nThis event is designed to equip you and your family for a future that exceeds expectations and enriches lives. \nWho Should Attend: \n\nIndividuals with disabilities ages 15 to 18\nFamilies\, caregivers and advocates\n\nDate: \n\nFriday\, March 8\, 2024\nSaturday March 9\, 2024\n\n  \nYou Can’t Afford to Miss This! \nThis is a call to action\, a revolutionary moment to redefine what support for people with disabilities looks like. \nLearn to advocate for needs that are often misunderstood or overlooked. Self Advocacy Federation will be in attendance to chat about Advocacy! \nEquip yourself with tools to build a plan that reflects YOU – your dreams\, your strengths\, your life. \nWhat’s On the Agenda: \n\nIndividual Support Plans (ISP). We will call all those that are registered to book your ISP time slot.\nVisioning and Planning Workshop\nPresentations from our Digital Literacy Programs and Employment Resource Centre\nReal-life Testimonials\nOne-on-One Consultations\nCommunity Connection Resources\nAdvocacy Capacity Building\n\nAgenda \n\n\n\n11:00 Am – 12 Pm – Visioning & Planning Workshop\n12:00 Pm – 2 Pm – RDSP Breakout Room\n12:00 Pm – 2 Pm – Advocacy Capacity Building Breakout Room\n12:00 Pm – 2 Pm – Digital Literacy & Employment Breakout Room\n\n\n\nLocation: \nGateway Association \n201- 10941 120 Street NW Edmonton\, AB \nThe address for DATS drop off and elevator access is: 10930-119 Street N \nThe address for DATS drop off and elevator access is: 10930-119 Street NW \n\nSnacks\, light lunch and refreshments will be provided.\nYou’re welcome to bring your own food.\n\nLet’s seize the moment and craft a future that celebrates diversity\, acknowledges individuality\, and above all\, empowers. \nSeats are limited! Book now to secure your spot! \nFor any additional questions or accommodations\, please contact Info@gatewayassociation.ca
URL:https://gatewayassociation.ca/calendar/empower-2024-march-8-9-2/
CATEGORIES:FRC
END:VEVENT
END:VCALENDAR