BEGIN:VCALENDAR
VERSION:2.0
PRODID:-//Gateway Association - ECPv6.15.20//NONSGML v1.0//EN
CALSCALE:GREGORIAN
METHOD:PUBLISH
X-WR-CALNAME:Gateway Association
X-ORIGINAL-URL:https://gatewayassociation.ca
X-WR-CALDESC:Events for Gateway Association
REFRESH-INTERVAL;VALUE=DURATION:PT1H
X-Robots-Tag:noindex
X-PUBLISHED-TTL:PT1H
BEGIN:VTIMEZONE
TZID:America/Denver
BEGIN:DAYLIGHT
TZOFFSETFROM:-0700
TZOFFSETTO:-0600
TZNAME:MDT
DTSTART:20230312T090000
END:DAYLIGHT
BEGIN:STANDARD
TZOFFSETFROM:-0600
TZOFFSETTO:-0700
TZNAME:MST
DTSTART:20231105T080000
END:STANDARD
BEGIN:DAYLIGHT
TZOFFSETFROM:-0700
TZOFFSETTO:-0600
TZNAME:MDT
DTSTART:20240310T090000
END:DAYLIGHT
BEGIN:STANDARD
TZOFFSETFROM:-0600
TZOFFSETTO:-0700
TZNAME:MST
DTSTART:20241103T080000
END:STANDARD
BEGIN:DAYLIGHT
TZOFFSETFROM:-0700
TZOFFSETTO:-0600
TZNAME:MDT
DTSTART:20250309T090000
END:DAYLIGHT
BEGIN:STANDARD
TZOFFSETFROM:-0600
TZOFFSETTO:-0700
TZNAME:MST
DTSTART:20251102T080000
END:STANDARD
END:VTIMEZONE
BEGIN:VEVENT
DTSTART;TZID=America/Denver:20240627T130000
DTEND;TZID=America/Denver:20240627T140000
DTSTAMP:20260420T110354
CREATED:20240523T160334Z
LAST-MODIFIED:20240523T160334Z
UID:252600-1719493200-1719496800@gatewayassociation.ca
SUMMARY:Workplace Communication 102 - Conflict Resolution
DESCRIPTION:Workplace Communication is made up of many essential skills\, including how to deal with conflict.  Conflict can be difficult to navigate and hard to understand.  In this workshop\, we will talk about conflict in the workplace and learn strategies to resolve conflict. \nThis workshop is for registered participants only. To register\, please connect with us at Get-Work@GatewayAssociation.ca
URL:https://gatewayassociation.ca/calendar/workplace-communication-102-conflict-resolution-4/
CATEGORIES:ERC
END:VEVENT
BEGIN:VEVENT
DTSTART;TZID=America/Denver:20240703T130000
DTEND;TZID=America/Denver:20240703T140000
DTSTAMP:20260420T110354
CREATED:20240524T144001Z
LAST-MODIFIED:20240524T144001Z
UID:252666-1720011600-1720015200@gatewayassociation.ca
SUMMARY:Explore Canva (1 of 2)
DESCRIPTION:Session 1 of 2  \nDuration 1 hr   \nFacilitator: Toby  \nPrivate – GTDI Program intake required prior to workshop: getdigital@gatewayassociation.ca  \n  \nLet your imagination be your guide as you create your own posters\, flyers\, cards\, videos\, and more to share information important to you. 
URL:https://gatewayassociation.ca/calendar/explore-canva-1-of-2-10/
END:VEVENT
BEGIN:VEVENT
DTSTART;TZID=America/Denver:20240703T143000
DTEND;TZID=America/Denver:20240703T160000
DTSTAMP:20260420T110354
CREATED:20240704T182448Z
LAST-MODIFIED:20240704T182448Z
UID:252811-1720017000-1720022400@gatewayassociation.ca
SUMMARY:Employment Jeopardy
DESCRIPTION:The EERC team is hosting employment jeopordy at the Gateway office! Come on down to the office to test your employment knowledge on networking\, communication\, interview skills and more! There will be snacks and fun going around while we play.
URL:https://gatewayassociation.ca/calendar/employment-jeopardy/
CATEGORIES:ERC
END:VEVENT
BEGIN:VEVENT
DTSTART;TZID=America/Denver:20240703T143000
DTEND;TZID=America/Denver:20240703T163000
DTSTAMP:20260420T110354
CREATED:20240524T144149Z
LAST-MODIFIED:20240524T144149Z
UID:252670-1720017000-1720024200@gatewayassociation.ca
SUMMARY:Online Boardgames
DESCRIPTION:Session: 1 of 1 \nDuration: 1.5 to 2 hr \nFacilitator: Lee \nPrivate – GTDI Program intake required prior to workshop signup: getdigital@gatewayassociation.ca \n\n**Requires Online Social Connections – Discord and Steam Tutorials as well as desktop or laptop computer.** \nCome hang out! Learn about setting up online accounts\, meet new friends\, socialize\, and have fun playing boardgames online. Meet new friends\, practise new skills\, have fun!
URL:https://gatewayassociation.ca/calendar/online-boardgames-45/
END:VEVENT
BEGIN:VEVENT
DTSTART;TZID=America/Denver:20240704T130000
DTEND;TZID=America/Denver:20240704T140000
DTSTAMP:20260420T110354
CREATED:20240524T144102Z
LAST-MODIFIED:20240524T144102Z
UID:252668-1720098000-1720101600@gatewayassociation.ca
SUMMARY:Explore Canva (2 of 2)
DESCRIPTION:Session 2 of 2  \nDuration 1 hr   \nFacilitator: Toby  \nPrivate – GTDI Program intake required prior to workshop: getdigital@gatewayassociation.ca  \n  \nLet your imagination be your guide as you create your own posters\, flyers\, cards\, videos\, and more to share information important to you. 
URL:https://gatewayassociation.ca/calendar/explore-canva-2-of-2-9/
END:VEVENT
BEGIN:VEVENT
DTSTART;TZID=America/Denver:20240708T110000
DTEND;TZID=America/Denver:20240708T120000
DTSTAMP:20260420T110354
CREATED:20240524T144312Z
LAST-MODIFIED:20240524T144312Z
UID:252672-1720436400-1720440000@gatewayassociation.ca
SUMMARY:Google Drive (1 of 2)
DESCRIPTION:Session: 1 of 2  \nDuration: 1  hr  \nFacilitator: Lee   \nPrivate – GTDI Program intake required prior to workshop: getdigital@gatewayassociation.ca  \n  \nLearn how to create a google accounts\, access google drive\, upload files\, create folders\, search for files. Group discussion on cloud storage\, strong passwords\, file naming conventions and keeping documents and folders organized.  
URL:https://gatewayassociation.ca/calendar/google-drive-1-of-2-12/
END:VEVENT
BEGIN:VEVENT
DTSTART;TZID=America/Denver:20240708T130000
DTEND;TZID=America/Denver:20240708T143000
DTSTAMP:20260420T110354
CREATED:20240524T144831Z
LAST-MODIFIED:20240524T144831Z
UID:252681-1720443600-1720449000@gatewayassociation.ca
SUMMARY:Internet Basic (1 of 4)
DESCRIPTION:Session 1 of 4  \nDuration 1.5 hr   \nFacilitator: Toby  \nPrivate – GTDI Program intake required prior to workshop: getdigital@gatewayassociation.ca  \n  \nThis 4 session workshop series (part 1 of the work simulation) helps learners find\, share\, and explore things online through a series of fun activities. Participants will use different google map features to find their way around town\, share their favourite places\, plan a vacation\, and compare different search engines. As a group\, learners will chat about fake news\, investigate stories on Snopes\, and chat about the media we take in everyday.  
URL:https://gatewayassociation.ca/calendar/internet-basic-1-of-4/
END:VEVENT
BEGIN:VEVENT
DTSTART;TZID=America/Denver:20240708T163000
DTEND;TZID=America/Denver:20240708T173000
DTSTAMP:20260420T110354
CREATED:20240704T183639Z
LAST-MODIFIED:20240704T184328Z
UID:252813-1720456200-1720459800@gatewayassociation.ca
SUMMARY:Edmonton Employment Resource Centre Info Session
DESCRIPTION:Join Gateway Association for a virtual Employment Resource Centre information session. \nThis session is for job seekers with disability or mental health-based barriers to learn about how Gateway Association can support you with achieving your employment goals! \nLearn about individualized supports and group workshops that will help you with: \n\nCareer development and action plans\nResume building\nInterview skills\nWorkplace communication\nOnboarding and training\nJob search and finding the right job for you\nKeeping your job!\nAND much more!\n\nFor additional accommodations or questions\, please connect with us at employment@gatewayassociation.ca  \nRegister HERE
URL:https://gatewayassociation.ca/calendar/edmonton-employment-resource-centre-info-session/
CATEGORIES:ERC
END:VEVENT
BEGIN:VEVENT
DTSTART;TZID=America/Denver:20240709T110000
DTEND;TZID=America/Denver:20240709T120000
DTSTAMP:20260420T110354
CREATED:20240524T144422Z
LAST-MODIFIED:20240524T144422Z
UID:252674-1720522800-1720526400@gatewayassociation.ca
SUMMARY:Google Drive (1 of 2)
DESCRIPTION:Session: 2 of 2  \nDuration: 1  hr  \nFacilitator: Lee   \nPrivate – GTDI Program intake required prior to workshop: getdigital@gatewayassociation.ca  \n  \nLearn how to create a google accounts\, access google drive\, upload files\, create folders\, search for files. Group discussion on cloud storage\, strong passwords\, file naming conventions and keeping documents and folders organized.  
URL:https://gatewayassociation.ca/calendar/google-drive-1-of-2-13/
END:VEVENT
BEGIN:VEVENT
DTSTART;TZID=America/Denver:20240709T120000
DTEND;TZID=America/Denver:20240709T130000
DTSTAMP:20260420T110354
CREATED:20240628T151439Z
LAST-MODIFIED:20240628T151439Z
UID:252767-1720526400-1720530000@gatewayassociation.ca
SUMMARY:Accounts and Claims
DESCRIPTION:Workshop: Accounts and Claims \nTuesday\, July 9 \n12:00 pm – 1:00 pm \nOnline \nA 1-hour workshop aims to have an open conversation about how to use the OCR system successfully. \nThe training has been developed by FSCD to address four significant challenges facing system users. They are: \n\nUnderstanding the Agreement\nAccessing OCR\nCreating a Successful claim; and\nRecord keeping and preparing for reviews\n\nA Service Roadmap has also been developed to give users a high-level overview of the entire process\, with helpful links at each step to provide further details. \nQuestions? Contact Li (Facilitator) by email Li@gatewayassociation..ca \nRegister Here
URL:https://gatewayassociation.ca/calendar/accounts-and-claims/
CATEGORIES:FRC
END:VEVENT
BEGIN:VEVENT
DTSTART;TZID=America/Denver:20240709T130000
DTEND;TZID=America/Denver:20240709T143000
DTSTAMP:20260420T110354
CREATED:20240524T144927Z
LAST-MODIFIED:20240524T144927Z
UID:252683-1720530000-1720535400@gatewayassociation.ca
SUMMARY:Internet Basics (2 of 4)
DESCRIPTION:Session 2 of 4  \nDuration 1.5 hr   \nFacilitator: Toby  \nPrivate – GTDI Program intake required prior to workshop: getdigital@gatewayassociation.ca  \n  \nThis 4 session workshop series (part 1 of the work simulation) helps learners find\, share\, and explore things online through a series of fun activities. Participants will use different google map features to find their way around town\, share their favourite places\, plan a vacation\, and compare different search engines. As a group\, learners will chat about fake news\, investigate stories on Snopes\, and chat about the media we take in everyday.  
URL:https://gatewayassociation.ca/calendar/internet-basics-2-of-4-4/
END:VEVENT
BEGIN:VEVENT
DTSTART;TZID=America/Denver:20240710T090000
DTEND;TZID=America/Denver:20240710T120000
DTSTAMP:20260420T110354
CREATED:20240524T191156Z
LAST-MODIFIED:20240524T191156Z
UID:252738-1720602000-1720612800@gatewayassociation.ca
SUMMARY:Finding the Right Staff (for Family Managed Services Administrators Only)
DESCRIPTION:Finding the Right Staff (FMS)    \nA workshop for Family Managed Services Administrators covering your roles and responsibilities as an employer.\n\nWednesday\, July 10\n9:00 am – 12:00 pm\n\n\nThis workshop\, for Family Managed Services Administrators only\,  looks at using your vision plan to identify appropriate supports to help achieve your family member’s goals.\n\nYou will learn  how the Individual Support Plan is used to help your staff create valued roles and enhance community connections.\n\nThis workshop will provide you with:\n1. Your role and responsibilities as a Funds Administrator/Family Managed Services Administrator\n2. Interviewing and hiring staff\n3. Conflict resolution and staff retention\n\nQuestions? Contact Betty at Betty@GatewayAssociation.ca \nREGISTER HERE
URL:https://gatewayassociation.ca/calendar/finding-the-right-staff-for-family-managed-services-administrators-only/
CATEGORIES:FRC
END:VEVENT
BEGIN:VEVENT
DTSTART;TZID=America/Denver:20240710T110000
DTEND;TZID=America/Denver:20240710T120000
DTSTAMP:20260420T110354
CREATED:20240524T144535Z
LAST-MODIFIED:20240524T144535Z
UID:252677-1720609200-1720612800@gatewayassociation.ca
SUMMARY:Google Docs (1 of 2)
DESCRIPTION:Session: 1 of 2  \nDuration: 1 hr   \nFacilitator: Lee  \nPrivate – GTDI Program intake required prior to workshop: getdigital@gatewayassociation.ca  \n  \nIn this 2 session workshop series\, Participants will practice creating and sharing google documents\, explore the tools provided to help them write\, edit\, comment and chat. This workshop covers the Basics of google docs\, as well as file organization\, sharing\, and commenting.  
URL:https://gatewayassociation.ca/calendar/google-docs-1-of-2-12/
END:VEVENT
BEGIN:VEVENT
DTSTART;TZID=America/Denver:20240710T110000
DTEND;TZID=America/Denver:20240710T140000
DTSTAMP:20260420T110354
CREATED:20240704T191407Z
LAST-MODIFIED:20240704T191407Z
UID:252831-1720609200-1720620000@gatewayassociation.ca
SUMMARY:YYC Stampede BBQ
DESCRIPTION:Join the Calgary Employment Resource Centre for a Stampede Summer BBQ! The team wants to kick off the summer with the CERC participants while enjoying some good food and even better company! Please email us for more details and to let us know you will be joining! \nnikkitta@gatewayassociation.ca
URL:https://gatewayassociation.ca/calendar/yyc-stampede-bbq/
CATEGORIES:ERC
END:VEVENT
BEGIN:VEVENT
DTSTART;TZID=America/Denver:20240710T130000
DTEND;TZID=America/Denver:20240710T143000
DTSTAMP:20260420T110354
CREATED:20240524T145022Z
LAST-MODIFIED:20240524T145022Z
UID:252685-1720616400-1720621800@gatewayassociation.ca
SUMMARY:Internet Basics (3 of 4)
DESCRIPTION:Session 3 of 4  \nDuration 1.5 hr   \nFacilitator: Toby  \nPrivate – GTDI Program intake required prior to workshop: getdigital@gatewayassociation.ca  \n  \nThis 4 session workshop series (part 1 of the work simulation) helps learners find\, share\, and explore things online through a series of fun activities. Participants will use different google map features to find their way around town\, share their favourite places\, plan a vacation\, and compare different search engines. As a group\, learners will chat about fake news\, investigate stories on Snopes\, and chat about the media we take in everyday.  
URL:https://gatewayassociation.ca/calendar/internet-basics-3-of-4-5/
END:VEVENT
BEGIN:VEVENT
DTSTART;TZID=America/Denver:20240710T143000
DTEND;TZID=America/Denver:20240710T163000
DTSTAMP:20260420T110354
CREATED:20240524T145203Z
LAST-MODIFIED:20240524T145203Z
UID:252690-1720621800-1720629000@gatewayassociation.ca
SUMMARY:Online Boardgames
DESCRIPTION:Session: 1 of 1 \nDuration: 1.5 to 2 hr \nFacilitator: Lee \nPrivate – GTDI Program intake required prior to workshop signup: getdigital@gatewayassociation.ca \n\n**Requires Online Social Connections – Discord and Steam Tutorials as well as desktop or laptop computer.** \nCome hang out! Learn about setting up online accounts\, meet new friends\, socialize\, and have fun playing boardgames online. Meet new friends\, practise new skills\, have fun!
URL:https://gatewayassociation.ca/calendar/online-boardgames-46/
END:VEVENT
BEGIN:VEVENT
DTSTART;TZID=America/Denver:20240710T180000
DTEND;TZID=America/Denver:20240710T190000
DTSTAMP:20260420T110354
CREATED:20240524T191316Z
LAST-MODIFIED:20240524T191316Z
UID:252740-1720634400-1720638000@gatewayassociation.ca
SUMMARY:Understanding Disability in Alberta
DESCRIPTION:Understanding Disability in Alberta  \nWednesday\, July 10\n6:00 pm – 7:00 pm\n\nA workshop for those who would like information about disability and initial government programs that can be accessed in Alberta.\n\nThis workshop is for caregivers and professionals to gain knowledge and bring awareness about services that support those with disabilities in Alberta. Topics include: defining disability\, available government disability services\, eligibility\, and understanding and accessing forms.                                                                                                                                                                                                                                                                                                                                                                                                                                                                                Questions? Li (Facilitator) at li@gatewayassociation.ca \n\nREGISTER HERE
URL:https://gatewayassociation.ca/calendar/understanding-disability-in-alberta-7/
CATEGORIES:FRC
END:VEVENT
BEGIN:VEVENT
DTSTART;TZID=America/Denver:20240711T110000
DTEND;TZID=America/Denver:20240711T120000
DTSTAMP:20260420T110354
CREATED:20240524T144633Z
LAST-MODIFIED:20240524T144633Z
UID:252679-1720695600-1720699200@gatewayassociation.ca
SUMMARY:Google Docs (2 of 2)
DESCRIPTION:Session: 2 of 2  \nDuration: 1 hr   \nFacilitator: Lee  \nPrivate – GTDI Program intake required prior to workshop: getdigital@gatewayassociation.ca  \n  \nIn this 2 session workshop series\, Participants will practice creating and sharing google documents\, explore the tools provided to help them write\, edit\, comment and chat. This workshop covers the Basics of google docs\, as well as file organization\, sharing\, and commenting.  
URL:https://gatewayassociation.ca/calendar/google-docs-2-of-2-12/
END:VEVENT
BEGIN:VEVENT
DTSTART;TZID=America/Denver:20240711T130000
DTEND;TZID=America/Denver:20240711T143000
DTSTAMP:20260420T110354
CREATED:20240524T145110Z
LAST-MODIFIED:20240524T145110Z
UID:252687-1720702800-1720708200@gatewayassociation.ca
SUMMARY:Internet Basics (4 of 4)
DESCRIPTION:Session 4 of 4  \nDuration 1.5 hr   \nFacilitator: Toby  \nPrivate – GTDI Program intake required prior to workshop: getdigital@gatewayassociation.ca  \n  \nThis 4 session workshop series (part 1 of the work simulation) helps learners find\, share\, and explore things online through a series of fun activities. Participants will use different google map features to find their way around town\, share their favourite places\, plan a vacation\, and compare different search engines. As a group\, learners will chat about fake news\, investigate stories on Snopes\, and chat about the media we take in everyday.  
URL:https://gatewayassociation.ca/calendar/internet-basics-4-of-4-4/
END:VEVENT
BEGIN:VEVENT
DTSTART;TZID=America/Denver:20240715T110000
DTEND;TZID=America/Denver:20240715T120000
DTSTAMP:20260420T110354
CREATED:20240524T145335Z
LAST-MODIFIED:20240524T145335Z
UID:252692-1721041200-1721044800@gatewayassociation.ca
SUMMARY:ePortfolio (1 of 3)
DESCRIPTION:Session 1 of 3 \nDuration 1 hr \nFacilitator: Lee \nPrivate – GTDI Program intake required prior to workshop: getdigital@gatewayassociation.ca \n\n**A desktop or laptop computer is required for this workshop.** \nIn the eportfolio workshop series\, participants will learn about the different types of portfolios\, how to use google sites\, and the basics of layout and design. Learners will choose the type of portfolio they want to build and the subject they want to focus on. They will select and add content to their sites along with descriptions\, statements about their motivation\, interests\, skills\, and hobbies. Learners will work on their own between classes.
URL:https://gatewayassociation.ca/calendar/eportfolio-1-of-3/
END:VEVENT
BEGIN:VEVENT
DTSTART;TZID=America/Denver:20240715T130000
DTEND;TZID=America/Denver:20240715T140000
DTSTAMP:20260420T110354
CREATED:20240524T145651Z
LAST-MODIFIED:20240524T145651Z
UID:252698-1721048400-1721052000@gatewayassociation.ca
SUMMARY:LinkedIn Learning
DESCRIPTION:Session 1 of 1  \nDuration 1 hr   \nFacilitator: Toby  \nPrivate – GTDI Program intake required prior to workshop: getdigital@gatewayassociation.ca  \n  \n***Requires an active library membership.**  \nExplore LinkedIn website as a group\, learn how to: create an account\, search for course\, save and organize courses\, and customize your profile.  
URL:https://gatewayassociation.ca/calendar/linkedin-learning-26/
END:VEVENT
BEGIN:VEVENT
DTSTART;TZID=America/Denver:20240716T110000
DTEND;TZID=America/Denver:20240716T120000
DTSTAMP:20260420T110354
CREATED:20240524T145433Z
LAST-MODIFIED:20240524T145433Z
UID:252694-1721127600-1721131200@gatewayassociation.ca
SUMMARY:ePortfolios (2 of 3)
DESCRIPTION:Session 2 of 3 \nDuration 1 hr \nFacilitator: Lee \nPrivate – GTDI Program intake required prior to workshop: getdigital@gatewayassociation.ca \n\n**A desktop or laptop computer is required for this workshop.** \nIn the eportfolio workshop series\, participants will learn about the different types of portfolios\, how to use google sites\, and the basics of layout and design. Learners will choose the type of portfolio they want to build and the subject they want to focus on. They will select and add content to their sites along with descriptions\, statements about their motivation\, interests\, skills\, and hobbies. Learners will work on their own between classes.
URL:https://gatewayassociation.ca/calendar/eportfolios-2-of-3-2/
END:VEVENT
BEGIN:VEVENT
DTSTART;TZID=America/Denver:20240716T130000
DTEND;TZID=America/Denver:20240716T140000
DTSTAMP:20260420T110354
CREATED:20240524T145744Z
LAST-MODIFIED:20240524T145744Z
UID:252700-1721134800-1721138400@gatewayassociation.ca
SUMMARY:Zoom Basics
DESCRIPTION:Session: 1 of 1 \nDuration: 1 hr \nFacilitator: Toby \nPrivate – GTDI Program intake required prior to workshop: getdigital@gatewayassociation.ca \n\nLearn what you need to know to participate in online Zoom meetings. Explore all the cool features of the program\, practice your digital skills and build your zoom social skills.
URL:https://gatewayassociation.ca/calendar/zoom-basics-28/
END:VEVENT
BEGIN:VEVENT
DTSTART;TZID=America/Denver:20240717T110000
DTEND;TZID=America/Denver:20240717T120000
DTSTAMP:20260420T110354
CREATED:20240524T145519Z
LAST-MODIFIED:20240524T145519Z
UID:252696-1721214000-1721217600@gatewayassociation.ca
SUMMARY:ePortfolios (3 of 3)
DESCRIPTION:Session 3 of 3 \nDuration 1 hr \nFacilitator: Lee \nPrivate – GTDI Program intake required prior to workshop: getdigital@gatewayassociation.ca \n\n**A desktop or laptop computer is required for this workshop.** \nIn the eportfolio workshop series\, participants will learn about the different types of portfolios\, how to use google sites\, and the basics of layout and design. Learners will choose the type of portfolio they want to build and the subject they want to focus on. They will select and add content to their sites along with descriptions\, statements about their motivation\, interests\, skills\, and hobbies. Learners will work on their own between classes.
URL:https://gatewayassociation.ca/calendar/eportfolios-3-of-3-2/
END:VEVENT
BEGIN:VEVENT
DTSTART;TZID=America/Denver:20240717T120000
DTEND;TZID=America/Denver:20240717T130000
DTSTAMP:20260420T110354
CREATED:20240524T191454Z
LAST-MODIFIED:20240524T191454Z
UID:252742-1721217600-1721221200@gatewayassociation.ca
SUMMARY:FSCD 101
DESCRIPTION:FSCD 101   \nMonday\, July 17 \n12:00 pm – 1:00 pm\nIn Person \n\n\nThis workshop created by Family Supports for Children with Disabilities (FSCD) assists families to understand how to use their agreement.\n\nFSCD 101 is an introduction to the Family Support for Children with Disabilities (FSCD) program. The presentation will support families with understanding how to utilize their FSCD agreement and is intended for families that have received their first FSCD agreement.\n\n We will talk about the different types of services and supports\, review an example agreement\, go over the records-keeping and invoicing requirements\, and more.\n\nPrior to attending the session\, it would be helpful for families to review the Family Package\, sent to you by the Family Support Services (FSS) team\, as we will be referencing this document throughout the session.\n\nQuestions? Jacquie (facilitator) at jacquie@gatewayassociation.ca \nREGISTER HERE
URL:https://gatewayassociation.ca/calendar/fscd-101-6/
CATEGORIES:FRC
END:VEVENT
BEGIN:VEVENT
DTSTART;TZID=America/Denver:20240717T130000
DTEND;TZID=America/Denver:20240717T140000
DTSTAMP:20260420T110354
CREATED:20240524T145907Z
LAST-MODIFIED:20240524T145907Z
UID:252702-1721221200-1721224800@gatewayassociation.ca
SUMMARY:File Management & PDFs (1 of 2)
DESCRIPTION:Session 1 of 2 \nDuration 1 hr \nFacilitator: Toby \nPrivate – GTDI Program intake required prior to workshop: getdigital@gatewayassociation.ca \n\nIn this workshop participants will learn about saving files\, organizing and finding files\, converting documents to pdfs\, what a is pdf\, and how to use pdfs.
URL:https://gatewayassociation.ca/calendar/file-management-pdfs-1-of-2/
END:VEVENT
BEGIN:VEVENT
DTSTART;TZID=America/Denver:20240717T143000
DTEND;TZID=America/Denver:20240717T163000
DTSTAMP:20260420T110354
CREATED:20240524T150110Z
LAST-MODIFIED:20240524T150110Z
UID:252706-1721226600-1721233800@gatewayassociation.ca
SUMMARY:Online Boardgames
DESCRIPTION:Session: 1 of 1 \nDuration: 1.5 to 2 hr \nFacilitator: Lee \nPrivate – GTDI Program intake required prior to workshop signup: getdigital@gatewayassociation.ca \n\n**Requires Online Social Connections – Discord and Steam Tutorials as well as desktop or laptop computer.** \nCome hang out! Learn about setting up online accounts\, meet new friends\, socialize\, and have fun playing boardgames online. Meet new friends\, practise new skills\, have fun!
URL:https://gatewayassociation.ca/calendar/online-boardgames-47/
END:VEVENT
BEGIN:VEVENT
DTSTART;TZID=America/Denver:20240718T100000
DTEND;TZID=America/Denver:20240718T120000
DTSTAMP:20260420T110354
CREATED:20240704T191615Z
LAST-MODIFIED:20240704T191615Z
UID:252833-1721296800-1721304000@gatewayassociation.ca
SUMMARY:YEG Outdoor Walk and Networking Session
DESCRIPTION:Join us in Edmonton as we get out of the office and into nature for fresh air and to practice our networking skills! \nFor more details and to register\, please connect with us at employment@gatewayassociation.ca
URL:https://gatewayassociation.ca/calendar/yeg-outdoor-walk-and-networking-session/
CATEGORIES:ERC
END:VEVENT
BEGIN:VEVENT
DTSTART;TZID=America/Denver:20240718T130000
DTEND;TZID=America/Denver:20240718T140000
DTSTAMP:20260420T110354
CREATED:20240524T150022Z
LAST-MODIFIED:20240524T150022Z
UID:252704-1721307600-1721311200@gatewayassociation.ca
SUMMARY:File Management & PDFs (2 of 2)
DESCRIPTION:Session 2 of 2 \nDuration 1 hr \nFacilitator: Toby \nPrivate – GTDI Program intake required prior to workshop: getdigital@gatewayassociation.ca \n\nIn this workshop participants will learn about saving files\, organizing and finding files\, converting documents to pdfs\, what a is pdf\, and how to use pdfs.
URL:https://gatewayassociation.ca/calendar/file-management-pdfs-2-of-2/
END:VEVENT
BEGIN:VEVENT
DTSTART;TZID=America/Denver:20240722T130000
DTEND;TZID=America/Denver:20240722T140000
DTSTAMP:20260420T110354
CREATED:20240524T150555Z
LAST-MODIFIED:20240524T150555Z
UID:252710-1721653200-1721656800@gatewayassociation.ca
SUMMARY:You TOO Can YouTube (1 of 4)
DESCRIPTION:Session: 1 of 4 \nDuration: 1 hr \nFacilitator: Toby \nPrivate – GTDI Program intake required prior to workshop: getdigital@gatewayassociation.ca \n\nLearn about being a YouTube viewer and a YouTube creator. Find out how to make your own YouTube Channel and what to consider when you are choosing videos to watch. Create YouTube content\, learn about what to consider when watching videos as well as how to save and organize videos.
URL:https://gatewayassociation.ca/calendar/you-too-can-youtube-1-of-4-8/
END:VEVENT
END:VCALENDAR