BEGIN:VCALENDAR
VERSION:2.0
PRODID:-//Gateway Association - ECPv6.15.20//NONSGML v1.0//EN
CALSCALE:GREGORIAN
METHOD:PUBLISH
X-ORIGINAL-URL:https://gatewayassociation.ca
X-WR-CALDESC:Events for Gateway Association
REFRESH-INTERVAL;VALUE=DURATION:PT1H
X-Robots-Tag:noindex
X-PUBLISHED-TTL:PT1H
BEGIN:VTIMEZONE
TZID:America/Denver
BEGIN:DAYLIGHT
TZOFFSETFROM:-0700
TZOFFSETTO:-0600
TZNAME:MDT
DTSTART:20220313T090000
END:DAYLIGHT
BEGIN:STANDARD
TZOFFSETFROM:-0600
TZOFFSETTO:-0700
TZNAME:MST
DTSTART:20221106T080000
END:STANDARD
BEGIN:DAYLIGHT
TZOFFSETFROM:-0700
TZOFFSETTO:-0600
TZNAME:MDT
DTSTART:20230312T090000
END:DAYLIGHT
BEGIN:STANDARD
TZOFFSETFROM:-0600
TZOFFSETTO:-0700
TZNAME:MST
DTSTART:20231105T080000
END:STANDARD
BEGIN:DAYLIGHT
TZOFFSETFROM:-0700
TZOFFSETTO:-0600
TZNAME:MDT
DTSTART:20240310T090000
END:DAYLIGHT
BEGIN:STANDARD
TZOFFSETFROM:-0600
TZOFFSETTO:-0700
TZNAME:MST
DTSTART:20241103T080000
END:STANDARD
END:VTIMEZONE
BEGIN:VEVENT
DTSTART;TZID=America/Denver:20230106T100000
DTEND;TZID=America/Denver:20230106T110000
DTSTAMP:20260424T133212
CREATED:20230110T184036Z
LAST-MODIFIED:20230110T184036Z
UID:249461-1672999200-1673002800@gatewayassociation.ca
SUMMARY:Passion Session; Turn Your Passion into a Business
DESCRIPTION:Everyone has a passion or talent that they find themselves attracted to from time to time. From knitting and video games to podcasting and hot sauce. What if you want to turn your passion into a business? Join Rabia in a series of workshops where we discuss the basics of what goes on into starting a business and how you can turn your skills into a source of income. \nPassion Session #2: Business Basics \nIn workshop #2\, we will learn about the basics of starting a business. What is marketing? How do we come up with a business name? What are some ways I can monetize my skills? Let’s get together and brainstorm some ideas! \nRegister HERE
URL:https://gatewayassociation.ca/calendar/passion-session-turn-your-passion-into-a-business/
END:VEVENT
BEGIN:VEVENT
DTSTART;TZID=America/Denver:20230109T110000
DTEND;TZID=America/Denver:20230109T120000
DTSTAMP:20260424T133212
CREATED:20221112T013545Z
LAST-MODIFIED:20221216T183524Z
UID:249249-1673262000-1673265600@gatewayassociation.ca
SUMMARY:Momentum Presents their Matched Savings Program for Youth
DESCRIPTION:Momentum’s Matched Savings Program for Youth! \nPlease join us at the Gateway Calgary office for Anna Jordan’s information session which will consist of an overview of the different programs at Momentum with an emphasis on our Matched Savings programs. \n\nMoney Matters: Financial Empowerment program for individuals living with cognitive\, mental health\, and/or addiction challenges. The program presents as a series of 7 workshops; Budgeting 1 and 2\, Assets\, Banking\, Credit\, Debt Management\, and Consumerism. There is also one-on-one support available to those who need it. Money Matters is offered regularly at Momentum (series are either virtual or in person) or the series can be offered on site with our community partners.\nMoney Management: Money Management program focused on providing the knowledge and resources to help participants improve their money management skills and develop a sustainable livelihood. The program presents as a series of 5 workshops; Budgeting\, Assets\, Banking\, Credit\, and Consumerism. Workshops are offered both virtually and in person at Momentum\, and participants can complete as few or as many workshops as they would like; if they complete all 5 they receive a certificate of completion. Like Money Matters\, our Money Management program can be offered on site with our community partners.\n\nFor questions\, accommodation needs or to register\, please connect with us at Get-Work@GatewayAssociation.ca
URL:https://gatewayassociation.ca/calendar/momentum-presents-their-matched-savings-program-for-youth/
CATEGORIES:ERC
END:VEVENT
BEGIN:VEVENT
DTSTART;TZID=America/Denver:20230109T130000
DTEND;TZID=America/Denver:20230109T140000
DTSTAMP:20260424T133212
CREATED:20221213T212815Z
LAST-MODIFIED:20221213T212815Z
UID:249369-1673269200-1673272800@gatewayassociation.ca
SUMMARY:LinkedIn Learning
DESCRIPTION:Explore LinkedIn website as a group\, learn how to: create an account\, search for course\, save and organize courses\, and customize your profile. \nFor questions\, accommodation requirements and to register connect with us at GetDigital@GatewayAssociation.ca
URL:https://gatewayassociation.ca/calendar/linkedin-learning-12/
END:VEVENT
BEGIN:VEVENT
DTSTART;TZID=America/Denver:20230110T100000
DTEND;TZID=America/Denver:20230110T110000
DTSTAMP:20260424T133212
CREATED:20221213T212906Z
LAST-MODIFIED:20221213T212906Z
UID:249371-1673344800-1673348400@gatewayassociation.ca
SUMMARY:Email Basics
DESCRIPTION:Learn about and practice the basics of writing professional emails for your job search and workplace communication. \nFor questions\, accommodation requirements and to register\, please connect with us at GetDigital@GatewayAssociation.ca
URL:https://gatewayassociation.ca/calendar/email-basics-22/
END:VEVENT
BEGIN:VEVENT
DTSTART;TZID=America/Denver:20230110T110000
DTEND;TZID=America/Denver:20230110T120000
DTSTAMP:20260424T133212
CREATED:20221213T213020Z
LAST-MODIFIED:20221213T213020Z
UID:249373-1673348400-1673352000@gatewayassociation.ca
SUMMARY:ePortolio Series (1/3)
DESCRIPTION:In the eportfolio workshop series\, participants will learn about the different types of portfolios\, how to use google sites\, and the basics of layout and design. Learners will choose the type of portfolio they want to build and the subject they want to focus on. They will select and add content to their sites along with descriptions\, statements about their motivation\, interests\, skills\, and hobbies. Learners will work on their own between classes \nSession 1 of 3 \nDuration 1 hr \nGTDI Program intake required prior to workshop: getdigital@gatewayassociation.ca
URL:https://gatewayassociation.ca/calendar/eportolio-series-1-3/
END:VEVENT
BEGIN:VEVENT
DTSTART;TZID=America/Denver:20230110T130000
DTEND;TZID=America/Denver:20230110T140000
DTSTAMP:20260424T133212
CREATED:20221213T211034Z
LAST-MODIFIED:20221213T211034Z
UID:249341-1673355600-1673359200@gatewayassociation.ca
SUMMARY:Finding Your Purpose- Career Exploration
DESCRIPTION:In this workshop\, we will discuss how considering own interests and abilities along with researching job market trends and income can yield success and job satisfaction. \nTo learn more and to register\, please connect with us at Get-Work@GatewayAssociation.ca
URL:https://gatewayassociation.ca/calendar/finding-your-purpose-career-exploration-5/
CATEGORIES:ERC
END:VEVENT
BEGIN:VEVENT
DTSTART;TZID=America/Denver:20230110T130000
DTEND;TZID=America/Denver:20230110T140000
DTSTAMP:20260424T133212
CREATED:20221213T213304Z
LAST-MODIFIED:20221213T213304Z
UID:249381-1673355600-1673359200@gatewayassociation.ca
SUMMARY:Look Stuff Up Online Series (1/3)
DESCRIPTION:This 3 session workshop series helps learners find\, share\, and explore things online through a series of fun activities. Participants will use different google map features to find their way around town\, share their favourite places\, plan a vacation\, and compare different search engines. As a group\, learners will chat about fake news\, investigate stories on Snopes\, and chat about the media we take in everyday. \nSession: 1 of 3 \nDuration: 1 hr \nPrivate – GTDI Program intake required prior to workshop: getdigital@gatewayassociation.ca
URL:https://gatewayassociation.ca/calendar/look-stuff-up-online-series-1-3-2/
END:VEVENT
BEGIN:VEVENT
DTSTART;TZID=America/Denver:20230110T190000
DTEND;TZID=America/Denver:20230110T210000
DTSTAMP:20260424T133212
CREATED:20221026T183239Z
LAST-MODIFIED:20221026T183239Z
UID:249065-1673377200-1673384400@gatewayassociation.ca
SUMMARY:Families Forward\, Under 18
DESCRIPTION:Families Forward\, Under 18 \nTuesday\, January 10 \n7pm – 9pm | Zoom \nMonthly meeting for families with children under 18 with disabilities. Where families can connect with other families\, learn from one another\, and explore issues that are important\, such as schooling\, leadership\, and community and government support. \nFor accommodation requirements or questions\, please reach out to Stacy@GatewayAssociation.ca \nRegister HERE
URL:https://gatewayassociation.ca/calendar/families-forward-under-18-3/
CATEGORIES:FRC
END:VEVENT
BEGIN:VEVENT
DTSTART;TZID=America/Denver:20230111T110000
DTEND;TZID=America/Denver:20230111T120000
DTSTAMP:20260424T133212
CREATED:20221213T213055Z
LAST-MODIFIED:20221213T213103Z
UID:249375-1673434800-1673438400@gatewayassociation.ca
SUMMARY:ePortfolio Series (2/3)
DESCRIPTION:In the eportfolio workshop series\, participants will learn about the different types of portfolios\, how to use google sites\, and the basics of layout and design. Learners will choose the type of portfolio they want to build and the subject they want to focus on. They will select and add content to their sites along with descriptions\, statements about their motivation\, interests\, skills\, and hobbies. Learners will work on their own between classes \nSession 2 of 3 \nDuration 1 hr \nGTDI Program intake required prior to workshop: getdigital@gatewayassociation.ca
URL:https://gatewayassociation.ca/calendar/eportfolio-series-2-3-2/
END:VEVENT
BEGIN:VEVENT
DTSTART;TZID=America/Denver:20230111T130000
DTEND;TZID=America/Denver:20230111T140000
DTSTAMP:20260424T133212
CREATED:20221213T213344Z
LAST-MODIFIED:20221213T213344Z
UID:249383-1673442000-1673445600@gatewayassociation.ca
SUMMARY:Look Stuff Up Online Series (2/3)
DESCRIPTION:This 3 session workshop series helps learners find\, share\, and explore things online through a series of fun activities. Participants will use different google map features to find their way around town\, share their favourite places\, plan a vacation\, and compare different search engines. As a group\, learners will chat about fake news\, investigate stories on Snopes\, and chat about the media we take in everyday. \nSession: 2 of 3 \nDuration: 1 hr \nPrivate – GTDI Program intake required prior to workshop: getdigital@gatewayassociation.ca
URL:https://gatewayassociation.ca/calendar/look-stuff-up-online-series-2-3-2/
END:VEVENT
BEGIN:VEVENT
DTSTART;TZID=America/Denver:20230111T143000
DTEND;TZID=America/Denver:20230111T160000
DTSTAMP:20260424T133212
CREATED:20230110T183853Z
LAST-MODIFIED:20230110T183853Z
UID:249459-1673447400-1673452800@gatewayassociation.ca
SUMMARY:Open Art Studio: Snowflakes
DESCRIPTION:Join OPEN♥ART for a chance to create alongside others\, share and experiment with different art forms. Each month will include a different approach to art-making that aims to inspire your inner artist and bring us together in creativity.   \nArtists of all levels and abilities are WELCOME!  \nReach out with any accommodation or questions you may have to   maigan@gatewayassociation.ca  \n  \nExperiment #5: SNOWFLAKES January 11\, 2023 \nLet’s focus on the beauty of winter and create our own unique snowflakes. They come in all shapes and sizes just like us! Draw\, paint\, or use paper and scissors to create your own snowflake designs. \nArt Supplies Required (your choice):  \nPaper/scissors/tablet; Pencil/pen/marker/paints or crayons \n 
URL:https://gatewayassociation.ca/calendar/open-art-studio-snowflakes/
END:VEVENT
BEGIN:VEVENT
DTSTART;TZID=America/Denver:20230111T150000
DTEND;TZID=America/Denver:20230111T163000
DTSTAMP:20260424T133212
CREATED:20221213T212343Z
LAST-MODIFIED:20221213T212343Z
UID:249359-1673449200-1673454600@gatewayassociation.ca
SUMMARY:OSC Boardgames
DESCRIPTION:Come hang out! Learn about setting up online accounts\, meet new friends\, socialize\, and have fun playing boardgames online. Meet new friends\, practise new skills\, have fun! \nDuration: 1.5 to 2 hrs \nPrivate – GTDI Program intake required prior to workshop signup: getdigital@gatewayassociation.ca . \n**Requires Online Social Connections – Discord and Steam Tutorials as well as desktop or laptop computer.**
URL:https://gatewayassociation.ca/calendar/osc-boardgames-19/
END:VEVENT
BEGIN:VEVENT
DTSTART;TZID=America/Denver:20230112T100000
DTEND;TZID=America/Denver:20230112T150000
DTSTAMP:20260424T133212
CREATED:20221213T211217Z
LAST-MODIFIED:20221213T211217Z
UID:249343-1673517600-1673535600@gatewayassociation.ca
SUMMARY:
DESCRIPTION:Self-Discovery Day is all about YOU the job seeker! The top 3 questions asked during job interviews are: Tell be about yourself\, What are you good at\, and What are your weaknesses? Join us for a day of activities geared to help you to answer these questions and more! For participants with us for the day\, we will participate in the Growth Mindset: Resiliency in Job Search as a group. Bring a lunch and snacks will be provided. We can’t wait to see you! \nThis is an in-person event at the Gateway Association Calgary office \nFor questions and to register\, please reach out to us at Get-Work@GatewayAssociation.ca
URL:https://gatewayassociation.ca/calendar/249343/
CATEGORIES:ERC
END:VEVENT
BEGIN:VEVENT
DTSTART;TZID=America/Denver:20230112T110000
DTEND;TZID=America/Denver:20230112T120000
DTSTAMP:20260424T133212
CREATED:20221213T213138Z
LAST-MODIFIED:20221213T213204Z
UID:249378-1673521200-1673524800@gatewayassociation.ca
SUMMARY:ePortfolio Series (3/3)
DESCRIPTION:In the eportfolio workshop series\, participants will learn about the different types of portfolios\, how to use google sites\, and the basics of layout and design. Learners will choose the type of portfolio they want to build and the subject they want to focus on. They will select and add content to their sites along with descriptions\, statements about their motivation\, interests\, skills\, and hobbies. Learners will work on their own between classes \nSession 3 of 3 \nDuration 1 hr \nGTDI Program intake required prior to workshop: getdigital@gatewayassociation.ca
URL:https://gatewayassociation.ca/calendar/eportfolio-series-3-3-2/
END:VEVENT
BEGIN:VEVENT
DTSTART;TZID=America/Denver:20230112T130000
DTEND;TZID=America/Denver:20230112T140000
DTSTAMP:20260424T133212
CREATED:20221213T211328Z
LAST-MODIFIED:20221213T211328Z
UID:249345-1673528400-1673532000@gatewayassociation.ca
SUMMARY:Growth Mindset: Resiliency in Job Search
DESCRIPTION:Job search can be a long and daunting process for many. This workshop will help individuals create a positive and persistent mindset along with tips on how to stay motivated. \nFor questions and to register\, please connect with us at Get-Work@GatewayAssociation.ca
URL:https://gatewayassociation.ca/calendar/growth-mindset-resiliency-in-job-search-3/
CATEGORIES:ERC
END:VEVENT
BEGIN:VEVENT
DTSTART;TZID=America/Denver:20230112T130000
DTEND;TZID=America/Denver:20230112T140000
DTSTAMP:20260424T133212
CREATED:20221213T213434Z
LAST-MODIFIED:20221213T213434Z
UID:249385-1673528400-1673532000@gatewayassociation.ca
SUMMARY:Look Stuff Up Online Series (3/3)
DESCRIPTION:This 3 session workshop series helps learners find\, share\, and explore things online through a series of fun activities. Participants will use different google map features to find their way around town\, share their favourite places\, plan a vacation\, and compare different search engines. As a group\, learners will chat about fake news\, investigate stories on Snopes\, and chat about the media we take in everyday. \nSession: 3 of 3 \nDuration: 1 hr \nPrivate – GTDI Program intake required prior to workshop: getdigital@gatewayassociation.ca
URL:https://gatewayassociation.ca/calendar/look-stuff-up-online-series-3-3-2/
END:VEVENT
BEGIN:VEVENT
DTSTART;TZID=America/Denver:20230116T130000
DTEND;TZID=America/Denver:20230116T140000
DTSTAMP:20260424T133212
CREATED:20221213T213553Z
LAST-MODIFIED:20221213T213553Z
UID:249387-1673874000-1673877600@gatewayassociation.ca
SUMMARY:You TOO Can YouTube Series (1/4)
DESCRIPTION:Learn about being a YouTube viewer and a YouTube creator. Find out how to make your own YouTube Channel and what to consider when you are choosing videos to watch. Create YouTube content\, learn about what to consider when watching videos as well as how to save and organize videos. \nSession: 1 of 4 \nDuration: 1 hr \nPrivate – GTDI Program intake required prior to workshop: getdigital@gatewayassociation.ca
URL:https://gatewayassociation.ca/calendar/you-too-can-youtube-series-1-4-3/
END:VEVENT
BEGIN:VEVENT
DTSTART;TZID=America/Denver:20230116T180000
DTEND;TZID=America/Denver:20230116T193000
DTSTAMP:20260424T133212
CREATED:20230110T184222Z
LAST-MODIFIED:20230110T184222Z
UID:249463-1673892000-1673897400@gatewayassociation.ca
SUMMARY:Right to Love
DESCRIPTION:Right to Love – Bringing it Together \nHonest conversations on care\, consent\, barriers and boundaries   \nthrough the lens of disability and confronting ablism.   \nHosted by Heath Birkholz with special guests  \n  \nSign up Link: Sign up for January Events – Google Forms
URL:https://gatewayassociation.ca/calendar/right-to-love/
END:VEVENT
BEGIN:VEVENT
DTSTART;TZID=America/Denver:20230117T100000
DTEND;TZID=America/Denver:20230117T110000
DTSTAMP:20260424T133212
CREATED:20221213T214040Z
LAST-MODIFIED:20221213T214040Z
UID:249396-1673949600-1673953200@gatewayassociation.ca
SUMMARY:Discord Tutorial
DESCRIPTION:Step by step tutorial for downloading and installing Discord – a free app that lets people chat using text\, voice\, or video. Discord is required for Online boardgames group. \nFor questions\, accommodation requirements and to register\, connect with us at getdigital@gatewayassociation.ca
URL:https://gatewayassociation.ca/calendar/discord-tutorial-8/
END:VEVENT
BEGIN:VEVENT
DTSTART;TZID=America/Denver:20230117T110000
DTEND;TZID=America/Denver:20230117T120000
DTSTAMP:20260424T133212
CREATED:20221213T214150Z
LAST-MODIFIED:20221213T214150Z
UID:249398-1673953200-1673956800@gatewayassociation.ca
SUMMARY:Google Docs Series (1/2)
DESCRIPTION:In this 2 session workshop series\, Participants will create their own google account\, learn to navigate google drive\, and keep their drives organized. Through a series of activities\, Learners will practice creating and sharing google documents\, explore the tools provided to help them write\, edit\, comment and chat. This workshop covers the Basics of google drive and google docs\, as well as file organization\, sharing\, and commenting \nSession: 1 of 2 \nDuration: 1 hr \nPrivate – GTDI Program intake required prior to workshop: getdigital@gatewayassociation.ca
URL:https://gatewayassociation.ca/calendar/google-docs-series-1-2/
END:VEVENT
BEGIN:VEVENT
DTSTART;TZID=America/Denver:20230117T130000
DTEND;TZID=America/Denver:20230117T140000
DTSTAMP:20260424T133212
CREATED:20221213T211440Z
LAST-MODIFIED:20221213T211440Z
UID:249347-1673960400-1673964000@gatewayassociation.ca
SUMMARY:Networking- Using Your Connections
DESCRIPTION:Description: Building sustaining personal networks is a great way to connect with employers. This session will describe ways to create a personal network and using existing relationships that can lead to career paths and new opportunities. \nFor questions or to register\, please connect with us at Get-Work@GatewayAssociation.ca
URL:https://gatewayassociation.ca/calendar/networking-using-your-connections-3/
CATEGORIES:ERC
END:VEVENT
BEGIN:VEVENT
DTSTART;TZID=America/Denver:20230117T130000
DTEND;TZID=America/Denver:20230117T140000
DTSTAMP:20260424T133212
CREATED:20221213T213634Z
LAST-MODIFIED:20221213T213650Z
UID:249389-1673960400-1673964000@gatewayassociation.ca
SUMMARY:You TOO Can YouTube Series (2/4)
DESCRIPTION:Learn about being a YouTube viewer and a YouTube creator. Find out how to make your own YouTube Channel and what to consider when you are choosing videos to watch. Create YouTube content\, learn about what to consider when watching videos as well as how to save and organize videos. \nSession: 2 of 4 \nDuration: 1 hr \nPrivate – GTDI Program intake required prior to workshop: getdigital@gatewayassociation.ca
URL:https://gatewayassociation.ca/calendar/you-too-can-youtube-series-2-4-3/
END:VEVENT
BEGIN:VEVENT
DTSTART;TZID=America/Denver:20230118T100000
DTEND;TZID=America/Denver:20230118T120000
DTSTAMP:20260424T133212
CREATED:20230110T184623Z
LAST-MODIFIED:20230110T184623Z
UID:249465-1674036000-1674043200@gatewayassociation.ca
SUMMARY:Digital Storytelling Series
DESCRIPTION:Finding ways to help your story unfold!  \nWe all have stories\, and it’s important that they are told. When telling our stories\, we have different ways of going about it. Let’s work together so that each of us can discover new skills and find our own tools to tell our story.  \nYou will work together for 5 weeks\, alongside others\, to share and develop your very own digital story. Each week we will bring in activities to help participants tell their story the way they want to tell it.  \nThese activities will introduce creative ways to go about telling your story. These will include lots of digital tools that support audio and visual storytelling. When you finish the sessions\, you will achieve a Digital Storyteller Certificate that you can add to your resume to show your experience and be part of an online screening of your work.   \nThese sessions are facilitated by Story Finders Heath Birkholz and Maigan van der Giessen from Gateway Association.   \nSign up for the first cohort\, running on Wednesday’s 10 am-Noon; (January 18\, January 25 February 1\, February 8\, February 15\, 2023  \n  \nTo Signup or get more information on this program\, please email getdigital@gatewayassociation.ca
URL:https://gatewayassociation.ca/calendar/digital-storytelling-series/
END:VEVENT
BEGIN:VEVENT
DTSTART;TZID=America/Denver:20230118T110000
DTEND;TZID=America/Denver:20230118T120000
DTSTAMP:20260424T133212
CREATED:20221213T214220Z
LAST-MODIFIED:20221213T214220Z
UID:249400-1674039600-1674043200@gatewayassociation.ca
SUMMARY:Google Docs Series (2/2)
DESCRIPTION:In this 2 session workshop series\, Participants will create their own google account\, learn to navigate google drive\, and keep their drives organized. Through a series of activities\, Learners will practice creating and sharing google documents\, explore the tools provided to help them write\, edit\, comment and chat. This workshop covers the Basics of google drive and google docs\, as well as file organization\, sharing\, and commenting \nSession: 1 of 2 \nDuration: 1 hr \nPrivate – GTDI Program intake required prior to workshop: getdigital@gatewayassociation.ca
URL:https://gatewayassociation.ca/calendar/google-docs-series-2-2-2/
END:VEVENT
BEGIN:VEVENT
DTSTART;TZID=America/Denver:20230118T130000
DTEND;TZID=America/Denver:20230118T140000
DTSTAMP:20260424T133212
CREATED:20221213T213726Z
LAST-MODIFIED:20221213T213726Z
UID:249392-1674046800-1674050400@gatewayassociation.ca
SUMMARY:You TOO Can YouTube Series (3/4)
DESCRIPTION:Learn about being a YouTube viewer and a YouTube creator. Find out how to make your own YouTube Channel and what to consider when you are choosing videos to watch. Create YouTube content\, learn about what to consider when watching videos as well as how to save and organize videos. \nSession: 3 of 4 \nDuration: 1 hr \nPrivate – GTDI Program intake required prior to workshop: getdigital@gatewayassociation.ca
URL:https://gatewayassociation.ca/calendar/you-too-can-youtube-series-3-4-3/
END:VEVENT
BEGIN:VEVENT
DTSTART;TZID=America/Denver:20230118T150000
DTEND;TZID=America/Denver:20230118T163000
DTSTAMP:20260424T133212
CREATED:20221213T212416Z
LAST-MODIFIED:20221213T212416Z
UID:249361-1674054000-1674059400@gatewayassociation.ca
SUMMARY:OSC Boardgames
DESCRIPTION:Come hang out! Learn about setting up online accounts\, meet new friends\, socialize\, and have fun playing boardgames online. Meet new friends\, practise new skills\, have fun! \nDuration: 1.5 to 2 hrs \nPrivate – GTDI Program intake required prior to workshop signup: getdigital@gatewayassociation.ca . \n**Requires Online Social Connections – Discord and Steam Tutorials as well as desktop or laptop computer.**
URL:https://gatewayassociation.ca/calendar/osc-boardgames-20/
END:VEVENT
BEGIN:VEVENT
DTSTART;TZID=America/Denver:20230118T180000
DTEND;TZID=America/Denver:20230118T190000
DTSTAMP:20260424T133212
CREATED:20221213T211626Z
LAST-MODIFIED:20221213T211626Z
UID:249349-1674064800-1674068400@gatewayassociation.ca
SUMMARY:Lived Experience Learning
DESCRIPTION:Date – Wednesday\, January 18\, 2023\n\n\nTime – 6:00pm-7:00pm\n\n\nIn Person @ YEG Gateway Office (#201\, 10941 120st. NW\, Edmonton\, AB)\n\n\nFacilitator – Jasmine and contact:  jasmine@gatewayassociation.ca or 780-454-0701 ext. 129\n\n\nDESCRIPTION of the event – Each month we will have a previous Gateway participant OR someone with lived experience seeking employment\, where they will take us through their employment journey and where they are today! Through this informal conversation\, we will learn about challenges\, successes\, and strategies to keep pushing through on your employment goals.\n\nIn January\, Danielle is going to share her journey through finding and maintaining employment\, continuing school\, and persevering through difficult conversations.\nOutcomes – Learning through others lived experience about success through your employment journey\n\n\n\nFor questions\, accommodation needs and to register\, please connect with us HERE
URL:https://gatewayassociation.ca/calendar/lived-experience-learning/
CATEGORIES:ERC
END:VEVENT
BEGIN:VEVENT
DTSTART;TZID=America/Denver:20230118T190000
DTEND;TZID=America/Denver:20230118T210000
DTSTAMP:20260424T133212
CREATED:20221026T183425Z
LAST-MODIFIED:20221026T183425Z
UID:249067-1674068400-1674075600@gatewayassociation.ca
SUMMARY:Families Forward\, I have an ISP? Now what?
DESCRIPTION:Families Forward\, I have an ISP? Now what?            \nWednesday\, January 18 \n7pm – 9pm | Zoom \nMonthly meeting for families with loved ones with disabilities who have completed an Individual Support Plan. \nWhere families can connect with other families and share resources for individuals with disabilities. We will explore ISP strategies and outcomes. \nFor accommodations and questions\, please connect with Kristina@GatewayAssociation.ca \nRegister HERE
URL:https://gatewayassociation.ca/calendar/families-forward-i-have-an-isp-now-what-2/
CATEGORIES:FRC
END:VEVENT
BEGIN:VEVENT
DTSTART;TZID=America/Denver:20230119T130000
DTEND;TZID=America/Denver:20230119T140000
DTSTAMP:20260424T133212
CREATED:20221213T211759Z
LAST-MODIFIED:20221213T211759Z
UID:249351-1674133200-1674136800@gatewayassociation.ca
SUMMARY:Interview Preparation Workshop
DESCRIPTION:Join the Gateway Employment team and participants to discuss and learn what to do before\, during and after the job interview! \nFor questions\, accommodation requirements and to register\, please connect with us at Get-Work@Gatewayassociation.ca
URL:https://gatewayassociation.ca/calendar/interview-preparation-workshop-13/
CATEGORIES:ERC
END:VEVENT
BEGIN:VEVENT
DTSTART;TZID=America/Denver:20230119T130000
DTEND;TZID=America/Denver:20230119T140000
DTSTAMP:20260424T133212
CREATED:20221213T213758Z
LAST-MODIFIED:20221213T213927Z
UID:249394-1674133200-1674136800@gatewayassociation.ca
SUMMARY:You TOO Can YouTube Series (4/4)
DESCRIPTION:Learn about being a YouTube viewer and a YouTube creator. Find out how to make your own YouTube Channel and what to consider when you are choosing videos to watch. Create YouTube content\, learn about what to consider when watching videos as well as how to save and organize videos. \nSession: 4 of 4 \nDuration: 1 hr \nPrivate – GTDI Program intake required prior to workshop: getdigital@gatewayassociation.ca
URL:https://gatewayassociation.ca/calendar/you-too-can-youtube-series-4-4-2/
END:VEVENT
END:VCALENDAR